{"text_format":"1","workbook":"xlsx","n_sheets":9,"sheets":["Instructions","allGymnasts","Vault","Bars","Beam","Floor","All-Around","allTeams","Team"],"not_rendered":{"charts":0,"images":0,"macros":1,"external_links":0,"defined_names":7,"comments":0,"pivot_tables":0},"unopened":[],"bounds":{"document_bytes":16777216,"sheet_cells":100000,"rows_first":2000,"rows_last":500,"rows_between":2000,"halvings":0,"cell_chars":16384,"cell_head_chars":4096},"cells_cut":0,"cells_raw":0,"read":"whole","date_system":"1900"}

{"sheet":"Instructions","index":0,"n_rows":29,"n_cols":6,"rows_kept":29,"cut":false,"hidden":false,"merged":[[1,1,2,13],[3,1,4,13],[6,2,6,13],[10,2,10,13],[13,2,13,13],[11,2,11,13],[8,2,8,13],[19,3,19,13],[15,3,15,13],[26,2,26,13],[28,5,28,9],[24,2,24,13],[17,3,17,13],[21,3,21,13],[22,3,22,13],[18,3,18,13]]}
[]
[null,"Excel Scoring Pro - Gymnastics Competitions"]
[]
[null,"**Here are a few important notes about using this program to score your gymnastics competitions."]
[]
[]
[null,"1.","This program will support scoring for as little as a dual to a 12-Team Invitational and up to 100 competitors"]
[]
[null,"2.","Do not fill in this form directly. Make a copy of it and name it according to the date and event. Fill in the copy."]
[]
[null,"3.","All data entry will be done on the black 'allGymnasts' tab. The other tabs are results for review and current standings."]
[null,null,"Be sure to double check your data as you enter it."]
[]
[null,"4.","Suggested order of operations"]
[]
[null,null,null,"Begin by entering the team names in the grey box to the right of the event data area Instructions (Column AB)"]
[]
[null,null,null,"If able, create the individual gymnast records by filling in columns A thru D ahead of time."]
[null,null,null,"It is recommended to group teams together."]
[null,null,null,"Each row is a new gymnast record for the event so be mindful not to skip rows."]
[]
[null,null,null,"As the judges scorecards are brought to you, fill in the appropriate fields for the gymnasts at that event."]
[null,null,null,"If a gymnast does not have a score for an event - be sure to enter a zero for that gymnast."]
[]
[null,"5.","To print the results - simply press the PRINT ALL SCORES button in the upper right, save it, and print to desired location."]
[]
[null,"6.","Please direct any questions you may have about this program to Greg Stager at     stagerg@ricelake.k12.wi.us"]
[]
[null,null,null,null,null,"Version 2.00"]

{"sheet":"allGymnasts","index":1,"n_rows":103,"n_cols":29,"rows_kept":103,"cut":false,"hidden":false,"merged":[[0,4,0,24],[0,0,0,3],[1,19,1,22],[1,1,1,2],[1,4,1,7],[1,9,1,12],[1,14,1,17]]}
[{"$f":"TODAY()","v":"2024-09-01"},null,null,null,"Varsity Competition"]
["Grade","Gymnast",null,"School","Vault",null,null,null,null,"Bars",null,null,null,null,"Beam",null,null,null,null,"Floor",null,null,null,null,"All-Around"]
[null,"First","Last",null,"Judge 1","Judge 2","Penalty","Score","Rank","Judge 1","Judge 2","Penalty","Score","Rank","Judge 1","Judge 2","Penalty","Score","Rank","Judge 1","Judge 2","Penalty","Score","Rank","Score","Rank",null,"Teams"]
[null,null,null,null,null,null,null,{"$f":"IFERROR(ROUND(AVERAGE(E4:F4)-G4,3),\"\")","v":""},{"$f":"IF(H4=\"\",\"\",IF(H4=0,\"\",RANK(H4,$H$4:$H$103,0)+ROW(H4)/100))","v":""},null,null,null,{"$f":"IFERROR(ROUND(AVERAGE(J4:K4)-L4,3),\"\")","v":""},{"$f":"IF(M4=\"\",\"\",IF(M4=0,\"\",RANK(M4,$M$4:$M$103,0)+ROW(M4)/100))","v":""},null,null,null,{"$f":"IFERROR(ROUND(AVERAGE(O4:P4)-Q4,3),\"\")","v":""},{"$f":"IF(R4=\"\",\"\",IF(R4=0,\"\",RANK(R4,$R$4:$R$103,0)+ROW(R4)/100))","v":""},null,null,null,{"$f":"IFERROR(ROUND(AVERAGE(T4:U4)-V4,3),\"\")","v":""},{"$f":"IF(W4=\"\",\"\",IF(W4=0,\"\",RANK(W4,$W$4:$W$103,0)+ROW(W4)/100))","v":""},{"$f":"IF(AA4=4,SUM(H4,M4,R4,W4),\"\")","v":""},{"$f":"IF(Y4=\"\",\"\",IF(AA4=4,RANK(Y4,$Y$4:$Y$103,0)+ROW(Y4)/1000,\"\"))","v":""},{"$f":"IF(A4=\"\",\"\",COUNTIF(H4,\">=0\")+COUNTIF(M4,\">=0\")+COUNTIF(R4,\">=0\")+COUNTIF(W4,\">=0\"))","v":""},null,{"$f":"COUNTIF(AB4:AB15,\"<>\")","v":0}]
[null,null,null,null,null,null,null,"",{"$f":"IF(H5=\"\",\"\",IF(H5=0,\"\",RANK(H5,$H$4:$H$103,0)+ROW(H5)/100))","v":""},null,null,null,{"$f":"IFERROR(ROUND(AVERAGE(J5:K5)-L5,3),\"\")","v":""},{"$f":"IF(M5=\"\",\"\",IF(M5=0,\"\",RANK(M5,$M$4:$M$103,0)+ROW(M5)/100))","v":""},null,null,null,{"$f":"IFERROR(ROUND(AVERAGE(O5:P5)-Q5,3),\"\")","v":""},{"$f":"IF(R5=\"\",\"\",IF(R5=0,\"\",RANK(R5,$R$4:$R$103,0)+ROW(R5)/100))","v":""},null,null,null,{"$f":"IFERROR(ROUND(AVERAGE(T5:U5)-V5,3),\"\")","v":""},{"$f":"IF(W5=\"\",\"\",IF(W5=0,\"\",RANK(W5,$W$4:$W$103,0)+ROW(W5)/100))","v":""},{"$f":"IF(AA5=4,SUM(H5,M5,R5,W5),\"\")","v":""},{"$f":"IF(Y5=\"\",\"\",IF(AA5=4,RANK(Y5,$Y$4:$Y$103,0)+ROW(Y5)/1000,\"\"))","v":""},""]
[null,null,null,null,null,null,null,{"$f":"IFERROR(ROUND(AVERAGE(E6:F6)-G6,3),\"\")","v":""},"",null,null,null,"","",null,null,null,"","",null,null,null,"","","","",""]
[null,null,null,null,null,null,null,{"$f":"IFERROR(ROUND(AVERAGE(E7:F7)-G7,3),\"\")","v":""},"",null,null,null,"","",null,null,null,"","",null,null,null,"","","","",""]
[null,null,null,null,null,null,null,"","",null,null,null,"","",null,null,null,"","",null,null,null,"","","","",{"$f":"IF(A8=\"\",\"\",COUNTIF(H8,\">=0\")+COUNTIF(M8,\">=0\")+COUNTIF(R8,\">=0\")+COUNTIF(W8,\">=0\"))","v":""}]
[null,null,null,null,null,null,null,"","",null,null,null,"","",null,null,null,"","",null,null,null,"","","","",""]
[null,null,null,null,null,null,null,"","",null,null,null,"","",null,null,null,"","",null,null,null,"","","","",""]
[null,null,null,null,null,null,null,"","",null,null,null,"","",null,null,null,"","",null,null,null,"","","","",""]
[null,null,null,null,null,null,null,"","",null,null,null,"","",null,null,null,"","",null,null,null,"","","","",""]
[null,null,null,null,null,null,null,"","",null,null,null,"","",null,null,null,"","",null,null,null,"","","","",""]
[null,null,null,null,null,null,null,"","",null,null,null,"","",null,null,null,"","",null,null,null,"","","","",""]
[null,null,null,null,null,null,null,"","",null,null,null,"","",null,null,null,"","",null,null,null,"","","","",""]
[null,null,null,null,null,null,null,"","",null,null,null,"","",null,null,null,"","",null,null,null,"","","","",""]
[null,null,null,null,null,null,null,"","",null,null,null,"","",null,null,null,"","",null,null,null,"","","","",""]
[null,null,null,null,null,null,null,"","",null,null,null,"","",null,null,null,"","",null,null,null,"","","","",""]
[null,null,null,null,null,null,null,"","",null,null,null,"","",null,null,null,"","",null,null,null,"","","",{"$f":"IF(Y19=\"\",\"\",IF(AA19=4,RANK(Y19,$Y$4:$Y$103,0)+ROW(Y19)/1000,\"\"))","v":""},""]
[null,null,null,null,null,null,null,"","",null,null,null,"","",null,null,null,"","",null,null,null,"","","","",""]
[null,null,null,null,null,null,null,"","",null,null,null,"","",null,null,null,"","",null,null,null,"","","","",""]
[null,null,null,null,null,null,null,"","",null,null,null,"","",null,null,null,"","",null,null,null,"","","","",""]
[null,null,null,null,null,null,null,"","",null,null,null,"","",null,null,null,"","",null,null,null,"","","","",""]
[null,null,null,null,null,null,null,"","",null,null,null,{"$f":"IFERROR(ROUND(AVERAGE(J24:K24)-L24,3),\"\")","v":""},"",null,null,null,"","",null,null,null,"","","","",""]
[null,null,null,null,null,null,null,"","",null,null,null,"","",null,null,null,"","",null,null,null,"","","","",""]
[null,null,null,null,null,null,null,"","",null,null,null,"","",null,null,null,"","",null,null,null,"","","","",""]
[null,null,null,null,null,null,null,"","",null,null,null,"","",null,null,null,"","",null,null,null,"","","","",""]
[null,null,null,null,null,null,null,"","",null,null,null,"","",null,null,null,"","",null,null,null,"","","","",""]
[null,null,null,null,null,null,null,"","",null,null,null,"","",null,null,null,"","",null,null,null,"","","","",""]
[null,null,null,null,null,null,null,"","",null,null,null,"","",null,null,null,"","",null,null,null,"","","","",""]
[null,null,null,null,null,null,null,"","",null,null,null,"","",null,null,null,"","",null,null,null,"","","","",""]
[null,null,null,null,null,null,null,"","",null,null,null,"","",null,null,null,"","",null,null,null,"","","","",""]
[null,null,null,null,null,null,null,"","",null,null,null,"","",null,null,null,"","",null,null,null,"","","","",""]
[null,null,null,null,null,null,null,"","",null,null,null,"","",null,null,null,"","",null,null,null,"","","","",""]
[null,null,null,null,null,null,null,"","",null,null,null,"","",null,null,null,"","",null,null,null,"","","","",""]
[null,null,null,null,null,null,null,"","",null,null,null,"","",null,null,null,"","",null,null,null,"","","","",""]
[null,null,null,null,null,null,null,"","",null,null,null,"","",null,null,null,"","",null,null,null,"","","","",""]
[null,null,null,null,null,null,null,"","",null,null,null,"","",null,null,null,"","",null,null,null,"","","","",""]
[null,null,null,null,null,null,null,"","",null,null,null,"","",null,null,null,"","",null,null,null,"","","","",""]
[null,null,null,null,null,null,null,"","",null,null,null,"","",null,null,null,"","",null,null,null,"","","","",""]
[null,null,null,null,null,null,null,"","",null,null,null,"","",null,null,null,"","",null,null,null,"","","","",""]
[null,null,null,null,null,null,null,"","",null,null,null,"","",null,null,null,"","",null,null,null,"","","","",""]
[null,null,null,null,null,null,null,"","",null,null,null,"","",null,null,null,"","",null,null,null,"","","","",""]
[null,null,null,null,null,null,null,"","",null,null,null,"","",null,null,null,"","",null,null,null,"","","","",""]
[null,null,null,null,null,null,null,"","",null,null,null,"","",null,null,null,"","",null,null,null,"","","","",""]
[null,null,null,null,null,null,null,"","",null,null,null,"","",null,null,null,"","",null,null,null,"","","","",""]
[null,null,null,null,null,null,null,"","",null,null,null,"","",null,null,null,"","",null,null,null,"","","","",""]
[null,null,null,null,null,null,null,"","",null,null,null,"","",null,null,null,"","",null,null,null,"","","","",""]
[null,null,null,null,null,null,null,"","",null,null,null,"","",null,null,null,"","",null,null,null,"","","","",""]
[null,null,null,null,null,null,null,"","",null,null,null,"","",null,null,null,"","",null,null,null,"","","","",""]
[null,null,null,null,null,null,null,"","",null,null,null,"","",null,null,null,"","",null,null,null,"","","","",""]
[null,null,null,null,null,null,null,"","",null,null,null,"","",null,null,null,"","",null,null,null,"","","","",""]
[null,null,null,null,null,null,null,"","",null,null,null,"","",null,null,null,"","",null,null,null,"","","","",""]
[null,null,null,null,null,null,null,"","",null,null,null,"","",null,null,null,"","",null,null,null,"","","","",""]
[null,null,null,null,null,null,null,"","",null,null,null,"","",null,null,null,"","",null,null,null,"","","","",""]
[null,null,null,null,null,null,null,"","",null,null,null,"","",null,null,null,"","",null,null,null,"","","","",""]
[null,null,null,null,null,null,null,"","",null,null,null,"","",null,null,null,"","",null,null,null,"","","","",""]
[null,null,null,null,null,null,null,"","",null,null,null,"","",null,null,null,"","",null,null,null,"","","","",""]
[null,null,null,null,null,null,null,"","",null,null,null,"","",null,null,null,"","",null,null,null,"","","","",""]
[null,null,null,null,null,null,null,"","",null,null,null,"","",null,null,null,"","",null,null,null,"","","","",""]
[null,null,null,null,null,null,null,"","",null,null,null,"","",null,null,null,"","",null,null,null,"","","","",""]
[null,null,null,null,null,null,null,"","",null,null,null,"","",null,null,null,"","",null,null,null,"","","","",""]
[null,null,null,null,null,null,null,"","",null,null,null,"","",null,null,null,"","",null,null,null,"","","","",""]
[null,null,null,null,null,null,null,"","",null,null,null,"","",null,null,null,"","",null,null,null,"","","","",""]
[null,null,null,null,null,null,null,"","",null,null,null,"","",null,null,null,"","",null,null,null,"","","","",""]
[null,null,null,null,null,null,null,"","",null,null,null,"","",null,null,null,"","",null,null,null,"","","","",""]
[null,null,null,null,null,null,null,"","",null,null,null,"","",null,null,null,"","",null,null,null,"","","","",""]
[null,null,null,null,null,null,null,"","",null,null,null,"","",null,null,null,"","",null,null,null,"","","","",{"$f":"IF(A68=\"\",\"\",COUNTIF(H68,\">=0\")+COUNTIF(M68,\">=0\")+COUNTIF(R68,\">=0\")+COUNTIF(W68,\">=0\"))","v":""}]
[null,null,null,null,null,null,null,{"$f":"IFERROR(ROUND(AVERAGE(E69:F69)-G69,3),\"\")","v":""},{"$f":"IF(H69=\"\",\"\",IF(H69=0,\"\",RANK(H69,$H$4:$H$103,0)+ROW(H69)/100))","v":""},null,null,null,{"$f":"IFERROR(ROUND(AVERAGE(J69:K69)-L69,3),\"\")","v":""},{"$f":"IF(M69=\"\",\"\",IF(M69=0,\"\",RANK(M69,$M$4:$M$103,0)+ROW(M69)/100))","v":""},null,null,null,{"$f":"IFERROR(ROUND(AVERAGE(O69:P69)-Q69,3),\"\")","v":""},{"$f":"IF(R69=\"\",\"\",IF(R69=0,\"\",RANK(R69,$R$4:$R$103,0)+ROW(R69)/100))","v":""},null,null,null,{"$f":"IFERROR(ROUND(AVERAGE(T69:U69)-V69,3),\"\")","v":""},{"$f":"IF(W69=\"\",\"\",IF(W69=0,\"\",RANK(W69,$W$4:$W$103,0)+ROW(W69)/100))","v":""},{"$f":"IF(AA69=4,SUM(H69,M69,R69,W69),\"\")","v":""},{"$f":"IF(Y69=\"\",\"\",IF(AA69=4,RANK(Y69,$Y$4:$Y$103,0)+ROW(Y69)/1000,\"\"))","v":""},""]
[null,null,null,null,null,null,null,"","",null,null,null,"","",null,null,null,"","",null,null,null,"","","","",""]
[null,null,null,null,null,null,null,"","",null,null,null,"","",null,null,null,"","",null,null,null,"","","","",""]
[null,null,null,null,null,null,null,"","",null,null,null,"","",null,null,null,"","",null,null,null,"","","","",""]
[null,null,null,null,null,null,null,"","",null,null,null,"","",null,null,null,"","",null,null,null,"","","","",""]
[null,null,null,null,null,null,null,"","",null,null,null,"","",null,null,null,"","",null,null,null,"","","","",""]
[null,null,null,null,null,null,null,"","",null,null,null,"","",null,null,null,"","",null,null,null,"","","","",""]
[null,null,null,null,null,null,null,"","",null,null,null,"","",null,null,null,"","",null,null,null,"","","","",""]
[null,null,null,null,null,null,null,"","",null,null,null,"","",null,null,null,"","",null,null,null,"","","","",""]
[null,null,null,null,null,null,null,"","",null,null,null,"","",null,null,null,"","",null,null,null,"","","","",""]
[null,null,null,null,null,null,null,"","",null,null,null,"","",null,null,null,"","",null,null,null,"","","","",""]
[null,null,null,null,null,null,null,"","",null,null,null,"","",null,null,null,"","",null,null,null,"","","","",""]
[null,null,null,null,null,null,null,"","",null,null,null,"","",null,null,null,"","",null,null,null,"","","","",""]
[null,null,null,null,null,null,null,"","",null,null,null,"","",null,null,null,"","",null,null,null,"","","","",""]
[null,null,null,null,null,null,null,"","",null,null,null,"","",null,null,null,"","",null,null,null,"","","","",""]
[null,null,null,null,null,null,null,"","",null,null,null,"","",null,null,null,"","",null,null,null,"","","","",""]
[null,null,null,null,null,null,null,"","",null,null,null,"","",null,null,null,"","",null,null,null,"","","","",""]
[null,null,null,null,null,null,null,"","",null,null,null,"","",null,null,null,"","",null,null,null,"","","","",""]
[null,null,null,null,null,null,null,"","",null,null,null,"","",null,null,null,"","",null,null,null,"","","","",""]
[null,null,null,null,null,null,null,"","",null,null,null,"","",null,null,null,"","",null,null,null,"","","","",""]
[null,null,null,null,null,null,null,"","",null,null,null,"","",null,null,null,"","",null,null,null,"","","","",""]
[null,null,null,null,null,null,null,"","",null,null,null,"","",null,null,null,"","",null,null,null,"","","","",""]
[null,null,null,null,null,null,null,"","",null,null,null,"","",null,null,null,"","",null,null,null,"","","","",""]
[null,null,null,null,null,null,null,"","",null,null,null,"","",null,null,null,"","",null,null,null,"","","","",""]
[null,null,null,null,null,null,null,"","",null,null,null,"","",null,null,null,"","",null,null,null,"","","","",""]
[null,null,null,null,null,null,null,"","",null,null,null,"","",null,null,null,"","",null,null,null,"","","","",""]
[null,null,null,null,null,null,null,"","",null,null,null,"","",null,null,null,"","",null,null,null,"","","","",""]
[null,null,null,null,null,null,null,"","",null,null,null,"","",null,null,null,"","",null,null,null,"","","","",""]
[null,null,null,null,null,null,null,"","",null,null,null,"","",null,null,null,"","",null,null,null,"","","","",""]
[null,null,null,null,null,null,null,"","",null,null,null,"","",null,null,null,"","",null,null,null,"","","","",""]
[null,null,null,null,null,null,null,"","",null,null,null,"","",null,null,null,"","",null,null,null,"","","","",""]
[null,null,null,null,null,null,null,"","",null,null,null,"","",null,null,null,"","",null,null,null,"","","","",""]
[null,null,null,null,null,null,null,"","",null,null,null,"","",null,null,null,"","",null,null,null,"","","",{"$f":"IF(Y101=\"\",\"\",IF(AA101=4,RANK(Y101,$Y$4:$Y$103,0)+ROW(Y101)/100,\"\"))","v":""},""]
[null,null,null,null,null,null,null,"","",null,null,null,"","",null,null,null,"","",null,null,null,"","","","",""]
[null,null,null,null,null,null,null,"","",null,null,null,"","",null,null,null,"","",null,null,null,"","","","",""]

{"sheet":"Vault","index":2,"n_rows":103,"n_cols":10,"rows_kept":103,"cut":false,"hidden":false,"merged":[[0,6,0,9],[0,1,0,2]]}
[null,"Varsity",null,{"$f":"TODAY()","v":"2024-09-01"},null,null,"Event Results - Vault"]
[]
["Rank","Rank","Grade","First","Last","School","Judge 1","Judge 2","Penalty","Score"]
[1,{"$f":"IFERROR(_xlfn.FLOOR.MATH(IF(allGymnasts!A4=\"\",\"\",INDEX(allGymnasts!$I$4:$I$103,MATCH(SMALL(allGymnasts!$I$4:$I$103,A4),allGymnasts!$I$4:$I$103,0)))),\"\")","v":""},{"$f":"IFERROR(IF(allGymnasts!A4=\"\",\"\",INDEX(allGymnasts!$A$4:$A$103,MATCH(SMALL(allGymnasts!$I$4:$I$103,A4),allGymnasts!$I$4:$I$103,0))),\"\")","v":""},{"$f":"IFERROR(IF(allGymnasts!B4=\"\",\"\",INDEX(allGymnasts!$B$4:$B$103,MATCH(SMALL(allGymnasts!$I$4:$I$103,A4),allGymnasts!$I$4:$I$103,0))),\"\")","v":""},{"$f":"IFERROR(IF(allGymnasts!C4=\"\",\"\",INDEX(allGymnasts!$C$4:$C$103,MATCH(SMALL(allGymnasts!$I$4:$I$103,A4),allGymnasts!$I$4:$I$103,0))),\"\")","v":""},{"$f":"IFERROR(IF(allGymnasts!D4=\"\",\"\",INDEX(allGymnasts!$D$4:$D$103,MATCH(SMALL(allGymnasts!$I$4:$I$103,A4),allGymnasts!$I$4:$I$103,0))),\"\")","v":""},{"$f":"IFERROR(IF(allGymnasts!B4=\"\",\"\",INDEX(allGymnasts!$E$4:$E$103,MATCH(SMALL(allGymnasts!$I$4:$I$103,A4),allGymnasts!$I$4:$I$103,0))),\"\")","v":""},{"$f":"IFERROR(IF(allGymnasts!B4=\"\",\"\",INDEX(allGymnasts!$F$4:$F$103,MATCH(SMALL(allGymnasts!$I$4:$I$103,A4),allGymnasts!$I$4:$I$103,0))),\"\")","v":""},{"$f":"IFERROR(IF(allGymnasts!B4=\"\",\"\",INDEX(allGymnasts!$G$4:$G$103,MATCH(SMALL(allGymnasts!$I$4:$I$103,A4),allGymnasts!$I$4:$I$103,0))),\"\")","v":""},{"$f":"IFERROR(IF(allGymnasts!B4=\"\",\"\",INDEX(allGymnasts!$H$4:$H$103,MATCH(SMALL(allGymnasts!$I$4:$I$103,A4),allGymnasts!$I$4:$I$103,0))),\"\")","v":""}]
[2,{"$f":"IFERROR(_xlfn.FLOOR.MATH(IF(allGymnasts!A5=\"\",\"\",INDEX(allGymnasts!$I$4:$I$103,MATCH(SMALL(allGymnasts!$I$4:$I$103,A5),allGymnasts!$I$4:$I$103,0)))),\"\")","v":""},{"$f":"IFERROR(IF(allGymnasts!A5=\"\",\"\",INDEX(allGymnasts!$A$4:$A$103,MATCH(SMALL(allGymnasts!$I$4:$I$103,A5),allGymnasts!$I$4:$I$103,0))),\"\")","v":""},{"$f":"IFERROR(IF(allGymnasts!B5=\"\",\"\",INDEX(allGymnasts!$B$4:$B$103,MATCH(SMALL(allGymnasts!$I$4:$I$103,A5),allGymnasts!$I$4:$I$103,0))),\"\")","v":""},{"$f":"IFERROR(IF(allGymnasts!C5=\"\",\"\",INDEX(allGymnasts!$C$4:$C$103,MATCH(SMALL(allGymnasts!$I$4:$I$103,A5),allGymnasts!$I$4:$I$103,0))),\"\")","v":""},{"$f":"IFERROR(IF(allGymnasts!D5=\"\",\"\",INDEX(allGymnasts!$D$4:$D$103,MATCH(SMALL(allGymnasts!$I$4:$I$103,A5),allGymnasts!$I$4:$I$103,0))),\"\")","v":""},{"$f":"IFERROR(IF(allGymnasts!B5=\"\",\"\",INDEX(allGymnasts!$E$4:$E$103,MATCH(SMALL(allGymnasts!$I$4:$I$103,A5),allGymnasts!$I$4:$I$103,0))),\"\")","v":""},{"$f":"IFERROR(IF(allGymnasts!B5=\"\",\"\",INDEX(allGymnasts!$F$4:$F$103,MATCH(SMALL(allGymnasts!$I$4:$I$103,A5),allGymnasts!$I$4:$I$103,0))),\"\")","v":""},{"$f":"IFERROR(IF(allGymnasts!B5=\"\",\"\",INDEX(allGymnasts!$G$4:$G$103,MATCH(SMALL(allGymnasts!$I$4:$I$103,A5),allGymnasts!$I$4:$I$103,0))),\"\")","v":""},{"$f":"IFERROR(IF(allGymnasts!B5=\"\",\"\",INDEX(allGymnasts!$H$4:$H$103,MATCH(SMALL(allGymnasts!$I$4:$I$103,A5),allGymnasts!$I$4:$I$103,0))),\"\")","v":""}]
[3,{"$f":"IFERROR(_xlfn.FLOOR.MATH(IF(allGymnasts!A6=\"\",\"\",INDEX(allGymnasts!$I$4:$I$103,MATCH(SMALL(allGymnasts!$I$4:$I$103,A6),allGymnasts!$I$4:$I$103,0)))),\"\")","v":""},{"$f":"IFERROR(IF(allGymnasts!A6=\"\",\"\",INDEX(allGymnasts!$A$4:$A$103,MATCH(SMALL(allGymnasts!$I$4:$I$103,A6),allGymnasts!$I$4:$I$103,0))),\"\")","v":""},{"$f":"IFERROR(IF(allGymnasts!B6=\"\",\"\",INDEX(allGymnasts!$B$4:$B$103,MATCH(SMALL(allGymnasts!$I$4:$I$103,A6),allGymnasts!$I$4:$I$103,0))),\"\")","v":""},{"$f":"IFERROR(IF(allGymnasts!C6=\"\",\"\",INDEX(allGymnasts!$C$4:$C$103,MATCH(SMALL(allGymnasts!$I$4:$I$103,A6),allGymnasts!$I$4:$I$103,0))),\"\")","v":""},{"$f":"IFERROR(IF(allGymnasts!D6=\"\",\"\",INDEX(allGymnasts!$D$4:$D$103,MATCH(SMALL(allGymnasts!$I$4:$I$103,A6),allGymnasts!$I$4:$I$103,0))),\"\")","v":""},{"$f":"IFERROR(IF(allGymnasts!B6=\"\",\"\",INDEX(allGymnasts!$E$4:$E$103,MATCH(SMALL(allGymnasts!$I$4:$I$103,A6),allGymnasts!$I$4:$I$103,0))),\"\")","v":""},{"$f":"IFERROR(IF(allGymnasts!B6=\"\",\"\",INDEX(allGymnasts!$F$4:$F$103,MATCH(SMALL(allGymnasts!$I$4:$I$103,A6),allGymnasts!$I$4:$I$103,0))),\"\")","v":""},{"$f":"IFERROR(IF(allGymnasts!B6=\"\",\"\",INDEX(allGymnasts!$G$4:$G$103,MATCH(SMALL(allGymnasts!$I$4:$I$103,A6),allGymnasts!$I$4:$I$103,0))),\"\")","v":""},{"$f":"IFERROR(IF(allGymnasts!B6=\"\",\"\",INDEX(allGymnasts!$H$4:$H$103,MATCH(SMALL(allGymnasts!$I$4:$I$103,A6),allGymnasts!$I$4:$I$103,0))),\"\")","v":""}]
[4,{"$f":"IFERROR(_xlfn.FLOOR.MATH(IF(allGymnasts!A7=\"\",\"\",INDEX(allGymnasts!$I$4:$I$103,MATCH(SMALL(allGymnasts!$I$4:$I$103,A7),allGymnasts!$I$4:$I$103,0)))),\"\")","v":""},{"$f":"IFERROR(IF(allGymnasts!A7=\"\",\"\",INDEX(allGymnasts!$A$4:$A$103,MATCH(SMALL(allGymnasts!$I$4:$I$103,A7),allGymnasts!$I$4:$I$103,0))),\"\")","v":""},{"$f":"IFERROR(IF(allGymnasts!B7=\"\",\"\",INDEX(allGymnasts!$B$4:$B$103,MATCH(SMALL(allGymnasts!$I$4:$I$103,A7),allGymnasts!$I$4:$I$103,0))),\"\")","v":""},{"$f":"IFERROR(IF(allGymnasts!C7=\"\",\"\",INDEX(allGymnasts!$C$4:$C$103,MATCH(SMALL(allGymnasts!$I$4:$I$103,A7),allGymnasts!$I$4:$I$103,0))),\"\")","v":""},{"$f":"IFERROR(IF(allGymnasts!D7=\"\",\"\",INDEX(allGymnasts!$D$4:$D$103,MATCH(SMALL(allGymnasts!$I$4:$I$103,A7),allGymnasts!$I$4:$I$103,0))),\"\")","v":""},{"$f":"IFERROR(IF(allGymnasts!B7=\"\",\"\",INDEX(allGymnasts!$E$4:$E$103,MATCH(SMALL(allGymnasts!$I$4:$I$103,A7),allGymnasts!$I$4:$I$103,0))),\"\")","v":""},{"$f":"IFERROR(IF(allGymnasts!B7=\"\",\"\",INDEX(allGymnasts!$F$4:$F$103,MATCH(SMALL(allGymnasts!$I$4:$I$103,A7),allGymnasts!$I$4:$I$103,0))),\"\")","v":""},{"$f":"IFERROR(IF(allGymnasts!B7=\"\",\"\",INDEX(allGymnasts!$G$4:$G$103,MATCH(SMALL(allGymnasts!$I$4:$I$103,A7),allGymnasts!$I$4:$I$103,0))),\"\")","v":""},{"$f":"IFERROR(IF(allGymnasts!B7=\"\",\"\",INDEX(allGymnasts!$H$4:$H$103,MATCH(SMALL(allGymnasts!$I$4:$I$103,A7),allGymnasts!$I$4:$I$103,0))),\"\")","v":""}]
[5,{"$f":"IFERROR(_xlfn.FLOOR.MATH(IF(allGymnasts!A8=\"\",\"\",INDEX(allGymnasts!$I$4:$I$103,MATCH(SMALL(allGymnasts!$I$4:$I$103,A8),allGymnasts!$I$4:$I$103,0)))),\"\")","v":""},{"$f":"IFERROR(IF(allGymnasts!A8=\"\",\"\",INDEX(allGymnasts!$A$4:$A$103,MATCH(SMALL(allGymnasts!$I$4:$I$103,A8),allGymnasts!$I$4:$I$103,0))),\"\")","v":""},{"$f":"IFERROR(IF(allGymnasts!B8=\"\",\"\",INDEX(allGymnasts!$B$4:$B$103,MATCH(SMALL(allGymnasts!$I$4:$I$103,A8),allGymnasts!$I$4:$I$103,0))),\"\")","v":""},{"$f":"IFERROR(IF(allGymnasts!C8=\"\",\"\",INDEX(allGymnasts!$C$4:$C$103,MATCH(SMALL(allGymnasts!$I$4:$I$103,A8),allGymnasts!$I$4:$I$103,0))),\"\")","v":""},{"$f":"IFERROR(IF(allGymnasts!D8=\"\",\"\",INDEX(allGymnasts!$D$4:$D$103,MATCH(SMALL(allGymnasts!$I$4:$I$103,A8),allGymnasts!$I$4:$I$103,0))),\"\")","v":""},{"$f":"IFERROR(IF(allGymnasts!B8=\"\",\"\",INDEX(allGymnasts!$E$4:$E$103,MATCH(SMALL(allGymnasts!$I$4:$I$103,A8),allGymnasts!$I$4:$I$103,0))),\"\")","v":""},{"$f":"IFERROR(IF(allGymnasts!B8=\"\",\"\",INDEX(allGymnasts!$F$4:$F$103,MATCH(SMALL(allGymnasts!$I$4:$I$103,A8),allGymnasts!$I$4:$I$103,0))),\"\")","v":""},{"$f":"IFERROR(IF(allGymnasts!B8=\"\",\"\",INDEX(allGymnasts!$G$4:$G$103,MATCH(SMALL(allGymnasts!$I$4:$I$103,A8),allGymnasts!$I$4:$I$103,0))),\"\")","v":""},{"$f":"IFERROR(IF(allGymnasts!B8=\"\",\"\",INDEX(allGymnasts!$H$4:$H$103,MATCH(SMALL(allGymnasts!$I$4:$I$103,A8),allGymnasts!$I$4:$I$103,0))),\"\")","v":""}]
[6,{"$f":"IFERROR(_xlfn.FLOOR.MATH(IF(allGymnasts!A9=\"\",\"\",INDEX(allGymnasts!$I$4:$I$103,MATCH(SMALL(allGymnasts!$I$4:$I$103,A9),allGymnasts!$I$4:$I$103,0)))),\"\")","v":""},{"$f":"IFERROR(IF(allGymnasts!A9=\"\",\"\",INDEX(allGymnasts!$A$4:$A$103,MATCH(SMALL(allGymnasts!$I$4:$I$103,A9),allGymnasts!$I$4:$I$103,0))),\"\")","v":""},{"$f":"IFERROR(IF(allGymnasts!B9=\"\",\"\",INDEX(allGymnasts!$B$4:$B$103,MATCH(SMALL(allGymnasts!$I$4:$I$103,A9),allGymnasts!$I$4:$I$103,0))),\"\")","v":""},{"$f":"IFERROR(IF(allGymnasts!C9=\"\",\"\",INDEX(allGymnasts!$C$4:$C$103,MATCH(SMALL(allGymnasts!$I$4:$I$103,A9),allGymnasts!$I$4:$I$103,0))),\"\")","v":""},{"$f":"IFERROR(IF(allGymnasts!D9=\"\",\"\",INDEX(allGymnasts!$D$4:$D$103,MATCH(SMALL(allGymnasts!$I$4:$I$103,A9),allGymnasts!$I$4:$I$103,0))),\"\")","v":""},{"$f":"IFERROR(IF(allGymnasts!B9=\"\",\"\",INDEX(allGymnasts!$E$4:$E$103,MATCH(SMALL(allGymnasts!$I$4:$I$103,A9),allGymnasts!$I$4:$I$103,0))),\"\")","v":""},{"$f":"IFERROR(IF(allGymnasts!B9=\"\",\"\",INDEX(allGymnasts!$F$4:$F$103,MATCH(SMALL(allGymnasts!$I$4:$I$103,A9),allGymnasts!$I$4:$I$103,0))),\"\")","v":""},{"$f":"IFERROR(IF(allGymnasts!B9=\"\",\"\",INDEX(allGymnasts!$G$4:$G$103,MATCH(SMALL(allGymnasts!$I$4:$I$103,A9),allGymnasts!$I$4:$I$103,0))),\"\")","v":""},{"$f":"IFERROR(IF(allGymnasts!B9=\"\",\"\",INDEX(allGymnasts!$H$4:$H$103,MATCH(SMALL(allGymnasts!$I$4:$I$103,A9),allGymnasts!$I$4:$I$103,0))),\"\")","v":""}]
[7,{"$f":"IFERROR(_xlfn.FLOOR.MATH(IF(allGymnasts!A10=\"\",\"\",INDEX(allGymnasts!$I$4:$I$103,MATCH(SMALL(allGymnasts!$I$4:$I$103,A10),allGymnasts!$I$4:$I$103,0)))),\"\")","v":""},{"$f":"IFERROR(IF(allGymnasts!A10=\"\",\"\",INDEX(allGymnasts!$A$4:$A$103,MATCH(SMALL(allGymnasts!$I$4:$I$103,A10),allGymnasts!$I$4:$I$103,0))),\"\")","v":""},{"$f":"IFERROR(IF(allGymnasts!B10=\"\",\"\",INDEX(allGymnasts!$B$4:$B$103,MATCH(SMALL(allGymnasts!$I$4:$I$103,A10),allGymnasts!$I$4:$I$103,0))),\"\")","v":""},{"$f":"IFERROR(IF(allGymnasts!C10=\"\",\"\",INDEX(allGymnasts!$C$4:$C$103,MATCH(SMALL(allGymnasts!$I$4:$I$103,A10),allGymnasts!$I$4:$I$103,0))),\"\")","v":""},{"$f":"IFERROR(IF(allGymnasts!D10=\"\",\"\",INDEX(allGymnasts!$D$4:$D$103,MATCH(SMALL(allGymnasts!$I$4:$I$103,A10),allGymnasts!$I$4:$I$103,0))),\"\")","v":""},{"$f":"IFERROR(IF(allGymnasts!B10=\"\",\"\",INDEX(allGymnasts!$E$4:$E$103,MATCH(SMALL(allGymnasts!$I$4:$I$103,A10),allGymnasts!$I$4:$I$103,0))),\"\")","v":""},{"$f":"IFERROR(IF(allGymnasts!B10=\"\",\"\",INDEX(allGymnasts!$F$4:$F$103,MATCH(SMALL(allGymnasts!$I$4:$I$103,A10),allGymnasts!$I$4:$I$103,0))),\"\")","v":""},{"$f":"IFERROR(IF(allGymnasts!B10=\"\",\"\",INDEX(allGymnasts!$G$4:$G$103,MATCH(SMALL(allGymnasts!$I$4:$I$103,A10),allGymnasts!$I$4:$I$103,0))),\"\")","v":""},{"$f":"IFERROR(IF(allGymnasts!B10=\"\",\"\",INDEX(allGymnasts!$H$4:$H$103,MATCH(SMALL(allGymnasts!$I$4:$I$103,A10),allGymnasts!$I$4:$I$103,0))),\"\")","v":""}]
[8,{"$f":"IFERROR(_xlfn.FLOOR.MATH(IF(allGymnasts!A11=\"\",\"\",INDEX(allGymnasts!$I$4:$I$103,MATCH(SMALL(allGymnasts!$I$4:$I$103,A11),allGymnasts!$I$4:$I$103,0)))),\"\")","v":""},{"$f":"IFERROR(IF(allGymnasts!A11=\"\",\"\",INDEX(allGymnasts!$A$4:$A$103,MATCH(SMALL(allGymnasts!$I$4:$I$103,A11),allGymnasts!$I$4:$I$103,0))),\"\")","v":""},{"$f":"IFERROR(IF(allGymnasts!B11=\"\",\"\",INDEX(allGymnasts!$B$4:$B$103,MATCH(SMALL(allGymnasts!$I$4:$I$103,A11),allGymnasts!$I$4:$I$103,0))),\"\")","v":""},{"$f":"IFERROR(IF(allGymnasts!C11=\"\",\"\",INDEX(allGymnasts!$C$4:$C$103,MATCH(SMALL(allGymnasts!$I$4:$I$103,A11),allGymnasts!$I$4:$I$103,0))),\"\")","v":""},{"$f":"IFERROR(IF(allGymnasts!D11=\"\",\"\",INDEX(allGymnasts!$D$4:$D$103,MATCH(SMALL(allGymnasts!$I$4:$I$103,A11),allGymnasts!$I$4:$I$103,0))),\"\")","v":""},{"$f":"IFERROR(IF(allGymnasts!B11=\"\",\"\",INDEX(allGymnasts!$E$4:$E$103,MATCH(SMALL(allGymnasts!$I$4:$I$103,A11),allGymnasts!$I$4:$I$103,0))),\"\")","v":""},{"$f":"IFERROR(IF(allGymnasts!B11=\"\",\"\",INDEX(allGymnasts!$F$4:$F$103,MATCH(SMALL(allGymnasts!$I$4:$I$103,A11),allGymnasts!$I$4:$I$103,0))),\"\")","v":""},{"$f":"IFERROR(IF(allGymnasts!B11=\"\",\"\",INDEX(allGymnasts!$G$4:$G$103,MATCH(SMALL(allGymnasts!$I$4:$I$103,A11),allGymnasts!$I$4:$I$103,0))),\"\")","v":""},{"$f":"IFERROR(IF(allGymnasts!B11=\"\",\"\",INDEX(allGymnasts!$H$4:$H$103,MATCH(SMALL(allGymnasts!$I$4:$I$103,A11),allGymnasts!$I$4:$I$103,0))),\"\")","v":""}]
[9,{"$f":"IFERROR(_xlfn.FLOOR.MATH(IF(allGymnasts!A12=\"\",\"\",INDEX(allGymnasts!$I$4:$I$103,MATCH(SMALL(allGymnasts!$I$4:$I$103,A12),allGymnasts!$I$4:$I$103,0)))),\"\")","v":""},{"$f":"IFERROR(IF(allGymnasts!A12=\"\",\"\",INDEX(allGymnasts!$A$4:$A$103,MATCH(SMALL(allGymnasts!$I$4:$I$103,A12),allGymnasts!$I$4:$I$103,0))),\"\")","v":""},{"$f":"IFERROR(IF(allGymnasts!B12=\"\",\"\",INDEX(allGymnasts!$B$4:$B$103,MATCH(SMALL(allGymnasts!$I$4:$I$103,A12),allGymnasts!$I$4:$I$103,0))),\"\")","v":""},{"$f":"IFERROR(IF(allGymnasts!C12=\"\",\"\",INDEX(allGymnasts!$C$4:$C$103,MATCH(SMALL(allGymnasts!$I$4:$I$103,A12),allGymnasts!$I$4:$I$103,0))),\"\")","v":""},{"$f":"IFERROR(IF(allGymnasts!D12=\"\",\"\",INDEX(allGymnasts!$D$4:$D$103,MATCH(SMALL(allGymnasts!$I$4:$I$103,A12),allGymnasts!$I$4:$I$103,0))),\"\")","v":""},{"$f":"IFERROR(IF(allGymnasts!B12=\"\",\"\",INDEX(allGymnasts!$E$4:$E$103,MATCH(SMALL(allGymnasts!$I$4:$I$103,A12),allGymnasts!$I$4:$I$103,0))),\"\")","v":""},{"$f":"IFERROR(IF(allGymnasts!B12=\"\",\"\",INDEX(allGymnasts!$F$4:$F$103,MATCH(SMALL(allGymnasts!$I$4:$I$103,A12),allGymnasts!$I$4:$I$103,0))),\"\")","v":""},{"$f":"IFERROR(IF(allGymnasts!B12=\"\",\"\",INDEX(allGymnasts!$G$4:$G$103,MATCH(SMALL(allGymnasts!$I$4:$I$103,A12),allGymnasts!$I$4:$I$103,0))),\"\")","v":""},{"$f":"IFERROR(IF(allGymnasts!B12=\"\",\"\",INDEX(allGymnasts!$H$4:$H$103,MATCH(SMALL(allGymnasts!$I$4:$I$103,A12),allGymnasts!$I$4:$I$103,0))),\"\")","v":""}]
[10,{"$f":"IFERROR(_xlfn.FLOOR.MATH(IF(allGymnasts!A13=\"\",\"\",INDEX(allGymnasts!$I$4:$I$103,MATCH(SMALL(allGymnasts!$I$4:$I$103,A13),allGymnasts!$I$4:$I$103,0)))),\"\")","v":""},{"$f":"IFERROR(IF(allGymnasts!A13=\"\",\"\",INDEX(allGymnasts!$A$4:$A$103,MATCH(SMALL(allGymnasts!$I$4:$I$103,A13),allGymnasts!$I$4:$I$103,0))),\"\")","v":""},{"$f":"IFERROR(IF(allGymnasts!B13=\"\",\"\",INDEX(allGymnasts!$B$4:$B$103,MATCH(SMALL(allGymnasts!$I$4:$I$103,A13),allGymnasts!$I$4:$I$103,0))),\"\")","v":""},{"$f":"IFERROR(IF(allGymnasts!C13=\"\",\"\",INDEX(allGymnasts!$C$4:$C$103,MATCH(SMALL(allGymnasts!$I$4:$I$103,A13),allGymnasts!$I$4:$I$103,0))),\"\")","v":""},{"$f":"IFERROR(IF(allGymnasts!D13=\"\",\"\",INDEX(allGymnasts!$D$4:$D$103,MATCH(SMALL(allGymnasts!$I$4:$I$103,A13),allGymnasts!$I$4:$I$103,0))),\"\")","v":""},{"$f":"IFERROR(IF(allGymnasts!B13=\"\",\"\",INDEX(allGymnasts!$E$4:$E$103,MATCH(SMALL(allGymnasts!$I$4:$I$103,A13),allGymnasts!$I$4:$I$103,0))),\"\")","v":""},{"$f":"IFERROR(IF(allGymnasts!B13=\"\",\"\",INDEX(allGymnasts!$F$4:$F$103,MATCH(SMALL(allGymnasts!$I$4:$I$103,A13),allGymnasts!$I$4:$I$103,0))),\"\")","v":""},{"$f":"IFERROR(IF(allGymnasts!B13=\"\",\"\",INDEX(allGymnasts!$G$4:$G$103,MATCH(SMALL(allGymnasts!$I$4:$I$103,A13),allGymnasts!$I$4:$I$103,0))),\"\")","v":""},{"$f":"IFERROR(IF(allGymnasts!B13=\"\",\"\",INDEX(allGymnasts!$H$4:$H$103,MATCH(SMALL(allGymnasts!$I$4:$I$103,A13),allGymnasts!$I$4:$I$103,0))),\"\")","v":""}]
[11,{"$f":"IFERROR(_xlfn.FLOOR.MATH(IF(allGymnasts!A14=\"\",\"\",INDEX(allGymnasts!$I$4:$I$103,MATCH(SMALL(allGymnasts!$I$4:$I$103,A14),allGymnasts!$I$4:$I$103,0)))),\"\")","v":""},{"$f":"IFERROR(IF(allGymnasts!A14=\"\",\"\",INDEX(allGymnasts!$A$4:$A$103,MATCH(SMALL(allGymnasts!$I$4:$I$103,A14),allGymnasts!$I$4:$I$103,0))),\"\")","v":""},{"$f":"IFERROR(IF(allGymnasts!B14=\"\",\"\",INDEX(allGymnasts!$B$4:$B$103,MATCH(SMALL(allGymnasts!$I$4:$I$103,A14),allGymnasts!$I$4:$I$103,0))),\"\")","v":""},{"$f":"IFERROR(IF(allGymnasts!C14=\"\",\"\",INDEX(allGymnasts!$C$4:$C$103,MATCH(SMALL(allGymnasts!$I$4:$I$103,A14),allGymnasts!$I$4:$I$103,0))),\"\")","v":""},{"$f":"IFERROR(IF(allGymnasts!D14=\"\",\"\",INDEX(allGymnasts!$D$4:$D$103,MATCH(SMALL(allGymnasts!$I$4:$I$103,A14),allGymnasts!$I$4:$I$103,0))),\"\")","v":""},{"$f":"IFERROR(IF(allGymnasts!B14=\"\",\"\",INDEX(allGymnasts!$E$4:$E$103,MATCH(SMALL(allGymnasts!$I$4:$I$103,A14),allGymnasts!$I$4:$I$103,0))),\"\")","v":""},{"$f":"IFERROR(IF(allGymnasts!B14=\"\",\"\",INDEX(allGymnasts!$F$4:$F$103,MATCH(SMALL(allGymnasts!$I$4:$I$103,A14),allGymnasts!$I$4:$I$103,0))),\"\")","v":""},{"$f":"IFERROR(IF(allGymnasts!B14=\"\",\"\",INDEX(allGymnasts!$G$4:$G$103,MATCH(SMALL(allGymnasts!$I$4:$I$103,A14),allGymnasts!$I$4:$I$103,0))),\"\")","v":""},{"$f":"IFERROR(IF(allGymnasts!B14=\"\",\"\",INDEX(allGymnasts!$H$4:$H$103,MATCH(SMALL(allGymnasts!$I$4:$I$103,A14),allGymnasts!$I$4:$I$103,0))),\"\")","v":""}]
[12,{"$f":"IFERROR(_xlfn.FLOOR.MATH(IF(allGymnasts!A15=\"\",\"\",INDEX(allGymnasts!$I$4:$I$103,MATCH(SMALL(allGymnasts!$I$4:$I$103,A15),allGymnasts!$I$4:$I$103,0)))),\"\")","v":""},{"$f":"IFERROR(IF(allGymnasts!A15=\"\",\"\",INDEX(allGymnasts!$A$4:$A$103,MATCH(SMALL(allGymnasts!$I$4:$I$103,A15),allGymnasts!$I$4:$I$103,0))),\"\")","v":""},{"$f":"IFERROR(IF(allGymnasts!B15=\"\",\"\",INDEX(allGymnasts!$B$4:$B$103,MATCH(SMALL(allGymnasts!$I$4:$I$103,A15),allGymnasts!$I$4:$I$103,0))),\"\")","v":""},{"$f":"IFERROR(IF(allGymnasts!C15=\"\",\"\",INDEX(allGymnasts!$C$4:$C$103,MATCH(SMALL(allGymnasts!$I$4:$I$103,A15),allGymnasts!$I$4:$I$103,0))),\"\")","v":""},{"$f":"IFERROR(IF(allGymnasts!D15=\"\",\"\",INDEX(allGymnasts!$D$4:$D$103,MATCH(SMALL(allGymnasts!$I$4:$I$103,A15),allGymnasts!$I$4:$I$103,0))),\"\")","v":""},{"$f":"IFERROR(IF(allGymnasts!B15=\"\",\"\",INDEX(allGymnasts!$E$4:$E$103,MATCH(SMALL(allGymnasts!$I$4:$I$103,A15),allGymnasts!$I$4:$I$103,0))),\"\")","v":""},{"$f":"IFERROR(IF(allGymnasts!B15=\"\",\"\",INDEX(allGymnasts!$F$4:$F$103,MATCH(SMALL(allGymnasts!$I$4:$I$103,A15),allGymnasts!$I$4:$I$103,0))),\"\")","v":""},{"$f":"IFERROR(IF(allGymnasts!B15=\"\",\"\",INDEX(allGymnasts!$G$4:$G$103,MATCH(SMALL(allGymnasts!$I$4:$I$103,A15),allGymnasts!$I$4:$I$103,0))),\"\")","v":""},{"$f":"IFERROR(IF(allGymnasts!B15=\"\",\"\",INDEX(allGymnasts!$H$4:$H$103,MATCH(SMALL(allGymnasts!$I$4:$I$103,A15),allGymnasts!$I$4:$I$103,0))),\"\")","v":""}]
[13,{"$f":"IFERROR(_xlfn.FLOOR.MATH(IF(allGymnasts!A16=\"\",\"\",INDEX(allGymnasts!$I$4:$I$103,MATCH(SMALL(allGymnasts!$I$4:$I$103,A16),allGymnasts!$I$4:$I$103,0)))),\"\")","v":""},{"$f":"IFERROR(IF(allGymnasts!A16=\"\",\"\",INDEX(allGymnasts!$A$4:$A$103,MATCH(SMALL(allGymnasts!$I$4:$I$103,A16),allGymnasts!$I$4:$I$103,0))),\"\")","v":""},{"$f":"IFERROR(IF(allGymnasts!B16=\"\",\"\",INDEX(allGymnasts!$B$4:$B$103,MATCH(SMALL(allGymnasts!$I$4:$I$103,A16),allGymnasts!$I$4:$I$103,0))),\"\")","v":""},{"$f":"IFERROR(IF(allGymnasts!C16=\"\",\"\",INDEX(allGymnasts!$C$4:$C$103,MATCH(SMALL(allGymnasts!$I$4:$I$103,A16),allGymnasts!$I$4:$I$103,0))),\"\")","v":""},{"$f":"IFERROR(IF(allGymnasts!D16=\"\",\"\",INDEX(allGymnasts!$D$4:$D$103,MATCH(SMALL(allGymnasts!$I$4:$I$103,A16),allGymnasts!$I$4:$I$103,0))),\"\")","v":""},{"$f":"IFERROR(IF(allGymnasts!B16=\"\",\"\",INDEX(allGymnasts!$E$4:$E$103,MATCH(SMALL(allGymnasts!$I$4:$I$103,A16),allGymnasts!$I$4:$I$103,0))),\"\")","v":""},{"$f":"IFERROR(IF(allGymnasts!B16=\"\",\"\",INDEX(allGymnasts!$F$4:$F$103,MATCH(SMALL(allGymnasts!$I$4:$I$103,A16),allGymnasts!$I$4:$I$103,0))),\"\")","v":""},{"$f":"IFERROR(IF(allGymnasts!B16=\"\",\"\",INDEX(allGymnasts!$G$4:$G$103,MATCH(SMALL(allGymnasts!$I$4:$I$103,A16),allGymnasts!$I$4:$I$103,0))),\"\")","v":""},{"$f":"IFERROR(IF(allGymnasts!B16=\"\",\"\",INDEX(allGymnasts!$H$4:$H$103,MATCH(SMALL(allGymnasts!$I$4:$I$103,A16),allGymnasts!$I$4:$I$103,0))),\"\")","v":""}]
[14,{"$f":"IFERROR(_xlfn.FLOOR.MATH(IF(allGymnasts!A17=\"\",\"\",INDEX(allGymnasts!$I$4:$I$103,MATCH(SMALL(allGymnasts!$I$4:$I$103,A17),allGymnasts!$I$4:$I$103,0)))),\"\")","v":""},{"$f":"IFERROR(IF(allGymnasts!A17=\"\",\"\",INDEX(allGymnasts!$A$4:$A$103,MATCH(SMALL(allGymnasts!$I$4:$I$103,A17),allGymnasts!$I$4:$I$103,0))),\"\")","v":""},{"$f":"IFERROR(IF(allGymnasts!B17=\"\",\"\",INDEX(allGymnasts!$B$4:$B$103,MATCH(SMALL(allGymnasts!$I$4:$I$103,A17),allGymnasts!$I$4:$I$103,0))),\"\")","v":""},{"$f":"IFERROR(IF(allGymnasts!C17=\"\",\"\",INDEX(allGymnasts!$C$4:$C$103,MATCH(SMALL(allGymnasts!$I$4:$I$103,A17),allGymnasts!$I$4:$I$103,0))),\"\")","v":""},{"$f":"IFERROR(IF(allGymnasts!D17=\"\",\"\",INDEX(allGymnasts!$D$4:$D$103,MATCH(SMALL(allGymnasts!$I$4:$I$103,A17),allGymnasts!$I$4:$I$103,0))),\"\")","v":""},{"$f":"IFERROR(IF(allGymnasts!B17=\"\",\"\",INDEX(allGymnasts!$E$4:$E$103,MATCH(SMALL(allGymnasts!$I$4:$I$103,A17),allGymnasts!$I$4:$I$103,0))),\"\")","v":""},{"$f":"IFERROR(IF(allGymnasts!B17=\"\",\"\",INDEX(allGymnasts!$F$4:$F$103,MATCH(SMALL(allGymnasts!$I$4:$I$103,A17),allGymnasts!$I$4:$I$103,0))),\"\")","v":""},{"$f":"IFERROR(IF(allGymnasts!B17=\"\",\"\",INDEX(allGymnasts!$G$4:$G$103,MATCH(SMALL(allGymnasts!$I$4:$I$103,A17),allGymnasts!$I$4:$I$103,0))),\"\")","v":""},{"$f":"IFERROR(IF(allGymnasts!B17=\"\",\"\",INDEX(allGymnasts!$H$4:$H$103,MATCH(SMALL(allGymnasts!$I$4:$I$103,A17),allGymnasts!$I$4:$I$103,0))),\"\")","v":""}]
[15,{"$f":"IFERROR(_xlfn.FLOOR.MATH(IF(allGymnasts!A18=\"\",\"\",INDEX(allGymnasts!$I$4:$I$103,MATCH(SMALL(allGymnasts!$I$4:$I$103,A18),allGymnasts!$I$4:$I$103,0)))),\"\")","v":""},{"$f":"IFERROR(IF(allGymnasts!A18=\"\",\"\",INDEX(allGymnasts!$A$4:$A$103,MATCH(SMALL(allGymnasts!$I$4:$I$103,A18),allGymnasts!$I$4:$I$103,0))),\"\")","v":""},{"$f":"IFERROR(IF(allGymnasts!B18=\"\",\"\",INDEX(allGymnasts!$B$4:$B$103,MATCH(SMALL(allGymnasts!$I$4:$I$103,A18),allGymnasts!$I$4:$I$103,0))),\"\")","v":""},{"$f":"IFERROR(IF(allGymnasts!C18=\"\",\"\",INDEX(allGymnasts!$C$4:$C$103,MATCH(SMALL(allGymnasts!$I$4:$I$103,A18),allGymnasts!$I$4:$I$103,0))),\"\")","v":""},{"$f":"IFERROR(IF(allGymnasts!D18=\"\",\"\",INDEX(allGymnasts!$D$4:$D$103,MATCH(SMALL(allGymnasts!$I$4:$I$103,A18),allGymnasts!$I$4:$I$103,0))),\"\")","v":""},{"$f":"IFERROR(IF(allGymnasts!B18=\"\",\"\",INDEX(allGymnasts!$E$4:$E$103,MATCH(SMALL(allGymnasts!$I$4:$I$103,A18),allGymnasts!$I$4:$I$103,0))),\"\")","v":""},{"$f":"IFERROR(IF(allGymnasts!B18=\"\",\"\",INDEX(allGymnasts!$F$4:$F$103,MATCH(SMALL(allGymnasts!$I$4:$I$103,A18),allGymnasts!$I$4:$I$103,0))),\"\")","v":""},{"$f":"IFERROR(IF(allGymnasts!B18=\"\",\"\",INDEX(allGymnasts!$G$4:$G$103,MATCH(SMALL(allGymnasts!$I$4:$I$103,A18),allGymnasts!$I$4:$I$103,0))),\"\")","v":""},{"$f":"IFERROR(IF(allGymnasts!B18=\"\",\"\",INDEX(allGymnasts!$H$4:$H$103,MATCH(SMALL(allGymnasts!$I$4:$I$103,A18),allGymnasts!$I$4:$I$103,0))),\"\")","v":""}]
[16,{"$f":"IFERROR(_xlfn.FLOOR.MATH(IF(allGymnasts!A19=\"\",\"\",INDEX(allGymnasts!$I$4:$I$103,MATCH(SMALL(allGymnasts!$I$4:$I$103,A19),allGymnasts!$I$4:$I$103,0)))),\"\")","v":""},{"$f":"IFERROR(IF(allGymnasts!A19=\"\",\"\",INDEX(allGymnasts!$A$4:$A$103,MATCH(SMALL(allGymnasts!$I$4:$I$103,A19),allGymnasts!$I$4:$I$103,0))),\"\")","v":""},{"$f":"IFERROR(IF(allGymnasts!B19=\"\",\"\",INDEX(allGymnasts!$B$4:$B$103,MATCH(SMALL(allGymnasts!$I$4:$I$103,A19),allGymnasts!$I$4:$I$103,0))),\"\")","v":""},{"$f":"IFERROR(IF(allGymnasts!C19=\"\",\"\",INDEX(allGymnasts!$C$4:$C$103,MATCH(SMALL(allGymnasts!$I$4:$I$103,A19),allGymnasts!$I$4:$I$103,0))),\"\")","v":""},{"$f":"IFERROR(IF(allGymnasts!D19=\"\",\"\",INDEX(allGymnasts!$D$4:$D$103,MATCH(SMALL(allGymnasts!$I$4:$I$103,A19),allGymnasts!$I$4:$I$103,0))),\"\")","v":""},{"$f":"IFERROR(IF(allGymnasts!B19=\"\",\"\",INDEX(allGymnasts!$E$4:$E$103,MATCH(SMALL(allGymnasts!$I$4:$I$103,A19),allGymnasts!$I$4:$I$103,0))),\"\")","v":""},{"$f":"IFERROR(IF(allGymnasts!B19=\"\",\"\",INDEX(allGymnasts!$F$4:$F$103,MATCH(SMALL(allGymnasts!$I$4:$I$103,A19),allGymnasts!$I$4:$I$103,0))),\"\")","v":""},{"$f":"IFERROR(IF(allGymnasts!B19=\"\",\"\",INDEX(allGymnasts!$G$4:$G$103,MATCH(SMALL(allGymnasts!$I$4:$I$103,A19),allGymnasts!$I$4:$I$103,0))),\"\")","v":""},{"$f":"IFERROR(IF(allGymnasts!B19=\"\",\"\",INDEX(allGymnasts!$H$4:$H$103,MATCH(SMALL(allGymnasts!$I$4:$I$103,A19),allGymnasts!$I$4:$I$103,0))),\"\")","v":""}]
[17,{"$f":"IFERROR(_xlfn.FLOOR.MATH(IF(allGymnasts!A20=\"\",\"\",INDEX(allGymnasts!$I$4:$I$103,MATCH(SMALL(allGymnasts!$I$4:$I$103,A20),allGymnasts!$I$4:$I$103,0)))),\"\")","v":""},{"$f":"IFERROR(IF(allGymnasts!A20=\"\",\"\",INDEX(allGymnasts!$A$4:$A$103,MATCH(SMALL(allGymnasts!$I$4:$I$103,A20),allGymnasts!$I$4:$I$103,0))),\"\")","v":""},{"$f":"IFERROR(IF(allGymnasts!B20=\"\",\"\",INDEX(allGymnasts!$B$4:$B$103,MATCH(SMALL(allGymnasts!$I$4:$I$103,A20),allGymnasts!$I$4:$I$103,0))),\"\")","v":""},{"$f":"IFERROR(IF(allGymnasts!C20=\"\",\"\",INDEX(allGymnasts!$C$4:$C$103,MATCH(SMALL(allGymnasts!$I$4:$I$103,A20),allGymnasts!$I$4:$I$103,0))),\"\")","v":""},{"$f":"IFERROR(IF(allGymnasts!D20=\"\",\"\",INDEX(allGymnasts!$D$4:$D$103,MATCH(SMALL(allGymnasts!$I$4:$I$103,A20),allGymnasts!$I$4:$I$103,0))),\"\")","v":""},{"$f":"IFERROR(IF(allGymnasts!B20=\"\",\"\",INDEX(allGymnasts!$E$4:$E$103,MATCH(SMALL(allGymnasts!$I$4:$I$103,A20),allGymnasts!$I$4:$I$103,0))),\"\")","v":""},{"$f":"IFERROR(IF(allGymnasts!B20=\"\",\"\",INDEX(allGymnasts!$F$4:$F$103,MATCH(SMALL(allGymnasts!$I$4:$I$103,A20),allGymnasts!$I$4:$I$103,0))),\"\")","v":""},{"$f":"IFERROR(IF(allGymnasts!B20=\"\",\"\",INDEX(allGymnasts!$G$4:$G$103,MATCH(SMALL(allGymnasts!$I$4:$I$103,A20),allGymnasts!$I$4:$I$103,0))),\"\")","v":""},{"$f":"IFERROR(IF(allGymnasts!B20=\"\",\"\",INDEX(allGymnasts!$H$4:$H$103,MATCH(SMALL(allGymnasts!$I$4:$I$103,A20),allGymnasts!$I$4:$I$103,0))),\"\")","v":""}]
[18,{"$f":"IFERROR(_xlfn.FLOOR.MATH(IF(allGymnasts!A21=\"\",\"\",INDEX(allGymnasts!$I$4:$I$103,MATCH(SMALL(allGymnasts!$I$4:$I$103,A21),allGymnasts!$I$4:$I$103,0)))),\"\")","v":""},{"$f":"IFERROR(IF(allGymnasts!A21=\"\",\"\",INDEX(allGymnasts!$A$4:$A$103,MATCH(SMALL(allGymnasts!$I$4:$I$103,A21),allGymnasts!$I$4:$I$103,0))),\"\")","v":""},{"$f":"IFERROR(IF(allGymnasts!B21=\"\",\"\",INDEX(allGymnasts!$B$4:$B$103,MATCH(SMALL(allGymnasts!$I$4:$I$103,A21),allGymnasts!$I$4:$I$103,0))),\"\")","v":""},{"$f":"IFERROR(IF(allGymnasts!C21=\"\",\"\",INDEX(allGymnasts!$C$4:$C$103,MATCH(SMALL(allGymnasts!$I$4:$I$103,A21),allGymnasts!$I$4:$I$103,0))),\"\")","v":""},{"$f":"IFERROR(IF(allGymnasts!D21=\"\",\"\",INDEX(allGymnasts!$D$4:$D$103,MATCH(SMALL(allGymnasts!$I$4:$I$103,A21),allGymnasts!$I$4:$I$103,0))),\"\")","v":""},{"$f":"IFERROR(IF(allGymnasts!B21=\"\",\"\",INDEX(allGymnasts!$E$4:$E$103,MATCH(SMALL(allGymnasts!$I$4:$I$103,A21),allGymnasts!$I$4:$I$103,0))),\"\")","v":""},{"$f":"IFERROR(IF(allGymnasts!B21=\"\",\"\",INDEX(allGymnasts!$F$4:$F$103,MATCH(SMALL(allGymnasts!$I$4:$I$103,A21),allGymnasts!$I$4:$I$103,0))),\"\")","v":""},{"$f":"IFERROR(IF(allGymnasts!B21=\"\",\"\",INDEX(allGymnasts!$G$4:$G$103,MATCH(SMALL(allGymnasts!$I$4:$I$103,A21),allGymnasts!$I$4:$I$103,0))),\"\")","v":""},{"$f":"IFERROR(IF(allGymnasts!B21=\"\",\"\",INDEX(allGymnasts!$H$4:$H$103,MATCH(SMALL(allGymnasts!$I$4:$I$103,A21),allGymnasts!$I$4:$I$103,0))),\"\")","v":""}]
[19,{"$f":"IFERROR(_xlfn.FLOOR.MATH(IF(allGymnasts!A22=\"\",\"\",INDEX(allGymnasts!$I$4:$I$103,MATCH(SMALL(allGymnasts!$I$4:$I$103,A22),allGymnasts!$I$4:$I$103,0)))),\"\")","v":""},{"$f":"IFERROR(IF(allGymnasts!A22=\"\",\"\",INDEX(allGymnasts!$A$4:$A$103,MATCH(SMALL(allGymnasts!$I$4:$I$103,A22),allGymnasts!$I$4:$I$103,0))),\"\")","v":""},{"$f":"IFERROR(IF(allGymnasts!B22=\"\",\"\",INDEX(allGymnasts!$B$4:$B$103,MATCH(SMALL(allGymnasts!$I$4:$I$103,A22),allGymnasts!$I$4:$I$103,0))),\"\")","v":""},{"$f":"IFERROR(IF(allGymnasts!C22=\"\",\"\",INDEX(allGymnasts!$C$4:$C$103,MATCH(SMALL(allGymnasts!$I$4:$I$103,A22),allGymnasts!$I$4:$I$103,0))),\"\")","v":""},{"$f":"IFERROR(IF(allGymnasts!D22=\"\",\"\",INDEX(allGymnasts!$D$4:$D$103,MATCH(SMALL(allGymnasts!$I$4:$I$103,A22),allGymnasts!$I$4:$I$103,0))),\"\")","v":""},{"$f":"IFERROR(IF(allGymnasts!B22=\"\",\"\",INDEX(allGymnasts!$E$4:$E$103,MATCH(SMALL(allGymnasts!$I$4:$I$103,A22),allGymnasts!$I$4:$I$103,0))),\"\")","v":""},{"$f":"IFERROR(IF(allGymnasts!B22=\"\",\"\",INDEX(allGymnasts!$F$4:$F$103,MATCH(SMALL(allGymnasts!$I$4:$I$103,A22),allGymnasts!$I$4:$I$103,0))),\"\")","v":""},{"$f":"IFERROR(IF(allGymnasts!B22=\"\",\"\",INDEX(allGymnasts!$G$4:$G$103,MATCH(SMALL(allGymnasts!$I$4:$I$103,A22),allGymnasts!$I$4:$I$103,0))),\"\")","v":""},{"$f":"IFERROR(IF(allGymnasts!B22=\"\",\"\",INDEX(allGymnasts!$H$4:$H$103,MATCH(SMALL(allGymnasts!$I$4:$I$103,A22),allGymnasts!$I$4:$I$103,0))),\"\")","v":""}]
[20,{"$f":"IFERROR(_xlfn.FLOOR.MATH(IF(allGymnasts!A23=\"\",\"\",INDEX(allGymnasts!$I$4:$I$103,MATCH(SMALL(allGymnasts!$I$4:$I$103,A23),allGymnasts!$I$4:$I$103,0)))),\"\")","v":""},{"$f":"IFERROR(IF(allGymnasts!A23=\"\",\"\",INDEX(allGymnasts!$A$4:$A$103,MATCH(SMALL(allGymnasts!$I$4:$I$103,A23),allGymnasts!$I$4:$I$103,0))),\"\")","v":""},{"$f":"IFERROR(IF(allGymnasts!B23=\"\",\"\",INDEX(allGymnasts!$B$4:$B$103,MATCH(SMALL(allGymnasts!$I$4:$I$103,A23),allGymnasts!$I$4:$I$103,0))),\"\")","v":""},{"$f":"IFERROR(IF(allGymnasts!C23=\"\",\"\",INDEX(allGymnasts!$C$4:$C$103,MATCH(SMALL(allGymnasts!$I$4:$I$103,A23),allGymnasts!$I$4:$I$103,0))),\"\")","v":""},{"$f":"IFERROR(IF(allGymnasts!D23=\"\",\"\",INDEX(allGymnasts!$D$4:$D$103,MATCH(SMALL(allGymnasts!$I$4:$I$103,A23),allGymnasts!$I$4:$I$103,0))),\"\")","v":""},{"$f":"IFERROR(IF(allGymnasts!B23=\"\",\"\",INDEX(allGymnasts!$E$4:$E$103,MATCH(SMALL(allGymnasts!$I$4:$I$103,A23),allGymnasts!$I$4:$I$103,0))),\"\")","v":""},{"$f":"IFERROR(IF(allGymnasts!B23=\"\",\"\",INDEX(allGymnasts!$F$4:$F$103,MATCH(SMALL(allGymnasts!$I$4:$I$103,A23),allGymnasts!$I$4:$I$103,0))),\"\")","v":""},{"$f":"IFERROR(IF(allGymnasts!B23=\"\",\"\",INDEX(allGymnasts!$G$4:$G$103,MATCH(SMALL(allGymnasts!$I$4:$I$103,A23),allGymnasts!$I$4:$I$103,0))),\"\")","v":""},{"$f":"IFERROR(IF(allGymnasts!B23=\"\",\"\",INDEX(allGymnasts!$H$4:$H$103,MATCH(SMALL(allGymnasts!$I$4:$I$103,A23),allGymnasts!$I$4:$I$103,0))),\"\")","v":""}]
[21,{"$f":"IFERROR(_xlfn.FLOOR.MATH(IF(allGymnasts!A24=\"\",\"\",INDEX(allGymnasts!$I$4:$I$103,MATCH(SMALL(allGymnasts!$I$4:$I$103,A24),allGymnasts!$I$4:$I$103,0)))),\"\")","v":""},{"$f":"IFERROR(IF(allGymnasts!A24=\"\",\"\",INDEX(allGymnasts!$A$4:$A$103,MATCH(SMALL(allGymnasts!$I$4:$I$103,A24),allGymnasts!$I$4:$I$103,0))),\"\")","v":""},{"$f":"IFERROR(IF(allGymnasts!B24=\"\",\"\",INDEX(allGymnasts!$B$4:$B$103,MATCH(SMALL(allGymnasts!$I$4:$I$103,A24),allGymnasts!$I$4:$I$103,0))),\"\")","v":""},{"$f":"IFERROR(IF(allGymnasts!C24=\"\",\"\",INDEX(allGymnasts!$C$4:$C$103,MATCH(SMALL(allGymnasts!$I$4:$I$103,A24),allGymnasts!$I$4:$I$103,0))),\"\")","v":""},{"$f":"IFERROR(IF(allGymnasts!D24=\"\",\"\",INDEX(allGymnasts!$D$4:$D$103,MATCH(SMALL(allGymnasts!$I$4:$I$103,A24),allGymnasts!$I$4:$I$103,0))),\"\")","v":""},{"$f":"IFERROR(IF(allGymnasts!B24=\"\",\"\",INDEX(allGymnasts!$E$4:$E$103,MATCH(SMALL(allGymnasts!$I$4:$I$103,A24),allGymnasts!$I$4:$I$103,0))),\"\")","v":""},{"$f":"IFERROR(IF(allGymnasts!B24=\"\",\"\",INDEX(allGymnasts!$F$4:$F$103,MATCH(SMALL(allGymnasts!$I$4:$I$103,A24),allGymnasts!$I$4:$I$103,0))),\"\")","v":""},{"$f":"IFERROR(IF(allGymnasts!B24=\"\",\"\",INDEX(allGymnasts!$G$4:$G$103,MATCH(SMALL(allGymnasts!$I$4:$I$103,A24),allGymnasts!$I$4:$I$103,0))),\"\")","v":""},{"$f":"IFERROR(IF(allGymnasts!B24=\"\",\"\",INDEX(allGymnasts!$H$4:$H$103,MATCH(SMALL(allGymnasts!$I$4:$I$103,A24),allGymnasts!$I$4:$I$103,0))),\"\")","v":""}]
[22,{"$f":"IFERROR(_xlfn.FLOOR.MATH(IF(allGymnasts!A25=\"\",\"\",INDEX(allGymnasts!$I$4:$I$103,MATCH(SMALL(allGymnasts!$I$4:$I$103,A25),allGymnasts!$I$4:$I$103,0)))),\"\")","v":""},{"$f":"IFERROR(IF(allGymnasts!A25=\"\",\"\",INDEX(allGymnasts!$A$4:$A$103,MATCH(SMALL(allGymnasts!$I$4:$I$103,A25),allGymnasts!$I$4:$I$103,0))),\"\")","v":""},{"$f":"IFERROR(IF(allGymnasts!B25=\"\",\"\",INDEX(allGymnasts!$B$4:$B$103,MATCH(SMALL(allGymnasts!$I$4:$I$103,A25),allGymnasts!$I$4:$I$103,0))),\"\")","v":""},{"$f":"IFERROR(IF(allGymnasts!C25=\"\",\"\",INDEX(allGymnasts!$C$4:$C$103,MATCH(SMALL(allGymnasts!$I$4:$I$103,A25),allGymnasts!$I$4:$I$103,0))),\"\")","v":""},{"$f":"IFERROR(IF(allGymnasts!D25=\"\",\"\",INDEX(allGymnasts!$D$4:$D$103,MATCH(SMALL(allGymnasts!$I$4:$I$103,A25),allGymnasts!$I$4:$I$103,0))),\"\")","v":""},{"$f":"IFERROR(IF(allGymnasts!B25=\"\",\"\",INDEX(allGymnasts!$E$4:$E$103,MATCH(SMALL(allGymnasts!$I$4:$I$103,A25),allGymnasts!$I$4:$I$103,0))),\"\")","v":""},{"$f":"IFERROR(IF(allGymnasts!B25=\"\",\"\",INDEX(allGymnasts!$F$4:$F$103,MATCH(SMALL(allGymnasts!$I$4:$I$103,A25),allGymnasts!$I$4:$I$103,0))),\"\")","v":""},{"$f":"IFERROR(IF(allGymnasts!B25=\"\",\"\",INDEX(allGymnasts!$G$4:$G$103,MATCH(SMALL(allGymnasts!$I$4:$I$103,A25),allGymnasts!$I$4:$I$103,0))),\"\")","v":""},{"$f":"IFERROR(IF(allGymnasts!B25=\"\",\"\",INDEX(allGymnasts!$H$4:$H$103,MATCH(SMALL(allGymnasts!$I$4:$I$103,A25),allGymnasts!$I$4:$I$103,0))),\"\")","v":""}]
[23,{"$f":"IFERROR(_xlfn.FLOOR.MATH(IF(allGymnasts!A26=\"\",\"\",INDEX(allGymnasts!$I$4:$I$103,MATCH(SMALL(allGymnasts!$I$4:$I$103,A26),allGymnasts!$I$4:$I$103,0)))),\"\")","v":""},{"$f":"IFERROR(IF(allGymnasts!A26=\"\",\"\",INDEX(allGymnasts!$A$4:$A$103,MATCH(SMALL(allGymnasts!$I$4:$I$103,A26),allGymnasts!$I$4:$I$103,0))),\"\")","v":""},{"$f":"IFERROR(IF(allGymnasts!B26=\"\",\"\",INDEX(allGymnasts!$B$4:$B$103,MATCH(SMALL(allGymnasts!$I$4:$I$103,A26),allGymnasts!$I$4:$I$103,0))),\"\")","v":""},{"$f":"IFERROR(IF(allGymnasts!C26=\"\",\"\",INDEX(allGymnasts!$C$4:$C$103,MATCH(SMALL(allGymnasts!$I$4:$I$103,A26),allGymnasts!$I$4:$I$103,0))),\"\")","v":""},{"$f":"IFERROR(IF(allGymnasts!D26=\"\",\"\",INDEX(allGymnasts!$D$4:$D$103,MATCH(SMALL(allGymnasts!$I$4:$I$103,A26),allGymnasts!$I$4:$I$103,0))),\"\")","v":""},{"$f":"IFERROR(IF(allGymnasts!B26=\"\",\"\",INDEX(allGymnasts!$E$4:$E$103,MATCH(SMALL(allGymnasts!$I$4:$I$103,A26),allGymnasts!$I$4:$I$103,0))),\"\")","v":""},{"$f":"IFERROR(IF(allGymnasts!B26=\"\",\"\",INDEX(allGymnasts!$F$4:$F$103,MATCH(SMALL(allGymnasts!$I$4:$I$103,A26),allGymnasts!$I$4:$I$103,0))),\"\")","v":""},{"$f":"IFERROR(IF(allGymnasts!B26=\"\",\"\",INDEX(allGymnasts!$G$4:$G$103,MATCH(SMALL(allGymnasts!$I$4:$I$103,A26),allGymnasts!$I$4:$I$103,0))),\"\")","v":""},{"$f":"IFERROR(IF(allGymnasts!B26=\"\",\"\",INDEX(allGymnasts!$H$4:$H$103,MATCH(SMALL(allGymnasts!$I$4:$I$103,A26),allGymnasts!$I$4:$I$103,0))),\"\")","v":""}]
[24,{"$f":"IFERROR(_xlfn.FLOOR.MATH(IF(allGymnasts!A27=\"\",\"\",INDEX(allGymnasts!$I$4:$I$103,MATCH(SMALL(allGymnasts!$I$4:$I$103,A27),allGymnasts!$I$4:$I$103,0)))),\"\")","v":""},{"$f":"IFERROR(IF(allGymnasts!A27=\"\",\"\",INDEX(allGymnasts!$A$4:$A$103,MATCH(SMALL(allGymnasts!$I$4:$I$103,A27),allGymnasts!$I$4:$I$103,0))),\"\")","v":""},{"$f":"IFERROR(IF(allGymnasts!B27=\"\",\"\",INDEX(allGymnasts!$B$4:$B$103,MATCH(SMALL(allGymnasts!$I$4:$I$103,A27),allGymnasts!$I$4:$I$103,0))),\"\")","v":""},{"$f":"IFERROR(IF(allGymnasts!C27=\"\",\"\",INDEX(allGymnasts!$C$4:$C$103,MATCH(SMALL(allGymnasts!$I$4:$I$103,A27),allGymnasts!$I$4:$I$103,0))),\"\")","v":""},{"$f":"IFERROR(IF(allGymnasts!D27=\"\",\"\",INDEX(allGymnasts!$D$4:$D$103,MATCH(SMALL(allGymnasts!$I$4:$I$103,A27),allGymnasts!$I$4:$I$103,0))),\"\")","v":""},{"$f":"IFERROR(IF(allGymnasts!B27=\"\",\"\",INDEX(allGymnasts!$E$4:$E$103,MATCH(SMALL(allGymnasts!$I$4:$I$103,A27),allGymnasts!$I$4:$I$103,0))),\"\")","v":""},{"$f":"IFERROR(IF(allGymnasts!B27=\"\",\"\",INDEX(allGymnasts!$F$4:$F$103,MATCH(SMALL(allGymnasts!$I$4:$I$103,A27),allGymnasts!$I$4:$I$103,0))),\"\")","v":""},{"$f":"IFERROR(IF(allGymnasts!B27=\"\",\"\",INDEX(allGymnasts!$G$4:$G$103,MATCH(SMALL(allGymnasts!$I$4:$I$103,A27),allGymnasts!$I$4:$I$103,0))),\"\")","v":""},{"$f":"IFERROR(IF(allGymnasts!B27=\"\",\"\",INDEX(allGymnasts!$H$4:$H$103,MATCH(SMALL(allGymnasts!$I$4:$I$103,A27),allGymnasts!$I$4:$I$103,0))),\"\")","v":""}]
[25,{"$f":"IFERROR(_xlfn.FLOOR.MATH(IF(allGymnasts!A28=\"\",\"\",INDEX(allGymnasts!$I$4:$I$103,MATCH(SMALL(allGymnasts!$I$4:$I$103,A28),allGymnasts!$I$4:$I$103,0)))),\"\")","v":""},{"$f":"IFERROR(IF(allGymnasts!A28=\"\",\"\",INDEX(allGymnasts!$A$4:$A$103,MATCH(SMALL(allGymnasts!$I$4:$I$103,A28),allGymnasts!$I$4:$I$103,0))),\"\")","v":""},{"$f":"IFERROR(IF(allGymnasts!B28=\"\",\"\",INDEX(allGymnasts!$B$4:$B$103,MATCH(SMALL(allGymnasts!$I$4:$I$103,A28),allGymnasts!$I$4:$I$103,0))),\"\")","v":""},{"$f":"IFERROR(IF(allGymnasts!C28=\"\",\"\",INDEX(allGymnasts!$C$4:$C$103,MATCH(SMALL(allGymnasts!$I$4:$I$103,A28),allGymnasts!$I$4:$I$103,0))),\"\")","v":""},{"$f":"IFERROR(IF(allGymnasts!D28=\"\",\"\",INDEX(allGymnasts!$D$4:$D$103,MATCH(SMALL(allGymnasts!$I$4:$I$103,A28),allGymnasts!$I$4:$I$103,0))),\"\")","v":""},{"$f":"IFERROR(IF(allGymnasts!B28=\"\",\"\",INDEX(allGymnasts!$E$4:$E$103,MATCH(SMALL(allGymnasts!$I$4:$I$103,A28),allGymnasts!$I$4:$I$103,0))),\"\")","v":""},{"$f":"IFERROR(IF(allGymnasts!B28=\"\",\"\",INDEX(allGymnasts!$F$4:$F$103,MATCH(SMALL(allGymnasts!$I$4:$I$103,A28),allGymnasts!$I$4:$I$103,0))),\"\")","v":""},{"$f":"IFERROR(IF(allGymnasts!B28=\"\",\"\",INDEX(allGymnasts!$G$4:$G$103,MATCH(SMALL(allGymnasts!$I$4:$I$103,A28),allGymnasts!$I$4:$I$103,0))),\"\")","v":""},{"$f":"IFERROR(IF(allGymnasts!B28=\"\",\"\",INDEX(allGymnasts!$H$4:$H$103,MATCH(SMALL(allGymnasts!$I$4:$I$103,A28),allGymnasts!$I$4:$I$103,0))),\"\")","v":""}]
[26,{"$f":"IFERROR(_xlfn.FLOOR.MATH(IF(allGymnasts!A29=\"\",\"\",INDEX(allGymnasts!$I$4:$I$103,MATCH(SMALL(allGymnasts!$I$4:$I$103,A29),allGymnasts!$I$4:$I$103,0)))),\"\")","v":""},{"$f":"IFERROR(IF(allGymnasts!A29=\"\",\"\",INDEX(allGymnasts!$A$4:$A$103,MATCH(SMALL(allGymnasts!$I$4:$I$103,A29),allGymnasts!$I$4:$I$103,0))),\"\")","v":""},{"$f":"IFERROR(IF(allGymnasts!B29=\"\",\"\",INDEX(allGymnasts!$B$4:$B$103,MATCH(SMALL(allGymnasts!$I$4:$I$103,A29),allGymnasts!$I$4:$I$103,0))),\"\")","v":""},{"$f":"IFERROR(IF(allGymnasts!C29=\"\",\"\",INDEX(allGymnasts!$C$4:$C$103,MATCH(SMALL(allGymnasts!$I$4:$I$103,A29),allGymnasts!$I$4:$I$103,0))),\"\")","v":""},{"$f":"IFERROR(IF(allGymnasts!D29=\"\",\"\",INDEX(allGymnasts!$D$4:$D$103,MATCH(SMALL(allGymnasts!$I$4:$I$103,A29),allGymnasts!$I$4:$I$103,0))),\"\")","v":""},{"$f":"IFERROR(IF(allGymnasts!B29=\"\",\"\",INDEX(allGymnasts!$E$4:$E$103,MATCH(SMALL(allGymnasts!$I$4:$I$103,A29),allGymnasts!$I$4:$I$103,0))),\"\")","v":""},{"$f":"IFERROR(IF(allGymnasts!B29=\"\",\"\",INDEX(allGymnasts!$F$4:$F$103,MATCH(SMALL(allGymnasts!$I$4:$I$103,A29),allGymnasts!$I$4:$I$103,0))),\"\")","v":""},{"$f":"IFERROR(IF(allGymnasts!B29=\"\",\"\",INDEX(allGymnasts!$G$4:$G$103,MATCH(SMALL(allGymnasts!$I$4:$I$103,A29),allGymnasts!$I$4:$I$103,0))),\"\")","v":""},{"$f":"IFERROR(IF(allGymnasts!B29=\"\",\"\",INDEX(allGymnasts!$H$4:$H$103,MATCH(SMALL(allGymnasts!$I$4:$I$103,A29),allGymnasts!$I$4:$I$103,0))),\"\")","v":""}]
[27,{"$f":"IFERROR(_xlfn.FLOOR.MATH(IF(allGymnasts!A30=\"\",\"\",INDEX(allGymnasts!$I$4:$I$103,MATCH(SMALL(allGymnasts!$I$4:$I$103,A30),allGymnasts!$I$4:$I$103,0)))),\"\")","v":""},{"$f":"IFERROR(IF(allGymnasts!A30=\"\",\"\",INDEX(allGymnasts!$A$4:$A$103,MATCH(SMALL(allGymnasts!$I$4:$I$103,A30),allGymnasts!$I$4:$I$103,0))),\"\")","v":""},{"$f":"IFERROR(IF(allGymnasts!B30=\"\",\"\",INDEX(allGymnasts!$B$4:$B$103,MATCH(SMALL(allGymnasts!$I$4:$I$103,A30),allGymnasts!$I$4:$I$103,0))),\"\")","v":""},{"$f":"IFERROR(IF(allGymnasts!C30=\"\",\"\",INDEX(allGymnasts!$C$4:$C$103,MATCH(SMALL(allGymnasts!$I$4:$I$103,A30),allGymnasts!$I$4:$I$103,0))),\"\")","v":""},{"$f":"IFERROR(IF(allGymnasts!D30=\"\",\"\",INDEX(allGymnasts!$D$4:$D$103,MATCH(SMALL(allGymnasts!$I$4:$I$103,A30),allGymnasts!$I$4:$I$103,0))),\"\")","v":""},{"$f":"IFERROR(IF(allGymnasts!B30=\"\",\"\",INDEX(allGymnasts!$E$4:$E$103,MATCH(SMALL(allGymnasts!$I$4:$I$103,A30),allGymnasts!$I$4:$I$103,0))),\"\")","v":""},{"$f":"IFERROR(IF(allGymnasts!B30=\"\",\"\",INDEX(allGymnasts!$F$4:$F$103,MATCH(SMALL(allGymnasts!$I$4:$I$103,A30),allGymnasts!$I$4:$I$103,0))),\"\")","v":""},{"$f":"IFERROR(IF(allGymnasts!B30=\"\",\"\",INDEX(allGymnasts!$G$4:$G$103,MATCH(SMALL(allGymnasts!$I$4:$I$103,A30),allGymnasts!$I$4:$I$103,0))),\"\")","v":""},{"$f":"IFERROR(IF(allGymnasts!B30=\"\",\"\",INDEX(allGymnasts!$H$4:$H$103,MATCH(SMALL(allGymnasts!$I$4:$I$103,A30),allGymnasts!$I$4:$I$103,0))),\"\")","v":""}]
[28,{"$f":"IFERROR(_xlfn.FLOOR.MATH(IF(allGymnasts!A31=\"\",\"\",INDEX(allGymnasts!$I$4:$I$103,MATCH(SMALL(allGymnasts!$I$4:$I$103,A31),allGymnasts!$I$4:$I$103,0)))),\"\")","v":""},{"$f":"IFERROR(IF(allGymnasts!A31=\"\",\"\",INDEX(allGymnasts!$A$4:$A$103,MATCH(SMALL(allGymnasts!$I$4:$I$103,A31),allGymnasts!$I$4:$I$103,0))),\"\")","v":""},{"$f":"IFERROR(IF(allGymnasts!B31=\"\",\"\",INDEX(allGymnasts!$B$4:$B$103,MATCH(SMALL(allGymnasts!$I$4:$I$103,A31),allGymnasts!$I$4:$I$103,0))),\"\")","v":""},{"$f":"IFERROR(IF(allGymnasts!C31=\"\",\"\",INDEX(allGymnasts!$C$4:$C$103,MATCH(SMALL(allGymnasts!$I$4:$I$103,A31),allGymnasts!$I$4:$I$103,0))),\"\")","v":""},{"$f":"IFERROR(IF(allGymnasts!D31=\"\",\"\",INDEX(allGymnasts!$D$4:$D$103,MATCH(SMALL(allGymnasts!$I$4:$I$103,A31),allGymnasts!$I$4:$I$103,0))),\"\")","v":""},{"$f":"IFERROR(IF(allGymnasts!B31=\"\",\"\",INDEX(allGymnasts!$E$4:$E$103,MATCH(SMALL(allGymnasts!$I$4:$I$103,A31),allGymnasts!$I$4:$I$103,0))),\"\")","v":""},{"$f":"IFERROR(IF(allGymnasts!B31=\"\",\"\",INDEX(allGymnasts!$F$4:$F$103,MATCH(SMALL(allGymnasts!$I$4:$I$103,A31),allGymnasts!$I$4:$I$103,0))),\"\")","v":""},{"$f":"IFERROR(IF(allGymnasts!B31=\"\",\"\",INDEX(allGymnasts!$G$4:$G$103,MATCH(SMALL(allGymnasts!$I$4:$I$103,A31),allGymnasts!$I$4:$I$103,0))),\"\")","v":""},{"$f":"IFERROR(IF(allGymnasts!B31=\"\",\"\",INDEX(allGymnasts!$H$4:$H$103,MATCH(SMALL(allGymnasts!$I$4:$I$103,A31),allGymnasts!$I$4:$I$103,0))),\"\")","v":""}]
[29,{"$f":"IFERROR(_xlfn.FLOOR.MATH(IF(allGymnasts!A32=\"\",\"\",INDEX(allGymnasts!$I$4:$I$103,MATCH(SMALL(allGymnasts!$I$4:$I$103,A32),allGymnasts!$I$4:$I$103,0)))),\"\")","v":""},{"$f":"IFERROR(IF(allGymnasts!A32=\"\",\"\",INDEX(allGymnasts!$A$4:$A$103,MATCH(SMALL(allGymnasts!$I$4:$I$103,A32),allGymnasts!$I$4:$I$103,0))),\"\")","v":""},{"$f":"IFERROR(IF(allGymnasts!B32=\"\",\"\",INDEX(allGymnasts!$B$4:$B$103,MATCH(SMALL(allGymnasts!$I$4:$I$103,A32),allGymnasts!$I$4:$I$103,0))),\"\")","v":""},{"$f":"IFERROR(IF(allGymnasts!C32=\"\",\"\",INDEX(allGymnasts!$C$4:$C$103,MATCH(SMALL(allGymnasts!$I$4:$I$103,A32),allGymnasts!$I$4:$I$103,0))),\"\")","v":""},{"$f":"IFERROR(IF(allGymnasts!D32=\"\",\"\",INDEX(allGymnasts!$D$4:$D$103,MATCH(SMALL(allGymnasts!$I$4:$I$103,A32),allGymnasts!$I$4:$I$103,0))),\"\")","v":""},{"$f":"IFERROR(IF(allGymnasts!B32=\"\",\"\",INDEX(allGymnasts!$E$4:$E$103,MATCH(SMALL(allGymnasts!$I$4:$I$103,A32),allGymnasts!$I$4:$I$103,0))),\"\")","v":""},{"$f":"IFERROR(IF(allGymnasts!B32=\"\",\"\",INDEX(allGymnasts!$F$4:$F$103,MATCH(SMALL(allGymnasts!$I$4:$I$103,A32),allGymnasts!$I$4:$I$103,0))),\"\")","v":""},{"$f":"IFERROR(IF(allGymnasts!B32=\"\",\"\",INDEX(allGymnasts!$G$4:$G$103,MATCH(SMALL(allGymnasts!$I$4:$I$103,A32),allGymnasts!$I$4:$I$103,0))),\"\")","v":""},{"$f":"IFERROR(IF(allGymnasts!B32=\"\",\"\",INDEX(allGymnasts!$H$4:$H$103,MATCH(SMALL(allGymnasts!$I$4:$I$103,A32),allGymnasts!$I$4:$I$103,0))),\"\")","v":""}]
[30,{"$f":"IFERROR(_xlfn.FLOOR.MATH(IF(allGymnasts!A33=\"\",\"\",INDEX(allGymnasts!$I$4:$I$103,MATCH(SMALL(allGymnasts!$I$4:$I$103,A33),allGymnasts!$I$4:$I$103,0)))),\"\")","v":""},{"$f":"IFERROR(IF(allGymnasts!A33=\"\",\"\",INDEX(allGymnasts!$A$4:$A$103,MATCH(SMALL(allGymnasts!$I$4:$I$103,A33),allGymnasts!$I$4:$I$103,0))),\"\")","v":""},{"$f":"IFERROR(IF(allGymnasts!B33=\"\",\"\",INDEX(allGymnasts!$B$4:$B$103,MATCH(SMALL(allGymnasts!$I$4:$I$103,A33),allGymnasts!$I$4:$I$103,0))),\"\")","v":""},{"$f":"IFERROR(IF(allGymnasts!C33=\"\",\"\",INDEX(allGymnasts!$C$4:$C$103,MATCH(SMALL(allGymnasts!$I$4:$I$103,A33),allGymnasts!$I$4:$I$103,0))),\"\")","v":""},{"$f":"IFERROR(IF(allGymnasts!D33=\"\",\"\",INDEX(allGymnasts!$D$4:$D$103,MATCH(SMALL(allGymnasts!$I$4:$I$103,A33),allGymnasts!$I$4:$I$103,0))),\"\")","v":""},{"$f":"IFERROR(IF(allGymnasts!B33=\"\",\"\",INDEX(allGymnasts!$E$4:$E$103,MATCH(SMALL(allGymnasts!$I$4:$I$103,A33),allGymnasts!$I$4:$I$103,0))),\"\")","v":""},{"$f":"IFERROR(IF(allGymnasts!B33=\"\",\"\",INDEX(allGymnasts!$F$4:$F$103,MATCH(SMALL(allGymnasts!$I$4:$I$103,A33),allGymnasts!$I$4:$I$103,0))),\"\")","v":""},{"$f":"IFERROR(IF(allGymnasts!B33=\"\",\"\",INDEX(allGymnasts!$G$4:$G$103,MATCH(SMALL(allGymnasts!$I$4:$I$103,A33),allGymnasts!$I$4:$I$103,0))),\"\")","v":""},{"$f":"IFERROR(IF(allGymnasts!B33=\"\",\"\",INDEX(allGymnasts!$H$4:$H$103,MATCH(SMALL(allGymnasts!$I$4:$I$103,A33),allGymnasts!$I$4:$I$103,0))),\"\")","v":""}]
[31,{"$f":"IFERROR(_xlfn.FLOOR.MATH(IF(allGymnasts!A34=\"\",\"\",INDEX(allGymnasts!$I$4:$I$103,MATCH(SMALL(allGymnasts!$I$4:$I$103,A34),allGymnasts!$I$4:$I$103,0)))),\"\")","v":""},{"$f":"IFERROR(IF(allGymnasts!A34=\"\",\"\",INDEX(allGymnasts!$A$4:$A$103,MATCH(SMALL(allGymnasts!$I$4:$I$103,A34),allGymnasts!$I$4:$I$103,0))),\"\")","v":""},{"$f":"IFERROR(IF(allGymnasts!B34=\"\",\"\",INDEX(allGymnasts!$B$4:$B$103,MATCH(SMALL(allGymnasts!$I$4:$I$103,A34),allGymnasts!$I$4:$I$103,0))),\"\")","v":""},{"$f":"IFERROR(IF(allGymnasts!C34=\"\",\"\",INDEX(allGymnasts!$C$4:$C$103,MATCH(SMALL(allGymnasts!$I$4:$I$103,A34),allGymnasts!$I$4:$I$103,0))),\"\")","v":""},{"$f":"IFERROR(IF(allGymnasts!D34=\"\",\"\",INDEX(allGymnasts!$D$4:$D$103,MATCH(SMALL(allGymnasts!$I$4:$I$103,A34),allGymnasts!$I$4:$I$103,0))),\"\")","v":""},{"$f":"IFERROR(IF(allGymnasts!B34=\"\",\"\",INDEX(allGymnasts!$E$4:$E$103,MATCH(SMALL(allGymnasts!$I$4:$I$103,A34),allGymnasts!$I$4:$I$103,0))),\"\")","v":""},{"$f":"IFERROR(IF(allGymnasts!B34=\"\",\"\",INDEX(allGymnasts!$F$4:$F$103,MATCH(SMALL(allGymnasts!$I$4:$I$103,A34),allGymnasts!$I$4:$I$103,0))),\"\")","v":""},{"$f":"IFERROR(IF(allGymnasts!B34=\"\",\"\",INDEX(allGymnasts!$G$4:$G$103,MATCH(SMALL(allGymnasts!$I$4:$I$103,A34),allGymnasts!$I$4:$I$103,0))),\"\")","v":""},{"$f":"IFERROR(IF(allGymnasts!B34=\"\",\"\",INDEX(allGymnasts!$H$4:$H$103,MATCH(SMALL(allGymnasts!$I$4:$I$103,A34),allGymnasts!$I$4:$I$103,0))),\"\")","v":""}]
[32,{"$f":"IFERROR(_xlfn.FLOOR.MATH(IF(allGymnasts!A35=\"\",\"\",INDEX(allGymnasts!$I$4:$I$103,MATCH(SMALL(allGymnasts!$I$4:$I$103,A35),allGymnasts!$I$4:$I$103,0)))),\"\")","v":""},{"$f":"IFERROR(IF(allGymnasts!A35=\"\",\"\",INDEX(allGymnasts!$A$4:$A$103,MATCH(SMALL(allGymnasts!$I$4:$I$103,A35),allGymnasts!$I$4:$I$103,0))),\"\")","v":""},{"$f":"IFERROR(IF(allGymnasts!B35=\"\",\"\",INDEX(allGymnasts!$B$4:$B$103,MATCH(SMALL(allGymnasts!$I$4:$I$103,A35),allGymnasts!$I$4:$I$103,0))),\"\")","v":""},{"$f":"IFERROR(IF(allGymnasts!C35=\"\",\"\",INDEX(allGymnasts!$C$4:$C$103,MATCH(SMALL(allGymnasts!$I$4:$I$103,A35),allGymnasts!$I$4:$I$103,0))),\"\")","v":""},{"$f":"IFERROR(IF(allGymnasts!D35=\"\",\"\",INDEX(allGymnasts!$D$4:$D$103,MATCH(SMALL(allGymnasts!$I$4:$I$103,A35),allGymnasts!$I$4:$I$103,0))),\"\")","v":""},{"$f":"IFERROR(IF(allGymnasts!B35=\"\",\"\",INDEX(allGymnasts!$E$4:$E$103,MATCH(SMALL(allGymnasts!$I$4:$I$103,A35),allGymnasts!$I$4:$I$103,0))),\"\")","v":""},{"$f":"IFERROR(IF(allGymnasts!B35=\"\",\"\",INDEX(allGymnasts!$F$4:$F$103,MATCH(SMALL(allGymnasts!$I$4:$I$103,A35),allGymnasts!$I$4:$I$103,0))),\"\")","v":""},{"$f":"IFERROR(IF(allGymnasts!B35=\"\",\"\",INDEX(allGymnasts!$G$4:$G$103,MATCH(SMALL(allGymnasts!$I$4:$I$103,A35),allGymnasts!$I$4:$I$103,0))),\"\")","v":""},{"$f":"IFERROR(IF(allGymnasts!B35=\"\",\"\",INDEX(allGymnasts!$H$4:$H$103,MATCH(SMALL(allGymnasts!$I$4:$I$103,A35),allGymnasts!$I$4:$I$103,0))),\"\")","v":""}]
[33,{"$f":"IFERROR(_xlfn.FLOOR.MATH(IF(allGymnasts!A36=\"\",\"\",INDEX(allGymnasts!$I$4:$I$103,MATCH(SMALL(allGymnasts!$I$4:$I$103,A36),allGymnasts!$I$4:$I$103,0)))),\"\")","v":""},{"$f":"IFERROR(IF(allGymnasts!A36=\"\",\"\",INDEX(allGymnasts!$A$4:$A$103,MATCH(SMALL(allGymnasts!$I$4:$I$103,A36),allGymnasts!$I$4:$I$103,0))),\"\")","v":""},{"$f":"IFERROR(IF(allGymnasts!B36=\"\",\"\",INDEX(allGymnasts!$B$4:$B$103,MATCH(SMALL(allGymnasts!$I$4:$I$103,A36),allGymnasts!$I$4:$I$103,0))),\"\")","v":""},{"$f":"IFERROR(IF(allGymnasts!C36=\"\",\"\",INDEX(allGymnasts!$C$4:$C$103,MATCH(SMALL(allGymnasts!$I$4:$I$103,A36),allGymnasts!$I$4:$I$103,0))),\"\")","v":""},{"$f":"IFERROR(IF(allGymnasts!D36=\"\",\"\",INDEX(allGymnasts!$D$4:$D$103,MATCH(SMALL(allGymnasts!$I$4:$I$103,A36),allGymnasts!$I$4:$I$103,0))),\"\")","v":""},{"$f":"IFERROR(IF(allGymnasts!B36=\"\",\"\",INDEX(allGymnasts!$E$4:$E$103,MATCH(SMALL(allGymnasts!$I$4:$I$103,A36),allGymnasts!$I$4:$I$103,0))),\"\")","v":""},{"$f":"IFERROR(IF(allGymnasts!B36=\"\",\"\",INDEX(allGymnasts!$F$4:$F$103,MATCH(SMALL(allGymnasts!$I$4:$I$103,A36),allGymnasts!$I$4:$I$103,0))),\"\")","v":""},{"$f":"IFERROR(IF(allGymnasts!B36=\"\",\"\",INDEX(allGymnasts!$G$4:$G$103,MATCH(SMALL(allGymnasts!$I$4:$I$103,A36),allGymnasts!$I$4:$I$103,0))),\"\")","v":""},{"$f":"IFERROR(IF(allGymnasts!B36=\"\",\"\",INDEX(allGymnasts!$H$4:$H$103,MATCH(SMALL(allGymnasts!$I$4:$I$103,A36),allGymnasts!$I$4:$I$103,0))),\"\")","v":""}]
[34,{"$f":"IFERROR(_xlfn.FLOOR.MATH(IF(allGymnasts!A37=\"\",\"\",INDEX(allGymnasts!$I$4:$I$103,MATCH(SMALL(allGymnasts!$I$4:$I$103,A37),allGymnasts!$I$4:$I$103,0)))),\"\")","v":""},{"$f":"IFERROR(IF(allGymnasts!A37=\"\",\"\",INDEX(allGymnasts!$A$4:$A$103,MATCH(SMALL(allGymnasts!$I$4:$I$103,A37),allGymnasts!$I$4:$I$103,0))),\"\")","v":""},{"$f":"IFERROR(IF(allGymnasts!B37=\"\",\"\",INDEX(allGymnasts!$B$4:$B$103,MATCH(SMALL(allGymnasts!$I$4:$I$103,A37),allGymnasts!$I$4:$I$103,0))),\"\")","v":""},{"$f":"IFERROR(IF(allGymnasts!C37=\"\",\"\",INDEX(allGymnasts!$C$4:$C$103,MATCH(SMALL(allGymnasts!$I$4:$I$103,A37),allGymnasts!$I$4:$I$103,0))),\"\")","v":""},{"$f":"IFERROR(IF(allGymnasts!D37=\"\",\"\",INDEX(allGymnasts!$D$4:$D$103,MATCH(SMALL(allGymnasts!$I$4:$I$103,A37),allGymnasts!$I$4:$I$103,0))),\"\")","v":""},{"$f":"IFERROR(IF(allGymnasts!B37=\"\",\"\",INDEX(allGymnasts!$E$4:$E$103,MATCH(SMALL(allGymnasts!$I$4:$I$103,A37),allGymnasts!$I$4:$I$103,0))),\"\")","v":""},{"$f":"IFERROR(IF(allGymnasts!B37=\"\",\"\",INDEX(allGymnasts!$F$4:$F$103,MATCH(SMALL(allGymnasts!$I$4:$I$103,A37),allGymnasts!$I$4:$I$103,0))),\"\")","v":""},{"$f":"IFERROR(IF(allGymnasts!B37=\"\",\"\",INDEX(allGymnasts!$G$4:$G$103,MATCH(SMALL(allGymnasts!$I$4:$I$103,A37),allGymnasts!$I$4:$I$103,0))),\"\")","v":""},{"$f":"IFERROR(IF(allGymnasts!B37=\"\",\"\",INDEX(allGymnasts!$H$4:$H$103,MATCH(SMALL(allGymnasts!$I$4:$I$103,A37),allGymnasts!$I$4:$I$103,0))),\"\")","v":""}]
[35,{"$f":"IFERROR(_xlfn.FLOOR.MATH(IF(allGymnasts!A38=\"\",\"\",INDEX(allGymnasts!$I$4:$I$103,MATCH(SMALL(allGymnasts!$I$4:$I$103,A38),allGymnasts!$I$4:$I$103,0)))),\"\")","v":""},{"$f":"IFERROR(IF(allGymnasts!A38=\"\",\"\",INDEX(allGymnasts!$A$4:$A$103,MATCH(SMALL(allGymnasts!$I$4:$I$103,A38),allGymnasts!$I$4:$I$103,0))),\"\")","v":""},{"$f":"IFERROR(IF(allGymnasts!B38=\"\",\"\",INDEX(allGymnasts!$B$4:$B$103,MATCH(SMALL(allGymnasts!$I$4:$I$103,A38),allGymnasts!$I$4:$I$103,0))),\"\")","v":""},{"$f":"IFERROR(IF(allGymnasts!C38=\"\",\"\",INDEX(allGymnasts!$C$4:$C$103,MATCH(SMALL(allGymnasts!$I$4:$I$103,A38),allGymnasts!$I$4:$I$103,0))),\"\")","v":""},{"$f":"IFERROR(IF(allGymnasts!D38=\"\",\"\",INDEX(allGymnasts!$D$4:$D$103,MATCH(SMALL(allGymnasts!$I$4:$I$103,A38),allGymnasts!$I$4:$I$103,0))),\"\")","v":""},{"$f":"IFERROR(IF(allGymnasts!B38=\"\",\"\",INDEX(allGymnasts!$E$4:$E$103,MATCH(SMALL(allGymnasts!$I$4:$I$103,A38),allGymnasts!$I$4:$I$103,0))),\"\")","v":""},{"$f":"IFERROR(IF(allGymnasts!B38=\"\",\"\",INDEX(allGymnasts!$F$4:$F$103,MATCH(SMALL(allGymnasts!$I$4:$I$103,A38),allGymnasts!$I$4:$I$103,0))),\"\")","v":""},{"$f":"IFERROR(IF(allGymnasts!B38=\"\",\"\",INDEX(allGymnasts!$G$4:$G$103,MATCH(SMALL(allGymnasts!$I$4:$I$103,A38),allGymnasts!$I$4:$I$103,0))),\"\")","v":""},{"$f":"IFERROR(IF(allGymnasts!B38=\"\",\"\",INDEX(allGymnasts!$H$4:$H$103,MATCH(SMALL(allGymnasts!$I$4:$I$103,A38),allGymnasts!$I$4:$I$103,0))),\"\")","v":""}]
[36,{"$f":"IFERROR(_xlfn.FLOOR.MATH(IF(allGymnasts!A39=\"\",\"\",INDEX(allGymnasts!$I$4:$I$103,MATCH(SMALL(allGymnasts!$I$4:$I$103,A39),allGymnasts!$I$4:$I$103,0)))),\"\")","v":""},{"$f":"IFERROR(IF(allGymnasts!A39=\"\",\"\",INDEX(allGymnasts!$A$4:$A$103,MATCH(SMALL(allGymnasts!$I$4:$I$103,A39),allGymnasts!$I$4:$I$103,0))),\"\")","v":""},{"$f":"IFERROR(IF(allGymnasts!B39=\"\",\"\",INDEX(allGymnasts!$B$4:$B$103,MATCH(SMALL(allGymnasts!$I$4:$I$103,A39),allGymnasts!$I$4:$I$103,0))),\"\")","v":""},{"$f":"IFERROR(IF(allGymnasts!C39=\"\",\"\",INDEX(allGymnasts!$C$4:$C$103,MATCH(SMALL(allGymnasts!$I$4:$I$103,A39),allGymnasts!$I$4:$I$103,0))),\"\")","v":""},{"$f":"IFERROR(IF(allGymnasts!D39=\"\",\"\",INDEX(allGymnasts!$D$4:$D$103,MATCH(SMALL(allGymnasts!$I$4:$I$103,A39),allGymnasts!$I$4:$I$103,0))),\"\")","v":""},{"$f":"IFERROR(IF(allGymnasts!B39=\"\",\"\",INDEX(allGymnasts!$E$4:$E$103,MATCH(SMALL(allGymnasts!$I$4:$I$103,A39),allGymnasts!$I$4:$I$103,0))),\"\")","v":""},{"$f":"IFERROR(IF(allGymnasts!B39=\"\",\"\",INDEX(allGymnasts!$F$4:$F$103,MATCH(SMALL(allGymnasts!$I$4:$I$103,A39),allGymnasts!$I$4:$I$103,0))),\"\")","v":""},{"$f":"IFERROR(IF(allGymnasts!B39=\"\",\"\",INDEX(allGymnasts!$G$4:$G$103,MATCH(SMALL(allGymnasts!$I$4:$I$103,A39),allGymnasts!$I$4:$I$103,0))),\"\")","v":""},{"$f":"IFERROR(IF(allGymnasts!B39=\"\",\"\",INDEX(allGymnasts!$H$4:$H$103,MATCH(SMALL(allGymnasts!$I$4:$I$103,A39),allGymnasts!$I$4:$I$103,0))),\"\")","v":""}]
[37,{"$f":"IFERROR(_xlfn.FLOOR.MATH(IF(allGymnasts!A40=\"\",\"\",INDEX(allGymnasts!$I$4:$I$103,MATCH(SMALL(allGymnasts!$I$4:$I$103,A40),allGymnasts!$I$4:$I$103,0)))),\"\")","v":""},{"$f":"IFERROR(IF(allGymnasts!A40=\"\",\"\",INDEX(allGymnasts!$A$4:$A$103,MATCH(SMALL(allGymnasts!$I$4:$I$103,A40),allGymnasts!$I$4:$I$103,0))),\"\")","v":""},{"$f":"IFERROR(IF(allGymnasts!B40=\"\",\"\",INDEX(allGymnasts!$B$4:$B$103,MATCH(SMALL(allGymnasts!$I$4:$I$103,A40),allGymnasts!$I$4:$I$103,0))),\"\")","v":""},{"$f":"IFERROR(IF(allGymnasts!C40=\"\",\"\",INDEX(allGymnasts!$C$4:$C$103,MATCH(SMALL(allGymnasts!$I$4:$I$103,A40),allGymnasts!$I$4:$I$103,0))),\"\")","v":""},{"$f":"IFERROR(IF(allGymnasts!D40=\"\",\"\",INDEX(allGymnasts!$D$4:$D$103,MATCH(SMALL(allGymnasts!$I$4:$I$103,A40),allGymnasts!$I$4:$I$103,0))),\"\")","v":""},{"$f":"IFERROR(IF(allGymnasts!B40=\"\",\"\",INDEX(allGymnasts!$E$4:$E$103,MATCH(SMALL(allGymnasts!$I$4:$I$103,A40),allGymnasts!$I$4:$I$103,0))),\"\")","v":""},{"$f":"IFERROR(IF(allGymnasts!B40=\"\",\"\",INDEX(allGymnasts!$F$4:$F$103,MATCH(SMALL(allGymnasts!$I$4:$I$103,A40),allGymnasts!$I$4:$I$103,0))),\"\")","v":""},{"$f":"IFERROR(IF(allGymnasts!B40=\"\",\"\",INDEX(allGymnasts!$G$4:$G$103,MATCH(SMALL(allGymnasts!$I$4:$I$103,A40),allGymnasts!$I$4:$I$103,0))),\"\")","v":""},{"$f":"IFERROR(IF(allGymnasts!B40=\"\",\"\",INDEX(allGymnasts!$H$4:$H$103,MATCH(SMALL(allGymnasts!$I$4:$I$103,A40),allGymnasts!$I$4:$I$103,0))),\"\")","v":""}]
[38,{"$f":"IFERROR(_xlfn.FLOOR.MATH(IF(allGymnasts!A41=\"\",\"\",INDEX(allGymnasts!$I$4:$I$103,MATCH(SMALL(allGymnasts!$I$4:$I$103,A41),allGymnasts!$I$4:$I$103,0)))),\"\")","v":""},{"$f":"IFERROR(IF(allGymnasts!A41=\"\",\"\",INDEX(allGymnasts!$A$4:$A$103,MATCH(SMALL(allGymnasts!$I$4:$I$103,A41),allGymnasts!$I$4:$I$103,0))),\"\")","v":""},{"$f":"IFERROR(IF(allGymnasts!B41=\"\",\"\",INDEX(allGymnasts!$B$4:$B$103,MATCH(SMALL(allGymnasts!$I$4:$I$103,A41),allGymnasts!$I$4:$I$103,0))),\"\")","v":""},{"$f":"IFERROR(IF(allGymnasts!C41=\"\",\"\",INDEX(allGymnasts!$C$4:$C$103,MATCH(SMALL(allGymnasts!$I$4:$I$103,A41),allGymnasts!$I$4:$I$103,0))),\"\")","v":""},{"$f":"IFERROR(IF(allGymnasts!D41=\"\",\"\",INDEX(allGymnasts!$D$4:$D$103,MATCH(SMALL(allGymnasts!$I$4:$I$103,A41),allGymnasts!$I$4:$I$103,0))),\"\")","v":""},{"$f":"IFERROR(IF(allGymnasts!B41=\"\",\"\",INDEX(allGymnasts!$E$4:$E$103,MATCH(SMALL(allGymnasts!$I$4:$I$103,A41),allGymnasts!$I$4:$I$103,0))),\"\")","v":""},{"$f":"IFERROR(IF(allGymnasts!B41=\"\",\"\",INDEX(allGymnasts!$F$4:$F$103,MATCH(SMALL(allGymnasts!$I$4:$I$103,A41),allGymnasts!$I$4:$I$103,0))),\"\")","v":""},{"$f":"IFERROR(IF(allGymnasts!B41=\"\",\"\",INDEX(allGymnasts!$G$4:$G$103,MATCH(SMALL(allGymnasts!$I$4:$I$103,A41),allGymnasts!$I$4:$I$103,0))),\"\")","v":""},{"$f":"IFERROR(IF(allGymnasts!B41=\"\",\"\",INDEX(allGymnasts!$H$4:$H$103,MATCH(SMALL(allGymnasts!$I$4:$I$103,A41),allGymnasts!$I$4:$I$103,0))),\"\")","v":""}]
[39,{"$f":"IFERROR(_xlfn.FLOOR.MATH(IF(allGymnasts!A42=\"\",\"\",INDEX(allGymnasts!$I$4:$I$103,MATCH(SMALL(allGymnasts!$I$4:$I$103,A42),allGymnasts!$I$4:$I$103,0)))),\"\")","v":""},{"$f":"IFERROR(IF(allGymnasts!A42=\"\",\"\",INDEX(allGymnasts!$A$4:$A$103,MATCH(SMALL(allGymnasts!$I$4:$I$103,A42),allGymnasts!$I$4:$I$103,0))),\"\")","v":""},{"$f":"IFERROR(IF(allGymnasts!B42=\"\",\"\",INDEX(allGymnasts!$B$4:$B$103,MATCH(SMALL(allGymnasts!$I$4:$I$103,A42),allGymnasts!$I$4:$I$103,0))),\"\")","v":""},{"$f":"IFERROR(IF(allGymnasts!C42=\"\",\"\",INDEX(allGymnasts!$C$4:$C$103,MATCH(SMALL(allGymnasts!$I$4:$I$103,A42),allGymnasts!$I$4:$I$103,0))),\"\")","v":""},{"$f":"IFERROR(IF(allGymnasts!D42=\"\",\"\",INDEX(allGymnasts!$D$4:$D$103,MATCH(SMALL(allGymnasts!$I$4:$I$103,A42),allGymnasts!$I$4:$I$103,0))),\"\")","v":""},{"$f":"IFERROR(IF(allGymnasts!B42=\"\",\"\",INDEX(allGymnasts!$E$4:$E$103,MATCH(SMALL(allGymnasts!$I$4:$I$103,A42),allGymnasts!$I$4:$I$103,0))),\"\")","v":""},{"$f":"IFERROR(IF(allGymnasts!B42=\"\",\"\",INDEX(allGymnasts!$F$4:$F$103,MATCH(SMALL(allGymnasts!$I$4:$I$103,A42),allGymnasts!$I$4:$I$103,0))),\"\")","v":""},{"$f":"IFERROR(IF(allGymnasts!B42=\"\",\"\",INDEX(allGymnasts!$G$4:$G$103,MATCH(SMALL(allGymnasts!$I$4:$I$103,A42),allGymnasts!$I$4:$I$103,0))),\"\")","v":""},{"$f":"IFERROR(IF(allGymnasts!B42=\"\",\"\",INDEX(allGymnasts!$H$4:$H$103,MATCH(SMALL(allGymnasts!$I$4:$I$103,A42),allGymnasts!$I$4:$I$103,0))),\"\")","v":""}]
[40,{"$f":"IFERROR(_xlfn.FLOOR.MATH(IF(allGymnasts!A43=\"\",\"\",INDEX(allGymnasts!$I$4:$I$103,MATCH(SMALL(allGymnasts!$I$4:$I$103,A43),allGymnasts!$I$4:$I$103,0)))),\"\")","v":""},{"$f":"IFERROR(IF(allGymnasts!A43=\"\",\"\",INDEX(allGymnasts!$A$4:$A$103,MATCH(SMALL(allGymnasts!$I$4:$I$103,A43),allGymnasts!$I$4:$I$103,0))),\"\")","v":""},{"$f":"IFERROR(IF(allGymnasts!B43=\"\",\"\",INDEX(allGymnasts!$B$4:$B$103,MATCH(SMALL(allGymnasts!$I$4:$I$103,A43),allGymnasts!$I$4:$I$103,0))),\"\")","v":""},{"$f":"IFERROR(IF(allGymnasts!C43=\"\",\"\",INDEX(allGymnasts!$C$4:$C$103,MATCH(SMALL(allGymnasts!$I$4:$I$103,A43),allGymnasts!$I$4:$I$103,0))),\"\")","v":""},{"$f":"IFERROR(IF(allGymnasts!D43=\"\",\"\",INDEX(allGymnasts!$D$4:$D$103,MATCH(SMALL(allGymnasts!$I$4:$I$103,A43),allGymnasts!$I$4:$I$103,0))),\"\")","v":""},{"$f":"IFERROR(IF(allGymnasts!B43=\"\",\"\",INDEX(allGymnasts!$E$4:$E$103,MATCH(SMALL(allGymnasts!$I$4:$I$103,A43),allGymnasts!$I$4:$I$103,0))),\"\")","v":""},{"$f":"IFERROR(IF(allGymnasts!B43=\"\",\"\",INDEX(allGymnasts!$F$4:$F$103,MATCH(SMALL(allGymnasts!$I$4:$I$103,A43),allGymnasts!$I$4:$I$103,0))),\"\")","v":""},{"$f":"IFERROR(IF(allGymnasts!B43=\"\",\"\",INDEX(allGymnasts!$G$4:$G$103,MATCH(SMALL(allGymnasts!$I$4:$I$103,A43),allGymnasts!$I$4:$I$103,0))),\"\")","v":""},{"$f":"IFERROR(IF(allGymnasts!B43=\"\",\"\",INDEX(allGymnasts!$H$4:$H$103,MATCH(SMALL(allGymnasts!$I$4:$I$103,A43),allGymnasts!$I$4:$I$103,0))),\"\")","v":""}]
[41,{"$f":"IFERROR(_xlfn.FLOOR.MATH(IF(allGymnasts!A44=\"\",\"\",INDEX(allGymnasts!$I$4:$I$103,MATCH(SMALL(allGymnasts!$I$4:$I$103,A44),allGymnasts!$I$4:$I$103,0)))),\"\")","v":""},{"$f":"IFERROR(IF(allGymnasts!A44=\"\",\"\",INDEX(allGymnasts!$A$4:$A$103,MATCH(SMALL(allGymnasts!$I$4:$I$103,A44),allGymnasts!$I$4:$I$103,0))),\"\")","v":""},{"$f":"IFERROR(IF(allGymnasts!B44=\"\",\"\",INDEX(allGymnasts!$B$4:$B$103,MATCH(SMALL(allGymnasts!$I$4:$I$103,A44),allGymnasts!$I$4:$I$103,0))),\"\")","v":""},{"$f":"IFERROR(IF(allGymnasts!C44=\"\",\"\",INDEX(allGymnasts!$C$4:$C$103,MATCH(SMALL(allGymnasts!$I$4:$I$103,A44),allGymnasts!$I$4:$I$103,0))),\"\")","v":""},{"$f":"IFERROR(IF(allGymnasts!D44=\"\",\"\",INDEX(allGymnasts!$D$4:$D$103,MATCH(SMALL(allGymnasts!$I$4:$I$103,A44),allGymnasts!$I$4:$I$103,0))),\"\")","v":""},{"$f":"IFERROR(IF(allGymnasts!B44=\"\",\"\",INDEX(allGymnasts!$E$4:$E$103,MATCH(SMALL(allGymnasts!$I$4:$I$103,A44),allGymnasts!$I$4:$I$103,0))),\"\")","v":""},{"$f":"IFERROR(IF(allGymnasts!B44=\"\",\"\",INDEX(allGymnasts!$F$4:$F$103,MATCH(SMALL(allGymnasts!$I$4:$I$103,A44),allGymnasts!$I$4:$I$103,0))),\"\")","v":""},{"$f":"IFERROR(IF(allGymnasts!B44=\"\",\"\",INDEX(allGymnasts!$G$4:$G$103,MATCH(SMALL(allGymnasts!$I$4:$I$103,A44),allGymnasts!$I$4:$I$103,0))),\"\")","v":""},{"$f":"IFERROR(IF(allGymnasts!B44=\"\",\"\",INDEX(allGymnasts!$H$4:$H$103,MATCH(SMALL(allGymnasts!$I$4:$I$103,A44),allGymnasts!$I$4:$I$103,0))),\"\")","v":""}]
[42,{"$f":"IFERROR(_xlfn.FLOOR.MATH(IF(allGymnasts!A45=\"\",\"\",INDEX(allGymnasts!$I$4:$I$103,MATCH(SMALL(allGymnasts!$I$4:$I$103,A45),allGymnasts!$I$4:$I$103,0)))),\"\")","v":""},{"$f":"IFERROR(IF(allGymnasts!A45=\"\",\"\",INDEX(allGymnasts!$A$4:$A$103,MATCH(SMALL(allGymnasts!$I$4:$I$103,A45),allGymnasts!$I$4:$I$103,0))),\"\")","v":""},{"$f":"IFERROR(IF(allGymnasts!B45=\"\",\"\",INDEX(allGymnasts!$B$4:$B$103,MATCH(SMALL(allGymnasts!$I$4:$I$103,A45),allGymnasts!$I$4:$I$103,0))),\"\")","v":""},{"$f":"IFERROR(IF(allGymnasts!C45=\"\",\"\",INDEX(allGymnasts!$C$4:$C$103,MATCH(SMALL(allGymnasts!$I$4:$I$103,A45),allGymnasts!$I$4:$I$103,0))),\"\")","v":""},{"$f":"IFERROR(IF(allGymnasts!D45=\"\",\"\",INDEX(allGymnasts!$D$4:$D$103,MATCH(SMALL(allGymnasts!$I$4:$I$103,A45),allGymnasts!$I$4:$I$103,0))),\"\")","v":""},{"$f":"IFERROR(IF(allGymnasts!B45=\"\",\"\",INDEX(allGymnasts!$E$4:$E$103,MATCH(SMALL(allGymnasts!$I$4:$I$103,A45),allGymnasts!$I$4:$I$103,0))),\"\")","v":""},{"$f":"IFERROR(IF(allGymnasts!B45=\"\",\"\",INDEX(allGymnasts!$F$4:$F$103,MATCH(SMALL(allGymnasts!$I$4:$I$103,A45),allGymnasts!$I$4:$I$103,0))),\"\")","v":""},{"$f":"IFERROR(IF(allGymnasts!B45=\"\",\"\",INDEX(allGymnasts!$G$4:$G$103,MATCH(SMALL(allGymnasts!$I$4:$I$103,A45),allGymnasts!$I$4:$I$103,0))),\"\")","v":""},{"$f":"IFERROR(IF(allGymnasts!B45=\"\",\"\",INDEX(allGymnasts!$H$4:$H$103,MATCH(SMALL(allGymnasts!$I$4:$I$103,A45),allGymnasts!$I$4:$I$103,0))),\"\")","v":""}]
[43,{"$f":"IFERROR(_xlfn.FLOOR.MATH(IF(allGymnasts!A46=\"\",\"\",INDEX(allGymnasts!$I$4:$I$103,MATCH(SMALL(allGymnasts!$I$4:$I$103,A46),allGymnasts!$I$4:$I$103,0)))),\"\")","v":""},{"$f":"IFERROR(IF(allGymnasts!A46=\"\",\"\",INDEX(allGymnasts!$A$4:$A$103,MATCH(SMALL(allGymnasts!$I$4:$I$103,A46),allGymnasts!$I$4:$I$103,0))),\"\")","v":""},{"$f":"IFERROR(IF(allGymnasts!B46=\"\",\"\",INDEX(allGymnasts!$B$4:$B$103,MATCH(SMALL(allGymnasts!$I$4:$I$103,A46),allGymnasts!$I$4:$I$103,0))),\"\")","v":""},{"$f":"IFERROR(IF(allGymnasts!C46=\"\",\"\",INDEX(allGymnasts!$C$4:$C$103,MATCH(SMALL(allGymnasts!$I$4:$I$103,A46),allGymnasts!$I$4:$I$103,0))),\"\")","v":""},{"$f":"IFERROR(IF(allGymnasts!D46=\"\",\"\",INDEX(allGymnasts!$D$4:$D$103,MATCH(SMALL(allGymnasts!$I$4:$I$103,A46),allGymnasts!$I$4:$I$103,0))),\"\")","v":""},{"$f":"IFERROR(IF(allGymnasts!B46=\"\",\"\",INDEX(allGymnasts!$E$4:$E$103,MATCH(SMALL(allGymnasts!$I$4:$I$103,A46),allGymnasts!$I$4:$I$103,0))),\"\")","v":""},{"$f":"IFERROR(IF(allGymnasts!B46=\"\",\"\",INDEX(allGymnasts!$F$4:$F$103,MATCH(SMALL(allGymnasts!$I$4:$I$103,A46),allGymnasts!$I$4:$I$103,0))),\"\")","v":""},{"$f":"IFERROR(IF(allGymnasts!B46=\"\",\"\",INDEX(allGymnasts!$G$4:$G$103,MATCH(SMALL(allGymnasts!$I$4:$I$103,A46),allGymnasts!$I$4:$I$103,0))),\"\")","v":""},{"$f":"IFERROR(IF(allGymnasts!B46=\"\",\"\",INDEX(allGymnasts!$H$4:$H$103,MATCH(SMALL(allGymnasts!$I$4:$I$103,A46),allGymnasts!$I$4:$I$103,0))),\"\")","v":""}]
[44,{"$f":"IFERROR(_xlfn.FLOOR.MATH(IF(allGymnasts!A47=\"\",\"\",INDEX(allGymnasts!$I$4:$I$103,MATCH(SMALL(allGymnasts!$I$4:$I$103,A47),allGymnasts!$I$4:$I$103,0)))),\"\")","v":""},{"$f":"IFERROR(IF(allGymnasts!A47=\"\",\"\",INDEX(allGymnasts!$A$4:$A$103,MATCH(SMALL(allGymnasts!$I$4:$I$103,A47),allGymnasts!$I$4:$I$103,0))),\"\")","v":""},{"$f":"IFERROR(IF(allGymnasts!B47=\"\",\"\",INDEX(allGymnasts!$B$4:$B$103,MATCH(SMALL(allGymnasts!$I$4:$I$103,A47),allGymnasts!$I$4:$I$103,0))),\"\")","v":""},{"$f":"IFERROR(IF(allGymnasts!C47=\"\",\"\",INDEX(allGymnasts!$C$4:$C$103,MATCH(SMALL(allGymnasts!$I$4:$I$103,A47),allGymnasts!$I$4:$I$103,0))),\"\")","v":""},{"$f":"IFERROR(IF(allGymnasts!D47=\"\",\"\",INDEX(allGymnasts!$D$4:$D$103,MATCH(SMALL(allGymnasts!$I$4:$I$103,A47),allGymnasts!$I$4:$I$103,0))),\"\")","v":""},{"$f":"IFERROR(IF(allGymnasts!B47=\"\",\"\",INDEX(allGymnasts!$E$4:$E$103,MATCH(SMALL(allGymnasts!$I$4:$I$103,A47),allGymnasts!$I$4:$I$103,0))),\"\")","v":""},{"$f":"IFERROR(IF(allGymnasts!B47=\"\",\"\",INDEX(allGymnasts!$F$4:$F$103,MATCH(SMALL(allGymnasts!$I$4:$I$103,A47),allGymnasts!$I$4:$I$103,0))),\"\")","v":""},{"$f":"IFERROR(IF(allGymnasts!B47=\"\",\"\",INDEX(allGymnasts!$G$4:$G$103,MATCH(SMALL(allGymnasts!$I$4:$I$103,A47),allGymnasts!$I$4:$I$103,0))),\"\")","v":""},{"$f":"IFERROR(IF(allGymnasts!B47=\"\",\"\",INDEX(allGymnasts!$H$4:$H$103,MATCH(SMALL(allGymnasts!$I$4:$I$103,A47),allGymnasts!$I$4:$I$103,0))),\"\")","v":""}]
[45,{"$f":"IFERROR(_xlfn.FLOOR.MATH(IF(allGymnasts!A48=\"\",\"\",INDEX(allGymnasts!$I$4:$I$103,MATCH(SMALL(allGymnasts!$I$4:$I$103,A48),allGymnasts!$I$4:$I$103,0)))),\"\")","v":""},{"$f":"IFERROR(IF(allGymnasts!A48=\"\",\"\",INDEX(allGymnasts!$A$4:$A$103,MATCH(SMALL(allGymnasts!$I$4:$I$103,A48),allGymnasts!$I$4:$I$103,0))),\"\")","v":""},{"$f":"IFERROR(IF(allGymnasts!B48=\"\",\"\",INDEX(allGymnasts!$B$4:$B$103,MATCH(SMALL(allGymnasts!$I$4:$I$103,A48),allGymnasts!$I$4:$I$103,0))),\"\")","v":""},{"$f":"IFERROR(IF(allGymnasts!C48=\"\",\"\",INDEX(allGymnasts!$C$4:$C$103,MATCH(SMALL(allGymnasts!$I$4:$I$103,A48),allGymnasts!$I$4:$I$103,0))),\"\")","v":""},{"$f":"IFERROR(IF(allGymnasts!D48=\"\",\"\",INDEX(allGymnasts!$D$4:$D$103,MATCH(SMALL(allGymnasts!$I$4:$I$103,A48),allGymnasts!$I$4:$I$103,0))),\"\")","v":""},{"$f":"IFERROR(IF(allGymnasts!B48=\"\",\"\",INDEX(allGymnasts!$E$4:$E$103,MATCH(SMALL(allGymnasts!$I$4:$I$103,A48),allGymnasts!$I$4:$I$103,0))),\"\")","v":""},{"$f":"IFERROR(IF(allGymnasts!B48=\"\",\"\",INDEX(allGymnasts!$F$4:$F$103,MATCH(SMALL(allGymnasts!$I$4:$I$103,A48),allGymnasts!$I$4:$I$103,0))),\"\")","v":""},{"$f":"IFERROR(IF(allGymnasts!B48=\"\",\"\",INDEX(allGymnasts!$G$4:$G$103,MATCH(SMALL(allGymnasts!$I$4:$I$103,A48),allGymnasts!$I$4:$I$103,0))),\"\")","v":""},{"$f":"IFERROR(IF(allGymnasts!B48=\"\",\"\",INDEX(allGymnasts!$H$4:$H$103,MATCH(SMALL(allGymnasts!$I$4:$I$103,A48),allGymnasts!$I$4:$I$103,0))),\"\")","v":""}]
[46,{"$f":"IFERROR(_xlfn.FLOOR.MATH(IF(allGymnasts!A49=\"\",\"\",INDEX(allGymnasts!$I$4:$I$103,MATCH(SMALL(allGymnasts!$I$4:$I$103,A49),allGymnasts!$I$4:$I$103,0)))),\"\")","v":""},{"$f":"IFERROR(IF(allGymnasts!A49=\"\",\"\",INDEX(allGymnasts!$A$4:$A$103,MATCH(SMALL(allGymnasts!$I$4:$I$103,A49),allGymnasts!$I$4:$I$103,0))),\"\")","v":""},{"$f":"IFERROR(IF(allGymnasts!B49=\"\",\"\",INDEX(allGymnasts!$B$4:$B$103,MATCH(SMALL(allGymnasts!$I$4:$I$103,A49),allGymnasts!$I$4:$I$103,0))),\"\")","v":""},{"$f":"IFERROR(IF(allGymnasts!C49=\"\",\"\",INDEX(allGymnasts!$C$4:$C$103,MATCH(SMALL(allGymnasts!$I$4:$I$103,A49),allGymnasts!$I$4:$I$103,0))),\"\")","v":""},{"$f":"IFERROR(IF(allGymnasts!D49=\"\",\"\",INDEX(allGymnasts!$D$4:$D$103,MATCH(SMALL(allGymnasts!$I$4:$I$103,A49),allGymnasts!$I$4:$I$103,0))),\"\")","v":""},{"$f":"IFERROR(IF(allGymnasts!B49=\"\",\"\",INDEX(allGymnasts!$E$4:$E$103,MATCH(SMALL(allGymnasts!$I$4:$I$103,A49),allGymnasts!$I$4:$I$103,0))),\"\")","v":""},{"$f":"IFERROR(IF(allGymnasts!B49=\"\",\"\",INDEX(allGymnasts!$F$4:$F$103,MATCH(SMALL(allGymnasts!$I$4:$I$103,A49),allGymnasts!$I$4:$I$103,0))),\"\")","v":""},{"$f":"IFERROR(IF(allGymnasts!B49=\"\",\"\",INDEX(allGymnasts!$G$4:$G$103,MATCH(SMALL(allGymnasts!$I$4:$I$103,A49),allGymnasts!$I$4:$I$103,0))),\"\")","v":""},{"$f":"IFERROR(IF(allGymnasts!B49=\"\",\"\",INDEX(allGymnasts!$H$4:$H$103,MATCH(SMALL(allGymnasts!$I$4:$I$103,A49),allGymnasts!$I$4:$I$103,0))),\"\")","v":""}]
[47,{"$f":"IFERROR(_xlfn.FLOOR.MATH(IF(allGymnasts!A50=\"\",\"\",INDEX(allGymnasts!$I$4:$I$103,MATCH(SMALL(allGymnasts!$I$4:$I$103,A50),allGymnasts!$I$4:$I$103,0)))),\"\")","v":""},{"$f":"IFERROR(IF(allGymnasts!A50=\"\",\"\",INDEX(allGymnasts!$A$4:$A$103,MATCH(SMALL(allGymnasts!$I$4:$I$103,A50),allGymnasts!$I$4:$I$103,0))),\"\")","v":""},{"$f":"IFERROR(IF(allGymnasts!B50=\"\",\"\",INDEX(allGymnasts!$B$4:$B$103,MATCH(SMALL(allGymnasts!$I$4:$I$103,A50),allGymnasts!$I$4:$I$103,0))),\"\")","v":""},{"$f":"IFERROR(IF(allGymnasts!C50=\"\",\"\",INDEX(allGymnasts!$C$4:$C$103,MATCH(SMALL(allGymnasts!$I$4:$I$103,A50),allGymnasts!$I$4:$I$103,0))),\"\")","v":""},{"$f":"IFERROR(IF(allGymnasts!D50=\"\",\"\",INDEX(allGymnasts!$D$4:$D$103,MATCH(SMALL(allGymnasts!$I$4:$I$103,A50),allGymnasts!$I$4:$I$103,0))),\"\")","v":""},{"$f":"IFERROR(IF(allGymnasts!B50=\"\",\"\",INDEX(allGymnasts!$E$4:$E$103,MATCH(SMALL(allGymnasts!$I$4:$I$103,A50),allGymnasts!$I$4:$I$103,0))),\"\")","v":""},{"$f":"IFERROR(IF(allGymnasts!B50=\"\",\"\",INDEX(allGymnasts!$F$4:$F$103,MATCH(SMALL(allGymnasts!$I$4:$I$103,A50),allGymnasts!$I$4:$I$103,0))),\"\")","v":""},{"$f":"IFERROR(IF(allGymnasts!B50=\"\",\"\",INDEX(allGymnasts!$G$4:$G$103,MATCH(SMALL(allGymnasts!$I$4:$I$103,A50),allGymnasts!$I$4:$I$103,0))),\"\")","v":""},{"$f":"IFERROR(IF(allGymnasts!B50=\"\",\"\",INDEX(allGymnasts!$H$4:$H$103,MATCH(SMALL(allGymnasts!$I$4:$I$103,A50),allGymnasts!$I$4:$I$103,0))),\"\")","v":""}]
[48,{"$f":"IFERROR(_xlfn.FLOOR.MATH(IF(allGymnasts!A51=\"\",\"\",INDEX(allGymnasts!$I$4:$I$103,MATCH(SMALL(allGymnasts!$I$4:$I$103,A51),allGymnasts!$I$4:$I$103,0)))),\"\")","v":""},{"$f":"IFERROR(IF(allGymnasts!A51=\"\",\"\",INDEX(allGymnasts!$A$4:$A$103,MATCH(SMALL(allGymnasts!$I$4:$I$103,A51),allGymnasts!$I$4:$I$103,0))),\"\")","v":""},{"$f":"IFERROR(IF(allGymnasts!B51=\"\",\"\",INDEX(allGymnasts!$B$4:$B$103,MATCH(SMALL(allGymnasts!$I$4:$I$103,A51),allGymnasts!$I$4:$I$103,0))),\"\")","v":""},{"$f":"IFERROR(IF(allGymnasts!C51=\"\",\"\",INDEX(allGymnasts!$C$4:$C$103,MATCH(SMALL(allGymnasts!$I$4:$I$103,A51),allGymnasts!$I$4:$I$103,0))),\"\")","v":""},{"$f":"IFERROR(IF(allGymnasts!D51=\"\",\"\",INDEX(allGymnasts!$D$4:$D$103,MATCH(SMALL(allGymnasts!$I$4:$I$103,A51),allGymnasts!$I$4:$I$103,0))),\"\")","v":""},{"$f":"IFERROR(IF(allGymnasts!B51=\"\",\"\",INDEX(allGymnasts!$E$4:$E$103,MATCH(SMALL(allGymnasts!$I$4:$I$103,A51),allGymnasts!$I$4:$I$103,0))),\"\")","v":""},{"$f":"IFERROR(IF(allGymnasts!B51=\"\",\"\",INDEX(allGymnasts!$F$4:$F$103,MATCH(SMALL(allGymnasts!$I$4:$I$103,A51),allGymnasts!$I$4:$I$103,0))),\"\")","v":""},{"$f":"IFERROR(IF(allGymnasts!B51=\"\",\"\",INDEX(allGymnasts!$G$4:$G$103,MATCH(SMALL(allGymnasts!$I$4:$I$103,A51),allGymnasts!$I$4:$I$103,0))),\"\")","v":""},{"$f":"IFERROR(IF(allGymnasts!B51=\"\",\"\",INDEX(allGymnasts!$H$4:$H$103,MATCH(SMALL(allGymnasts!$I$4:$I$103,A51),allGymnasts!$I$4:$I$103,0))),\"\")","v":""}]
[49,{"$f":"IFERROR(_xlfn.FLOOR.MATH(IF(allGymnasts!A52=\"\",\"\",INDEX(allGymnasts!$I$4:$I$103,MATCH(SMALL(allGymnasts!$I$4:$I$103,A52),allGymnasts!$I$4:$I$103,0)))),\"\")","v":""},{"$f":"IFERROR(IF(allGymnasts!A52=\"\",\"\",INDEX(allGymnasts!$A$4:$A$103,MATCH(SMALL(allGymnasts!$I$4:$I$103,A52),allGymnasts!$I$4:$I$103,0))),\"\")","v":""},{"$f":"IFERROR(IF(allGymnasts!B52=\"\",\"\",INDEX(allGymnasts!$B$4:$B$103,MATCH(SMALL(allGymnasts!$I$4:$I$103,A52),allGymnasts!$I$4:$I$103,0))),\"\")","v":""},{"$f":"IFERROR(IF(allGymnasts!C52=\"\",\"\",INDEX(allGymnasts!$C$4:$C$103,MATCH(SMALL(allGymnasts!$I$4:$I$103,A52),allGymnasts!$I$4:$I$103,0))),\"\")","v":""},{"$f":"IFERROR(IF(allGymnasts!D52=\"\",\"\",INDEX(allGymnasts!$D$4:$D$103,MATCH(SMALL(allGymnasts!$I$4:$I$103,A52),allGymnasts!$I$4:$I$103,0))),\"\")","v":""},{"$f":"IFERROR(IF(allGymnasts!B52=\"\",\"\",INDEX(allGymnasts!$E$4:$E$103,MATCH(SMALL(allGymnasts!$I$4:$I$103,A52),allGymnasts!$I$4:$I$103,0))),\"\")","v":""},{"$f":"IFERROR(IF(allGymnasts!B52=\"\",\"\",INDEX(allGymnasts!$F$4:$F$103,MATCH(SMALL(allGymnasts!$I$4:$I$103,A52),allGymnasts!$I$4:$I$103,0))),\"\")","v":""},{"$f":"IFERROR(IF(allGymnasts!B52=\"\",\"\",INDEX(allGymnasts!$G$4:$G$103,MATCH(SMALL(allGymnasts!$I$4:$I$103,A52),allGymnasts!$I$4:$I$103,0))),\"\")","v":""},{"$f":"IFERROR(IF(allGymnasts!B52=\"\",\"\",INDEX(allGymnasts!$H$4:$H$103,MATCH(SMALL(allGymnasts!$I$4:$I$103,A52),allGymnasts!$I$4:$I$103,0))),\"\")","v":""}]
[50,{"$f":"IFERROR(_xlfn.FLOOR.MATH(IF(allGymnasts!A53=\"\",\"\",INDEX(allGymnasts!$I$4:$I$103,MATCH(SMALL(allGymnasts!$I$4:$I$103,A53),allGymnasts!$I$4:$I$103,0)))),\"\")","v":""},{"$f":"IFERROR(IF(allGymnasts!A53=\"\",\"\",INDEX(allGymnasts!$A$4:$A$103,MATCH(SMALL(allGymnasts!$I$4:$I$103,A53),allGymnasts!$I$4:$I$103,0))),\"\")","v":""},{"$f":"IFERROR(IF(allGymnasts!B53=\"\",\"\",INDEX(allGymnasts!$B$4:$B$103,MATCH(SMALL(allGymnasts!$I$4:$I$103,A53),allGymnasts!$I$4:$I$103,0))),\"\")","v":""},{"$f":"IFERROR(IF(allGymnasts!C53=\"\",\"\",INDEX(allGymnasts!$C$4:$C$103,MATCH(SMALL(allGymnasts!$I$4:$I$103,A53),allGymnasts!$I$4:$I$103,0))),\"\")","v":""},{"$f":"IFERROR(IF(allGymnasts!D53=\"\",\"\",INDEX(allGymnasts!$D$4:$D$103,MATCH(SMALL(allGymnasts!$I$4:$I$103,A53),allGymnasts!$I$4:$I$103,0))),\"\")","v":""},{"$f":"IFERROR(IF(allGymnasts!B53=\"\",\"\",INDEX(allGymnasts!$E$4:$E$103,MATCH(SMALL(allGymnasts!$I$4:$I$103,A53),allGymnasts!$I$4:$I$103,0))),\"\")","v":""},{"$f":"IFERROR(IF(allGymnasts!B53=\"\",\"\",INDEX(allGymnasts!$F$4:$F$103,MATCH(SMALL(allGymnasts!$I$4:$I$103,A53),allGymnasts!$I$4:$I$103,0))),\"\")","v":""},{"$f":"IFERROR(IF(allGymnasts!B53=\"\",\"\",INDEX(allGymnasts!$G$4:$G$103,MATCH(SMALL(allGymnasts!$I$4:$I$103,A53),allGymnasts!$I$4:$I$103,0))),\"\")","v":""},{"$f":"IFERROR(IF(allGymnasts!B53=\"\",\"\",INDEX(allGymnasts!$H$4:$H$103,MATCH(SMALL(allGymnasts!$I$4:$I$103,A53),allGymnasts!$I$4:$I$103,0))),\"\")","v":""}]
[51,{"$f":"IFERROR(_xlfn.FLOOR.MATH(IF(allGymnasts!A54=\"\",\"\",INDEX(allGymnasts!$I$4:$I$103,MATCH(SMALL(allGymnasts!$I$4:$I$103,A54),allGymnasts!$I$4:$I$103,0)))),\"\")","v":""},{"$f":"IFERROR(IF(allGymnasts!A54=\"\",\"\",INDEX(allGymnasts!$A$4:$A$103,MATCH(SMALL(allGymnasts!$I$4:$I$103,A54),allGymnasts!$I$4:$I$103,0))),\"\")","v":""},{"$f":"IFERROR(IF(allGymnasts!B54=\"\",\"\",INDEX(allGymnasts!$B$4:$B$103,MATCH(SMALL(allGymnasts!$I$4:$I$103,A54),allGymnasts!$I$4:$I$103,0))),\"\")","v":""},{"$f":"IFERROR(IF(allGymnasts!C54=\"\",\"\",INDEX(allGymnasts!$C$4:$C$103,MATCH(SMALL(allGymnasts!$I$4:$I$103,A54),allGymnasts!$I$4:$I$103,0))),\"\")","v":""},{"$f":"IFERROR(IF(allGymnasts!D54=\"\",\"\",INDEX(allGymnasts!$D$4:$D$103,MATCH(SMALL(allGymnasts!$I$4:$I$103,A54),allGymnasts!$I$4:$I$103,0))),\"\")","v":""},{"$f":"IFERROR(IF(allGymnasts!B54=\"\",\"\",INDEX(allGymnasts!$E$4:$E$103,MATCH(SMALL(allGymnasts!$I$4:$I$103,A54),allGymnasts!$I$4:$I$103,0))),\"\")","v":""},{"$f":"IFERROR(IF(allGymnasts!B54=\"\",\"\",INDEX(allGymnasts!$F$4:$F$103,MATCH(SMALL(allGymnasts!$I$4:$I$103,A54),allGymnasts!$I$4:$I$103,0))),\"\")","v":""},{"$f":"IFERROR(IF(allGymnasts!B54=\"\",\"\",INDEX(allGymnasts!$G$4:$G$103,MATCH(SMALL(allGymnasts!$I$4:$I$103,A54),allGymnasts!$I$4:$I$103,0))),\"\")","v":""},{"$f":"IFERROR(IF(allGymnasts!B54=\"\",\"\",INDEX(allGymnasts!$H$4:$H$103,MATCH(SMALL(allGymnasts!$I$4:$I$103,A54),allGymnasts!$I$4:$I$103,0))),\"\")","v":""}]
[52,{"$f":"IFERROR(_xlfn.FLOOR.MATH(IF(allGymnasts!A55=\"\",\"\",INDEX(allGymnasts!$I$4:$I$103,MATCH(SMALL(allGymnasts!$I$4:$I$103,A55),allGymnasts!$I$4:$I$103,0)))),\"\")","v":""},{"$f":"IFERROR(IF(allGymnasts!A55=\"\",\"\",INDEX(allGymnasts!$A$4:$A$103,MATCH(SMALL(allGymnasts!$I$4:$I$103,A55),allGymnasts!$I$4:$I$103,0))),\"\")","v":""},{"$f":"IFERROR(IF(allGymnasts!B55=\"\",\"\",INDEX(allGymnasts!$B$4:$B$103,MATCH(SMALL(allGymnasts!$I$4:$I$103,A55),allGymnasts!$I$4:$I$103,0))),\"\")","v":""},{"$f":"IFERROR(IF(allGymnasts!C55=\"\",\"\",INDEX(allGymnasts!$C$4:$C$103,MATCH(SMALL(allGymnasts!$I$4:$I$103,A55),allGymnasts!$I$4:$I$103,0))),\"\")","v":""},{"$f":"IFERROR(IF(allGymnasts!D55=\"\",\"\",INDEX(allGymnasts!$D$4:$D$103,MATCH(SMALL(allGymnasts!$I$4:$I$103,A55),allGymnasts!$I$4:$I$103,0))),\"\")","v":""},{"$f":"IFERROR(IF(allGymnasts!B55=\"\",\"\",INDEX(allGymnasts!$E$4:$E$103,MATCH(SMALL(allGymnasts!$I$4:$I$103,A55),allGymnasts!$I$4:$I$103,0))),\"\")","v":""},{"$f":"IFERROR(IF(allGymnasts!B55=\"\",\"\",INDEX(allGymnasts!$F$4:$F$103,MATCH(SMALL(allGymnasts!$I$4:$I$103,A55),allGymnasts!$I$4:$I$103,0))),\"\")","v":""},{"$f":"IFERROR(IF(allGymnasts!B55=\"\",\"\",INDEX(allGymnasts!$G$4:$G$103,MATCH(SMALL(allGymnasts!$I$4:$I$103,A55),allGymnasts!$I$4:$I$103,0))),\"\")","v":""},{"$f":"IFERROR(IF(allGymnasts!B55=\"\",\"\",INDEX(allGymnasts!$H$4:$H$103,MATCH(SMALL(allGymnasts!$I$4:$I$103,A55),allGymnasts!$I$4:$I$103,0))),\"\")","v":""}]
[53,{"$f":"IFERROR(_xlfn.FLOOR.MATH(IF(allGymnasts!A56=\"\",\"\",INDEX(allGymnasts!$I$4:$I$103,MATCH(SMALL(allGymnasts!$I$4:$I$103,A56),allGymnasts!$I$4:$I$103,0)))),\"\")","v":""},{"$f":"IFERROR(IF(allGymnasts!A56=\"\",\"\",INDEX(allGymnasts!$A$4:$A$103,MATCH(SMALL(allGymnasts!$I$4:$I$103,A56),allGymnasts!$I$4:$I$103,0))),\"\")","v":""},{"$f":"IFERROR(IF(allGymnasts!B56=\"\",\"\",INDEX(allGymnasts!$B$4:$B$103,MATCH(SMALL(allGymnasts!$I$4:$I$103,A56),allGymnasts!$I$4:$I$103,0))),\"\")","v":""},{"$f":"IFERROR(IF(allGymnasts!C56=\"\",\"\",INDEX(allGymnasts!$C$4:$C$103,MATCH(SMALL(allGymnasts!$I$4:$I$103,A56),allGymnasts!$I$4:$I$103,0))),\"\")","v":""},{"$f":"IFERROR(IF(allGymnasts!D56=\"\",\"\",INDEX(allGymnasts!$D$4:$D$103,MATCH(SMALL(allGymnasts!$I$4:$I$103,A56),allGymnasts!$I$4:$I$103,0))),\"\")","v":""},{"$f":"IFERROR(IF(allGymnasts!B56=\"\",\"\",INDEX(allGymnasts!$E$4:$E$103,MATCH(SMALL(allGymnasts!$I$4:$I$103,A56),allGymnasts!$I$4:$I$103,0))),\"\")","v":""},{"$f":"IFERROR(IF(allGymnasts!B56=\"\",\"\",INDEX(allGymnasts!$F$4:$F$103,MATCH(SMALL(allGymnasts!$I$4:$I$103,A56),allGymnasts!$I$4:$I$103,0))),\"\")","v":""},{"$f":"IFERROR(IF(allGymnasts!B56=\"\",\"\",INDEX(allGymnasts!$G$4:$G$103,MATCH(SMALL(allGymnasts!$I$4:$I$103,A56),allGymnasts!$I$4:$I$103,0))),\"\")","v":""},{"$f":"IFERROR(IF(allGymnasts!B56=\"\",\"\",INDEX(allGymnasts!$H$4:$H$103,MATCH(SMALL(allGymnasts!$I$4:$I$103,A56),allGymnasts!$I$4:$I$103,0))),\"\")","v":""}]
[54,{"$f":"IFERROR(_xlfn.FLOOR.MATH(IF(allGymnasts!A57=\"\",\"\",INDEX(allGymnasts!$I$4:$I$103,MATCH(SMALL(allGymnasts!$I$4:$I$103,A57),allGymnasts!$I$4:$I$103,0)))),\"\")","v":""},{"$f":"IFERROR(IF(allGymnasts!A57=\"\",\"\",INDEX(allGymnasts!$A$4:$A$103,MATCH(SMALL(allGymnasts!$I$4:$I$103,A57),allGymnasts!$I$4:$I$103,0))),\"\")","v":""},{"$f":"IFERROR(IF(allGymnasts!B57=\"\",\"\",INDEX(allGymnasts!$B$4:$B$103,MATCH(SMALL(allGymnasts!$I$4:$I$103,A57),allGymnasts!$I$4:$I$103,0))),\"\")","v":""},{"$f":"IFERROR(IF(allGymnasts!C57=\"\",\"\",INDEX(allGymnasts!$C$4:$C$103,MATCH(SMALL(allGymnasts!$I$4:$I$103,A57),allGymnasts!$I$4:$I$103,0))),\"\")","v":""},{"$f":"IFERROR(IF(allGymnasts!D57=\"\",\"\",INDEX(allGymnasts!$D$4:$D$103,MATCH(SMALL(allGymnasts!$I$4:$I$103,A57),allGymnasts!$I$4:$I$103,0))),\"\")","v":""},{"$f":"IFERROR(IF(allGymnasts!B57=\"\",\"\",INDEX(allGymnasts!$E$4:$E$103,MATCH(SMALL(allGymnasts!$I$4:$I$103,A57),allGymnasts!$I$4:$I$103,0))),\"\")","v":""},{"$f":"IFERROR(IF(allGymnasts!B57=\"\",\"\",INDEX(allGymnasts!$F$4:$F$103,MATCH(SMALL(allGymnasts!$I$4:$I$103,A57),allGymnasts!$I$4:$I$103,0))),\"\")","v":""},{"$f":"IFERROR(IF(allGymnasts!B57=\"\",\"\",INDEX(allGymnasts!$G$4:$G$103,MATCH(SMALL(allGymnasts!$I$4:$I$103,A57),allGymnasts!$I$4:$I$103,0))),\"\")","v":""},{"$f":"IFERROR(IF(allGymnasts!B57=\"\",\"\",INDEX(allGymnasts!$H$4:$H$103,MATCH(SMALL(allGymnasts!$I$4:$I$103,A57),allGymnasts!$I$4:$I$103,0))),\"\")","v":""}]
[55,{"$f":"IFERROR(_xlfn.FLOOR.MATH(IF(allGymnasts!A58=\"\",\"\",INDEX(allGymnasts!$I$4:$I$103,MATCH(SMALL(allGymnasts!$I$4:$I$103,A58),allGymnasts!$I$4:$I$103,0)))),\"\")","v":""},{"$f":"IFERROR(IF(allGymnasts!A58=\"\",\"\",INDEX(allGymnasts!$A$4:$A$103,MATCH(SMALL(allGymnasts!$I$4:$I$103,A58),allGymnasts!$I$4:$I$103,0))),\"\")","v":""},{"$f":"IFERROR(IF(allGymnasts!B58=\"\",\"\",INDEX(allGymnasts!$B$4:$B$103,MATCH(SMALL(allGymnasts!$I$4:$I$103,A58),allGymnasts!$I$4:$I$103,0))),\"\")","v":""},{"$f":"IFERROR(IF(allGymnasts!C58=\"\",\"\",INDEX(allGymnasts!$C$4:$C$103,MATCH(SMALL(allGymnasts!$I$4:$I$103,A58),allGymnasts!$I$4:$I$103,0))),\"\")","v":""},{"$f":"IFERROR(IF(allGymnasts!D58=\"\",\"\",INDEX(allGymnasts!$D$4:$D$103,MATCH(SMALL(allGymnasts!$I$4:$I$103,A58),allGymnasts!$I$4:$I$103,0))),\"\")","v":""},{"$f":"IFERROR(IF(allGymnasts!B58=\"\",\"\",INDEX(allGymnasts!$E$4:$E$103,MATCH(SMALL(allGymnasts!$I$4:$I$103,A58),allGymnasts!$I$4:$I$103,0))),\"\")","v":""},{"$f":"IFERROR(IF(allGymnasts!B58=\"\",\"\",INDEX(allGymnasts!$F$4:$F$103,MATCH(SMALL(allGymnasts!$I$4:$I$103,A58),allGymnasts!$I$4:$I$103,0))),\"\")","v":""},{"$f":"IFERROR(IF(allGymnasts!B58=\"\",\"\",INDEX(allGymnasts!$G$4:$G$103,MATCH(SMALL(allGymnasts!$I$4:$I$103,A58),allGymnasts!$I$4:$I$103,0))),\"\")","v":""},{"$f":"IFERROR(IF(allGymnasts!B58=\"\",\"\",INDEX(allGymnasts!$H$4:$H$103,MATCH(SMALL(allGymnasts!$I$4:$I$103,A58),allGymnasts!$I$4:$I$103,0))),\"\")","v":""}]
[56,{"$f":"IFERROR(_xlfn.FLOOR.MATH(IF(allGymnasts!A59=\"\",\"\",INDEX(allGymnasts!$I$4:$I$103,MATCH(SMALL(allGymnasts!$I$4:$I$103,A59),allGymnasts!$I$4:$I$103,0)))),\"\")","v":""},{"$f":"IFERROR(IF(allGymnasts!A59=\"\",\"\",INDEX(allGymnasts!$A$4:$A$103,MATCH(SMALL(allGymnasts!$I$4:$I$103,A59),allGymnasts!$I$4:$I$103,0))),\"\")","v":""},{"$f":"IFERROR(IF(allGymnasts!B59=\"\",\"\",INDEX(allGymnasts!$B$4:$B$103,MATCH(SMALL(allGymnasts!$I$4:$I$103,A59),allGymnasts!$I$4:$I$103,0))),\"\")","v":""},{"$f":"IFERROR(IF(allGymnasts!C59=\"\",\"\",INDEX(allGymnasts!$C$4:$C$103,MATCH(SMALL(allGymnasts!$I$4:$I$103,A59),allGymnasts!$I$4:$I$103,0))),\"\")","v":""},{"$f":"IFERROR(IF(allGymnasts!D59=\"\",\"\",INDEX(allGymnasts!$D$4:$D$103,MATCH(SMALL(allGymnasts!$I$4:$I$103,A59),allGymnasts!$I$4:$I$103,0))),\"\")","v":""},{"$f":"IFERROR(IF(allGymnasts!B59=\"\",\"\",INDEX(allGymnasts!$E$4:$E$103,MATCH(SMALL(allGymnasts!$I$4:$I$103,A59),allGymnasts!$I$4:$I$103,0))),\"\")","v":""},{"$f":"IFERROR(IF(allGymnasts!B59=\"\",\"\",INDEX(allGymnasts!$F$4:$F$103,MATCH(SMALL(allGymnasts!$I$4:$I$103,A59),allGymnasts!$I$4:$I$103,0))),\"\")","v":""},{"$f":"IFERROR(IF(allGymnasts!B59=\"\",\"\",INDEX(allGymnasts!$G$4:$G$103,MATCH(SMALL(allGymnasts!$I$4:$I$103,A59),allGymnasts!$I$4:$I$103,0))),\"\")","v":""},{"$f":"IFERROR(IF(allGymnasts!B59=\"\",\"\",INDEX(allGymnasts!$H$4:$H$103,MATCH(SMALL(allGymnasts!$I$4:$I$103,A59),allGymnasts!$I$4:$I$103,0))),\"\")","v":""}]
[57,{"$f":"IFERROR(_xlfn.FLOOR.MATH(IF(allGymnasts!A60=\"\",\"\",INDEX(allGymnasts!$I$4:$I$103,MATCH(SMALL(allGymnasts!$I$4:$I$103,A60),allGymnasts!$I$4:$I$103,0)))),\"\")","v":""},{"$f":"IFERROR(IF(allGymnasts!A60=\"\",\"\",INDEX(allGymnasts!$A$4:$A$103,MATCH(SMALL(allGymnasts!$I$4:$I$103,A60),allGymnasts!$I$4:$I$103,0))),\"\")","v":""},{"$f":"IFERROR(IF(allGymnasts!B60=\"\",\"\",INDEX(allGymnasts!$B$4:$B$103,MATCH(SMALL(allGymnasts!$I$4:$I$103,A60),allGymnasts!$I$4:$I$103,0))),\"\")","v":""},{"$f":"IFERROR(IF(allGymnasts!C60=\"\",\"\",INDEX(allGymnasts!$C$4:$C$103,MATCH(SMALL(allGymnasts!$I$4:$I$103,A60),allGymnasts!$I$4:$I$103,0))),\"\")","v":""},{"$f":"IFERROR(IF(allGymnasts!D60=\"\",\"\",INDEX(allGymnasts!$D$4:$D$103,MATCH(SMALL(allGymnasts!$I$4:$I$103,A60),allGymnasts!$I$4:$I$103,0))),\"\")","v":""},{"$f":"IFERROR(IF(allGymnasts!B60=\"\",\"\",INDEX(allGymnasts!$E$4:$E$103,MATCH(SMALL(allGymnasts!$I$4:$I$103,A60),allGymnasts!$I$4:$I$103,0))),\"\")","v":""},{"$f":"IFERROR(IF(allGymnasts!B60=\"\",\"\",INDEX(allGymnasts!$F$4:$F$103,MATCH(SMALL(allGymnasts!$I$4:$I$103,A60),allGymnasts!$I$4:$I$103,0))),\"\")","v":""},{"$f":"IFERROR(IF(allGymnasts!B60=\"\",\"\",INDEX(allGymnasts!$G$4:$G$103,MATCH(SMALL(allGymnasts!$I$4:$I$103,A60),allGymnasts!$I$4:$I$103,0))),\"\")","v":""},{"$f":"IFERROR(IF(allGymnasts!B60=\"\",\"\",INDEX(allGymnasts!$H$4:$H$103,MATCH(SMALL(allGymnasts!$I$4:$I$103,A60),allGymnasts!$I$4:$I$103,0))),\"\")","v":""}]
[58,{"$f":"IFERROR(_xlfn.FLOOR.MATH(IF(allGymnasts!A61=\"\",\"\",INDEX(allGymnasts!$I$4:$I$103,MATCH(SMALL(allGymnasts!$I$4:$I$103,A61),allGymnasts!$I$4:$I$103,0)))),\"\")","v":""},{"$f":"IFERROR(IF(allGymnasts!A61=\"\",\"\",INDEX(allGymnasts!$A$4:$A$103,MATCH(SMALL(allGymnasts!$I$4:$I$103,A61),allGymnasts!$I$4:$I$103,0))),\"\")","v":""},{"$f":"IFERROR(IF(allGymnasts!B61=\"\",\"\",INDEX(allGymnasts!$B$4:$B$103,MATCH(SMALL(allGymnasts!$I$4:$I$103,A61),allGymnasts!$I$4:$I$103,0))),\"\")","v":""},{"$f":"IFERROR(IF(allGymnasts!C61=\"\",\"\",INDEX(allGymnasts!$C$4:$C$103,MATCH(SMALL(allGymnasts!$I$4:$I$103,A61),allGymnasts!$I$4:$I$103,0))),\"\")","v":""},{"$f":"IFERROR(IF(allGymnasts!D61=\"\",\"\",INDEX(allGymnasts!$D$4:$D$103,MATCH(SMALL(allGymnasts!$I$4:$I$103,A61),allGymnasts!$I$4:$I$103,0))),\"\")","v":""},{"$f":"IFERROR(IF(allGymnasts!B61=\"\",\"\",INDEX(allGymnasts!$E$4:$E$103,MATCH(SMALL(allGymnasts!$I$4:$I$103,A61),allGymnasts!$I$4:$I$103,0))),\"\")","v":""},{"$f":"IFERROR(IF(allGymnasts!B61=\"\",\"\",INDEX(allGymnasts!$F$4:$F$103,MATCH(SMALL(allGymnasts!$I$4:$I$103,A61),allGymnasts!$I$4:$I$103,0))),\"\")","v":""},{"$f":"IFERROR(IF(allGymnasts!B61=\"\",\"\",INDEX(allGymnasts!$G$4:$G$103,MATCH(SMALL(allGymnasts!$I$4:$I$103,A61),allGymnasts!$I$4:$I$103,0))),\"\")","v":""},{"$f":"IFERROR(IF(allGymnasts!B61=\"\",\"\",INDEX(allGymnasts!$H$4:$H$103,MATCH(SMALL(allGymnasts!$I$4:$I$103,A61),allGymnasts!$I$4:$I$103,0))),\"\")","v":""}]
[59,{"$f":"IFERROR(_xlfn.FLOOR.MATH(IF(allGymnasts!A62=\"\",\"\",INDEX(allGymnasts!$I$4:$I$103,MATCH(SMALL(allGymnasts!$I$4:$I$103,A62),allGymnasts!$I$4:$I$103,0)))),\"\")","v":""},{"$f":"IFERROR(IF(allGymnasts!A62=\"\",\"\",INDEX(allGymnasts!$A$4:$A$103,MATCH(SMALL(allGymnasts!$I$4:$I$103,A62),allGymnasts!$I$4:$I$103,0))),\"\")","v":""},{"$f":"IFERROR(IF(allGymnasts!B62=\"\",\"\",INDEX(allGymnasts!$B$4:$B$103,MATCH(SMALL(allGymnasts!$I$4:$I$103,A62),allGymnasts!$I$4:$I$103,0))),\"\")","v":""},{"$f":"IFERROR(IF(allGymnasts!C62=\"\",\"\",INDEX(allGymnasts!$C$4:$C$103,MATCH(SMALL(allGymnasts!$I$4:$I$103,A62),allGymnasts!$I$4:$I$103,0))),\"\")","v":""},{"$f":"IFERROR(IF(allGymnasts!D62=\"\",\"\",INDEX(allGymnasts!$D$4:$D$103,MATCH(SMALL(allGymnasts!$I$4:$I$103,A62),allGymnasts!$I$4:$I$103,0))),\"\")","v":""},{"$f":"IFERROR(IF(allGymnasts!B62=\"\",\"\",INDEX(allGymnasts!$E$4:$E$103,MATCH(SMALL(allGymnasts!$I$4:$I$103,A62),allGymnasts!$I$4:$I$103,0))),\"\")","v":""},{"$f":"IFERROR(IF(allGymnasts!B62=\"\",\"\",INDEX(allGymnasts!$F$4:$F$103,MATCH(SMALL(allGymnasts!$I$4:$I$103,A62),allGymnasts!$I$4:$I$103,0))),\"\")","v":""},{"$f":"IFERROR(IF(allGymnasts!B62=\"\",\"\",INDEX(allGymnasts!$G$4:$G$103,MATCH(SMALL(allGymnasts!$I$4:$I$103,A62),allGymnasts!$I$4:$I$103,0))),\"\")","v":""},{"$f":"IFERROR(IF(allGymnasts!B62=\"\",\"\",INDEX(allGymnasts!$H$4:$H$103,MATCH(SMALL(allGymnasts!$I$4:$I$103,A62),allGymnasts!$I$4:$I$103,0))),\"\")","v":""}]
[60,{"$f":"IFERROR(_xlfn.FLOOR.MATH(IF(allGymnasts!A63=\"\",\"\",INDEX(allGymnasts!$I$4:$I$103,MATCH(SMALL(allGymnasts!$I$4:$I$103,A63),allGymnasts!$I$4:$I$103,0)))),\"\")","v":""},{"$f":"IFERROR(IF(allGymnasts!A63=\"\",\"\",INDEX(allGymnasts!$A$4:$A$103,MATCH(SMALL(allGymnasts!$I$4:$I$103,A63),allGymnasts!$I$4:$I$103,0))),\"\")","v":""},{"$f":"IFERROR(IF(allGymnasts!B63=\"\",\"\",INDEX(allGymnasts!$B$4:$B$103,MATCH(SMALL(allGymnasts!$I$4:$I$103,A63),allGymnasts!$I$4:$I$103,0))),\"\")","v":""},{"$f":"IFERROR(IF(allGymnasts!C63=\"\",\"\",INDEX(allGymnasts!$C$4:$C$103,MATCH(SMALL(allGymnasts!$I$4:$I$103,A63),allGymnasts!$I$4:$I$103,0))),\"\")","v":""},{"$f":"IFERROR(IF(allGymnasts!D63=\"\",\"\",INDEX(allGymnasts!$D$4:$D$103,MATCH(SMALL(allGymnasts!$I$4:$I$103,A63),allGymnasts!$I$4:$I$103,0))),\"\")","v":""},{"$f":"IFERROR(IF(allGymnasts!B63=\"\",\"\",INDEX(allGymnasts!$E$4:$E$103,MATCH(SMALL(allGymnasts!$I$4:$I$103,A63),allGymnasts!$I$4:$I$103,0))),\"\")","v":""},{"$f":"IFERROR(IF(allGymnasts!B63=\"\",\"\",INDEX(allGymnasts!$F$4:$F$103,MATCH(SMALL(allGymnasts!$I$4:$I$103,A63),allGymnasts!$I$4:$I$103,0))),\"\")","v":""},{"$f":"IFERROR(IF(allGymnasts!B63=\"\",\"\",INDEX(allGymnasts!$G$4:$G$103,MATCH(SMALL(allGymnasts!$I$4:$I$103,A63),allGymnasts!$I$4:$I$103,0))),\"\")","v":""},{"$f":"IFERROR(IF(allGymnasts!B63=\"\",\"\",INDEX(allGymnasts!$H$4:$H$103,MATCH(SMALL(allGymnasts!$I$4:$I$103,A63),allGymnasts!$I$4:$I$103,0))),\"\")","v":""}]
[61,{"$f":"IFERROR(_xlfn.FLOOR.MATH(IF(allGymnasts!A64=\"\",\"\",INDEX(allGymnasts!$I$4:$I$103,MATCH(SMALL(allGymnasts!$I$4:$I$103,A64),allGymnasts!$I$4:$I$103,0)))),\"\")","v":""},{"$f":"IFERROR(IF(allGymnasts!A64=\"\",\"\",INDEX(allGymnasts!$A$4:$A$103,MATCH(SMALL(allGymnasts!$I$4:$I$103,A64),allGymnasts!$I$4:$I$103,0))),\"\")","v":""},{"$f":"IFERROR(IF(allGymnasts!B64=\"\",\"\",INDEX(allGymnasts!$B$4:$B$103,MATCH(SMALL(allGymnasts!$I$4:$I$103,A64),allGymnasts!$I$4:$I$103,0))),\"\")","v":""},{"$f":"IFERROR(IF(allGymnasts!C64=\"\",\"\",INDEX(allGymnasts!$C$4:$C$103,MATCH(SMALL(allGymnasts!$I$4:$I$103,A64),allGymnasts!$I$4:$I$103,0))),\"\")","v":""},{"$f":"IFERROR(IF(allGymnasts!D64=\"\",\"\",INDEX(allGymnasts!$D$4:$D$103,MATCH(SMALL(allGymnasts!$I$4:$I$103,A64),allGymnasts!$I$4:$I$103,0))),\"\")","v":""},{"$f":"IFERROR(IF(allGymnasts!B64=\"\",\"\",INDEX(allGymnasts!$E$4:$E$103,MATCH(SMALL(allGymnasts!$I$4:$I$103,A64),allGymnasts!$I$4:$I$103,0))),\"\")","v":""},{"$f":"IFERROR(IF(allGymnasts!B64=\"\",\"\",INDEX(allGymnasts!$F$4:$F$103,MATCH(SMALL(allGymnasts!$I$4:$I$103,A64),allGymnasts!$I$4:$I$103,0))),\"\")","v":""},{"$f":"IFERROR(IF(allGymnasts!B64=\"\",\"\",INDEX(allGymnasts!$G$4:$G$103,MATCH(SMALL(allGymnasts!$I$4:$I$103,A64),allGymnasts!$I$4:$I$103,0))),\"\")","v":""},{"$f":"IFERROR(IF(allGymnasts!B64=\"\",\"\",INDEX(allGymnasts!$H$4:$H$103,MATCH(SMALL(allGymnasts!$I$4:$I$103,A64),allGymnasts!$I$4:$I$103,0))),\"\")","v":""}]
[62,{"$f":"IFERROR(_xlfn.FLOOR.MATH(IF(allGymnasts!A65=\"\",\"\",INDEX(allGymnasts!$I$4:$I$103,MATCH(SMALL(allGymnasts!$I$4:$I$103,A65),allGymnasts!$I$4:$I$103,0)))),\"\")","v":""},{"$f":"IFERROR(IF(allGymnasts!A65=\"\",\"\",INDEX(allGymnasts!$A$4:$A$103,MATCH(SMALL(allGymnasts!$I$4:$I$103,A65),allGymnasts!$I$4:$I$103,0))),\"\")","v":""},{"$f":"IFERROR(IF(allGymnasts!B65=\"\",\"\",INDEX(allGymnasts!$B$4:$B$103,MATCH(SMALL(allGymnasts!$I$4:$I$103,A65),allGymnasts!$I$4:$I$103,0))),\"\")","v":""},{"$f":"IFERROR(IF(allGymnasts!C65=\"\",\"\",INDEX(allGymnasts!$C$4:$C$103,MATCH(SMALL(allGymnasts!$I$4:$I$103,A65),allGymnasts!$I$4:$I$103,0))),\"\")","v":""},{"$f":"IFERROR(IF(allGymnasts!D65=\"\",\"\",INDEX(allGymnasts!$D$4:$D$103,MATCH(SMALL(allGymnasts!$I$4:$I$103,A65),allGymnasts!$I$4:$I$103,0))),\"\")","v":""},{"$f":"IFERROR(IF(allGymnasts!B65=\"\",\"\",INDEX(allGymnasts!$E$4:$E$103,MATCH(SMALL(allGymnasts!$I$4:$I$103,A65),allGymnasts!$I$4:$I$103,0))),\"\")","v":""},{"$f":"IFERROR(IF(allGymnasts!B65=\"\",\"\",INDEX(allGymnasts!$F$4:$F$103,MATCH(SMALL(allGymnasts!$I$4:$I$103,A65),allGymnasts!$I$4:$I$103,0))),\"\")","v":""},{"$f":"IFERROR(IF(allGymnasts!B65=\"\",\"\",INDEX(allGymnasts!$G$4:$G$103,MATCH(SMALL(allGymnasts!$I$4:$I$103,A65),allGymnasts!$I$4:$I$103,0))),\"\")","v":""},{"$f":"IFERROR(IF(allGymnasts!B65=\"\",\"\",INDEX(allGymnasts!$H$4:$H$103,MATCH(SMALL(allGymnasts!$I$4:$I$103,A65),allGymnasts!$I$4:$I$103,0))),\"\")","v":""}]
[63,{"$f":"IFERROR(_xlfn.FLOOR.MATH(IF(allGymnasts!A66=\"\",\"\",INDEX(allGymnasts!$I$4:$I$103,MATCH(SMALL(allGymnasts!$I$4:$I$103,A66),allGymnasts!$I$4:$I$103,0)))),\"\")","v":""},{"$f":"IFERROR(IF(allGymnasts!A66=\"\",\"\",INDEX(allGymnasts!$A$4:$A$103,MATCH(SMALL(allGymnasts!$I$4:$I$103,A66),allGymnasts!$I$4:$I$103,0))),\"\")","v":""},{"$f":"IFERROR(IF(allGymnasts!B66=\"\",\"\",INDEX(allGymnasts!$B$4:$B$103,MATCH(SMALL(allGymnasts!$I$4:$I$103,A66),allGymnasts!$I$4:$I$103,0))),\"\")","v":""},{"$f":"IFERROR(IF(allGymnasts!C66=\"\",\"\",INDEX(allGymnasts!$C$4:$C$103,MATCH(SMALL(allGymnasts!$I$4:$I$103,A66),allGymnasts!$I$4:$I$103,0))),\"\")","v":""},{"$f":"IFERROR(IF(allGymnasts!D66=\"\",\"\",INDEX(allGymnasts!$D$4:$D$103,MATCH(SMALL(allGymnasts!$I$4:$I$103,A66),allGymnasts!$I$4:$I$103,0))),\"\")","v":""},{"$f":"IFERROR(IF(allGymnasts!B66=\"\",\"\",INDEX(allGymnasts!$E$4:$E$103,MATCH(SMALL(allGymnasts!$I$4:$I$103,A66),allGymnasts!$I$4:$I$103,0))),\"\")","v":""},{"$f":"IFERROR(IF(allGymnasts!B66=\"\",\"\",INDEX(allGymnasts!$F$4:$F$103,MATCH(SMALL(allGymnasts!$I$4:$I$103,A66),allGymnasts!$I$4:$I$103,0))),\"\")","v":""},{"$f":"IFERROR(IF(allGymnasts!B66=\"\",\"\",INDEX(allGymnasts!$G$4:$G$103,MATCH(SMALL(allGymnasts!$I$4:$I$103,A66),allGymnasts!$I$4:$I$103,0))),\"\")","v":""},{"$f":"IFERROR(IF(allGymnasts!B66=\"\",\"\",INDEX(allGymnasts!$H$4:$H$103,MATCH(SMALL(allGymnasts!$I$4:$I$103,A66),allGymnasts!$I$4:$I$103,0))),\"\")","v":""}]
[64,{"$f":"IFERROR(_xlfn.FLOOR.MATH(IF(allGymnasts!A67=\"\",\"\",INDEX(allGymnasts!$I$4:$I$103,MATCH(SMALL(allGymnasts!$I$4:$I$103,A67),allGymnasts!$I$4:$I$103,0)))),\"\")","v":""},{"$f":"IFERROR(IF(allGymnasts!A67=\"\",\"\",INDEX(allGymnasts!$A$4:$A$103,MATCH(SMALL(allGymnasts!$I$4:$I$103,A67),allGymnasts!$I$4:$I$103,0))),\"\")","v":""},{"$f":"IFERROR(IF(allGymnasts!B67=\"\",\"\",INDEX(allGymnasts!$B$4:$B$103,MATCH(SMALL(allGymnasts!$I$4:$I$103,A67),allGymnasts!$I$4:$I$103,0))),\"\")","v":""},{"$f":"IFERROR(IF(allGymnasts!C67=\"\",\"\",INDEX(allGymnasts!$C$4:$C$103,MATCH(SMALL(allGymnasts!$I$4:$I$103,A67),allGymnasts!$I$4:$I$103,0))),\"\")","v":""},{"$f":"IFERROR(IF(allGymnasts!D67=\"\",\"\",INDEX(allGymnasts!$D$4:$D$103,MATCH(SMALL(allGymnasts!$I$4:$I$103,A67),allGymnasts!$I$4:$I$103,0))),\"\")","v":""},{"$f":"IFERROR(IF(allGymnasts!B67=\"\",\"\",INDEX(allGymnasts!$E$4:$E$103,MATCH(SMALL(allGymnasts!$I$4:$I$103,A67),allGymnasts!$I$4:$I$103,0))),\"\")","v":""},{"$f":"IFERROR(IF(allGymnasts!B67=\"\",\"\",INDEX(allGymnasts!$F$4:$F$103,MATCH(SMALL(allGymnasts!$I$4:$I$103,A67),allGymnasts!$I$4:$I$103,0))),\"\")","v":""},{"$f":"IFERROR(IF(allGymnasts!B67=\"\",\"\",INDEX(allGymnasts!$G$4:$G$103,MATCH(SMALL(allGymnasts!$I$4:$I$103,A67),allGymnasts!$I$4:$I$103,0))),\"\")","v":""},{"$f":"IFERROR(IF(allGymnasts!B67=\"\",\"\",INDEX(allGymnasts!$H$4:$H$103,MATCH(SMALL(allGymnasts!$I$4:$I$103,A67),allGymnasts!$I$4:$I$103,0))),\"\")","v":""}]
[65,{"$f":"IFERROR(_xlfn.FLOOR.MATH(IF(allGymnasts!A68=\"\",\"\",INDEX(allGymnasts!$I$4:$I$103,MATCH(SMALL(allGymnasts!$I$4:$I$103,A68),allGymnasts!$I$4:$I$103,0)))),\"\")","v":""},{"$f":"IFERROR(IF(allGymnasts!A68=\"\",\"\",INDEX(allGymnasts!$A$4:$A$103,MATCH(SMALL(allGymnasts!$I$4:$I$103,A68),allGymnasts!$I$4:$I$103,0))),\"\")","v":""},{"$f":"IFERROR(IF(allGymnasts!B68=\"\",\"\",INDEX(allGymnasts!$B$4:$B$103,MATCH(SMALL(allGymnasts!$I$4:$I$103,A68),allGymnasts!$I$4:$I$103,0))),\"\")","v":""},{"$f":"IFERROR(IF(allGymnasts!C68=\"\",\"\",INDEX(allGymnasts!$C$4:$C$103,MATCH(SMALL(allGymnasts!$I$4:$I$103,A68),allGymnasts!$I$4:$I$103,0))),\"\")","v":""},{"$f":"IFERROR(IF(allGymnasts!D68=\"\",\"\",INDEX(allGymnasts!$D$4:$D$103,MATCH(SMALL(allGymnasts!$I$4:$I$103,A68),allGymnasts!$I$4:$I$103,0))),\"\")","v":""},{"$f":"IFERROR(IF(allGymnasts!B68=\"\",\"\",INDEX(allGymnasts!$E$4:$E$103,MATCH(SMALL(allGymnasts!$I$4:$I$103,A68),allGymnasts!$I$4:$I$103,0))),\"\")","v":""},{"$f":"IFERROR(IF(allGymnasts!B68=\"\",\"\",INDEX(allGymnasts!$F$4:$F$103,MATCH(SMALL(allGymnasts!$I$4:$I$103,A68),allGymnasts!$I$4:$I$103,0))),\"\")","v":""},{"$f":"IFERROR(IF(allGymnasts!B68=\"\",\"\",INDEX(allGymnasts!$G$4:$G$103,MATCH(SMALL(allGymnasts!$I$4:$I$103,A68),allGymnasts!$I$4:$I$103,0))),\"\")","v":""},{"$f":"IFERROR(IF(allGymnasts!B68=\"\",\"\",INDEX(allGymnasts!$H$4:$H$103,MATCH(SMALL(allGymnasts!$I$4:$I$103,A68),allGymnasts!$I$4:$I$103,0))),\"\")","v":""}]
[66,{"$f":"IFERROR(_xlfn.FLOOR.MATH(IF(allGymnasts!A69=\"\",\"\",INDEX(allGymnasts!$I$4:$I$103,MATCH(SMALL(allGymnasts!$I$4:$I$103,A69),allGymnasts!$I$4:$I$103,0)))),\"\")","v":""},{"$f":"IFERROR(IF(allGymnasts!A69=\"\",\"\",INDEX(allGymnasts!$A$4:$A$103,MATCH(SMALL(allGymnasts!$I$4:$I$103,A69),allGymnasts!$I$4:$I$103,0))),\"\")","v":""},{"$f":"IFERROR(IF(allGymnasts!B69=\"\",\"\",INDEX(allGymnasts!$B$4:$B$103,MATCH(SMALL(allGymnasts!$I$4:$I$103,A69),allGymnasts!$I$4:$I$103,0))),\"\")","v":""},{"$f":"IFERROR(IF(allGymnasts!C69=\"\",\"\",INDEX(allGymnasts!$C$4:$C$103,MATCH(SMALL(allGymnasts!$I$4:$I$103,A69),allGymnasts!$I$4:$I$103,0))),\"\")","v":""},{"$f":"IFERROR(IF(allGymnasts!D69=\"\",\"\",INDEX(allGymnasts!$D$4:$D$103,MATCH(SMALL(allGymnasts!$I$4:$I$103,A69),allGymnasts!$I$4:$I$103,0))),\"\")","v":""},{"$f":"IFERROR(IF(allGymnasts!B69=\"\",\"\",INDEX(allGymnasts!$E$4:$E$103,MATCH(SMALL(allGymnasts!$I$4:$I$103,A69),allGymnasts!$I$4:$I$103,0))),\"\")","v":""},{"$f":"IFERROR(IF(allGymnasts!B69=\"\",\"\",INDEX(allGymnasts!$F$4:$F$103,MATCH(SMALL(allGymnasts!$I$4:$I$103,A69),allGymnasts!$I$4:$I$103,0))),\"\")","v":""},{"$f":"IFERROR(IF(allGymnasts!B69=\"\",\"\",INDEX(allGymnasts!$G$4:$G$103,MATCH(SMALL(allGymnasts!$I$4:$I$103,A69),allGymnasts!$I$4:$I$103,0))),\"\")","v":""},{"$f":"IFERROR(IF(allGymnasts!B69=\"\",\"\",INDEX(allGymnasts!$H$4:$H$103,MATCH(SMALL(allGymnasts!$I$4:$I$103,A69),allGymnasts!$I$4:$I$103,0))),\"\")","v":""}]
[67,{"$f":"IFERROR(_xlfn.FLOOR.MATH(IF(allGymnasts!A70=\"\",\"\",INDEX(allGymnasts!$I$4:$I$103,MATCH(SMALL(allGymnasts!$I$4:$I$103,A70),allGymnasts!$I$4:$I$103,0)))),\"\")","v":""},{"$f":"IFERROR(IF(allGymnasts!A70=\"\",\"\",INDEX(allGymnasts!$A$4:$A$103,MATCH(SMALL(allGymnasts!$I$4:$I$103,A70),allGymnasts!$I$4:$I$103,0))),\"\")","v":""},{"$f":"IFERROR(IF(allGymnasts!B70=\"\",\"\",INDEX(allGymnasts!$B$4:$B$103,MATCH(SMALL(allGymnasts!$I$4:$I$103,A70),allGymnasts!$I$4:$I$103,0))),\"\")","v":""},{"$f":"IFERROR(IF(allGymnasts!C70=\"\",\"\",INDEX(allGymnasts!$C$4:$C$103,MATCH(SMALL(allGymnasts!$I$4:$I$103,A70),allGymnasts!$I$4:$I$103,0))),\"\")","v":""},{"$f":"IFERROR(IF(allGymnasts!D70=\"\",\"\",INDEX(allGymnasts!$D$4:$D$103,MATCH(SMALL(allGymnasts!$I$4:$I$103,A70),allGymnasts!$I$4:$I$103,0))),\"\")","v":""},{"$f":"IFERROR(IF(allGymnasts!B70=\"\",\"\",INDEX(allGymnasts!$E$4:$E$103,MATCH(SMALL(allGymnasts!$I$4:$I$103,A70),allGymnasts!$I$4:$I$103,0))),\"\")","v":""},{"$f":"IFERROR(IF(allGymnasts!B70=\"\",\"\",INDEX(allGymnasts!$F$4:$F$103,MATCH(SMALL(allGymnasts!$I$4:$I$103,A70),allGymnasts!$I$4:$I$103,0))),\"\")","v":""},{"$f":"IFERROR(IF(allGymnasts!B70=\"\",\"\",INDEX(allGymnasts!$G$4:$G$103,MATCH(SMALL(allGymnasts!$I$4:$I$103,A70),allGymnasts!$I$4:$I$103,0))),\"\")","v":""},{"$f":"IFERROR(IF(allGymnasts!B70=\"\",\"\",INDEX(allGymnasts!$H$4:$H$103,MATCH(SMALL(allGymnasts!$I$4:$I$103,A70),allGymnasts!$I$4:$I$103,0))),\"\")","v":""}]
[68,{"$f":"IFERROR(_xlfn.FLOOR.MATH(IF(allGymnasts!A71=\"\",\"\",INDEX(allGymnasts!$I$4:$I$103,MATCH(SMALL(allGymnasts!$I$4:$I$103,A71),allGymnasts!$I$4:$I$103,0)))),\"\")","v":""},{"$f":"IFERROR(IF(allGymnasts!A71=\"\",\"\",INDEX(allGymnasts!$A$4:$A$103,MATCH(SMALL(allGymnasts!$I$4:$I$103,A71),allGymnasts!$I$4:$I$103,0))),\"\")","v":""},{"$f":"IFERROR(IF(allGymnasts!B71=\"\",\"\",INDEX(allGymnasts!$B$4:$B$103,MATCH(SMALL(allGymnasts!$I$4:$I$103,A71),allGymnasts!$I$4:$I$103,0))),\"\")","v":""},{"$f":"IFERROR(IF(allGymnasts!C71=\"\",\"\",INDEX(allGymnasts!$C$4:$C$103,MATCH(SMALL(allGymnasts!$I$4:$I$103,A71),allGymnasts!$I$4:$I$103,0))),\"\")","v":""},{"$f":"IFERROR(IF(allGymnasts!D71=\"\",\"\",INDEX(allGymnasts!$D$4:$D$103,MATCH(SMALL(allGymnasts!$I$4:$I$103,A71),allGymnasts!$I$4:$I$103,0))),\"\")","v":""},{"$f":"IFERROR(IF(allGymnasts!B71=\"\",\"\",INDEX(allGymnasts!$E$4:$E$103,MATCH(SMALL(allGymnasts!$I$4:$I$103,A71),allGymnasts!$I$4:$I$103,0))),\"\")","v":""},{"$f":"IFERROR(IF(allGymnasts!B71=\"\",\"\",INDEX(allGymnasts!$F$4:$F$103,MATCH(SMALL(allGymnasts!$I$4:$I$103,A71),allGymnasts!$I$4:$I$103,0))),\"\")","v":""},{"$f":"IFERROR(IF(allGymnasts!B71=\"\",\"\",INDEX(allGymnasts!$G$4:$G$103,MATCH(SMALL(allGymnasts!$I$4:$I$103,A71),allGymnasts!$I$4:$I$103,0))),\"\")","v":""},{"$f":"IFERROR(IF(allGymnasts!B71=\"\",\"\",INDEX(allGymnasts!$H$4:$H$103,MATCH(SMALL(allGymnasts!$I$4:$I$103,A71),allGymnasts!$I$4:$I$103,0))),\"\")","v":""}]
[69,{"$f":"IFERROR(_xlfn.FLOOR.MATH(IF(allGymnasts!A72=\"\",\"\",INDEX(allGymnasts!$I$4:$I$103,MATCH(SMALL(allGymnasts!$I$4:$I$103,A72),allGymnasts!$I$4:$I$103,0)))),\"\")","v":""},{"$f":"IFERROR(IF(allGymnasts!A72=\"\",\"\",INDEX(allGymnasts!$A$4:$A$103,MATCH(SMALL(allGymnasts!$I$4:$I$103,A72),allGymnasts!$I$4:$I$103,0))),\"\")","v":""},{"$f":"IFERROR(IF(allGymnasts!B72=\"\",\"\",INDEX(allGymnasts!$B$4:$B$103,MATCH(SMALL(allGymnasts!$I$4:$I$103,A72),allGymnasts!$I$4:$I$103,0))),\"\")","v":""},{"$f":"IFERROR(IF(allGymnasts!C72=\"\",\"\",INDEX(allGymnasts!$C$4:$C$103,MATCH(SMALL(allGymnasts!$I$4:$I$103,A72),allGymnasts!$I$4:$I$103,0))),\"\")","v":""},{"$f":"IFERROR(IF(allGymnasts!D72=\"\",\"\",INDEX(allGymnasts!$D$4:$D$103,MATCH(SMALL(allGymnasts!$I$4:$I$103,A72),allGymnasts!$I$4:$I$103,0))),\"\")","v":""},{"$f":"IFERROR(IF(allGymnasts!B72=\"\",\"\",INDEX(allGymnasts!$E$4:$E$103,MATCH(SMALL(allGymnasts!$I$4:$I$103,A72),allGymnasts!$I$4:$I$103,0))),\"\")","v":""},{"$f":"IFERROR(IF(allGymnasts!B72=\"\",\"\",INDEX(allGymnasts!$F$4:$F$103,MATCH(SMALL(allGymnasts!$I$4:$I$103,A72),allGymnasts!$I$4:$I$103,0))),\"\")","v":""},{"$f":"IFERROR(IF(allGymnasts!B72=\"\",\"\",INDEX(allGymnasts!$G$4:$G$103,MATCH(SMALL(allGymnasts!$I$4:$I$103,A72),allGymnasts!$I$4:$I$103,0))),\"\")","v":""},{"$f":"IFERROR(IF(allGymnasts!B72=\"\",\"\",INDEX(allGymnasts!$H$4:$H$103,MATCH(SMALL(allGymnasts!$I$4:$I$103,A72),allGymnasts!$I$4:$I$103,0))),\"\")","v":""}]
[70,{"$f":"IFERROR(_xlfn.FLOOR.MATH(IF(allGymnasts!A73=\"\",\"\",INDEX(allGymnasts!$I$4:$I$103,MATCH(SMALL(allGymnasts!$I$4:$I$103,A73),allGymnasts!$I$4:$I$103,0)))),\"\")","v":""},{"$f":"IFERROR(IF(allGymnasts!A73=\"\",\"\",INDEX(allGymnasts!$A$4:$A$103,MATCH(SMALL(allGymnasts!$I$4:$I$103,A73),allGymnasts!$I$4:$I$103,0))),\"\")","v":""},{"$f":"IFERROR(IF(allGymnasts!B73=\"\",\"\",INDEX(allGymnasts!$B$4:$B$103,MATCH(SMALL(allGymnasts!$I$4:$I$103,A73),allGymnasts!$I$4:$I$103,0))),\"\")","v":""},{"$f":"IFERROR(IF(allGymnasts!C73=\"\",\"\",INDEX(allGymnasts!$C$4:$C$103,MATCH(SMALL(allGymnasts!$I$4:$I$103,A73),allGymnasts!$I$4:$I$103,0))),\"\")","v":""},{"$f":"IFERROR(IF(allGymnasts!D73=\"\",\"\",INDEX(allGymnasts!$D$4:$D$103,MATCH(SMALL(allGymnasts!$I$4:$I$103,A73),allGymnasts!$I$4:$I$103,0))),\"\")","v":""},{"$f":"IFERROR(IF(allGymnasts!B73=\"\",\"\",INDEX(allGymnasts!$E$4:$E$103,MATCH(SMALL(allGymnasts!$I$4:$I$103,A73),allGymnasts!$I$4:$I$103,0))),\"\")","v":""},{"$f":"IFERROR(IF(allGymnasts!B73=\"\",\"\",INDEX(allGymnasts!$F$4:$F$103,MATCH(SMALL(allGymnasts!$I$4:$I$103,A73),allGymnasts!$I$4:$I$103,0))),\"\")","v":""},{"$f":"IFERROR(IF(allGymnasts!B73=\"\",\"\",INDEX(allGymnasts!$G$4:$G$103,MATCH(SMALL(allGymnasts!$I$4:$I$103,A73),allGymnasts!$I$4:$I$103,0))),\"\")","v":""},{"$f":"IFERROR(IF(allGymnasts!B73=\"\",\"\",INDEX(allGymnasts!$H$4:$H$103,MATCH(SMALL(allGymnasts!$I$4:$I$103,A73),allGymnasts!$I$4:$I$103,0))),\"\")","v":""}]
[71,{"$f":"IFERROR(_xlfn.FLOOR.MATH(IF(allGymnasts!A74=\"\",\"\",INDEX(allGymnasts!$I$4:$I$103,MATCH(SMALL(allGymnasts!$I$4:$I$103,A74),allGymnasts!$I$4:$I$103,0)))),\"\")","v":""},{"$f":"IFERROR(IF(allGymnasts!A74=\"\",\"\",INDEX(allGymnasts!$A$4:$A$103,MATCH(SMALL(allGymnasts!$I$4:$I$103,A74),allGymnasts!$I$4:$I$103,0))),\"\")","v":""},{"$f":"IFERROR(IF(allGymnasts!B74=\"\",\"\",INDEX(allGymnasts!$B$4:$B$103,MATCH(SMALL(allGymnasts!$I$4:$I$103,A74),allGymnasts!$I$4:$I$103,0))),\"\")","v":""},{"$f":"IFERROR(IF(allGymnasts!C74=\"\",\"\",INDEX(allGymnasts!$C$4:$C$103,MATCH(SMALL(allGymnasts!$I$4:$I$103,A74),allGymnasts!$I$4:$I$103,0))),\"\")","v":""},{"$f":"IFERROR(IF(allGymnasts!D74=\"\",\"\",INDEX(allGymnasts!$D$4:$D$103,MATCH(SMALL(allGymnasts!$I$4:$I$103,A74),allGymnasts!$I$4:$I$103,0))),\"\")","v":""},{"$f":"IFERROR(IF(allGymnasts!B74=\"\",\"\",INDEX(allGymnasts!$E$4:$E$103,MATCH(SMALL(allGymnasts!$I$4:$I$103,A74),allGymnasts!$I$4:$I$103,0))),\"\")","v":""},{"$f":"IFERROR(IF(allGymnasts!B74=\"\",\"\",INDEX(allGymnasts!$F$4:$F$103,MATCH(SMALL(allGymnasts!$I$4:$I$103,A74),allGymnasts!$I$4:$I$103,0))),\"\")","v":""},{"$f":"IFERROR(IF(allGymnasts!B74=\"\",\"\",INDEX(allGymnasts!$G$4:$G$103,MATCH(SMALL(allGymnasts!$I$4:$I$103,A74),allGymnasts!$I$4:$I$103,0))),\"\")","v":""},{"$f":"IFERROR(IF(allGymnasts!B74=\"\",\"\",INDEX(allGymnasts!$H$4:$H$103,MATCH(SMALL(allGymnasts!$I$4:$I$103,A74),allGymnasts!$I$4:$I$103,0))),\"\")","v":""}]
[72,{"$f":"IFERROR(_xlfn.FLOOR.MATH(IF(allGymnasts!A75=\"\",\"\",INDEX(allGymnasts!$I$4:$I$103,MATCH(SMALL(allGymnasts!$I$4:$I$103,A75),allGymnasts!$I$4:$I$103,0)))),\"\")","v":""},{"$f":"IFERROR(IF(allGymnasts!A75=\"\",\"\",INDEX(allGymnasts!$A$4:$A$103,MATCH(SMALL(allGymnasts!$I$4:$I$103,A75),allGymnasts!$I$4:$I$103,0))),\"\")","v":""},{"$f":"IFERROR(IF(allGymnasts!B75=\"\",\"\",INDEX(allGymnasts!$B$4:$B$103,MATCH(SMALL(allGymnasts!$I$4:$I$103,A75),allGymnasts!$I$4:$I$103,0))),\"\")","v":""},{"$f":"IFERROR(IF(allGymnasts!C75=\"\",\"\",INDEX(allGymnasts!$C$4:$C$103,MATCH(SMALL(allGymnasts!$I$4:$I$103,A75),allGymnasts!$I$4:$I$103,0))),\"\")","v":""},{"$f":"IFERROR(IF(allGymnasts!D75=\"\",\"\",INDEX(allGymnasts!$D$4:$D$103,MATCH(SMALL(allGymnasts!$I$4:$I$103,A75),allGymnasts!$I$4:$I$103,0))),\"\")","v":""},{"$f":"IFERROR(IF(allGymnasts!B75=\"\",\"\",INDEX(allGymnasts!$E$4:$E$103,MATCH(SMALL(allGymnasts!$I$4:$I$103,A75),allGymnasts!$I$4:$I$103,0))),\"\")","v":""},{"$f":"IFERROR(IF(allGymnasts!B75=\"\",\"\",INDEX(allGymnasts!$F$4:$F$103,MATCH(SMALL(allGymnasts!$I$4:$I$103,A75),allGymnasts!$I$4:$I$103,0))),\"\")","v":""},{"$f":"IFERROR(IF(allGymnasts!B75=\"\",\"\",INDEX(allGymnasts!$G$4:$G$103,MATCH(SMALL(allGymnasts!$I$4:$I$103,A75),allGymnasts!$I$4:$I$103,0))),\"\")","v":""},{"$f":"IFERROR(IF(allGymnasts!B75=\"\",\"\",INDEX(allGymnasts!$H$4:$H$103,MATCH(SMALL(allGymnasts!$I$4:$I$103,A75),allGymnasts!$I$4:$I$103,0))),\"\")","v":""}]
[73,{"$f":"IFERROR(_xlfn.FLOOR.MATH(IF(allGymnasts!A76=\"\",\"\",INDEX(allGymnasts!$I$4:$I$103,MATCH(SMALL(allGymnasts!$I$4:$I$103,A76),allGymnasts!$I$4:$I$103,0)))),\"\")","v":""},{"$f":"IFERROR(IF(allGymnasts!A76=\"\",\"\",INDEX(allGymnasts!$A$4:$A$103,MATCH(SMALL(allGymnasts!$I$4:$I$103,A76),allGymnasts!$I$4:$I$103,0))),\"\")","v":""},{"$f":"IFERROR(IF(allGymnasts!B76=\"\",\"\",INDEX(allGymnasts!$B$4:$B$103,MATCH(SMALL(allGymnasts!$I$4:$I$103,A76),allGymnasts!$I$4:$I$103,0))),\"\")","v":""},{"$f":"IFERROR(IF(allGymnasts!C76=\"\",\"\",INDEX(allGymnasts!$C$4:$C$103,MATCH(SMALL(allGymnasts!$I$4:$I$103,A76),allGymnasts!$I$4:$I$103,0))),\"\")","v":""},{"$f":"IFERROR(IF(allGymnasts!D76=\"\",\"\",INDEX(allGymnasts!$D$4:$D$103,MATCH(SMALL(allGymnasts!$I$4:$I$103,A76),allGymnasts!$I$4:$I$103,0))),\"\")","v":""},{"$f":"IFERROR(IF(allGymnasts!B76=\"\",\"\",INDEX(allGymnasts!$E$4:$E$103,MATCH(SMALL(allGymnasts!$I$4:$I$103,A76),allGymnasts!$I$4:$I$103,0))),\"\")","v":""},{"$f":"IFERROR(IF(allGymnasts!B76=\"\",\"\",INDEX(allGymnasts!$F$4:$F$103,MATCH(SMALL(allGymnasts!$I$4:$I$103,A76),allGymnasts!$I$4:$I$103,0))),\"\")","v":""},{"$f":"IFERROR(IF(allGymnasts!B76=\"\",\"\",INDEX(allGymnasts!$G$4:$G$103,MATCH(SMALL(allGymnasts!$I$4:$I$103,A76),allGymnasts!$I$4:$I$103,0))),\"\")","v":""},{"$f":"IFERROR(IF(allGymnasts!B76=\"\",\"\",INDEX(allGymnasts!$H$4:$H$103,MATCH(SMALL(allGymnasts!$I$4:$I$103,A76),allGymnasts!$I$4:$I$103,0))),\"\")","v":""}]
[74,{"$f":"IFERROR(_xlfn.FLOOR.MATH(IF(allGymnasts!A77=\"\",\"\",INDEX(allGymnasts!$I$4:$I$103,MATCH(SMALL(allGymnasts!$I$4:$I$103,A77),allGymnasts!$I$4:$I$103,0)))),\"\")","v":""},{"$f":"IFERROR(IF(allGymnasts!A77=\"\",\"\",INDEX(allGymnasts!$A$4:$A$103,MATCH(SMALL(allGymnasts!$I$4:$I$103,A77),allGymnasts!$I$4:$I$103,0))),\"\")","v":""},{"$f":"IFERROR(IF(allGymnasts!B77=\"\",\"\",INDEX(allGymnasts!$B$4:$B$103,MATCH(SMALL(allGymnasts!$I$4:$I$103,A77),allGymnasts!$I$4:$I$103,0))),\"\")","v":""},{"$f":"IFERROR(IF(allGymnasts!C77=\"\",\"\",INDEX(allGymnasts!$C$4:$C$103,MATCH(SMALL(allGymnasts!$I$4:$I$103,A77),allGymnasts!$I$4:$I$103,0))),\"\")","v":""},{"$f":"IFERROR(IF(allGymnasts!D77=\"\",\"\",INDEX(allGymnasts!$D$4:$D$103,MATCH(SMALL(allGymnasts!$I$4:$I$103,A77),allGymnasts!$I$4:$I$103,0))),\"\")","v":""},{"$f":"IFERROR(IF(allGymnasts!B77=\"\",\"\",INDEX(allGymnasts!$E$4:$E$103,MATCH(SMALL(allGymnasts!$I$4:$I$103,A77),allGymnasts!$I$4:$I$103,0))),\"\")","v":""},{"$f":"IFERROR(IF(allGymnasts!B77=\"\",\"\",INDEX(allGymnasts!$F$4:$F$103,MATCH(SMALL(allGymnasts!$I$4:$I$103,A77),allGymnasts!$I$4:$I$103,0))),\"\")","v":""},{"$f":"IFERROR(IF(allGymnasts!B77=\"\",\"\",INDEX(allGymnasts!$G$4:$G$103,MATCH(SMALL(allGymnasts!$I$4:$I$103,A77),allGymnasts!$I$4:$I$103,0))),\"\")","v":""},{"$f":"IFERROR(IF(allGymnasts!B77=\"\",\"\",INDEX(allGymnasts!$H$4:$H$103,MATCH(SMALL(allGymnasts!$I$4:$I$103,A77),allGymnasts!$I$4:$I$103,0))),\"\")","v":""}]
[75,{"$f":"IFERROR(_xlfn.FLOOR.MATH(IF(allGymnasts!A78=\"\",\"\",INDEX(allGymnasts!$I$4:$I$103,MATCH(SMALL(allGymnasts!$I$4:$I$103,A78),allGymnasts!$I$4:$I$103,0)))),\"\")","v":""},{"$f":"IFERROR(IF(allGymnasts!A78=\"\",\"\",INDEX(allGymnasts!$A$4:$A$103,MATCH(SMALL(allGymnasts!$I$4:$I$103,A78),allGymnasts!$I$4:$I$103,0))),\"\")","v":""},{"$f":"IFERROR(IF(allGymnasts!B78=\"\",\"\",INDEX(allGymnasts!$B$4:$B$103,MATCH(SMALL(allGymnasts!$I$4:$I$103,A78),allGymnasts!$I$4:$I$103,0))),\"\")","v":""},{"$f":"IFERROR(IF(allGymnasts!C78=\"\",\"\",INDEX(allGymnasts!$C$4:$C$103,MATCH(SMALL(allGymnasts!$I$4:$I$103,A78),allGymnasts!$I$4:$I$103,0))),\"\")","v":""},{"$f":"IFERROR(IF(allGymnasts!D78=\"\",\"\",INDEX(allGymnasts!$D$4:$D$103,MATCH(SMALL(allGymnasts!$I$4:$I$103,A78),allGymnasts!$I$4:$I$103,0))),\"\")","v":""},{"$f":"IFERROR(IF(allGymnasts!B78=\"\",\"\",INDEX(allGymnasts!$E$4:$E$103,MATCH(SMALL(allGymnasts!$I$4:$I$103,A78),allGymnasts!$I$4:$I$103,0))),\"\")","v":""},{"$f":"IFERROR(IF(allGymnasts!B78=\"\",\"\",INDEX(allGymnasts!$F$4:$F$103,MATCH(SMALL(allGymnasts!$I$4:$I$103,A78),allGymnasts!$I$4:$I$103,0))),\"\")","v":""},{"$f":"IFERROR(IF(allGymnasts!B78=\"\",\"\",INDEX(allGymnasts!$G$4:$G$103,MATCH(SMALL(allGymnasts!$I$4:$I$103,A78),allGymnasts!$I$4:$I$103,0))),\"\")","v":""},{"$f":"IFERROR(IF(allGymnasts!B78=\"\",\"\",INDEX(allGymnasts!$H$4:$H$103,MATCH(SMALL(allGymnasts!$I$4:$I$103,A78),allGymnasts!$I$4:$I$103,0))),\"\")","v":""}]
[76,{"$f":"IFERROR(_xlfn.FLOOR.MATH(IF(allGymnasts!A79=\"\",\"\",INDEX(allGymnasts!$I$4:$I$103,MATCH(SMALL(allGymnasts!$I$4:$I$103,A79),allGymnasts!$I$4:$I$103,0)))),\"\")","v":""},{"$f":"IFERROR(IF(allGymnasts!A79=\"\",\"\",INDEX(allGymnasts!$A$4:$A$103,MATCH(SMALL(allGymnasts!$I$4:$I$103,A79),allGymnasts!$I$4:$I$103,0))),\"\")","v":""},{"$f":"IFERROR(IF(allGymnasts!B79=\"\",\"\",INDEX(allGymnasts!$B$4:$B$103,MATCH(SMALL(allGymnasts!$I$4:$I$103,A79),allGymnasts!$I$4:$I$103,0))),\"\")","v":""},{"$f":"IFERROR(IF(allGymnasts!C79=\"\",\"\",INDEX(allGymnasts!$C$4:$C$103,MATCH(SMALL(allGymnasts!$I$4:$I$103,A79),allGymnasts!$I$4:$I$103,0))),\"\")","v":""},{"$f":"IFERROR(IF(allGymnasts!D79=\"\",\"\",INDEX(allGymnasts!$D$4:$D$103,MATCH(SMALL(allGymnasts!$I$4:$I$103,A79),allGymnasts!$I$4:$I$103,0))),\"\")","v":""},{"$f":"IFERROR(IF(allGymnasts!B79=\"\",\"\",INDEX(allGymnasts!$E$4:$E$103,MATCH(SMALL(allGymnasts!$I$4:$I$103,A79),allGymnasts!$I$4:$I$103,0))),\"\")","v":""},{"$f":"IFERROR(IF(allGymnasts!B79=\"\",\"\",INDEX(allGymnasts!$F$4:$F$103,MATCH(SMALL(allGymnasts!$I$4:$I$103,A79),allGymnasts!$I$4:$I$103,0))),\"\")","v":""},{"$f":"IFERROR(IF(allGymnasts!B79=\"\",\"\",INDEX(allGymnasts!$G$4:$G$103,MATCH(SMALL(allGymnasts!$I$4:$I$103,A79),allGymnasts!$I$4:$I$103,0))),\"\")","v":""},{"$f":"IFERROR(IF(allGymnasts!B79=\"\",\"\",INDEX(allGymnasts!$H$4:$H$103,MATCH(SMALL(allGymnasts!$I$4:$I$103,A79),allGymnasts!$I$4:$I$103,0))),\"\")","v":""}]
[77,{"$f":"IFERROR(_xlfn.FLOOR.MATH(IF(allGymnasts!A80=\"\",\"\",INDEX(allGymnasts!$I$4:$I$103,MATCH(SMALL(allGymnasts!$I$4:$I$103,A80),allGymnasts!$I$4:$I$103,0)))),\"\")","v":""},{"$f":"IFERROR(IF(allGymnasts!A80=\"\",\"\",INDEX(allGymnasts!$A$4:$A$103,MATCH(SMALL(allGymnasts!$I$4:$I$103,A80),allGymnasts!$I$4:$I$103,0))),\"\")","v":""},{"$f":"IFERROR(IF(allGymnasts!B80=\"\",\"\",INDEX(allGymnasts!$B$4:$B$103,MATCH(SMALL(allGymnasts!$I$4:$I$103,A80),allGymnasts!$I$4:$I$103,0))),\"\")","v":""},{"$f":"IFERROR(IF(allGymnasts!C80=\"\",\"\",INDEX(allGymnasts!$C$4:$C$103,MATCH(SMALL(allGymnasts!$I$4:$I$103,A80),allGymnasts!$I$4:$I$103,0))),\"\")","v":""},{"$f":"IFERROR(IF(allGymnasts!D80=\"\",\"\",INDEX(allGymnasts!$D$4:$D$103,MATCH(SMALL(allGymnasts!$I$4:$I$103,A80),allGymnasts!$I$4:$I$103,0))),\"\")","v":""},{"$f":"IFERROR(IF(allGymnasts!B80=\"\",\"\",INDEX(allGymnasts!$E$4:$E$103,MATCH(SMALL(allGymnasts!$I$4:$I$103,A80),allGymnasts!$I$4:$I$103,0))),\"\")","v":""},{"$f":"IFERROR(IF(allGymnasts!B80=\"\",\"\",INDEX(allGymnasts!$F$4:$F$103,MATCH(SMALL(allGymnasts!$I$4:$I$103,A80),allGymnasts!$I$4:$I$103,0))),\"\")","v":""},{"$f":"IFERROR(IF(allGymnasts!B80=\"\",\"\",INDEX(allGymnasts!$G$4:$G$103,MATCH(SMALL(allGymnasts!$I$4:$I$103,A80),allGymnasts!$I$4:$I$103,0))),\"\")","v":""},{"$f":"IFERROR(IF(allGymnasts!B80=\"\",\"\",INDEX(allGymnasts!$H$4:$H$103,MATCH(SMALL(allGymnasts!$I$4:$I$103,A80),allGymnasts!$I$4:$I$103,0))),\"\")","v":""}]
[78,{"$f":"IFERROR(_xlfn.FLOOR.MATH(IF(allGymnasts!A81=\"\",\"\",INDEX(allGymnasts!$I$4:$I$103,MATCH(SMALL(allGymnasts!$I$4:$I$103,A81),allGymnasts!$I$4:$I$103,0)))),\"\")","v":""},{"$f":"IFERROR(IF(allGymnasts!A81=\"\",\"\",INDEX(allGymnasts!$A$4:$A$103,MATCH(SMALL(allGymnasts!$I$4:$I$103,A81),allGymnasts!$I$4:$I$103,0))),\"\")","v":""},{"$f":"IFERROR(IF(allGymnasts!B81=\"\",\"\",INDEX(allGymnasts!$B$4:$B$103,MATCH(SMALL(allGymnasts!$I$4:$I$103,A81),allGymnasts!$I$4:$I$103,0))),\"\")","v":""},{"$f":"IFERROR(IF(allGymnasts!C81=\"\",\"\",INDEX(allGymnasts!$C$4:$C$103,MATCH(SMALL(allGymnasts!$I$4:$I$103,A81),allGymnasts!$I$4:$I$103,0))),\"\")","v":""},{"$f":"IFERROR(IF(allGymnasts!D81=\"\",\"\",INDEX(allGymnasts!$D$4:$D$103,MATCH(SMALL(allGymnasts!$I$4:$I$103,A81),allGymnasts!$I$4:$I$103,0))),\"\")","v":""},{"$f":"IFERROR(IF(allGymnasts!B81=\"\",\"\",INDEX(allGymnasts!$E$4:$E$103,MATCH(SMALL(allGymnasts!$I$4:$I$103,A81),allGymnasts!$I$4:$I$103,0))),\"\")","v":""},{"$f":"IFERROR(IF(allGymnasts!B81=\"\",\"\",INDEX(allGymnasts!$F$4:$F$103,MATCH(SMALL(allGymnasts!$I$4:$I$103,A81),allGymnasts!$I$4:$I$103,0))),\"\")","v":""},{"$f":"IFERROR(IF(allGymnasts!B81=\"\",\"\",INDEX(allGymnasts!$G$4:$G$103,MATCH(SMALL(allGymnasts!$I$4:$I$103,A81),allGymnasts!$I$4:$I$103,0))),\"\")","v":""},{"$f":"IFERROR(IF(allGymnasts!B81=\"\",\"\",INDEX(allGymnasts!$H$4:$H$103,MATCH(SMALL(allGymnasts!$I$4:$I$103,A81),allGymnasts!$I$4:$I$103,0))),\"\")","v":""}]
[79,{"$f":"IFERROR(_xlfn.FLOOR.MATH(IF(allGymnasts!A82=\"\",\"\",INDEX(allGymnasts!$I$4:$I$103,MATCH(SMALL(allGymnasts!$I$4:$I$103,A82),allGymnasts!$I$4:$I$103,0)))),\"\")","v":""},{"$f":"IFERROR(IF(allGymnasts!A82=\"\",\"\",INDEX(allGymnasts!$A$4:$A$103,MATCH(SMALL(allGymnasts!$I$4:$I$103,A82),allGymnasts!$I$4:$I$103,0))),\"\")","v":""},{"$f":"IFERROR(IF(allGymnasts!B82=\"\",\"\",INDEX(allGymnasts!$B$4:$B$103,MATCH(SMALL(allGymnasts!$I$4:$I$103,A82),allGymnasts!$I$4:$I$103,0))),\"\")","v":""},{"$f":"IFERROR(IF(allGymnasts!C82=\"\",\"\",INDEX(allGymnasts!$C$4:$C$103,MATCH(SMALL(allGymnasts!$I$4:$I$103,A82),allGymnasts!$I$4:$I$103,0))),\"\")","v":""},{"$f":"IFERROR(IF(allGymnasts!D82=\"\",\"\",INDEX(allGymnasts!$D$4:$D$103,MATCH(SMALL(allGymnasts!$I$4:$I$103,A82),allGymnasts!$I$4:$I$103,0))),\"\")","v":""},{"$f":"IFERROR(IF(allGymnasts!B82=\"\",\"\",INDEX(allGymnasts!$E$4:$E$103,MATCH(SMALL(allGymnasts!$I$4:$I$103,A82),allGymnasts!$I$4:$I$103,0))),\"\")","v":""},{"$f":"IFERROR(IF(allGymnasts!B82=\"\",\"\",INDEX(allGymnasts!$F$4:$F$103,MATCH(SMALL(allGymnasts!$I$4:$I$103,A82),allGymnasts!$I$4:$I$103,0))),\"\")","v":""},{"$f":"IFERROR(IF(allGymnasts!B82=\"\",\"\",INDEX(allGymnasts!$G$4:$G$103,MATCH(SMALL(allGymnasts!$I$4:$I$103,A82),allGymnasts!$I$4:$I$103,0))),\"\")","v":""},{"$f":"IFERROR(IF(allGymnasts!B82=\"\",\"\",INDEX(allGymnasts!$H$4:$H$103,MATCH(SMALL(allGymnasts!$I$4:$I$103,A82),allGymnasts!$I$4:$I$103,0))),\"\")","v":""}]
[80,{"$f":"IFERROR(_xlfn.FLOOR.MATH(IF(allGymnasts!A83=\"\",\"\",INDEX(allGymnasts!$I$4:$I$103,MATCH(SMALL(allGymnasts!$I$4:$I$103,A83),allGymnasts!$I$4:$I$103,0)))),\"\")","v":""},{"$f":"IFERROR(IF(allGymnasts!A83=\"\",\"\",INDEX(allGymnasts!$A$4:$A$103,MATCH(SMALL(allGymnasts!$I$4:$I$103,A83),allGymnasts!$I$4:$I$103,0))),\"\")","v":""},{"$f":"IFERROR(IF(allGymnasts!B83=\"\",\"\",INDEX(allGymnasts!$B$4:$B$103,MATCH(SMALL(allGymnasts!$I$4:$I$103,A83),allGymnasts!$I$4:$I$103,0))),\"\")","v":""},{"$f":"IFERROR(IF(allGymnasts!C83=\"\",\"\",INDEX(allGymnasts!$C$4:$C$103,MATCH(SMALL(allGymnasts!$I$4:$I$103,A83),allGymnasts!$I$4:$I$103,0))),\"\")","v":""},{"$f":"IFERROR(IF(allGymnasts!D83=\"\",\"\",INDEX(allGymnasts!$D$4:$D$103,MATCH(SMALL(allGymnasts!$I$4:$I$103,A83),allGymnasts!$I$4:$I$103,0))),\"\")","v":""},{"$f":"IFERROR(IF(allGymnasts!B83=\"\",\"\",INDEX(allGymnasts!$E$4:$E$103,MATCH(SMALL(allGymnasts!$I$4:$I$103,A83),allGymnasts!$I$4:$I$103,0))),\"\")","v":""},{"$f":"IFERROR(IF(allGymnasts!B83=\"\",\"\",INDEX(allGymnasts!$F$4:$F$103,MATCH(SMALL(allGymnasts!$I$4:$I$103,A83),allGymnasts!$I$4:$I$103,0))),\"\")","v":""},{"$f":"IFERROR(IF(allGymnasts!B83=\"\",\"\",INDEX(allGymnasts!$G$4:$G$103,MATCH(SMALL(allGymnasts!$I$4:$I$103,A83),allGymnasts!$I$4:$I$103,0))),\"\")","v":""},{"$f":"IFERROR(IF(allGymnasts!B83=\"\",\"\",INDEX(allGymnasts!$H$4:$H$103,MATCH(SMALL(allGymnasts!$I$4:$I$103,A83),allGymnasts!$I$4:$I$103,0))),\"\")","v":""}]
[81,{"$f":"IFERROR(_xlfn.FLOOR.MATH(IF(allGymnasts!A84=\"\",\"\",INDEX(allGymnasts!$I$4:$I$103,MATCH(SMALL(allGymnasts!$I$4:$I$103,A84),allGymnasts!$I$4:$I$103,0)))),\"\")","v":""},{"$f":"IFERROR(IF(allGymnasts!A84=\"\",\"\",INDEX(allGymnasts!$A$4:$A$103,MATCH(SMALL(allGymnasts!$I$4:$I$103,A84),allGymnasts!$I$4:$I$103,0))),\"\")","v":""},{"$f":"IFERROR(IF(allGymnasts!B84=\"\",\"\",INDEX(allGymnasts!$B$4:$B$103,MATCH(SMALL(allGymnasts!$I$4:$I$103,A84),allGymnasts!$I$4:$I$103,0))),\"\")","v":""},{"$f":"IFERROR(IF(allGymnasts!C84=\"\",\"\",INDEX(allGymnasts!$C$4:$C$103,MATCH(SMALL(allGymnasts!$I$4:$I$103,A84),allGymnasts!$I$4:$I$103,0))),\"\")","v":""},{"$f":"IFERROR(IF(allGymnasts!D84=\"\",\"\",INDEX(allGymnasts!$D$4:$D$103,MATCH(SMALL(allGymnasts!$I$4:$I$103,A84),allGymnasts!$I$4:$I$103,0))),\"\")","v":""},{"$f":"IFERROR(IF(allGymnasts!B84=\"\",\"\",INDEX(allGymnasts!$E$4:$E$103,MATCH(SMALL(allGymnasts!$I$4:$I$103,A84),allGymnasts!$I$4:$I$103,0))),\"\")","v":""},{"$f":"IFERROR(IF(allGymnasts!B84=\"\",\"\",INDEX(allGymnasts!$F$4:$F$103,MATCH(SMALL(allGymnasts!$I$4:$I$103,A84),allGymnasts!$I$4:$I$103,0))),\"\")","v":""},{"$f":"IFERROR(IF(allGymnasts!B84=\"\",\"\",INDEX(allGymnasts!$G$4:$G$103,MATCH(SMALL(allGymnasts!$I$4:$I$103,A84),allGymnasts!$I$4:$I$103,0))),\"\")","v":""},{"$f":"IFERROR(IF(allGymnasts!B84=\"\",\"\",INDEX(allGymnasts!$H$4:$H$103,MATCH(SMALL(allGymnasts!$I$4:$I$103,A84),allGymnasts!$I$4:$I$103,0))),\"\")","v":""}]
[82,{"$f":"IFERROR(_xlfn.FLOOR.MATH(IF(allGymnasts!A85=\"\",\"\",INDEX(allGymnasts!$I$4:$I$103,MATCH(SMALL(allGymnasts!$I$4:$I$103,A85),allGymnasts!$I$4:$I$103,0)))),\"\")","v":""},{"$f":"IFERROR(IF(allGymnasts!A85=\"\",\"\",INDEX(allGymnasts!$A$4:$A$103,MATCH(SMALL(allGymnasts!$I$4:$I$103,A85),allGymnasts!$I$4:$I$103,0))),\"\")","v":""},{"$f":"IFERROR(IF(allGymnasts!B85=\"\",\"\",INDEX(allGymnasts!$B$4:$B$103,MATCH(SMALL(allGymnasts!$I$4:$I$103,A85),allGymnasts!$I$4:$I$103,0))),\"\")","v":""},{"$f":"IFERROR(IF(allGymnasts!C85=\"\",\"\",INDEX(allGymnasts!$C$4:$C$103,MATCH(SMALL(allGymnasts!$I$4:$I$103,A85),allGymnasts!$I$4:$I$103,0))),\"\")","v":""},{"$f":"IFERROR(IF(allGymnasts!D85=\"\",\"\",INDEX(allGymnasts!$D$4:$D$103,MATCH(SMALL(allGymnasts!$I$4:$I$103,A85),allGymnasts!$I$4:$I$103,0))),\"\")","v":""},{"$f":"IFERROR(IF(allGymnasts!B85=\"\",\"\",INDEX(allGymnasts!$E$4:$E$103,MATCH(SMALL(allGymnasts!$I$4:$I$103,A85),allGymnasts!$I$4:$I$103,0))),\"\")","v":""},{"$f":"IFERROR(IF(allGymnasts!B85=\"\",\"\",INDEX(allGymnasts!$F$4:$F$103,MATCH(SMALL(allGymnasts!$I$4:$I$103,A85),allGymnasts!$I$4:$I$103,0))),\"\")","v":""},{"$f":"IFERROR(IF(allGymnasts!B85=\"\",\"\",INDEX(allGymnasts!$G$4:$G$103,MATCH(SMALL(allGymnasts!$I$4:$I$103,A85),allGymnasts!$I$4:$I$103,0))),\"\")","v":""},{"$f":"IFERROR(IF(allGymnasts!B85=\"\",\"\",INDEX(allGymnasts!$H$4:$H$103,MATCH(SMALL(allGymnasts!$I$4:$I$103,A85),allGymnasts!$I$4:$I$103,0))),\"\")","v":""}]
[83,{"$f":"IFERROR(_xlfn.FLOOR.MATH(IF(allGymnasts!A86=\"\",\"\",INDEX(allGymnasts!$I$4:$I$103,MATCH(SMALL(allGymnasts!$I$4:$I$103,A86),allGymnasts!$I$4:$I$103,0)))),\"\")","v":""},{"$f":"IFERROR(IF(allGymnasts!A86=\"\",\"\",INDEX(allGymnasts!$A$4:$A$103,MATCH(SMALL(allGymnasts!$I$4:$I$103,A86),allGymnasts!$I$4:$I$103,0))),\"\")","v":""},{"$f":"IFERROR(IF(allGymnasts!B86=\"\",\"\",INDEX(allGymnasts!$B$4:$B$103,MATCH(SMALL(allGymnasts!$I$4:$I$103,A86),allGymnasts!$I$4:$I$103,0))),\"\")","v":""},{"$f":"IFERROR(IF(allGymnasts!C86=\"\",\"\",INDEX(allGymnasts!$C$4:$C$103,MATCH(SMALL(allGymnasts!$I$4:$I$103,A86),allGymnasts!$I$4:$I$103,0))),\"\")","v":""},{"$f":"IFERROR(IF(allGymnasts!D86=\"\",\"\",INDEX(allGymnasts!$D$4:$D$103,MATCH(SMALL(allGymnasts!$I$4:$I$103,A86),allGymnasts!$I$4:$I$103,0))),\"\")","v":""},{"$f":"IFERROR(IF(allGymnasts!B86=\"\",\"\",INDEX(allGymnasts!$E$4:$E$103,MATCH(SMALL(allGymnasts!$I$4:$I$103,A86),allGymnasts!$I$4:$I$103,0))),\"\")","v":""},{"$f":"IFERROR(IF(allGymnasts!B86=\"\",\"\",INDEX(allGymnasts!$F$4:$F$103,MATCH(SMALL(allGymnasts!$I$4:$I$103,A86),allGymnasts!$I$4:$I$103,0))),\"\")","v":""},{"$f":"IFERROR(IF(allGymnasts!B86=\"\",\"\",INDEX(allGymnasts!$G$4:$G$103,MATCH(SMALL(allGymnasts!$I$4:$I$103,A86),allGymnasts!$I$4:$I$103,0))),\"\")","v":""},{"$f":"IFERROR(IF(allGymnasts!B86=\"\",\"\",INDEX(allGymnasts!$H$4:$H$103,MATCH(SMALL(allGymnasts!$I$4:$I$103,A86),allGymnasts!$I$4:$I$103,0))),\"\")","v":""}]
[84,{"$f":"IFERROR(_xlfn.FLOOR.MATH(IF(allGymnasts!A87=\"\",\"\",INDEX(allGymnasts!$I$4:$I$103,MATCH(SMALL(allGymnasts!$I$4:$I$103,A87),allGymnasts!$I$4:$I$103,0)))),\"\")","v":""},{"$f":"IFERROR(IF(allGymnasts!A87=\"\",\"\",INDEX(allGymnasts!$A$4:$A$103,MATCH(SMALL(allGymnasts!$I$4:$I$103,A87),allGymnasts!$I$4:$I$103,0))),\"\")","v":""},{"$f":"IFERROR(IF(allGymnasts!B87=\"\",\"\",INDEX(allGymnasts!$B$4:$B$103,MATCH(SMALL(allGymnasts!$I$4:$I$103,A87),allGymnasts!$I$4:$I$103,0))),\"\")","v":""},{"$f":"IFERROR(IF(allGymnasts!C87=\"\",\"\",INDEX(allGymnasts!$C$4:$C$103,MATCH(SMALL(allGymnasts!$I$4:$I$103,A87),allGymnasts!$I$4:$I$103,0))),\"\")","v":""},{"$f":"IFERROR(IF(allGymnasts!D87=\"\",\"\",INDEX(allGymnasts!$D$4:$D$103,MATCH(SMALL(allGymnasts!$I$4:$I$103,A87),allGymnasts!$I$4:$I$103,0))),\"\")","v":""},{"$f":"IFERROR(IF(allGymnasts!B87=\"\",\"\",INDEX(allGymnasts!$E$4:$E$103,MATCH(SMALL(allGymnasts!$I$4:$I$103,A87),allGymnasts!$I$4:$I$103,0))),\"\")","v":""},{"$f":"IFERROR(IF(allGymnasts!B87=\"\",\"\",INDEX(allGymnasts!$F$4:$F$103,MATCH(SMALL(allGymnasts!$I$4:$I$103,A87),allGymnasts!$I$4:$I$103,0))),\"\")","v":""},{"$f":"IFERROR(IF(allGymnasts!B87=\"\",\"\",INDEX(allGymnasts!$G$4:$G$103,MATCH(SMALL(allGymnasts!$I$4:$I$103,A87),allGymnasts!$I$4:$I$103,0))),\"\")","v":""},{"$f":"IFERROR(IF(allGymnasts!B87=\"\",\"\",INDEX(allGymnasts!$H$4:$H$103,MATCH(SMALL(allGymnasts!$I$4:$I$103,A87),allGymnasts!$I$4:$I$103,0))),\"\")","v":""}]
[85,{"$f":"IFERROR(_xlfn.FLOOR.MATH(IF(allGymnasts!A88=\"\",\"\",INDEX(allGymnasts!$I$4:$I$103,MATCH(SMALL(allGymnasts!$I$4:$I$103,A88),allGymnasts!$I$4:$I$103,0)))),\"\")","v":""},{"$f":"IFERROR(IF(allGymnasts!A88=\"\",\"\",INDEX(allGymnasts!$A$4:$A$103,MATCH(SMALL(allGymnasts!$I$4:$I$103,A88),allGymnasts!$I$4:$I$103,0))),\"\")","v":""},{"$f":"IFERROR(IF(allGymnasts!B88=\"\",\"\",INDEX(allGymnasts!$B$4:$B$103,MATCH(SMALL(allGymnasts!$I$4:$I$103,A88),allGymnasts!$I$4:$I$103,0))),\"\")","v":""},{"$f":"IFERROR(IF(allGymnasts!C88=\"\",\"\",INDEX(allGymnasts!$C$4:$C$103,MATCH(SMALL(allGymnasts!$I$4:$I$103,A88),allGymnasts!$I$4:$I$103,0))),\"\")","v":""},{"$f":"IFERROR(IF(allGymnasts!D88=\"\",\"\",INDEX(allGymnasts!$D$4:$D$103,MATCH(SMALL(allGymnasts!$I$4:$I$103,A88),allGymnasts!$I$4:$I$103,0))),\"\")","v":""},{"$f":"IFERROR(IF(allGymnasts!B88=\"\",\"\",INDEX(allGymnasts!$E$4:$E$103,MATCH(SMALL(allGymnasts!$I$4:$I$103,A88),allGymnasts!$I$4:$I$103,0))),\"\")","v":""},{"$f":"IFERROR(IF(allGymnasts!B88=\"\",\"\",INDEX(allGymnasts!$F$4:$F$103,MATCH(SMALL(allGymnasts!$I$4:$I$103,A88),allGymnasts!$I$4:$I$103,0))),\"\")","v":""},{"$f":"IFERROR(IF(allGymnasts!B88=\"\",\"\",INDEX(allGymnasts!$G$4:$G$103,MATCH(SMALL(allGymnasts!$I$4:$I$103,A88),allGymnasts!$I$4:$I$103,0))),\"\")","v":""},{"$f":"IFERROR(IF(allGymnasts!B88=\"\",\"\",INDEX(allGymnasts!$H$4:$H$103,MATCH(SMALL(allGymnasts!$I$4:$I$103,A88),allGymnasts!$I$4:$I$103,0))),\"\")","v":""}]
[86,{"$f":"IFERROR(_xlfn.FLOOR.MATH(IF(allGymnasts!A89=\"\",\"\",INDEX(allGymnasts!$I$4:$I$103,MATCH(SMALL(allGymnasts!$I$4:$I$103,A89),allGymnasts!$I$4:$I$103,0)))),\"\")","v":""},{"$f":"IFERROR(IF(allGymnasts!A89=\"\",\"\",INDEX(allGymnasts!$A$4:$A$103,MATCH(SMALL(allGymnasts!$I$4:$I$103,A89),allGymnasts!$I$4:$I$103,0))),\"\")","v":""},{"$f":"IFERROR(IF(allGymnasts!B89=\"\",\"\",INDEX(allGymnasts!$B$4:$B$103,MATCH(SMALL(allGymnasts!$I$4:$I$103,A89),allGymnasts!$I$4:$I$103,0))),\"\")","v":""},{"$f":"IFERROR(IF(allGymnasts!C89=\"\",\"\",INDEX(allGymnasts!$C$4:$C$103,MATCH(SMALL(allGymnasts!$I$4:$I$103,A89),allGymnasts!$I$4:$I$103,0))),\"\")","v":""},{"$f":"IFERROR(IF(allGymnasts!D89=\"\",\"\",INDEX(allGymnasts!$D$4:$D$103,MATCH(SMALL(allGymnasts!$I$4:$I$103,A89),allGymnasts!$I$4:$I$103,0))),\"\")","v":""},{"$f":"IFERROR(IF(allGymnasts!B89=\"\",\"\",INDEX(allGymnasts!$E$4:$E$103,MATCH(SMALL(allGymnasts!$I$4:$I$103,A89),allGymnasts!$I$4:$I$103,0))),\"\")","v":""},{"$f":"IFERROR(IF(allGymnasts!B89=\"\",\"\",INDEX(allGymnasts!$F$4:$F$103,MATCH(SMALL(allGymnasts!$I$4:$I$103,A89),allGymnasts!$I$4:$I$103,0))),\"\")","v":""},{"$f":"IFERROR(IF(allGymnasts!B89=\"\",\"\",INDEX(allGymnasts!$G$4:$G$103,MATCH(SMALL(allGymnasts!$I$4:$I$103,A89),allGymnasts!$I$4:$I$103,0))),\"\")","v":""},{"$f":"IFERROR(IF(allGymnasts!B89=\"\",\"\",INDEX(allGymnasts!$H$4:$H$103,MATCH(SMALL(allGymnasts!$I$4:$I$103,A89),allGymnasts!$I$4:$I$103,0))),\"\")","v":""}]
[87,{"$f":"IFERROR(_xlfn.FLOOR.MATH(IF(allGymnasts!A90=\"\",\"\",INDEX(allGymnasts!$I$4:$I$103,MATCH(SMALL(allGymnasts!$I$4:$I$103,A90),allGymnasts!$I$4:$I$103,0)))),\"\")","v":""},{"$f":"IFERROR(IF(allGymnasts!A90=\"\",\"\",INDEX(allGymnasts!$A$4:$A$103,MATCH(SMALL(allGymnasts!$I$4:$I$103,A90),allGymnasts!$I$4:$I$103,0))),\"\")","v":""},{"$f":"IFERROR(IF(allGymnasts!B90=\"\",\"\",INDEX(allGymnasts!$B$4:$B$103,MATCH(SMALL(allGymnasts!$I$4:$I$103,A90),allGymnasts!$I$4:$I$103,0))),\"\")","v":""},{"$f":"IFERROR(IF(allGymnasts!C90=\"\",\"\",INDEX(allGymnasts!$C$4:$C$103,MATCH(SMALL(allGymnasts!$I$4:$I$103,A90),allGymnasts!$I$4:$I$103,0))),\"\")","v":""},{"$f":"IFERROR(IF(allGymnasts!D90=\"\",\"\",INDEX(allGymnasts!$D$4:$D$103,MATCH(SMALL(allGymnasts!$I$4:$I$103,A90),allGymnasts!$I$4:$I$103,0))),\"\")","v":""},{"$f":"IFERROR(IF(allGymnasts!B90=\"\",\"\",INDEX(allGymnasts!$E$4:$E$103,MATCH(SMALL(allGymnasts!$I$4:$I$103,A90),allGymnasts!$I$4:$I$103,0))),\"\")","v":""},{"$f":"IFERROR(IF(allGymnasts!B90=\"\",\"\",INDEX(allGymnasts!$F$4:$F$103,MATCH(SMALL(allGymnasts!$I$4:$I$103,A90),allGymnasts!$I$4:$I$103,0))),\"\")","v":""},{"$f":"IFERROR(IF(allGymnasts!B90=\"\",\"\",INDEX(allGymnasts!$G$4:$G$103,MATCH(SMALL(allGymnasts!$I$4:$I$103,A90),allGymnasts!$I$4:$I$103,0))),\"\")","v":""},{"$f":"IFERROR(IF(allGymnasts!B90=\"\",\"\",INDEX(allGymnasts!$H$4:$H$103,MATCH(SMALL(allGymnasts!$I$4:$I$103,A90),allGymnasts!$I$4:$I$103,0))),\"\")","v":""}]
[88,{"$f":"IFERROR(_xlfn.FLOOR.MATH(IF(allGymnasts!A91=\"\",\"\",INDEX(allGymnasts!$I$4:$I$103,MATCH(SMALL(allGymnasts!$I$4:$I$103,A91),allGymnasts!$I$4:$I$103,0)))),\"\")","v":""},{"$f":"IFERROR(IF(allGymnasts!A91=\"\",\"\",INDEX(allGymnasts!$A$4:$A$103,MATCH(SMALL(allGymnasts!$I$4:$I$103,A91),allGymnasts!$I$4:$I$103,0))),\"\")","v":""},{"$f":"IFERROR(IF(allGymnasts!B91=\"\",\"\",INDEX(allGymnasts!$B$4:$B$103,MATCH(SMALL(allGymnasts!$I$4:$I$103,A91),allGymnasts!$I$4:$I$103,0))),\"\")","v":""},{"$f":"IFERROR(IF(allGymnasts!C91=\"\",\"\",INDEX(allGymnasts!$C$4:$C$103,MATCH(SMALL(allGymnasts!$I$4:$I$103,A91),allGymnasts!$I$4:$I$103,0))),\"\")","v":""},{"$f":"IFERROR(IF(allGymnasts!D91=\"\",\"\",INDEX(allGymnasts!$D$4:$D$103,MATCH(SMALL(allGymnasts!$I$4:$I$103,A91),allGymnasts!$I$4:$I$103,0))),\"\")","v":""},{"$f":"IFERROR(IF(allGymnasts!B91=\"\",\"\",INDEX(allGymnasts!$E$4:$E$103,MATCH(SMALL(allGymnasts!$I$4:$I$103,A91),allGymnasts!$I$4:$I$103,0))),\"\")","v":""},{"$f":"IFERROR(IF(allGymnasts!B91=\"\",\"\",INDEX(allGymnasts!$F$4:$F$103,MATCH(SMALL(allGymnasts!$I$4:$I$103,A91),allGymnasts!$I$4:$I$103,0))),\"\")","v":""},{"$f":"IFERROR(IF(allGymnasts!B91=\"\",\"\",INDEX(allGymnasts!$G$4:$G$103,MATCH(SMALL(allGymnasts!$I$4:$I$103,A91),allGymnasts!$I$4:$I$103,0))),\"\")","v":""},{"$f":"IFERROR(IF(allGymnasts!B91=\"\",\"\",INDEX(allGymnasts!$H$4:$H$103,MATCH(SMALL(allGymnasts!$I$4:$I$103,A91),allGymnasts!$I$4:$I$103,0))),\"\")","v":""}]
[89,{"$f":"IFERROR(_xlfn.FLOOR.MATH(IF(allGymnasts!A92=\"\",\"\",INDEX(allGymnasts!$I$4:$I$103,MATCH(SMALL(allGymnasts!$I$4:$I$103,A92),allGymnasts!$I$4:$I$103,0)))),\"\")","v":""},{"$f":"IFERROR(IF(allGymnasts!A92=\"\",\"\",INDEX(allGymnasts!$A$4:$A$103,MATCH(SMALL(allGymnasts!$I$4:$I$103,A92),allGymnasts!$I$4:$I$103,0))),\"\")","v":""},{"$f":"IFERROR(IF(allGymnasts!B92=\"\",\"\",INDEX(allGymnasts!$B$4:$B$103,MATCH(SMALL(allGymnasts!$I$4:$I$103,A92),allGymnasts!$I$4:$I$103,0))),\"\")","v":""},{"$f":"IFERROR(IF(allGymnasts!C92=\"\",\"\",INDEX(allGymnasts!$C$4:$C$103,MATCH(SMALL(allGymnasts!$I$4:$I$103,A92),allGymnasts!$I$4:$I$103,0))),\"\")","v":""},{"$f":"IFERROR(IF(allGymnasts!D92=\"\",\"\",INDEX(allGymnasts!$D$4:$D$103,MATCH(SMALL(allGymnasts!$I$4:$I$103,A92),allGymnasts!$I$4:$I$103,0))),\"\")","v":""},{"$f":"IFERROR(IF(allGymnasts!B92=\"\",\"\",INDEX(allGymnasts!$E$4:$E$103,MATCH(SMALL(allGymnasts!$I$4:$I$103,A92),allGymnasts!$I$4:$I$103,0))),\"\")","v":""},{"$f":"IFERROR(IF(allGymnasts!B92=\"\",\"\",INDEX(allGymnasts!$F$4:$F$103,MATCH(SMALL(allGymnasts!$I$4:$I$103,A92),allGymnasts!$I$4:$I$103,0))),\"\")","v":""},{"$f":"IFERROR(IF(allGymnasts!B92=\"\",\"\",INDEX(allGymnasts!$G$4:$G$103,MATCH(SMALL(allGymnasts!$I$4:$I$103,A92),allGymnasts!$I$4:$I$103,0))),\"\")","v":""},{"$f":"IFERROR(IF(allGymnasts!B92=\"\",\"\",INDEX(allGymnasts!$H$4:$H$103,MATCH(SMALL(allGymnasts!$I$4:$I$103,A92),allGymnasts!$I$4:$I$103,0))),\"\")","v":""}]
[90,{"$f":"IFERROR(_xlfn.FLOOR.MATH(IF(allGymnasts!A93=\"\",\"\",INDEX(allGymnasts!$I$4:$I$103,MATCH(SMALL(allGymnasts!$I$4:$I$103,A93),allGymnasts!$I$4:$I$103,0)))),\"\")","v":""},{"$f":"IFERROR(IF(allGymnasts!A93=\"\",\"\",INDEX(allGymnasts!$A$4:$A$103,MATCH(SMALL(allGymnasts!$I$4:$I$103,A93),allGymnasts!$I$4:$I$103,0))),\"\")","v":""},{"$f":"IFERROR(IF(allGymnasts!B93=\"\",\"\",INDEX(allGymnasts!$B$4:$B$103,MATCH(SMALL(allGymnasts!$I$4:$I$103,A93),allGymnasts!$I$4:$I$103,0))),\"\")","v":""},{"$f":"IFERROR(IF(allGymnasts!C93=\"\",\"\",INDEX(allGymnasts!$C$4:$C$103,MATCH(SMALL(allGymnasts!$I$4:$I$103,A93),allGymnasts!$I$4:$I$103,0))),\"\")","v":""},{"$f":"IFERROR(IF(allGymnasts!D93=\"\",\"\",INDEX(allGymnasts!$D$4:$D$103,MATCH(SMALL(allGymnasts!$I$4:$I$103,A93),allGymnasts!$I$4:$I$103,0))),\"\")","v":""},{"$f":"IFERROR(IF(allGymnasts!B93=\"\",\"\",INDEX(allGymnasts!$E$4:$E$103,MATCH(SMALL(allGymnasts!$I$4:$I$103,A93),allGymnasts!$I$4:$I$103,0))),\"\")","v":""},{"$f":"IFERROR(IF(allGymnasts!B93=\"\",\"\",INDEX(allGymnasts!$F$4:$F$103,MATCH(SMALL(allGymnasts!$I$4:$I$103,A93),allGymnasts!$I$4:$I$103,0))),\"\")","v":""},{"$f":"IFERROR(IF(allGymnasts!B93=\"\",\"\",INDEX(allGymnasts!$G$4:$G$103,MATCH(SMALL(allGymnasts!$I$4:$I$103,A93),allGymnasts!$I$4:$I$103,0))),\"\")","v":""},{"$f":"IFERROR(IF(allGymnasts!B93=\"\",\"\",INDEX(allGymnasts!$H$4:$H$103,MATCH(SMALL(allGymnasts!$I$4:$I$103,A93),allGymnasts!$I$4:$I$103,0))),\"\")","v":""}]
[91,{"$f":"IFERROR(_xlfn.FLOOR.MATH(IF(allGymnasts!A94=\"\",\"\",INDEX(allGymnasts!$I$4:$I$103,MATCH(SMALL(allGymnasts!$I$4:$I$103,A94),allGymnasts!$I$4:$I$103,0)))),\"\")","v":""},{"$f":"IFERROR(IF(allGymnasts!A94=\"\",\"\",INDEX(allGymnasts!$A$4:$A$103,MATCH(SMALL(allGymnasts!$I$4:$I$103,A94),allGymnasts!$I$4:$I$103,0))),\"\")","v":""},{"$f":"IFERROR(IF(allGymnasts!B94=\"\",\"\",INDEX(allGymnasts!$B$4:$B$103,MATCH(SMALL(allGymnasts!$I$4:$I$103,A94),allGymnasts!$I$4:$I$103,0))),\"\")","v":""},{"$f":"IFERROR(IF(allGymnasts!C94=\"\",\"\",INDEX(allGymnasts!$C$4:$C$103,MATCH(SMALL(allGymnasts!$I$4:$I$103,A94),allGymnasts!$I$4:$I$103,0))),\"\")","v":""},{"$f":"IFERROR(IF(allGymnasts!D94=\"\",\"\",INDEX(allGymnasts!$D$4:$D$103,MATCH(SMALL(allGymnasts!$I$4:$I$103,A94),allGymnasts!$I$4:$I$103,0))),\"\")","v":""},{"$f":"IFERROR(IF(allGymnasts!B94=\"\",\"\",INDEX(allGymnasts!$E$4:$E$103,MATCH(SMALL(allGymnasts!$I$4:$I$103,A94),allGymnasts!$I$4:$I$103,0))),\"\")","v":""},{"$f":"IFERROR(IF(allGymnasts!B94=\"\",\"\",INDEX(allGymnasts!$F$4:$F$103,MATCH(SMALL(allGymnasts!$I$4:$I$103,A94),allGymnasts!$I$4:$I$103,0))),\"\")","v":""},{"$f":"IFERROR(IF(allGymnasts!B94=\"\",\"\",INDEX(allGymnasts!$G$4:$G$103,MATCH(SMALL(allGymnasts!$I$4:$I$103,A94),allGymnasts!$I$4:$I$103,0))),\"\")","v":""},{"$f":"IFERROR(IF(allGymnasts!B94=\"\",\"\",INDEX(allGymnasts!$H$4:$H$103,MATCH(SMALL(allGymnasts!$I$4:$I$103,A94),allGymnasts!$I$4:$I$103,0))),\"\")","v":""}]
[92,{"$f":"IFERROR(_xlfn.FLOOR.MATH(IF(allGymnasts!A95=\"\",\"\",INDEX(allGymnasts!$I$4:$I$103,MATCH(SMALL(allGymnasts!$I$4:$I$103,A95),allGymnasts!$I$4:$I$103,0)))),\"\")","v":""},{"$f":"IFERROR(IF(allGymnasts!A95=\"\",\"\",INDEX(allGymnasts!$A$4:$A$103,MATCH(SMALL(allGymnasts!$I$4:$I$103,A95),allGymnasts!$I$4:$I$103,0))),\"\")","v":""},{"$f":"IFERROR(IF(allGymnasts!B95=\"\",\"\",INDEX(allGymnasts!$B$4:$B$103,MATCH(SMALL(allGymnasts!$I$4:$I$103,A95),allGymnasts!$I$4:$I$103,0))),\"\")","v":""},{"$f":"IFERROR(IF(allGymnasts!C95=\"\",\"\",INDEX(allGymnasts!$C$4:$C$103,MATCH(SMALL(allGymnasts!$I$4:$I$103,A95),allGymnasts!$I$4:$I$103,0))),\"\")","v":""},{"$f":"IFERROR(IF(allGymnasts!D95=\"\",\"\",INDEX(allGymnasts!$D$4:$D$103,MATCH(SMALL(allGymnasts!$I$4:$I$103,A95),allGymnasts!$I$4:$I$103,0))),\"\")","v":""},{"$f":"IFERROR(IF(allGymnasts!B95=\"\",\"\",INDEX(allGymnasts!$E$4:$E$103,MATCH(SMALL(allGymnasts!$I$4:$I$103,A95),allGymnasts!$I$4:$I$103,0))),\"\")","v":""},{"$f":"IFERROR(IF(allGymnasts!B95=\"\",\"\",INDEX(allGymnasts!$F$4:$F$103,MATCH(SMALL(allGymnasts!$I$4:$I$103,A95),allGymnasts!$I$4:$I$103,0))),\"\")","v":""},{"$f":"IFERROR(IF(allGymnasts!B95=\"\",\"\",INDEX(allGymnasts!$G$4:$G$103,MATCH(SMALL(allGymnasts!$I$4:$I$103,A95),allGymnasts!$I$4:$I$103,0))),\"\")","v":""},{"$f":"IFERROR(IF(allGymnasts!B95=\"\",\"\",INDEX(allGymnasts!$H$4:$H$103,MATCH(SMALL(allGymnasts!$I$4:$I$103,A95),allGymnasts!$I$4:$I$103,0))),\"\")","v":""}]
[93,{"$f":"IFERROR(_xlfn.FLOOR.MATH(IF(allGymnasts!A96=\"\",\"\",INDEX(allGymnasts!$I$4:$I$103,MATCH(SMALL(allGymnasts!$I$4:$I$103,A96),allGymnasts!$I$4:$I$103,0)))),\"\")","v":""},{"$f":"IFERROR(IF(allGymnasts!A96=\"\",\"\",INDEX(allGymnasts!$A$4:$A$103,MATCH(SMALL(allGymnasts!$I$4:$I$103,A96),allGymnasts!$I$4:$I$103,0))),\"\")","v":""},{"$f":"IFERROR(IF(allGymnasts!B96=\"\",\"\",INDEX(allGymnasts!$B$4:$B$103,MATCH(SMALL(allGymnasts!$I$4:$I$103,A96),allGymnasts!$I$4:$I$103,0))),\"\")","v":""},{"$f":"IFERROR(IF(allGymnasts!C96=\"\",\"\",INDEX(allGymnasts!$C$4:$C$103,MATCH(SMALL(allGymnasts!$I$4:$I$103,A96),allGymnasts!$I$4:$I$103,0))),\"\")","v":""},{"$f":"IFERROR(IF(allGymnasts!D96=\"\",\"\",INDEX(allGymnasts!$D$4:$D$103,MATCH(SMALL(allGymnasts!$I$4:$I$103,A96),allGymnasts!$I$4:$I$103,0))),\"\")","v":""},{"$f":"IFERROR(IF(allGymnasts!B96=\"\",\"\",INDEX(allGymnasts!$E$4:$E$103,MATCH(SMALL(allGymnasts!$I$4:$I$103,A96),allGymnasts!$I$4:$I$103,0))),\"\")","v":""},{"$f":"IFERROR(IF(allGymnasts!B96=\"\",\"\",INDEX(allGymnasts!$F$4:$F$103,MATCH(SMALL(allGymnasts!$I$4:$I$103,A96),allGymnasts!$I$4:$I$103,0))),\"\")","v":""},{"$f":"IFERROR(IF(allGymnasts!B96=\"\",\"\",INDEX(allGymnasts!$G$4:$G$103,MATCH(SMALL(allGymnasts!$I$4:$I$103,A96),allGymnasts!$I$4:$I$103,0))),\"\")","v":""},{"$f":"IFERROR(IF(allGymnasts!B96=\"\",\"\",INDEX(allGymnasts!$H$4:$H$103,MATCH(SMALL(allGymnasts!$I$4:$I$103,A96),allGymnasts!$I$4:$I$103,0))),\"\")","v":""}]
[94,{"$f":"IFERROR(_xlfn.FLOOR.MATH(IF(allGymnasts!A97=\"\",\"\",INDEX(allGymnasts!$I$4:$I$103,MATCH(SMALL(allGymnasts!$I$4:$I$103,A97),allGymnasts!$I$4:$I$103,0)))),\"\")","v":""},{"$f":"IFERROR(IF(allGymnasts!A97=\"\",\"\",INDEX(allGymnasts!$A$4:$A$103,MATCH(SMALL(allGymnasts!$I$4:$I$103,A97),allGymnasts!$I$4:$I$103,0))),\"\")","v":""},{"$f":"IFERROR(IF(allGymnasts!B97=\"\",\"\",INDEX(allGymnasts!$B$4:$B$103,MATCH(SMALL(allGymnasts!$I$4:$I$103,A97),allGymnasts!$I$4:$I$103,0))),\"\")","v":""},{"$f":"IFERROR(IF(allGymnasts!C97=\"\",\"\",INDEX(allGymnasts!$C$4:$C$103,MATCH(SMALL(allGymnasts!$I$4:$I$103,A97),allGymnasts!$I$4:$I$103,0))),\"\")","v":""},{"$f":"IFERROR(IF(allGymnasts!D97=\"\",\"\",INDEX(allGymnasts!$D$4:$D$103,MATCH(SMALL(allGymnasts!$I$4:$I$103,A97),allGymnasts!$I$4:$I$103,0))),\"\")","v":""},{"$f":"IFERROR(IF(allGymnasts!B97=\"\",\"\",INDEX(allGymnasts!$E$4:$E$103,MATCH(SMALL(allGymnasts!$I$4:$I$103,A97),allGymnasts!$I$4:$I$103,0))),\"\")","v":""},{"$f":"IFERROR(IF(allGymnasts!B97=\"\",\"\",INDEX(allGymnasts!$F$4:$F$103,MATCH(SMALL(allGymnasts!$I$4:$I$103,A97),allGymnasts!$I$4:$I$103,0))),\"\")","v":""},{"$f":"IFERROR(IF(allGymnasts!B97=\"\",\"\",INDEX(allGymnasts!$G$4:$G$103,MATCH(SMALL(allGymnasts!$I$4:$I$103,A97),allGymnasts!$I$4:$I$103,0))),\"\")","v":""},{"$f":"IFERROR(IF(allGymnasts!B97=\"\",\"\",INDEX(allGymnasts!$H$4:$H$103,MATCH(SMALL(allGymnasts!$I$4:$I$103,A97),allGymnasts!$I$4:$I$103,0))),\"\")","v":""}]
[95,{"$f":"IFERROR(_xlfn.FLOOR.MATH(IF(allGymnasts!A98=\"\",\"\",INDEX(allGymnasts!$I$4:$I$103,MATCH(SMALL(allGymnasts!$I$4:$I$103,A98),allGymnasts!$I$4:$I$103,0)))),\"\")","v":""},{"$f":"IFERROR(IF(allGymnasts!A98=\"\",\"\",INDEX(allGymnasts!$A$4:$A$103,MATCH(SMALL(allGymnasts!$I$4:$I$103,A98),allGymnasts!$I$4:$I$103,0))),\"\")","v":""},{"$f":"IFERROR(IF(allGymnasts!B98=\"\",\"\",INDEX(allGymnasts!$B$4:$B$103,MATCH(SMALL(allGymnasts!$I$4:$I$103,A98),allGymnasts!$I$4:$I$103,0))),\"\")","v":""},{"$f":"IFERROR(IF(allGymnasts!C98=\"\",\"\",INDEX(allGymnasts!$C$4:$C$103,MATCH(SMALL(allGymnasts!$I$4:$I$103,A98),allGymnasts!$I$4:$I$103,0))),\"\")","v":""},{"$f":"IFERROR(IF(allGymnasts!D98=\"\",\"\",INDEX(allGymnasts!$D$4:$D$103,MATCH(SMALL(allGymnasts!$I$4:$I$103,A98),allGymnasts!$I$4:$I$103,0))),\"\")","v":""},{"$f":"IFERROR(IF(allGymnasts!B98=\"\",\"\",INDEX(allGymnasts!$E$4:$E$103,MATCH(SMALL(allGymnasts!$I$4:$I$103,A98),allGymnasts!$I$4:$I$103,0))),\"\")","v":""},{"$f":"IFERROR(IF(allGymnasts!B98=\"\",\"\",INDEX(allGymnasts!$F$4:$F$103,MATCH(SMALL(allGymnasts!$I$4:$I$103,A98),allGymnasts!$I$4:$I$103,0))),\"\")","v":""},{"$f":"IFERROR(IF(allGymnasts!B98=\"\",\"\",INDEX(allGymnasts!$G$4:$G$103,MATCH(SMALL(allGymnasts!$I$4:$I$103,A98),allGymnasts!$I$4:$I$103,0))),\"\")","v":""},{"$f":"IFERROR(IF(allGymnasts!B98=\"\",\"\",INDEX(allGymnasts!$H$4:$H$103,MATCH(SMALL(allGymnasts!$I$4:$I$103,A98),allGymnasts!$I$4:$I$103,0))),\"\")","v":""}]
[96,{"$f":"IFERROR(_xlfn.FLOOR.MATH(IF(allGymnasts!A99=\"\",\"\",INDEX(allGymnasts!$I$4:$I$103,MATCH(SMALL(allGymnasts!$I$4:$I$103,A99),allGymnasts!$I$4:$I$103,0)))),\"\")","v":""},{"$f":"IFERROR(IF(allGymnasts!A99=\"\",\"\",INDEX(allGymnasts!$A$4:$A$103,MATCH(SMALL(allGymnasts!$I$4:$I$103,A99),allGymnasts!$I$4:$I$103,0))),\"\")","v":""},{"$f":"IFERROR(IF(allGymnasts!B99=\"\",\"\",INDEX(allGymnasts!$B$4:$B$103,MATCH(SMALL(allGymnasts!$I$4:$I$103,A99),allGymnasts!$I$4:$I$103,0))),\"\")","v":""},{"$f":"IFERROR(IF(allGymnasts!C99=\"\",\"\",INDEX(allGymnasts!$C$4:$C$103,MATCH(SMALL(allGymnasts!$I$4:$I$103,A99),allGymnasts!$I$4:$I$103,0))),\"\")","v":""},{"$f":"IFERROR(IF(allGymnasts!D99=\"\",\"\",INDEX(allGymnasts!$D$4:$D$103,MATCH(SMALL(allGymnasts!$I$4:$I$103,A99),allGymnasts!$I$4:$I$103,0))),\"\")","v":""},{"$f":"IFERROR(IF(allGymnasts!B99=\"\",\"\",INDEX(allGymnasts!$E$4:$E$103,MATCH(SMALL(allGymnasts!$I$4:$I$103,A99),allGymnasts!$I$4:$I$103,0))),\"\")","v":""},{"$f":"IFERROR(IF(allGymnasts!B99=\"\",\"\",INDEX(allGymnasts!$F$4:$F$103,MATCH(SMALL(allGymnasts!$I$4:$I$103,A99),allGymnasts!$I$4:$I$103,0))),\"\")","v":""},{"$f":"IFERROR(IF(allGymnasts!B99=\"\",\"\",INDEX(allGymnasts!$G$4:$G$103,MATCH(SMALL(allGymnasts!$I$4:$I$103,A99),allGymnasts!$I$4:$I$103,0))),\"\")","v":""},{"$f":"IFERROR(IF(allGymnasts!B99=\"\",\"\",INDEX(allGymnasts!$H$4:$H$103,MATCH(SMALL(allGymnasts!$I$4:$I$103,A99),allGymnasts!$I$4:$I$103,0))),\"\")","v":""}]
[97,{"$f":"IFERROR(_xlfn.FLOOR.MATH(IF(allGymnasts!A100=\"\",\"\",INDEX(allGymnasts!$I$4:$I$103,MATCH(SMALL(allGymnasts!$I$4:$I$103,A100),allGymnasts!$I$4:$I$103,0)))),\"\")","v":""},{"$f":"IFERROR(IF(allGymnasts!A100=\"\",\"\",INDEX(allGymnasts!$A$4:$A$103,MATCH(SMALL(allGymnasts!$I$4:$I$103,A100),allGymnasts!$I$4:$I$103,0))),\"\")","v":""},{"$f":"IFERROR(IF(allGymnasts!B100=\"\",\"\",INDEX(allGymnasts!$B$4:$B$103,MATCH(SMALL(allGymnasts!$I$4:$I$103,A100),allGymnasts!$I$4:$I$103,0))),\"\")","v":""},{"$f":"IFERROR(IF(allGymnasts!C100=\"\",\"\",INDEX(allGymnasts!$C$4:$C$103,MATCH(SMALL(allGymnasts!$I$4:$I$103,A100),allGymnasts!$I$4:$I$103,0))),\"\")","v":""},{"$f":"IFERROR(IF(allGymnasts!D100=\"\",\"\",INDEX(allGymnasts!$D$4:$D$103,MATCH(SMALL(allGymnasts!$I$4:$I$103,A100),allGymnasts!$I$4:$I$103,0))),\"\")","v":""},{"$f":"IFERROR(IF(allGymnasts!B100=\"\",\"\",INDEX(allGymnasts!$E$4:$E$103,MATCH(SMALL(allGymnasts!$I$4:$I$103,A100),allGymnasts!$I$4:$I$103,0))),\"\")","v":""},{"$f":"IFERROR(IF(allGymnasts!B100=\"\",\"\",INDEX(allGymnasts!$F$4:$F$103,MATCH(SMALL(allGymnasts!$I$4:$I$103,A100),allGymnasts!$I$4:$I$103,0))),\"\")","v":""},{"$f":"IFERROR(IF(allGymnasts!B100=\"\",\"\",INDEX(allGymnasts!$G$4:$G$103,MATCH(SMALL(allGymnasts!$I$4:$I$103,A100),allGymnasts!$I$4:$I$103,0))),\"\")","v":""},{"$f":"IFERROR(IF(allGymnasts!B100=\"\",\"\",INDEX(allGymnasts!$H$4:$H$103,MATCH(SMALL(allGymnasts!$I$4:$I$103,A100),allGymnasts!$I$4:$I$103,0))),\"\")","v":""}]
[98,{"$f":"IFERROR(_xlfn.FLOOR.MATH(IF(allGymnasts!A101=\"\",\"\",INDEX(allGymnasts!$I$4:$I$103,MATCH(SMALL(allGymnasts!$I$4:$I$103,A101),allGymnasts!$I$4:$I$103,0)))),\"\")","v":""},{"$f":"IFERROR(IF(allGymnasts!A101=\"\",\"\",INDEX(allGymnasts!$A$4:$A$103,MATCH(SMALL(allGymnasts!$I$4:$I$103,A101),allGymnasts!$I$4:$I$103,0))),\"\")","v":""},{"$f":"IFERROR(IF(allGymnasts!B101=\"\",\"\",INDEX(allGymnasts!$B$4:$B$103,MATCH(SMALL(allGymnasts!$I$4:$I$103,A101),allGymnasts!$I$4:$I$103,0))),\"\")","v":""},{"$f":"IFERROR(IF(allGymnasts!C101=\"\",\"\",INDEX(allGymnasts!$C$4:$C$103,MATCH(SMALL(allGymnasts!$I$4:$I$103,A101),allGymnasts!$I$4:$I$103,0))),\"\")","v":""},{"$f":"IFERROR(IF(allGymnasts!D101=\"\",\"\",INDEX(allGymnasts!$D$4:$D$103,MATCH(SMALL(allGymnasts!$I$4:$I$103,A101),allGymnasts!$I$4:$I$103,0))),\"\")","v":""},{"$f":"IFERROR(IF(allGymnasts!B101=\"\",\"\",INDEX(allGymnasts!$E$4:$E$103,MATCH(SMALL(allGymnasts!$I$4:$I$103,A101),allGymnasts!$I$4:$I$103,0))),\"\")","v":""},{"$f":"IFERROR(IF(allGymnasts!B101=\"\",\"\",INDEX(allGymnasts!$F$4:$F$103,MATCH(SMALL(allGymnasts!$I$4:$I$103,A101),allGymnasts!$I$4:$I$103,0))),\"\")","v":""},{"$f":"IFERROR(IF(allGymnasts!B101=\"\",\"\",INDEX(allGymnasts!$G$4:$G$103,MATCH(SMALL(allGymnasts!$I$4:$I$103,A101),allGymnasts!$I$4:$I$103,0))),\"\")","v":""},{"$f":"IFERROR(IF(allGymnasts!B101=\"\",\"\",INDEX(allGymnasts!$H$4:$H$103,MATCH(SMALL(allGymnasts!$I$4:$I$103,A101),allGymnasts!$I$4:$I$103,0))),\"\")","v":""}]
[99,{"$f":"IFERROR(_xlfn.FLOOR.MATH(IF(allGymnasts!A102=\"\",\"\",INDEX(allGymnasts!$I$4:$I$103,MATCH(SMALL(allGymnasts!$I$4:$I$103,A102),allGymnasts!$I$4:$I$103,0)))),\"\")","v":""},{"$f":"IFERROR(IF(allGymnasts!A102=\"\",\"\",INDEX(allGymnasts!$A$4:$A$103,MATCH(SMALL(allGymnasts!$I$4:$I$103,A102),allGymnasts!$I$4:$I$103,0))),\"\")","v":""},{"$f":"IFERROR(IF(allGymnasts!B102=\"\",\"\",INDEX(allGymnasts!$B$4:$B$103,MATCH(SMALL(allGymnasts!$I$4:$I$103,A102),allGymnasts!$I$4:$I$103,0))),\"\")","v":""},{"$f":"IFERROR(IF(allGymnasts!C102=\"\",\"\",INDEX(allGymnasts!$C$4:$C$103,MATCH(SMALL(allGymnasts!$I$4:$I$103,A102),allGymnasts!$I$4:$I$103,0))),\"\")","v":""},{"$f":"IFERROR(IF(allGymnasts!D102=\"\",\"\",INDEX(allGymnasts!$D$4:$D$103,MATCH(SMALL(allGymnasts!$I$4:$I$103,A102),allGymnasts!$I$4:$I$103,0))),\"\")","v":""},{"$f":"IFERROR(IF(allGymnasts!B102=\"\",\"\",INDEX(allGymnasts!$E$4:$E$103,MATCH(SMALL(allGymnasts!$I$4:$I$103,A102),allGymnasts!$I$4:$I$103,0))),\"\")","v":""},{"$f":"IFERROR(IF(allGymnasts!B102=\"\",\"\",INDEX(allGymnasts!$F$4:$F$103,MATCH(SMALL(allGymnasts!$I$4:$I$103,A102),allGymnasts!$I$4:$I$103,0))),\"\")","v":""},{"$f":"IFERROR(IF(allGymnasts!B102=\"\",\"\",INDEX(allGymnasts!$G$4:$G$103,MATCH(SMALL(allGymnasts!$I$4:$I$103,A102),allGymnasts!$I$4:$I$103,0))),\"\")","v":""},{"$f":"IFERROR(IF(allGymnasts!B102=\"\",\"\",INDEX(allGymnasts!$H$4:$H$103,MATCH(SMALL(allGymnasts!$I$4:$I$103,A102),allGymnasts!$I$4:$I$103,0))),\"\")","v":""}]
[100,{"$f":"IFERROR(_xlfn.FLOOR.MATH(IF(allGymnasts!A103=\"\",\"\",INDEX(allGymnasts!$I$4:$I$103,MATCH(SMALL(allGymnasts!$I$4:$I$103,A103),allGymnasts!$I$4:$I$103,0)))),\"\")","v":""},{"$f":"IFERROR(IF(allGymnasts!A103=\"\",\"\",INDEX(allGymnasts!$A$4:$A$103,MATCH(SMALL(allGymnasts!$I$4:$I$103,A103),allGymnasts!$I$4:$I$103,0))),\"\")","v":""},{"$f":"IFERROR(IF(allGymnasts!B103=\"\",\"\",INDEX(allGymnasts!$B$4:$B$103,MATCH(SMALL(allGymnasts!$I$4:$I$103,A103),allGymnasts!$I$4:$I$103,0))),\"\")","v":""},{"$f":"IFERROR(IF(allGymnasts!C103=\"\",\"\",INDEX(allGymnasts!$C$4:$C$103,MATCH(SMALL(allGymnasts!$I$4:$I$103,A103),allGymnasts!$I$4:$I$103,0))),\"\")","v":""},{"$f":"IFERROR(IF(allGymnasts!D103=\"\",\"\",INDEX(allGymnasts!$D$4:$D$103,MATCH(SMALL(allGymnasts!$I$4:$I$103,A103),allGymnasts!$I$4:$I$103,0))),\"\")","v":""},{"$f":"IFERROR(IF(allGymnasts!B103=\"\",\"\",INDEX(allGymnasts!$E$4:$E$103,MATCH(SMALL(allGymnasts!$I$4:$I$103,A103),allGymnasts!$I$4:$I$103,0))),\"\")","v":""},{"$f":"IFERROR(IF(allGymnasts!B103=\"\",\"\",INDEX(allGymnasts!$F$4:$F$103,MATCH(SMALL(allGymnasts!$I$4:$I$103,A103),allGymnasts!$I$4:$I$103,0))),\"\")","v":""},{"$f":"IFERROR(IF(allGymnasts!B103=\"\",\"\",INDEX(allGymnasts!$G$4:$G$103,MATCH(SMALL(allGymnasts!$I$4:$I$103,A103),allGymnasts!$I$4:$I$103,0))),\"\")","v":""},{"$f":"IFERROR(IF(allGymnasts!B103=\"\",\"\",INDEX(allGymnasts!$H$4:$H$103,MATCH(SMALL(allGymnasts!$I$4:$I$103,A103),allGymnasts!$I$4:$I$103,0))),\"\")","v":""}]

{"sheet":"Bars","index":3,"n_rows":103,"n_cols":10,"rows_kept":103,"cut":false,"hidden":false,"merged":[[0,1,0,2],[0,6,0,9]]}
[null,"Varsity",null,{"$f":"TODAY()","v":"2024-09-01"},null,null,"Event Results - Bars"]
[]
["Rank","Rank","Grade","First","Last","School","Judge 1","Judge 2","Penalty","Score"]
[1,{"$f":"IFERROR(_xlfn.FLOOR.MATH(IF(allGymnasts!A4=\"\",\"\",INDEX(allGymnasts!$N$4:$N$103,MATCH(SMALL(allGymnasts!$N$4:$N$103,A4),allGymnasts!$N$4:$N$103,0)))),\"\")","v":""},{"$f":"IFERROR(IF(allGymnasts!A4=\"\",\"\",INDEX(allGymnasts!$A$4:$A$103,MATCH(SMALL(allGymnasts!$N$4:$N$103,A4),allGymnasts!$N$4:$N$103,0))),\"\")","v":""},{"$f":"IFERROR(IF(allGymnasts!B4=\"\",\"\",INDEX(allGymnasts!$B$4:$B$103,MATCH(SMALL(allGymnasts!$N$4:$N$103,A4),allGymnasts!$N$4:$N$103,0))),\"\")","v":""},{"$f":"IFERROR(IF(allGymnasts!C4=\"\",\"\",INDEX(allGymnasts!$C$4:$C$103,MATCH(SMALL(allGymnasts!$N$4:$N$103,A4),allGymnasts!$N$4:$N$103,0))),\"\")","v":""},{"$f":"IFERROR(IF(allGymnasts!D4=\"\",\"\",INDEX(allGymnasts!$D$4:$D$103,MATCH(SMALL(allGymnasts!$N$4:$N$103,A4),allGymnasts!$N$4:$N$103,0))),\"\")","v":""},{"$f":"IFERROR(IF(allGymnasts!B4=\"\",\"\",INDEX(allGymnasts!$J$4:$J$103,MATCH(SMALL(allGymnasts!$N$4:$N$103,A4),allGymnasts!$N$4:$N$103,0))),\"\")","v":""},{"$f":"IFERROR(IF(allGymnasts!B4=\"\",\"\",INDEX(allGymnasts!$K$4:$K$103,MATCH(SMALL(allGymnasts!$N$4:$N$103,A4),allGymnasts!$N$4:$N$103,0))),\"\")","v":""},{"$f":"IFERROR(IF(allGymnasts!B4=\"\",\"\",INDEX(allGymnasts!$L$4:$L$103,MATCH(SMALL(allGymnasts!$N$4:$N$103,A4),allGymnasts!$N$4:$N$103,0))),\"\")","v":""},{"$f":"IFERROR(IF(allGymnasts!B4=\"\",\"\",INDEX(allGymnasts!$M$4:$M$103,MATCH(SMALL(allGymnasts!$N$4:$N$103,A4),allGymnasts!$N$4:$N$103,0))),\"\")","v":""}]
[2,{"$f":"IFERROR(_xlfn.FLOOR.MATH(IF(allGymnasts!A5=\"\",\"\",INDEX(allGymnasts!$N$4:$N$103,MATCH(SMALL(allGymnasts!$N$4:$N$103,A5),allGymnasts!$N$4:$N$103,0)))),\"\")","v":""},{"$f":"IFERROR(IF(allGymnasts!A5=\"\",\"\",INDEX(allGymnasts!$A$4:$A$103,MATCH(SMALL(allGymnasts!$N$4:$N$103,A5),allGymnasts!$N$4:$N$103,0))),\"\")","v":""},{"$f":"IFERROR(IF(allGymnasts!B5=\"\",\"\",INDEX(allGymnasts!$B$4:$B$103,MATCH(SMALL(allGymnasts!$N$4:$N$103,A5),allGymnasts!$N$4:$N$103,0))),\"\")","v":""},{"$f":"IFERROR(IF(allGymnasts!C5=\"\",\"\",INDEX(allGymnasts!$C$4:$C$103,MATCH(SMALL(allGymnasts!$N$4:$N$103,A5),allGymnasts!$N$4:$N$103,0))),\"\")","v":""},{"$f":"IFERROR(IF(allGymnasts!D5=\"\",\"\",INDEX(allGymnasts!$D$4:$D$103,MATCH(SMALL(allGymnasts!$N$4:$N$103,A5),allGymnasts!$N$4:$N$103,0))),\"\")","v":""},{"$f":"IFERROR(IF(allGymnasts!B5=\"\",\"\",INDEX(allGymnasts!$J$4:$J$103,MATCH(SMALL(allGymnasts!$N$4:$N$103,A5),allGymnasts!$N$4:$N$103,0))),\"\")","v":""},{"$f":"IFERROR(IF(allGymnasts!B5=\"\",\"\",INDEX(allGymnasts!$K$4:$K$103,MATCH(SMALL(allGymnasts!$N$4:$N$103,A5),allGymnasts!$N$4:$N$103,0))),\"\")","v":""},{"$f":"IFERROR(IF(allGymnasts!B5=\"\",\"\",INDEX(allGymnasts!$L$4:$L$103,MATCH(SMALL(allGymnasts!$N$4:$N$103,A5),allGymnasts!$N$4:$N$103,0))),\"\")","v":""},{"$f":"IFERROR(IF(allGymnasts!B5=\"\",\"\",INDEX(allGymnasts!$M$4:$M$103,MATCH(SMALL(allGymnasts!$N$4:$N$103,A5),allGymnasts!$N$4:$N$103,0))),\"\")","v":""}]
[3,{"$f":"IFERROR(_xlfn.FLOOR.MATH(IF(allGymnasts!A6=\"\",\"\",INDEX(allGymnasts!$N$4:$N$103,MATCH(SMALL(allGymnasts!$N$4:$N$103,A6),allGymnasts!$N$4:$N$103,0)))),\"\")","v":""},{"$f":"IFERROR(IF(allGymnasts!A6=\"\",\"\",INDEX(allGymnasts!$A$4:$A$103,MATCH(SMALL(allGymnasts!$N$4:$N$103,A6),allGymnasts!$N$4:$N$103,0))),\"\")","v":""},{"$f":"IFERROR(IF(allGymnasts!B6=\"\",\"\",INDEX(allGymnasts!$B$4:$B$103,MATCH(SMALL(allGymnasts!$N$4:$N$103,A6),allGymnasts!$N$4:$N$103,0))),\"\")","v":""},{"$f":"IFERROR(IF(allGymnasts!C6=\"\",\"\",INDEX(allGymnasts!$C$4:$C$103,MATCH(SMALL(allGymnasts!$N$4:$N$103,A6),allGymnasts!$N$4:$N$103,0))),\"\")","v":""},{"$f":"IFERROR(IF(allGymnasts!D6=\"\",\"\",INDEX(allGymnasts!$D$4:$D$103,MATCH(SMALL(allGymnasts!$N$4:$N$103,A6),allGymnasts!$N$4:$N$103,0))),\"\")","v":""},{"$f":"IFERROR(IF(allGymnasts!B6=\"\",\"\",INDEX(allGymnasts!$J$4:$J$103,MATCH(SMALL(allGymnasts!$N$4:$N$103,A6),allGymnasts!$N$4:$N$103,0))),\"\")","v":""},{"$f":"IFERROR(IF(allGymnasts!B6=\"\",\"\",INDEX(allGymnasts!$K$4:$K$103,MATCH(SMALL(allGymnasts!$N$4:$N$103,A6),allGymnasts!$N$4:$N$103,0))),\"\")","v":""},{"$f":"IFERROR(IF(allGymnasts!B6=\"\",\"\",INDEX(allGymnasts!$L$4:$L$103,MATCH(SMALL(allGymnasts!$N$4:$N$103,A6),allGymnasts!$N$4:$N$103,0))),\"\")","v":""},{"$f":"IFERROR(IF(allGymnasts!B6=\"\",\"\",INDEX(allGymnasts!$M$4:$M$103,MATCH(SMALL(allGymnasts!$N$4:$N$103,A6),allGymnasts!$N$4:$N$103,0))),\"\")","v":""}]
[4,{"$f":"IFERROR(_xlfn.FLOOR.MATH(IF(allGymnasts!A7=\"\",\"\",INDEX(allGymnasts!$N$4:$N$103,MATCH(SMALL(allGymnasts!$N$4:$N$103,A7),allGymnasts!$N$4:$N$103,0)))),\"\")","v":""},{"$f":"IFERROR(IF(allGymnasts!A7=\"\",\"\",INDEX(allGymnasts!$A$4:$A$103,MATCH(SMALL(allGymnasts!$N$4:$N$103,A7),allGymnasts!$N$4:$N$103,0))),\"\")","v":""},{"$f":"IFERROR(IF(allGymnasts!B7=\"\",\"\",INDEX(allGymnasts!$B$4:$B$103,MATCH(SMALL(allGymnasts!$N$4:$N$103,A7),allGymnasts!$N$4:$N$103,0))),\"\")","v":""},{"$f":"IFERROR(IF(allGymnasts!C7=\"\",\"\",INDEX(allGymnasts!$C$4:$C$103,MATCH(SMALL(allGymnasts!$N$4:$N$103,A7),allGymnasts!$N$4:$N$103,0))),\"\")","v":""},{"$f":"IFERROR(IF(allGymnasts!D7=\"\",\"\",INDEX(allGymnasts!$D$4:$D$103,MATCH(SMALL(allGymnasts!$N$4:$N$103,A7),allGymnasts!$N$4:$N$103,0))),\"\")","v":""},{"$f":"IFERROR(IF(allGymnasts!B7=\"\",\"\",INDEX(allGymnasts!$J$4:$J$103,MATCH(SMALL(allGymnasts!$N$4:$N$103,A7),allGymnasts!$N$4:$N$103,0))),\"\")","v":""},{"$f":"IFERROR(IF(allGymnasts!B7=\"\",\"\",INDEX(allGymnasts!$K$4:$K$103,MATCH(SMALL(allGymnasts!$N$4:$N$103,A7),allGymnasts!$N$4:$N$103,0))),\"\")","v":""},{"$f":"IFERROR(IF(allGymnasts!B7=\"\",\"\",INDEX(allGymnasts!$L$4:$L$103,MATCH(SMALL(allGymnasts!$N$4:$N$103,A7),allGymnasts!$N$4:$N$103,0))),\"\")","v":""},{"$f":"IFERROR(IF(allGymnasts!B7=\"\",\"\",INDEX(allGymnasts!$M$4:$M$103,MATCH(SMALL(allGymnasts!$N$4:$N$103,A7),allGymnasts!$N$4:$N$103,0))),\"\")","v":""}]
[5,{"$f":"IFERROR(_xlfn.FLOOR.MATH(IF(allGymnasts!A8=\"\",\"\",INDEX(allGymnasts!$N$4:$N$103,MATCH(SMALL(allGymnasts!$N$4:$N$103,A8),allGymnasts!$N$4:$N$103,0)))),\"\")","v":""},{"$f":"IFERROR(IF(allGymnasts!A8=\"\",\"\",INDEX(allGymnasts!$A$4:$A$103,MATCH(SMALL(allGymnasts!$N$4:$N$103,A8),allGymnasts!$N$4:$N$103,0))),\"\")","v":""},{"$f":"IFERROR(IF(allGymnasts!B8=\"\",\"\",INDEX(allGymnasts!$B$4:$B$103,MATCH(SMALL(allGymnasts!$N$4:$N$103,A8),allGymnasts!$N$4:$N$103,0))),\"\")","v":""},{"$f":"IFERROR(IF(allGymnasts!C8=\"\",\"\",INDEX(allGymnasts!$C$4:$C$103,MATCH(SMALL(allGymnasts!$N$4:$N$103,A8),allGymnasts!$N$4:$N$103,0))),\"\")","v":""},{"$f":"IFERROR(IF(allGymnasts!D8=\"\",\"\",INDEX(allGymnasts!$D$4:$D$103,MATCH(SMALL(allGymnasts!$N$4:$N$103,A8),allGymnasts!$N$4:$N$103,0))),\"\")","v":""},{"$f":"IFERROR(IF(allGymnasts!B8=\"\",\"\",INDEX(allGymnasts!$J$4:$J$103,MATCH(SMALL(allGymnasts!$N$4:$N$103,A8),allGymnasts!$N$4:$N$103,0))),\"\")","v":""},{"$f":"IFERROR(IF(allGymnasts!B8=\"\",\"\",INDEX(allGymnasts!$K$4:$K$103,MATCH(SMALL(allGymnasts!$N$4:$N$103,A8),allGymnasts!$N$4:$N$103,0))),\"\")","v":""},{"$f":"IFERROR(IF(allGymnasts!B8=\"\",\"\",INDEX(allGymnasts!$L$4:$L$103,MATCH(SMALL(allGymnasts!$N$4:$N$103,A8),allGymnasts!$N$4:$N$103,0))),\"\")","v":""},{"$f":"IFERROR(IF(allGymnasts!B8=\"\",\"\",INDEX(allGymnasts!$M$4:$M$103,MATCH(SMALL(allGymnasts!$N$4:$N$103,A8),allGymnasts!$N$4:$N$103,0))),\"\")","v":""}]
[6,{"$f":"IFERROR(_xlfn.FLOOR.MATH(IF(allGymnasts!A9=\"\",\"\",INDEX(allGymnasts!$N$4:$N$103,MATCH(SMALL(allGymnasts!$N$4:$N$103,A9),allGymnasts!$N$4:$N$103,0)))),\"\")","v":""},{"$f":"IFERROR(IF(allGymnasts!A9=\"\",\"\",INDEX(allGymnasts!$A$4:$A$103,MATCH(SMALL(allGymnasts!$N$4:$N$103,A9),allGymnasts!$N$4:$N$103,0))),\"\")","v":""},{"$f":"IFERROR(IF(allGymnasts!B9=\"\",\"\",INDEX(allGymnasts!$B$4:$B$103,MATCH(SMALL(allGymnasts!$N$4:$N$103,A9),allGymnasts!$N$4:$N$103,0))),\"\")","v":""},{"$f":"IFERROR(IF(allGymnasts!C9=\"\",\"\",INDEX(allGymnasts!$C$4:$C$103,MATCH(SMALL(allGymnasts!$N$4:$N$103,A9),allGymnasts!$N$4:$N$103,0))),\"\")","v":""},{"$f":"IFERROR(IF(allGymnasts!D9=\"\",\"\",INDEX(allGymnasts!$D$4:$D$103,MATCH(SMALL(allGymnasts!$N$4:$N$103,A9),allGymnasts!$N$4:$N$103,0))),\"\")","v":""},{"$f":"IFERROR(IF(allGymnasts!B9=\"\",\"\",INDEX(allGymnasts!$J$4:$J$103,MATCH(SMALL(allGymnasts!$N$4:$N$103,A9),allGymnasts!$N$4:$N$103,0))),\"\")","v":""},{"$f":"IFERROR(IF(allGymnasts!B9=\"\",\"\",INDEX(allGymnasts!$K$4:$K$103,MATCH(SMALL(allGymnasts!$N$4:$N$103,A9),allGymnasts!$N$4:$N$103,0))),\"\")","v":""},{"$f":"IFERROR(IF(allGymnasts!B9=\"\",\"\",INDEX(allGymnasts!$L$4:$L$103,MATCH(SMALL(allGymnasts!$N$4:$N$103,A9),allGymnasts!$N$4:$N$103,0))),\"\")","v":""},{"$f":"IFERROR(IF(allGymnasts!B9=\"\",\"\",INDEX(allGymnasts!$M$4:$M$103,MATCH(SMALL(allGymnasts!$N$4:$N$103,A9),allGymnasts!$N$4:$N$103,0))),\"\")","v":""}]
[7,{"$f":"IFERROR(_xlfn.FLOOR.MATH(IF(allGymnasts!A10=\"\",\"\",INDEX(allGymnasts!$N$4:$N$103,MATCH(SMALL(allGymnasts!$N$4:$N$103,A10),allGymnasts!$N$4:$N$103,0)))),\"\")","v":""},{"$f":"IFERROR(IF(allGymnasts!A10=\"\",\"\",INDEX(allGymnasts!$A$4:$A$103,MATCH(SMALL(allGymnasts!$N$4:$N$103,A10),allGymnasts!$N$4:$N$103,0))),\"\")","v":""},{"$f":"IFERROR(IF(allGymnasts!B10=\"\",\"\",INDEX(allGymnasts!$B$4:$B$103,MATCH(SMALL(allGymnasts!$N$4:$N$103,A10),allGymnasts!$N$4:$N$103,0))),\"\")","v":""},{"$f":"IFERROR(IF(allGymnasts!C10=\"\",\"\",INDEX(allGymnasts!$C$4:$C$103,MATCH(SMALL(allGymnasts!$N$4:$N$103,A10),allGymnasts!$N$4:$N$103,0))),\"\")","v":""},{"$f":"IFERROR(IF(allGymnasts!D10=\"\",\"\",INDEX(allGymnasts!$D$4:$D$103,MATCH(SMALL(allGymnasts!$N$4:$N$103,A10),allGymnasts!$N$4:$N$103,0))),\"\")","v":""},{"$f":"IFERROR(IF(allGymnasts!B10=\"\",\"\",INDEX(allGymnasts!$J$4:$J$103,MATCH(SMALL(allGymnasts!$N$4:$N$103,A10),allGymnasts!$N$4:$N$103,0))),\"\")","v":""},{"$f":"IFERROR(IF(allGymnasts!B10=\"\",\"\",INDEX(allGymnasts!$K$4:$K$103,MATCH(SMALL(allGymnasts!$N$4:$N$103,A10),allGymnasts!$N$4:$N$103,0))),\"\")","v":""},{"$f":"IFERROR(IF(allGymnasts!B10=\"\",\"\",INDEX(allGymnasts!$L$4:$L$103,MATCH(SMALL(allGymnasts!$N$4:$N$103,A10),allGymnasts!$N$4:$N$103,0))),\"\")","v":""},{"$f":"IFERROR(IF(allGymnasts!B10=\"\",\"\",INDEX(allGymnasts!$M$4:$M$103,MATCH(SMALL(allGymnasts!$N$4:$N$103,A10),allGymnasts!$N$4:$N$103,0))),\"\")","v":""}]
[8,{"$f":"IFERROR(_xlfn.FLOOR.MATH(IF(allGymnasts!A11=\"\",\"\",INDEX(allGymnasts!$N$4:$N$103,MATCH(SMALL(allGymnasts!$N$4:$N$103,A11),allGymnasts!$N$4:$N$103,0)))),\"\")","v":""},{"$f":"IFERROR(IF(allGymnasts!A11=\"\",\"\",INDEX(allGymnasts!$A$4:$A$103,MATCH(SMALL(allGymnasts!$N$4:$N$103,A11),allGymnasts!$N$4:$N$103,0))),\"\")","v":""},{"$f":"IFERROR(IF(allGymnasts!B11=\"\",\"\",INDEX(allGymnasts!$B$4:$B$103,MATCH(SMALL(allGymnasts!$N$4:$N$103,A11),allGymnasts!$N$4:$N$103,0))),\"\")","v":""},{"$f":"IFERROR(IF(allGymnasts!C11=\"\",\"\",INDEX(allGymnasts!$C$4:$C$103,MATCH(SMALL(allGymnasts!$N$4:$N$103,A11),allGymnasts!$N$4:$N$103,0))),\"\")","v":""},{"$f":"IFERROR(IF(allGymnasts!D11=\"\",\"\",INDEX(allGymnasts!$D$4:$D$103,MATCH(SMALL(allGymnasts!$N$4:$N$103,A11),allGymnasts!$N$4:$N$103,0))),\"\")","v":""},{"$f":"IFERROR(IF(allGymnasts!B11=\"\",\"\",INDEX(allGymnasts!$J$4:$J$103,MATCH(SMALL(allGymnasts!$N$4:$N$103,A11),allGymnasts!$N$4:$N$103,0))),\"\")","v":""},{"$f":"IFERROR(IF(allGymnasts!B11=\"\",\"\",INDEX(allGymnasts!$K$4:$K$103,MATCH(SMALL(allGymnasts!$N$4:$N$103,A11),allGymnasts!$N$4:$N$103,0))),\"\")","v":""},{"$f":"IFERROR(IF(allGymnasts!B11=\"\",\"\",INDEX(allGymnasts!$L$4:$L$103,MATCH(SMALL(allGymnasts!$N$4:$N$103,A11),allGymnasts!$N$4:$N$103,0))),\"\")","v":""},{"$f":"IFERROR(IF(allGymnasts!B11=\"\",\"\",INDEX(allGymnasts!$M$4:$M$103,MATCH(SMALL(allGymnasts!$N$4:$N$103,A11),allGymnasts!$N$4:$N$103,0))),\"\")","v":""}]
[9,{"$f":"IFERROR(_xlfn.FLOOR.MATH(IF(allGymnasts!A12=\"\",\"\",INDEX(allGymnasts!$N$4:$N$103,MATCH(SMALL(allGymnasts!$N$4:$N$103,A12),allGymnasts!$N$4:$N$103,0)))),\"\")","v":""},{"$f":"IFERROR(IF(allGymnasts!A12=\"\",\"\",INDEX(allGymnasts!$A$4:$A$103,MATCH(SMALL(allGymnasts!$N$4:$N$103,A12),allGymnasts!$N$4:$N$103,0))),\"\")","v":""},{"$f":"IFERROR(IF(allGymnasts!B12=\"\",\"\",INDEX(allGymnasts!$B$4:$B$103,MATCH(SMALL(allGymnasts!$N$4:$N$103,A12),allGymnasts!$N$4:$N$103,0))),\"\")","v":""},{"$f":"IFERROR(IF(allGymnasts!C12=\"\",\"\",INDEX(allGymnasts!$C$4:$C$103,MATCH(SMALL(allGymnasts!$N$4:$N$103,A12),allGymnasts!$N$4:$N$103,0))),\"\")","v":""},{"$f":"IFERROR(IF(allGymnasts!D12=\"\",\"\",INDEX(allGymnasts!$D$4:$D$103,MATCH(SMALL(allGymnasts!$N$4:$N$103,A12),allGymnasts!$N$4:$N$103,0))),\"\")","v":""},{"$f":"IFERROR(IF(allGymnasts!B12=\"\",\"\",INDEX(allGymnasts!$J$4:$J$103,MATCH(SMALL(allGymnasts!$N$4:$N$103,A12),allGymnasts!$N$4:$N$103,0))),\"\")","v":""},{"$f":"IFERROR(IF(allGymnasts!B12=\"\",\"\",INDEX(allGymnasts!$K$4:$K$103,MATCH(SMALL(allGymnasts!$N$4:$N$103,A12),allGymnasts!$N$4:$N$103,0))),\"\")","v":""},{"$f":"IFERROR(IF(allGymnasts!B12=\"\",\"\",INDEX(allGymnasts!$L$4:$L$103,MATCH(SMALL(allGymnasts!$N$4:$N$103,A12),allGymnasts!$N$4:$N$103,0))),\"\")","v":""},{"$f":"IFERROR(IF(allGymnasts!B12=\"\",\"\",INDEX(allGymnasts!$M$4:$M$103,MATCH(SMALL(allGymnasts!$N$4:$N$103,A12),allGymnasts!$N$4:$N$103,0))),\"\")","v":""}]
[10,{"$f":"IFERROR(_xlfn.FLOOR.MATH(IF(allGymnasts!A13=\"\",\"\",INDEX(allGymnasts!$N$4:$N$103,MATCH(SMALL(allGymnasts!$N$4:$N$103,A13),allGymnasts!$N$4:$N$103,0)))),\"\")","v":""},{"$f":"IFERROR(IF(allGymnasts!A13=\"\",\"\",INDEX(allGymnasts!$A$4:$A$103,MATCH(SMALL(allGymnasts!$N$4:$N$103,A13),allGymnasts!$N$4:$N$103,0))),\"\")","v":""},{"$f":"IFERROR(IF(allGymnasts!B13=\"\",\"\",INDEX(allGymnasts!$B$4:$B$103,MATCH(SMALL(allGymnasts!$N$4:$N$103,A13),allGymnasts!$N$4:$N$103,0))),\"\")","v":""},{"$f":"IFERROR(IF(allGymnasts!C13=\"\",\"\",INDEX(allGymnasts!$C$4:$C$103,MATCH(SMALL(allGymnasts!$N$4:$N$103,A13),allGymnasts!$N$4:$N$103,0))),\"\")","v":""},{"$f":"IFERROR(IF(allGymnasts!D13=\"\",\"\",INDEX(allGymnasts!$D$4:$D$103,MATCH(SMALL(allGymnasts!$N$4:$N$103,A13),allGymnasts!$N$4:$N$103,0))),\"\")","v":""},{"$f":"IFERROR(IF(allGymnasts!B13=\"\",\"\",INDEX(allGymnasts!$J$4:$J$103,MATCH(SMALL(allGymnasts!$N$4:$N$103,A13),allGymnasts!$N$4:$N$103,0))),\"\")","v":""},{"$f":"IFERROR(IF(allGymnasts!B13=\"\",\"\",INDEX(allGymnasts!$K$4:$K$103,MATCH(SMALL(allGymnasts!$N$4:$N$103,A13),allGymnasts!$N$4:$N$103,0))),\"\")","v":""},{"$f":"IFERROR(IF(allGymnasts!B13=\"\",\"\",INDEX(allGymnasts!$L$4:$L$103,MATCH(SMALL(allGymnasts!$N$4:$N$103,A13),allGymnasts!$N$4:$N$103,0))),\"\")","v":""},{"$f":"IFERROR(IF(allGymnasts!B13=\"\",\"\",INDEX(allGymnasts!$M$4:$M$103,MATCH(SMALL(allGymnasts!$N$4:$N$103,A13),allGymnasts!$N$4:$N$103,0))),\"\")","v":""}]
[11,{"$f":"IFERROR(_xlfn.FLOOR.MATH(IF(allGymnasts!A14=\"\",\"\",INDEX(allGymnasts!$N$4:$N$103,MATCH(SMALL(allGymnasts!$N$4:$N$103,A14),allGymnasts!$N$4:$N$103,0)))),\"\")","v":""},{"$f":"IFERROR(IF(allGymnasts!A14=\"\",\"\",INDEX(allGymnasts!$A$4:$A$103,MATCH(SMALL(allGymnasts!$N$4:$N$103,A14),allGymnasts!$N$4:$N$103,0))),\"\")","v":""},{"$f":"IFERROR(IF(allGymnasts!B14=\"\",\"\",INDEX(allGymnasts!$B$4:$B$103,MATCH(SMALL(allGymnasts!$N$4:$N$103,A14),allGymnasts!$N$4:$N$103,0))),\"\")","v":""},{"$f":"IFERROR(IF(allGymnasts!C14=\"\",\"\",INDEX(allGymnasts!$C$4:$C$103,MATCH(SMALL(allGymnasts!$N$4:$N$103,A14),allGymnasts!$N$4:$N$103,0))),\"\")","v":""},{"$f":"IFERROR(IF(allGymnasts!D14=\"\",\"\",INDEX(allGymnasts!$D$4:$D$103,MATCH(SMALL(allGymnasts!$N$4:$N$103,A14),allGymnasts!$N$4:$N$103,0))),\"\")","v":""},{"$f":"IFERROR(IF(allGymnasts!B14=\"\",\"\",INDEX(allGymnasts!$J$4:$J$103,MATCH(SMALL(allGymnasts!$N$4:$N$103,A14),allGymnasts!$N$4:$N$103,0))),\"\")","v":""},{"$f":"IFERROR(IF(allGymnasts!B14=\"\",\"\",INDEX(allGymnasts!$K$4:$K$103,MATCH(SMALL(allGymnasts!$N$4:$N$103,A14),allGymnasts!$N$4:$N$103,0))),\"\")","v":""},{"$f":"IFERROR(IF(allGymnasts!B14=\"\",\"\",INDEX(allGymnasts!$L$4:$L$103,MATCH(SMALL(allGymnasts!$N$4:$N$103,A14),allGymnasts!$N$4:$N$103,0))),\"\")","v":""},{"$f":"IFERROR(IF(allGymnasts!B14=\"\",\"\",INDEX(allGymnasts!$M$4:$M$103,MATCH(SMALL(allGymnasts!$N$4:$N$103,A14),allGymnasts!$N$4:$N$103,0))),\"\")","v":""}]
[12,{"$f":"IFERROR(_xlfn.FLOOR.MATH(IF(allGymnasts!A15=\"\",\"\",INDEX(allGymnasts!$N$4:$N$103,MATCH(SMALL(allGymnasts!$N$4:$N$103,A15),allGymnasts!$N$4:$N$103,0)))),\"\")","v":""},{"$f":"IFERROR(IF(allGymnasts!A15=\"\",\"\",INDEX(allGymnasts!$A$4:$A$103,MATCH(SMALL(allGymnasts!$N$4:$N$103,A15),allGymnasts!$N$4:$N$103,0))),\"\")","v":""},{"$f":"IFERROR(IF(allGymnasts!B15=\"\",\"\",INDEX(allGymnasts!$B$4:$B$103,MATCH(SMALL(allGymnasts!$N$4:$N$103,A15),allGymnasts!$N$4:$N$103,0))),\"\")","v":""},{"$f":"IFERROR(IF(allGymnasts!C15=\"\",\"\",INDEX(allGymnasts!$C$4:$C$103,MATCH(SMALL(allGymnasts!$N$4:$N$103,A15),allGymnasts!$N$4:$N$103,0))),\"\")","v":""},{"$f":"IFERROR(IF(allGymnasts!D15=\"\",\"\",INDEX(allGymnasts!$D$4:$D$103,MATCH(SMALL(allGymnasts!$N$4:$N$103,A15),allGymnasts!$N$4:$N$103,0))),\"\")","v":""},{"$f":"IFERROR(IF(allGymnasts!B15=\"\",\"\",INDEX(allGymnasts!$J$4:$J$103,MATCH(SMALL(allGymnasts!$N$4:$N$103,A15),allGymnasts!$N$4:$N$103,0))),\"\")","v":""},{"$f":"IFERROR(IF(allGymnasts!B15=\"\",\"\",INDEX(allGymnasts!$K$4:$K$103,MATCH(SMALL(allGymnasts!$N$4:$N$103,A15),allGymnasts!$N$4:$N$103,0))),\"\")","v":""},{"$f":"IFERROR(IF(allGymnasts!B15=\"\",\"\",INDEX(allGymnasts!$L$4:$L$103,MATCH(SMALL(allGymnasts!$N$4:$N$103,A15),allGymnasts!$N$4:$N$103,0))),\"\")","v":""},{"$f":"IFERROR(IF(allGymnasts!B15=\"\",\"\",INDEX(allGymnasts!$M$4:$M$103,MATCH(SMALL(allGymnasts!$N$4:$N$103,A15),allGymnasts!$N$4:$N$103,0))),\"\")","v":""}]
[13,{"$f":"IFERROR(_xlfn.FLOOR.MATH(IF(allGymnasts!A16=\"\",\"\",INDEX(allGymnasts!$N$4:$N$103,MATCH(SMALL(allGymnasts!$N$4:$N$103,A16),allGymnasts!$N$4:$N$103,0)))),\"\")","v":""},{"$f":"IFERROR(IF(allGymnasts!A16=\"\",\"\",INDEX(allGymnasts!$A$4:$A$103,MATCH(SMALL(allGymnasts!$N$4:$N$103,A16),allGymnasts!$N$4:$N$103,0))),\"\")","v":""},{"$f":"IFERROR(IF(allGymnasts!B16=\"\",\"\",INDEX(allGymnasts!$B$4:$B$103,MATCH(SMALL(allGymnasts!$N$4:$N$103,A16),allGymnasts!$N$4:$N$103,0))),\"\")","v":""},{"$f":"IFERROR(IF(allGymnasts!C16=\"\",\"\",INDEX(allGymnasts!$C$4:$C$103,MATCH(SMALL(allGymnasts!$N$4:$N$103,A16),allGymnasts!$N$4:$N$103,0))),\"\")","v":""},{"$f":"IFERROR(IF(allGymnasts!D16=\"\",\"\",INDEX(allGymnasts!$D$4:$D$103,MATCH(SMALL(allGymnasts!$N$4:$N$103,A16),allGymnasts!$N$4:$N$103,0))),\"\")","v":""},{"$f":"IFERROR(IF(allGymnasts!B16=\"\",\"\",INDEX(allGymnasts!$J$4:$J$103,MATCH(SMALL(allGymnasts!$N$4:$N$103,A16),allGymnasts!$N$4:$N$103,0))),\"\")","v":""},{"$f":"IFERROR(IF(allGymnasts!B16=\"\",\"\",INDEX(allGymnasts!$K$4:$K$103,MATCH(SMALL(allGymnasts!$N$4:$N$103,A16),allGymnasts!$N$4:$N$103,0))),\"\")","v":""},{"$f":"IFERROR(IF(allGymnasts!B16=\"\",\"\",INDEX(allGymnasts!$L$4:$L$103,MATCH(SMALL(allGymnasts!$N$4:$N$103,A16),allGymnasts!$N$4:$N$103,0))),\"\")","v":""},{"$f":"IFERROR(IF(allGymnasts!B16=\"\",\"\",INDEX(allGymnasts!$M$4:$M$103,MATCH(SMALL(allGymnasts!$N$4:$N$103,A16),allGymnasts!$N$4:$N$103,0))),\"\")","v":""}]
[14,{"$f":"IFERROR(_xlfn.FLOOR.MATH(IF(allGymnasts!A17=\"\",\"\",INDEX(allGymnasts!$N$4:$N$103,MATCH(SMALL(allGymnasts!$N$4:$N$103,A17),allGymnasts!$N$4:$N$103,0)))),\"\")","v":""},{"$f":"IFERROR(IF(allGymnasts!A17=\"\",\"\",INDEX(allGymnasts!$A$4:$A$103,MATCH(SMALL(allGymnasts!$N$4:$N$103,A17),allGymnasts!$N$4:$N$103,0))),\"\")","v":""},{"$f":"IFERROR(IF(allGymnasts!B17=\"\",\"\",INDEX(allGymnasts!$B$4:$B$103,MATCH(SMALL(allGymnasts!$N$4:$N$103,A17),allGymnasts!$N$4:$N$103,0))),\"\")","v":""},{"$f":"IFERROR(IF(allGymnasts!C17=\"\",\"\",INDEX(allGymnasts!$C$4:$C$103,MATCH(SMALL(allGymnasts!$N$4:$N$103,A17),allGymnasts!$N$4:$N$103,0))),\"\")","v":""},{"$f":"IFERROR(IF(allGymnasts!D17=\"\",\"\",INDEX(allGymnasts!$D$4:$D$103,MATCH(SMALL(allGymnasts!$N$4:$N$103,A17),allGymnasts!$N$4:$N$103,0))),\"\")","v":""},{"$f":"IFERROR(IF(allGymnasts!B17=\"\",\"\",INDEX(allGymnasts!$J$4:$J$103,MATCH(SMALL(allGymnasts!$N$4:$N$103,A17),allGymnasts!$N$4:$N$103,0))),\"\")","v":""},{"$f":"IFERROR(IF(allGymnasts!B17=\"\",\"\",INDEX(allGymnasts!$K$4:$K$103,MATCH(SMALL(allGymnasts!$N$4:$N$103,A17),allGymnasts!$N$4:$N$103,0))),\"\")","v":""},{"$f":"IFERROR(IF(allGymnasts!B17=\"\",\"\",INDEX(allGymnasts!$L$4:$L$103,MATCH(SMALL(allGymnasts!$N$4:$N$103,A17),allGymnasts!$N$4:$N$103,0))),\"\")","v":""},{"$f":"IFERROR(IF(allGymnasts!B17=\"\",\"\",INDEX(allGymnasts!$M$4:$M$103,MATCH(SMALL(allGymnasts!$N$4:$N$103,A17),allGymnasts!$N$4:$N$103,0))),\"\")","v":""}]
[15,{"$f":"IFERROR(_xlfn.FLOOR.MATH(IF(allGymnasts!A18=\"\",\"\",INDEX(allGymnasts!$N$4:$N$103,MATCH(SMALL(allGymnasts!$N$4:$N$103,A18),allGymnasts!$N$4:$N$103,0)))),\"\")","v":""},{"$f":"IFERROR(IF(allGymnasts!A18=\"\",\"\",INDEX(allGymnasts!$A$4:$A$103,MATCH(SMALL(allGymnasts!$N$4:$N$103,A18),allGymnasts!$N$4:$N$103,0))),\"\")","v":""},{"$f":"IFERROR(IF(allGymnasts!B18=\"\",\"\",INDEX(allGymnasts!$B$4:$B$103,MATCH(SMALL(allGymnasts!$N$4:$N$103,A18),allGymnasts!$N$4:$N$103,0))),\"\")","v":""},{"$f":"IFERROR(IF(allGymnasts!C18=\"\",\"\",INDEX(allGymnasts!$C$4:$C$103,MATCH(SMALL(allGymnasts!$N$4:$N$103,A18),allGymnasts!$N$4:$N$103,0))),\"\")","v":""},{"$f":"IFERROR(IF(allGymnasts!D18=\"\",\"\",INDEX(allGymnasts!$D$4:$D$103,MATCH(SMALL(allGymnasts!$N$4:$N$103,A18),allGymnasts!$N$4:$N$103,0))),\"\")","v":""},{"$f":"IFERROR(IF(allGymnasts!B18=\"\",\"\",INDEX(allGymnasts!$J$4:$J$103,MATCH(SMALL(allGymnasts!$N$4:$N$103,A18),allGymnasts!$N$4:$N$103,0))),\"\")","v":""},{"$f":"IFERROR(IF(allGymnasts!B18=\"\",\"\",INDEX(allGymnasts!$K$4:$K$103,MATCH(SMALL(allGymnasts!$N$4:$N$103,A18),allGymnasts!$N$4:$N$103,0))),\"\")","v":""},{"$f":"IFERROR(IF(allGymnasts!B18=\"\",\"\",INDEX(allGymnasts!$L$4:$L$103,MATCH(SMALL(allGymnasts!$N$4:$N$103,A18),allGymnasts!$N$4:$N$103,0))),\"\")","v":""},{"$f":"IFERROR(IF(allGymnasts!B18=\"\",\"\",INDEX(allGymnasts!$M$4:$M$103,MATCH(SMALL(allGymnasts!$N$4:$N$103,A18),allGymnasts!$N$4:$N$103,0))),\"\")","v":""}]
[16,{"$f":"IFERROR(_xlfn.FLOOR.MATH(IF(allGymnasts!A19=\"\",\"\",INDEX(allGymnasts!$N$4:$N$103,MATCH(SMALL(allGymnasts!$N$4:$N$103,A19),allGymnasts!$N$4:$N$103,0)))),\"\")","v":""},{"$f":"IFERROR(IF(allGymnasts!A19=\"\",\"\",INDEX(allGymnasts!$A$4:$A$103,MATCH(SMALL(allGymnasts!$N$4:$N$103,A19),allGymnasts!$N$4:$N$103,0))),\"\")","v":""},{"$f":"IFERROR(IF(allGymnasts!B19=\"\",\"\",INDEX(allGymnasts!$B$4:$B$103,MATCH(SMALL(allGymnasts!$N$4:$N$103,A19),allGymnasts!$N$4:$N$103,0))),\"\")","v":""},{"$f":"IFERROR(IF(allGymnasts!C19=\"\",\"\",INDEX(allGymnasts!$C$4:$C$103,MATCH(SMALL(allGymnasts!$N$4:$N$103,A19),allGymnasts!$N$4:$N$103,0))),\"\")","v":""},{"$f":"IFERROR(IF(allGymnasts!D19=\"\",\"\",INDEX(allGymnasts!$D$4:$D$103,MATCH(SMALL(allGymnasts!$N$4:$N$103,A19),allGymnasts!$N$4:$N$103,0))),\"\")","v":""},{"$f":"IFERROR(IF(allGymnasts!B19=\"\",\"\",INDEX(allGymnasts!$J$4:$J$103,MATCH(SMALL(allGymnasts!$N$4:$N$103,A19),allGymnasts!$N$4:$N$103,0))),\"\")","v":""},{"$f":"IFERROR(IF(allGymnasts!B19=\"\",\"\",INDEX(allGymnasts!$K$4:$K$103,MATCH(SMALL(allGymnasts!$N$4:$N$103,A19),allGymnasts!$N$4:$N$103,0))),\"\")","v":""},{"$f":"IFERROR(IF(allGymnasts!B19=\"\",\"\",INDEX(allGymnasts!$L$4:$L$103,MATCH(SMALL(allGymnasts!$N$4:$N$103,A19),allGymnasts!$N$4:$N$103,0))),\"\")","v":""},{"$f":"IFERROR(IF(allGymnasts!B19=\"\",\"\",INDEX(allGymnasts!$M$4:$M$103,MATCH(SMALL(allGymnasts!$N$4:$N$103,A19),allGymnasts!$N$4:$N$103,0))),\"\")","v":""}]
[17,{"$f":"IFERROR(_xlfn.FLOOR.MATH(IF(allGymnasts!A20=\"\",\"\",INDEX(allGymnasts!$N$4:$N$103,MATCH(SMALL(allGymnasts!$N$4:$N$103,A20),allGymnasts!$N$4:$N$103,0)))),\"\")","v":""},{"$f":"IFERROR(IF(allGymnasts!A20=\"\",\"\",INDEX(allGymnasts!$A$4:$A$103,MATCH(SMALL(allGymnasts!$N$4:$N$103,A20),allGymnasts!$N$4:$N$103,0))),\"\")","v":""},{"$f":"IFERROR(IF(allGymnasts!B20=\"\",\"\",INDEX(allGymnasts!$B$4:$B$103,MATCH(SMALL(allGymnasts!$N$4:$N$103,A20),allGymnasts!$N$4:$N$103,0))),\"\")","v":""},{"$f":"IFERROR(IF(allGymnasts!C20=\"\",\"\",INDEX(allGymnasts!$C$4:$C$103,MATCH(SMALL(allGymnasts!$N$4:$N$103,A20),allGymnasts!$N$4:$N$103,0))),\"\")","v":""},{"$f":"IFERROR(IF(allGymnasts!D20=\"\",\"\",INDEX(allGymnasts!$D$4:$D$103,MATCH(SMALL(allGymnasts!$N$4:$N$103,A20),allGymnasts!$N$4:$N$103,0))),\"\")","v":""},{"$f":"IFERROR(IF(allGymnasts!B20=\"\",\"\",INDEX(allGymnasts!$J$4:$J$103,MATCH(SMALL(allGymnasts!$N$4:$N$103,A20),allGymnasts!$N$4:$N$103,0))),\"\")","v":""},{"$f":"IFERROR(IF(allGymnasts!B20=\"\",\"\",INDEX(allGymnasts!$K$4:$K$103,MATCH(SMALL(allGymnasts!$N$4:$N$103,A20),allGymnasts!$N$4:$N$103,0))),\"\")","v":""},{"$f":"IFERROR(IF(allGymnasts!B20=\"\",\"\",INDEX(allGymnasts!$L$4:$L$103,MATCH(SMALL(allGymnasts!$N$4:$N$103,A20),allGymnasts!$N$4:$N$103,0))),\"\")","v":""},{"$f":"IFERROR(IF(allGymnasts!B20=\"\",\"\",INDEX(allGymnasts!$M$4:$M$103,MATCH(SMALL(allGymnasts!$N$4:$N$103,A20),allGymnasts!$N$4:$N$103,0))),\"\")","v":""}]
[18,{"$f":"IFERROR(_xlfn.FLOOR.MATH(IF(allGymnasts!A21=\"\",\"\",INDEX(allGymnasts!$N$4:$N$103,MATCH(SMALL(allGymnasts!$N$4:$N$103,A21),allGymnasts!$N$4:$N$103,0)))),\"\")","v":""},{"$f":"IFERROR(IF(allGymnasts!A21=\"\",\"\",INDEX(allGymnasts!$A$4:$A$103,MATCH(SMALL(allGymnasts!$N$4:$N$103,A21),allGymnasts!$N$4:$N$103,0))),\"\")","v":""},{"$f":"IFERROR(IF(allGymnasts!B21=\"\",\"\",INDEX(allGymnasts!$B$4:$B$103,MATCH(SMALL(allGymnasts!$N$4:$N$103,A21),allGymnasts!$N$4:$N$103,0))),\"\")","v":""},{"$f":"IFERROR(IF(allGymnasts!C21=\"\",\"\",INDEX(allGymnasts!$C$4:$C$103,MATCH(SMALL(allGymnasts!$N$4:$N$103,A21),allGymnasts!$N$4:$N$103,0))),\"\")","v":""},{"$f":"IFERROR(IF(allGymnasts!D21=\"\",\"\",INDEX(allGymnasts!$D$4:$D$103,MATCH(SMALL(allGymnasts!$N$4:$N$103,A21),allGymnasts!$N$4:$N$103,0))),\"\")","v":""},{"$f":"IFERROR(IF(allGymnasts!B21=\"\",\"\",INDEX(allGymnasts!$J$4:$J$103,MATCH(SMALL(allGymnasts!$N$4:$N$103,A21),allGymnasts!$N$4:$N$103,0))),\"\")","v":""},{"$f":"IFERROR(IF(allGymnasts!B21=\"\",\"\",INDEX(allGymnasts!$K$4:$K$103,MATCH(SMALL(allGymnasts!$N$4:$N$103,A21),allGymnasts!$N$4:$N$103,0))),\"\")","v":""},{"$f":"IFERROR(IF(allGymnasts!B21=\"\",\"\",INDEX(allGymnasts!$L$4:$L$103,MATCH(SMALL(allGymnasts!$N$4:$N$103,A21),allGymnasts!$N$4:$N$103,0))),\"\")","v":""},{"$f":"IFERROR(IF(allGymnasts!B21=\"\",\"\",INDEX(allGymnasts!$M$4:$M$103,MATCH(SMALL(allGymnasts!$N$4:$N$103,A21),allGymnasts!$N$4:$N$103,0))),\"\")","v":""}]
[19,{"$f":"IFERROR(_xlfn.FLOOR.MATH(IF(allGymnasts!A22=\"\",\"\",INDEX(allGymnasts!$N$4:$N$103,MATCH(SMALL(allGymnasts!$N$4:$N$103,A22),allGymnasts!$N$4:$N$103,0)))),\"\")","v":""},{"$f":"IFERROR(IF(allGymnasts!A22=\"\",\"\",INDEX(allGymnasts!$A$4:$A$103,MATCH(SMALL(allGymnasts!$N$4:$N$103,A22),allGymnasts!$N$4:$N$103,0))),\"\")","v":""},{"$f":"IFERROR(IF(allGymnasts!B22=\"\",\"\",INDEX(allGymnasts!$B$4:$B$103,MATCH(SMALL(allGymnasts!$N$4:$N$103,A22),allGymnasts!$N$4:$N$103,0))),\"\")","v":""},{"$f":"IFERROR(IF(allGymnasts!C22=\"\",\"\",INDEX(allGymnasts!$C$4:$C$103,MATCH(SMALL(allGymnasts!$N$4:$N$103,A22),allGymnasts!$N$4:$N$103,0))),\"\")","v":""},{"$f":"IFERROR(IF(allGymnasts!D22=\"\",\"\",INDEX(allGymnasts!$D$4:$D$103,MATCH(SMALL(allGymnasts!$N$4:$N$103,A22),allGymnasts!$N$4:$N$103,0))),\"\")","v":""},{"$f":"IFERROR(IF(allGymnasts!B22=\"\",\"\",INDEX(allGymnasts!$J$4:$J$103,MATCH(SMALL(allGymnasts!$N$4:$N$103,A22),allGymnasts!$N$4:$N$103,0))),\"\")","v":""},{"$f":"IFERROR(IF(allGymnasts!B22=\"\",\"\",INDEX(allGymnasts!$K$4:$K$103,MATCH(SMALL(allGymnasts!$N$4:$N$103,A22),allGymnasts!$N$4:$N$103,0))),\"\")","v":""},{"$f":"IFERROR(IF(allGymnasts!B22=\"\",\"\",INDEX(allGymnasts!$L$4:$L$103,MATCH(SMALL(allGymnasts!$N$4:$N$103,A22),allGymnasts!$N$4:$N$103,0))),\"\")","v":""},{"$f":"IFERROR(IF(allGymnasts!B22=\"\",\"\",INDEX(allGymnasts!$M$4:$M$103,MATCH(SMALL(allGymnasts!$N$4:$N$103,A22),allGymnasts!$N$4:$N$103,0))),\"\")","v":""}]
[20,{"$f":"IFERROR(_xlfn.FLOOR.MATH(IF(allGymnasts!A23=\"\",\"\",INDEX(allGymnasts!$N$4:$N$103,MATCH(SMALL(allGymnasts!$N$4:$N$103,A23),allGymnasts!$N$4:$N$103,0)))),\"\")","v":""},{"$f":"IFERROR(IF(allGymnasts!A23=\"\",\"\",INDEX(allGymnasts!$A$4:$A$103,MATCH(SMALL(allGymnasts!$N$4:$N$103,A23),allGymnasts!$N$4:$N$103,0))),\"\")","v":""},{"$f":"IFERROR(IF(allGymnasts!B23=\"\",\"\",INDEX(allGymnasts!$B$4:$B$103,MATCH(SMALL(allGymnasts!$N$4:$N$103,A23),allGymnasts!$N$4:$N$103,0))),\"\")","v":""},{"$f":"IFERROR(IF(allGymnasts!C23=\"\",\"\",INDEX(allGymnasts!$C$4:$C$103,MATCH(SMALL(allGymnasts!$N$4:$N$103,A23),allGymnasts!$N$4:$N$103,0))),\"\")","v":""},{"$f":"IFERROR(IF(allGymnasts!D23=\"\",\"\",INDEX(allGymnasts!$D$4:$D$103,MATCH(SMALL(allGymnasts!$N$4:$N$103,A23),allGymnasts!$N$4:$N$103,0))),\"\")","v":""},{"$f":"IFERROR(IF(allGymnasts!B23=\"\",\"\",INDEX(allGymnasts!$J$4:$J$103,MATCH(SMALL(allGymnasts!$N$4:$N$103,A23),allGymnasts!$N$4:$N$103,0))),\"\")","v":""},{"$f":"IFERROR(IF(allGymnasts!B23=\"\",\"\",INDEX(allGymnasts!$K$4:$K$103,MATCH(SMALL(allGymnasts!$N$4:$N$103,A23),allGymnasts!$N$4:$N$103,0))),\"\")","v":""},{"$f":"IFERROR(IF(allGymnasts!B23=\"\",\"\",INDEX(allGymnasts!$L$4:$L$103,MATCH(SMALL(allGymnasts!$N$4:$N$103,A23),allGymnasts!$N$4:$N$103,0))),\"\")","v":""},{"$f":"IFERROR(IF(allGymnasts!B23=\"\",\"\",INDEX(allGymnasts!$M$4:$M$103,MATCH(SMALL(allGymnasts!$N$4:$N$103,A23),allGymnasts!$N$4:$N$103,0))),\"\")","v":""}]
[21,{"$f":"IFERROR(_xlfn.FLOOR.MATH(IF(allGymnasts!A24=\"\",\"\",INDEX(allGymnasts!$N$4:$N$103,MATCH(SMALL(allGymnasts!$N$4:$N$103,A24),allGymnasts!$N$4:$N$103,0)))),\"\")","v":""},{"$f":"IFERROR(IF(allGymnasts!A24=\"\",\"\",INDEX(allGymnasts!$A$4:$A$103,MATCH(SMALL(allGymnasts!$N$4:$N$103,A24),allGymnasts!$N$4:$N$103,0))),\"\")","v":""},{"$f":"IFERROR(IF(allGymnasts!B24=\"\",\"\",INDEX(allGymnasts!$B$4:$B$103,MATCH(SMALL(allGymnasts!$N$4:$N$103,A24),allGymnasts!$N$4:$N$103,0))),\"\")","v":""},{"$f":"IFERROR(IF(allGymnasts!C24=\"\",\"\",INDEX(allGymnasts!$C$4:$C$103,MATCH(SMALL(allGymnasts!$N$4:$N$103,A24),allGymnasts!$N$4:$N$103,0))),\"\")","v":""},{"$f":"IFERROR(IF(allGymnasts!D24=\"\",\"\",INDEX(allGymnasts!$D$4:$D$103,MATCH(SMALL(allGymnasts!$N$4:$N$103,A24),allGymnasts!$N$4:$N$103,0))),\"\")","v":""},{"$f":"IFERROR(IF(allGymnasts!B24=\"\",\"\",INDEX(allGymnasts!$J$4:$J$103,MATCH(SMALL(allGymnasts!$N$4:$N$103,A24),allGymnasts!$N$4:$N$103,0))),\"\")","v":""},{"$f":"IFERROR(IF(allGymnasts!B24=\"\",\"\",INDEX(allGymnasts!$K$4:$K$103,MATCH(SMALL(allGymnasts!$N$4:$N$103,A24),allGymnasts!$N$4:$N$103,0))),\"\")","v":""},{"$f":"IFERROR(IF(allGymnasts!B24=\"\",\"\",INDEX(allGymnasts!$L$4:$L$103,MATCH(SMALL(allGymnasts!$N$4:$N$103,A24),allGymnasts!$N$4:$N$103,0))),\"\")","v":""},{"$f":"IFERROR(IF(allGymnasts!B24=\"\",\"\",INDEX(allGymnasts!$M$4:$M$103,MATCH(SMALL(allGymnasts!$N$4:$N$103,A24),allGymnasts!$N$4:$N$103,0))),\"\")","v":""}]
[22,{"$f":"IFERROR(_xlfn.FLOOR.MATH(IF(allGymnasts!A25=\"\",\"\",INDEX(allGymnasts!$N$4:$N$103,MATCH(SMALL(allGymnasts!$N$4:$N$103,A25),allGymnasts!$N$4:$N$103,0)))),\"\")","v":""},{"$f":"IFERROR(IF(allGymnasts!A25=\"\",\"\",INDEX(allGymnasts!$A$4:$A$103,MATCH(SMALL(allGymnasts!$N$4:$N$103,A25),allGymnasts!$N$4:$N$103,0))),\"\")","v":""},{"$f":"IFERROR(IF(allGymnasts!B25=\"\",\"\",INDEX(allGymnasts!$B$4:$B$103,MATCH(SMALL(allGymnasts!$N$4:$N$103,A25),allGymnasts!$N$4:$N$103,0))),\"\")","v":""},{"$f":"IFERROR(IF(allGymnasts!C25=\"\",\"\",INDEX(allGymnasts!$C$4:$C$103,MATCH(SMALL(allGymnasts!$N$4:$N$103,A25),allGymnasts!$N$4:$N$103,0))),\"\")","v":""},{"$f":"IFERROR(IF(allGymnasts!D25=\"\",\"\",INDEX(allGymnasts!$D$4:$D$103,MATCH(SMALL(allGymnasts!$N$4:$N$103,A25),allGymnasts!$N$4:$N$103,0))),\"\")","v":""},{"$f":"IFERROR(IF(allGymnasts!B25=\"\",\"\",INDEX(allGymnasts!$J$4:$J$103,MATCH(SMALL(allGymnasts!$N$4:$N$103,A25),allGymnasts!$N$4:$N$103,0))),\"\")","v":""},{"$f":"IFERROR(IF(allGymnasts!B25=\"\",\"\",INDEX(allGymnasts!$K$4:$K$103,MATCH(SMALL(allGymnasts!$N$4:$N$103,A25),allGymnasts!$N$4:$N$103,0))),\"\")","v":""},{"$f":"IFERROR(IF(allGymnasts!B25=\"\",\"\",INDEX(allGymnasts!$L$4:$L$103,MATCH(SMALL(allGymnasts!$N$4:$N$103,A25),allGymnasts!$N$4:$N$103,0))),\"\")","v":""},{"$f":"IFERROR(IF(allGymnasts!B25=\"\",\"\",INDEX(allGymnasts!$M$4:$M$103,MATCH(SMALL(allGymnasts!$N$4:$N$103,A25),allGymnasts!$N$4:$N$103,0))),\"\")","v":""}]
[23,{"$f":"IFERROR(_xlfn.FLOOR.MATH(IF(allGymnasts!A26=\"\",\"\",INDEX(allGymnasts!$N$4:$N$103,MATCH(SMALL(allGymnasts!$N$4:$N$103,A26),allGymnasts!$N$4:$N$103,0)))),\"\")","v":""},{"$f":"IFERROR(IF(allGymnasts!A26=\"\",\"\",INDEX(allGymnasts!$A$4:$A$103,MATCH(SMALL(allGymnasts!$N$4:$N$103,A26),allGymnasts!$N$4:$N$103,0))),\"\")","v":""},{"$f":"IFERROR(IF(allGymnasts!B26=\"\",\"\",INDEX(allGymnasts!$B$4:$B$103,MATCH(SMALL(allGymnasts!$N$4:$N$103,A26),allGymnasts!$N$4:$N$103,0))),\"\")","v":""},{"$f":"IFERROR(IF(allGymnasts!C26=\"\",\"\",INDEX(allGymnasts!$C$4:$C$103,MATCH(SMALL(allGymnasts!$N$4:$N$103,A26),allGymnasts!$N$4:$N$103,0))),\"\")","v":""},{"$f":"IFERROR(IF(allGymnasts!D26=\"\",\"\",INDEX(allGymnasts!$D$4:$D$103,MATCH(SMALL(allGymnasts!$N$4:$N$103,A26),allGymnasts!$N$4:$N$103,0))),\"\")","v":""},{"$f":"IFERROR(IF(allGymnasts!B26=\"\",\"\",INDEX(allGymnasts!$J$4:$J$103,MATCH(SMALL(allGymnasts!$N$4:$N$103,A26),allGymnasts!$N$4:$N$103,0))),\"\")","v":""},{"$f":"IFERROR(IF(allGymnasts!B26=\"\",\"\",INDEX(allGymnasts!$K$4:$K$103,MATCH(SMALL(allGymnasts!$N$4:$N$103,A26),allGymnasts!$N$4:$N$103,0))),\"\")","v":""},{"$f":"IFERROR(IF(allGymnasts!B26=\"\",\"\",INDEX(allGymnasts!$L$4:$L$103,MATCH(SMALL(allGymnasts!$N$4:$N$103,A26),allGymnasts!$N$4:$N$103,0))),\"\")","v":""},{"$f":"IFERROR(IF(allGymnasts!B26=\"\",\"\",INDEX(allGymnasts!$M$4:$M$103,MATCH(SMALL(allGymnasts!$N$4:$N$103,A26),allGymnasts!$N$4:$N$103,0))),\"\")","v":""}]
[24,{"$f":"IFERROR(_xlfn.FLOOR.MATH(IF(allGymnasts!A27=\"\",\"\",INDEX(allGymnasts!$N$4:$N$103,MATCH(SMALL(allGymnasts!$N$4:$N$103,A27),allGymnasts!$N$4:$N$103,0)))),\"\")","v":""},{"$f":"IFERROR(IF(allGymnasts!A27=\"\",\"\",INDEX(allGymnasts!$A$4:$A$103,MATCH(SMALL(allGymnasts!$N$4:$N$103,A27),allGymnasts!$N$4:$N$103,0))),\"\")","v":""},{"$f":"IFERROR(IF(allGymnasts!B27=\"\",\"\",INDEX(allGymnasts!$B$4:$B$103,MATCH(SMALL(allGymnasts!$N$4:$N$103,A27),allGymnasts!$N$4:$N$103,0))),\"\")","v":""},{"$f":"IFERROR(IF(allGymnasts!C27=\"\",\"\",INDEX(allGymnasts!$C$4:$C$103,MATCH(SMALL(allGymnasts!$N$4:$N$103,A27),allGymnasts!$N$4:$N$103,0))),\"\")","v":""},{"$f":"IFERROR(IF(allGymnasts!D27=\"\",\"\",INDEX(allGymnasts!$D$4:$D$103,MATCH(SMALL(allGymnasts!$N$4:$N$103,A27),allGymnasts!$N$4:$N$103,0))),\"\")","v":""},{"$f":"IFERROR(IF(allGymnasts!B27=\"\",\"\",INDEX(allGymnasts!$J$4:$J$103,MATCH(SMALL(allGymnasts!$N$4:$N$103,A27),allGymnasts!$N$4:$N$103,0))),\"\")","v":""},{"$f":"IFERROR(IF(allGymnasts!B27=\"\",\"\",INDEX(allGymnasts!$K$4:$K$103,MATCH(SMALL(allGymnasts!$N$4:$N$103,A27),allGymnasts!$N$4:$N$103,0))),\"\")","v":""},{"$f":"IFERROR(IF(allGymnasts!B27=\"\",\"\",INDEX(allGymnasts!$L$4:$L$103,MATCH(SMALL(allGymnasts!$N$4:$N$103,A27),allGymnasts!$N$4:$N$103,0))),\"\")","v":""},{"$f":"IFERROR(IF(allGymnasts!B27=\"\",\"\",INDEX(allGymnasts!$M$4:$M$103,MATCH(SMALL(allGymnasts!$N$4:$N$103,A27),allGymnasts!$N$4:$N$103,0))),\"\")","v":""}]
[25,{"$f":"IFERROR(_xlfn.FLOOR.MATH(IF(allGymnasts!A28=\"\",\"\",INDEX(allGymnasts!$N$4:$N$103,MATCH(SMALL(allGymnasts!$N$4:$N$103,A28),allGymnasts!$N$4:$N$103,0)))),\"\")","v":""},{"$f":"IFERROR(IF(allGymnasts!A28=\"\",\"\",INDEX(allGymnasts!$A$4:$A$103,MATCH(SMALL(allGymnasts!$N$4:$N$103,A28),allGymnasts!$N$4:$N$103,0))),\"\")","v":""},{"$f":"IFERROR(IF(allGymnasts!B28=\"\",\"\",INDEX(allGymnasts!$B$4:$B$103,MATCH(SMALL(allGymnasts!$N$4:$N$103,A28),allGymnasts!$N$4:$N$103,0))),\"\")","v":""},{"$f":"IFERROR(IF(allGymnasts!C28=\"\",\"\",INDEX(allGymnasts!$C$4:$C$103,MATCH(SMALL(allGymnasts!$N$4:$N$103,A28),allGymnasts!$N$4:$N$103,0))),\"\")","v":""},{"$f":"IFERROR(IF(allGymnasts!D28=\"\",\"\",INDEX(allGymnasts!$D$4:$D$103,MATCH(SMALL(allGymnasts!$N$4:$N$103,A28),allGymnasts!$N$4:$N$103,0))),\"\")","v":""},{"$f":"IFERROR(IF(allGymnasts!B28=\"\",\"\",INDEX(allGymnasts!$J$4:$J$103,MATCH(SMALL(allGymnasts!$N$4:$N$103,A28),allGymnasts!$N$4:$N$103,0))),\"\")","v":""},{"$f":"IFERROR(IF(allGymnasts!B28=\"\",\"\",INDEX(allGymnasts!$K$4:$K$103,MATCH(SMALL(allGymnasts!$N$4:$N$103,A28),allGymnasts!$N$4:$N$103,0))),\"\")","v":""},{"$f":"IFERROR(IF(allGymnasts!B28=\"\",\"\",INDEX(allGymnasts!$L$4:$L$103,MATCH(SMALL(allGymnasts!$N$4:$N$103,A28),allGymnasts!$N$4:$N$103,0))),\"\")","v":""},{"$f":"IFERROR(IF(allGymnasts!B28=\"\",\"\",INDEX(allGymnasts!$M$4:$M$103,MATCH(SMALL(allGymnasts!$N$4:$N$103,A28),allGymnasts!$N$4:$N$103,0))),\"\")","v":""}]
[26,{"$f":"IFERROR(_xlfn.FLOOR.MATH(IF(allGymnasts!A29=\"\",\"\",INDEX(allGymnasts!$N$4:$N$103,MATCH(SMALL(allGymnasts!$N$4:$N$103,A29),allGymnasts!$N$4:$N$103,0)))),\"\")","v":""},{"$f":"IFERROR(IF(allGymnasts!A29=\"\",\"\",INDEX(allGymnasts!$A$4:$A$103,MATCH(SMALL(allGymnasts!$N$4:$N$103,A29),allGymnasts!$N$4:$N$103,0))),\"\")","v":""},{"$f":"IFERROR(IF(allGymnasts!B29=\"\",\"\",INDEX(allGymnasts!$B$4:$B$103,MATCH(SMALL(allGymnasts!$N$4:$N$103,A29),allGymnasts!$N$4:$N$103,0))),\"\")","v":""},{"$f":"IFERROR(IF(allGymnasts!C29=\"\",\"\",INDEX(allGymnasts!$C$4:$C$103,MATCH(SMALL(allGymnasts!$N$4:$N$103,A29),allGymnasts!$N$4:$N$103,0))),\"\")","v":""},{"$f":"IFERROR(IF(allGymnasts!D29=\"\",\"\",INDEX(allGymnasts!$D$4:$D$103,MATCH(SMALL(allGymnasts!$N$4:$N$103,A29),allGymnasts!$N$4:$N$103,0))),\"\")","v":""},{"$f":"IFERROR(IF(allGymnasts!B29=\"\",\"\",INDEX(allGymnasts!$J$4:$J$103,MATCH(SMALL(allGymnasts!$N$4:$N$103,A29),allGymnasts!$N$4:$N$103,0))),\"\")","v":""},{"$f":"IFERROR(IF(allGymnasts!B29=\"\",\"\",INDEX(allGymnasts!$K$4:$K$103,MATCH(SMALL(allGymnasts!$N$4:$N$103,A29),allGymnasts!$N$4:$N$103,0))),\"\")","v":""},{"$f":"IFERROR(IF(allGymnasts!B29=\"\",\"\",INDEX(allGymnasts!$L$4:$L$103,MATCH(SMALL(allGymnasts!$N$4:$N$103,A29),allGymnasts!$N$4:$N$103,0))),\"\")","v":""},{"$f":"IFERROR(IF(allGymnasts!B29=\"\",\"\",INDEX(allGymnasts!$M$4:$M$103,MATCH(SMALL(allGymnasts!$N$4:$N$103,A29),allGymnasts!$N$4:$N$103,0))),\"\")","v":""}]
[27,{"$f":"IFERROR(_xlfn.FLOOR.MATH(IF(allGymnasts!A30=\"\",\"\",INDEX(allGymnasts!$N$4:$N$103,MATCH(SMALL(allGymnasts!$N$4:$N$103,A30),allGymnasts!$N$4:$N$103,0)))),\"\")","v":""},{"$f":"IFERROR(IF(allGymnasts!A30=\"\",\"\",INDEX(allGymnasts!$A$4:$A$103,MATCH(SMALL(allGymnasts!$N$4:$N$103,A30),allGymnasts!$N$4:$N$103,0))),\"\")","v":""},{"$f":"IFERROR(IF(allGymnasts!B30=\"\",\"\",INDEX(allGymnasts!$B$4:$B$103,MATCH(SMALL(allGymnasts!$N$4:$N$103,A30),allGymnasts!$N$4:$N$103,0))),\"\")","v":""},{"$f":"IFERROR(IF(allGymnasts!C30=\"\",\"\",INDEX(allGymnasts!$C$4:$C$103,MATCH(SMALL(allGymnasts!$N$4:$N$103,A30),allGymnasts!$N$4:$N$103,0))),\"\")","v":""},{"$f":"IFERROR(IF(allGymnasts!D30=\"\",\"\",INDEX(allGymnasts!$D$4:$D$103,MATCH(SMALL(allGymnasts!$N$4:$N$103,A30),allGymnasts!$N$4:$N$103,0))),\"\")","v":""},{"$f":"IFERROR(IF(allGymnasts!B30=\"\",\"\",INDEX(allGymnasts!$J$4:$J$103,MATCH(SMALL(allGymnasts!$N$4:$N$103,A30),allGymnasts!$N$4:$N$103,0))),\"\")","v":""},{"$f":"IFERROR(IF(allGymnasts!B30=\"\",\"\",INDEX(allGymnasts!$K$4:$K$103,MATCH(SMALL(allGymnasts!$N$4:$N$103,A30),allGymnasts!$N$4:$N$103,0))),\"\")","v":""},{"$f":"IFERROR(IF(allGymnasts!B30=\"\",\"\",INDEX(allGymnasts!$L$4:$L$103,MATCH(SMALL(allGymnasts!$N$4:$N$103,A30),allGymnasts!$N$4:$N$103,0))),\"\")","v":""},{"$f":"IFERROR(IF(allGymnasts!B30=\"\",\"\",INDEX(allGymnasts!$M$4:$M$103,MATCH(SMALL(allGymnasts!$N$4:$N$103,A30),allGymnasts!$N$4:$N$103,0))),\"\")","v":""}]
[28,{"$f":"IFERROR(_xlfn.FLOOR.MATH(IF(allGymnasts!A31=\"\",\"\",INDEX(allGymnasts!$N$4:$N$103,MATCH(SMALL(allGymnasts!$N$4:$N$103,A31),allGymnasts!$N$4:$N$103,0)))),\"\")","v":""},{"$f":"IFERROR(IF(allGymnasts!A31=\"\",\"\",INDEX(allGymnasts!$A$4:$A$103,MATCH(SMALL(allGymnasts!$N$4:$N$103,A31),allGymnasts!$N$4:$N$103,0))),\"\")","v":""},{"$f":"IFERROR(IF(allGymnasts!B31=\"\",\"\",INDEX(allGymnasts!$B$4:$B$103,MATCH(SMALL(allGymnasts!$N$4:$N$103,A31),allGymnasts!$N$4:$N$103,0))),\"\")","v":""},{"$f":"IFERROR(IF(allGymnasts!C31=\"\",\"\",INDEX(allGymnasts!$C$4:$C$103,MATCH(SMALL(allGymnasts!$N$4:$N$103,A31),allGymnasts!$N$4:$N$103,0))),\"\")","v":""},{"$f":"IFERROR(IF(allGymnasts!D31=\"\",\"\",INDEX(allGymnasts!$D$4:$D$103,MATCH(SMALL(allGymnasts!$N$4:$N$103,A31),allGymnasts!$N$4:$N$103,0))),\"\")","v":""},{"$f":"IFERROR(IF(allGymnasts!B31=\"\",\"\",INDEX(allGymnasts!$J$4:$J$103,MATCH(SMALL(allGymnasts!$N$4:$N$103,A31),allGymnasts!$N$4:$N$103,0))),\"\")","v":""},{"$f":"IFERROR(IF(allGymnasts!B31=\"\",\"\",INDEX(allGymnasts!$K$4:$K$103,MATCH(SMALL(allGymnasts!$N$4:$N$103,A31),allGymnasts!$N$4:$N$103,0))),\"\")","v":""},{"$f":"IFERROR(IF(allGymnasts!B31=\"\",\"\",INDEX(allGymnasts!$L$4:$L$103,MATCH(SMALL(allGymnasts!$N$4:$N$103,A31),allGymnasts!$N$4:$N$103,0))),\"\")","v":""},{"$f":"IFERROR(IF(allGymnasts!B31=\"\",\"\",INDEX(allGymnasts!$M$4:$M$103,MATCH(SMALL(allGymnasts!$N$4:$N$103,A31),allGymnasts!$N$4:$N$103,0))),\"\")","v":""}]
[29,{"$f":"IFERROR(_xlfn.FLOOR.MATH(IF(allGymnasts!A32=\"\",\"\",INDEX(allGymnasts!$N$4:$N$103,MATCH(SMALL(allGymnasts!$N$4:$N$103,A32),allGymnasts!$N$4:$N$103,0)))),\"\")","v":""},{"$f":"IFERROR(IF(allGymnasts!A32=\"\",\"\",INDEX(allGymnasts!$A$4:$A$103,MATCH(SMALL(allGymnasts!$N$4:$N$103,A32),allGymnasts!$N$4:$N$103,0))),\"\")","v":""},{"$f":"IFERROR(IF(allGymnasts!B32=\"\",\"\",INDEX(allGymnasts!$B$4:$B$103,MATCH(SMALL(allGymnasts!$N$4:$N$103,A32),allGymnasts!$N$4:$N$103,0))),\"\")","v":""},{"$f":"IFERROR(IF(allGymnasts!C32=\"\",\"\",INDEX(allGymnasts!$C$4:$C$103,MATCH(SMALL(allGymnasts!$N$4:$N$103,A32),allGymnasts!$N$4:$N$103,0))),\"\")","v":""},{"$f":"IFERROR(IF(allGymnasts!D32=\"\",\"\",INDEX(allGymnasts!$D$4:$D$103,MATCH(SMALL(allGymnasts!$N$4:$N$103,A32),allGymnasts!$N$4:$N$103,0))),\"\")","v":""},{"$f":"IFERROR(IF(allGymnasts!B32=\"\",\"\",INDEX(allGymnasts!$J$4:$J$103,MATCH(SMALL(allGymnasts!$N$4:$N$103,A32),allGymnasts!$N$4:$N$103,0))),\"\")","v":""},{"$f":"IFERROR(IF(allGymnasts!B32=\"\",\"\",INDEX(allGymnasts!$K$4:$K$103,MATCH(SMALL(allGymnasts!$N$4:$N$103,A32),allGymnasts!$N$4:$N$103,0))),\"\")","v":""},{"$f":"IFERROR(IF(allGymnasts!B32=\"\",\"\",INDEX(allGymnasts!$L$4:$L$103,MATCH(SMALL(allGymnasts!$N$4:$N$103,A32),allGymnasts!$N$4:$N$103,0))),\"\")","v":""},{"$f":"IFERROR(IF(allGymnasts!B32=\"\",\"\",INDEX(allGymnasts!$M$4:$M$103,MATCH(SMALL(allGymnasts!$N$4:$N$103,A32),allGymnasts!$N$4:$N$103,0))),\"\")","v":""}]
[30,{"$f":"IFERROR(_xlfn.FLOOR.MATH(IF(allGymnasts!A33=\"\",\"\",INDEX(allGymnasts!$N$4:$N$103,MATCH(SMALL(allGymnasts!$N$4:$N$103,A33),allGymnasts!$N$4:$N$103,0)))),\"\")","v":""},{"$f":"IFERROR(IF(allGymnasts!A33=\"\",\"\",INDEX(allGymnasts!$A$4:$A$103,MATCH(SMALL(allGymnasts!$N$4:$N$103,A33),allGymnasts!$N$4:$N$103,0))),\"\")","v":""},{"$f":"IFERROR(IF(allGymnasts!B33=\"\",\"\",INDEX(allGymnasts!$B$4:$B$103,MATCH(SMALL(allGymnasts!$N$4:$N$103,A33),allGymnasts!$N$4:$N$103,0))),\"\")","v":""},{"$f":"IFERROR(IF(allGymnasts!C33=\"\",\"\",INDEX(allGymnasts!$C$4:$C$103,MATCH(SMALL(allGymnasts!$N$4:$N$103,A33),allGymnasts!$N$4:$N$103,0))),\"\")","v":""},{"$f":"IFERROR(IF(allGymnasts!D33=\"\",\"\",INDEX(allGymnasts!$D$4:$D$103,MATCH(SMALL(allGymnasts!$N$4:$N$103,A33),allGymnasts!$N$4:$N$103,0))),\"\")","v":""},{"$f":"IFERROR(IF(allGymnasts!B33=\"\",\"\",INDEX(allGymnasts!$J$4:$J$103,MATCH(SMALL(allGymnasts!$N$4:$N$103,A33),allGymnasts!$N$4:$N$103,0))),\"\")","v":""},{"$f":"IFERROR(IF(allGymnasts!B33=\"\",\"\",INDEX(allGymnasts!$K$4:$K$103,MATCH(SMALL(allGymnasts!$N$4:$N$103,A33),allGymnasts!$N$4:$N$103,0))),\"\")","v":""},{"$f":"IFERROR(IF(allGymnasts!B33=\"\",\"\",INDEX(allGymnasts!$L$4:$L$103,MATCH(SMALL(allGymnasts!$N$4:$N$103,A33),allGymnasts!$N$4:$N$103,0))),\"\")","v":""},{"$f":"IFERROR(IF(allGymnasts!B33=\"\",\"\",INDEX(allGymnasts!$M$4:$M$103,MATCH(SMALL(allGymnasts!$N$4:$N$103,A33),allGymnasts!$N$4:$N$103,0))),\"\")","v":""}]
[31,{"$f":"IFERROR(_xlfn.FLOOR.MATH(IF(allGymnasts!A34=\"\",\"\",INDEX(allGymnasts!$N$4:$N$103,MATCH(SMALL(allGymnasts!$N$4:$N$103,A34),allGymnasts!$N$4:$N$103,0)))),\"\")","v":""},{"$f":"IFERROR(IF(allGymnasts!A34=\"\",\"\",INDEX(allGymnasts!$A$4:$A$103,MATCH(SMALL(allGymnasts!$N$4:$N$103,A34),allGymnasts!$N$4:$N$103,0))),\"\")","v":""},{"$f":"IFERROR(IF(allGymnasts!B34=\"\",\"\",INDEX(allGymnasts!$B$4:$B$103,MATCH(SMALL(allGymnasts!$N$4:$N$103,A34),allGymnasts!$N$4:$N$103,0))),\"\")","v":""},{"$f":"IFERROR(IF(allGymnasts!C34=\"\",\"\",INDEX(allGymnasts!$C$4:$C$103,MATCH(SMALL(allGymnasts!$N$4:$N$103,A34),allGymnasts!$N$4:$N$103,0))),\"\")","v":""},{"$f":"IFERROR(IF(allGymnasts!D34=\"\",\"\",INDEX(allGymnasts!$D$4:$D$103,MATCH(SMALL(allGymnasts!$N$4:$N$103,A34),allGymnasts!$N$4:$N$103,0))),\"\")","v":""},{"$f":"IFERROR(IF(allGymnasts!B34=\"\",\"\",INDEX(allGymnasts!$J$4:$J$103,MATCH(SMALL(allGymnasts!$N$4:$N$103,A34),allGymnasts!$N$4:$N$103,0))),\"\")","v":""},{"$f":"IFERROR(IF(allGymnasts!B34=\"\",\"\",INDEX(allGymnasts!$K$4:$K$103,MATCH(SMALL(allGymnasts!$N$4:$N$103,A34),allGymnasts!$N$4:$N$103,0))),\"\")","v":""},{"$f":"IFERROR(IF(allGymnasts!B34=\"\",\"\",INDEX(allGymnasts!$L$4:$L$103,MATCH(SMALL(allGymnasts!$N$4:$N$103,A34),allGymnasts!$N$4:$N$103,0))),\"\")","v":""},{"$f":"IFERROR(IF(allGymnasts!B34=\"\",\"\",INDEX(allGymnasts!$M$4:$M$103,MATCH(SMALL(allGymnasts!$N$4:$N$103,A34),allGymnasts!$N$4:$N$103,0))),\"\")","v":""}]
[32,{"$f":"IFERROR(_xlfn.FLOOR.MATH(IF(allGymnasts!A35=\"\",\"\",INDEX(allGymnasts!$N$4:$N$103,MATCH(SMALL(allGymnasts!$N$4:$N$103,A35),allGymnasts!$N$4:$N$103,0)))),\"\")","v":""},{"$f":"IFERROR(IF(allGymnasts!A35=\"\",\"\",INDEX(allGymnasts!$A$4:$A$103,MATCH(SMALL(allGymnasts!$N$4:$N$103,A35),allGymnasts!$N$4:$N$103,0))),\"\")","v":""},{"$f":"IFERROR(IF(allGymnasts!B35=\"\",\"\",INDEX(allGymnasts!$B$4:$B$103,MATCH(SMALL(allGymnasts!$N$4:$N$103,A35),allGymnasts!$N$4:$N$103,0))),\"\")","v":""},{"$f":"IFERROR(IF(allGymnasts!C35=\"\",\"\",INDEX(allGymnasts!$C$4:$C$103,MATCH(SMALL(allGymnasts!$N$4:$N$103,A35),allGymnasts!$N$4:$N$103,0))),\"\")","v":""},{"$f":"IFERROR(IF(allGymnasts!D35=\"\",\"\",INDEX(allGymnasts!$D$4:$D$103,MATCH(SMALL(allGymnasts!$N$4:$N$103,A35),allGymnasts!$N$4:$N$103,0))),\"\")","v":""},{"$f":"IFERROR(IF(allGymnasts!B35=\"\",\"\",INDEX(allGymnasts!$J$4:$J$103,MATCH(SMALL(allGymnasts!$N$4:$N$103,A35),allGymnasts!$N$4:$N$103,0))),\"\")","v":""},{"$f":"IFERROR(IF(allGymnasts!B35=\"\",\"\",INDEX(allGymnasts!$K$4:$K$103,MATCH(SMALL(allGymnasts!$N$4:$N$103,A35),allGymnasts!$N$4:$N$103,0))),\"\")","v":""},{"$f":"IFERROR(IF(allGymnasts!B35=\"\",\"\",INDEX(allGymnasts!$L$4:$L$103,MATCH(SMALL(allGymnasts!$N$4:$N$103,A35),allGymnasts!$N$4:$N$103,0))),\"\")","v":""},{"$f":"IFERROR(IF(allGymnasts!B35=\"\",\"\",INDEX(allGymnasts!$M$4:$M$103,MATCH(SMALL(allGymnasts!$N$4:$N$103,A35),allGymnasts!$N$4:$N$103,0))),\"\")","v":""}]
[33,{"$f":"IFERROR(_xlfn.FLOOR.MATH(IF(allGymnasts!A36=\"\",\"\",INDEX(allGymnasts!$N$4:$N$103,MATCH(SMALL(allGymnasts!$N$4:$N$103,A36),allGymnasts!$N$4:$N$103,0)))),\"\")","v":""},{"$f":"IFERROR(IF(allGymnasts!A36=\"\",\"\",INDEX(allGymnasts!$A$4:$A$103,MATCH(SMALL(allGymnasts!$N$4:$N$103,A36),allGymnasts!$N$4:$N$103,0))),\"\")","v":""},{"$f":"IFERROR(IF(allGymnasts!B36=\"\",\"\",INDEX(allGymnasts!$B$4:$B$103,MATCH(SMALL(allGymnasts!$N$4:$N$103,A36),allGymnasts!$N$4:$N$103,0))),\"\")","v":""},{"$f":"IFERROR(IF(allGymnasts!C36=\"\",\"\",INDEX(allGymnasts!$C$4:$C$103,MATCH(SMALL(allGymnasts!$N$4:$N$103,A36),allGymnasts!$N$4:$N$103,0))),\"\")","v":""},{"$f":"IFERROR(IF(allGymnasts!D36=\"\",\"\",INDEX(allGymnasts!$D$4:$D$103,MATCH(SMALL(allGymnasts!$N$4:$N$103,A36),allGymnasts!$N$4:$N$103,0))),\"\")","v":""},{"$f":"IFERROR(IF(allGymnasts!B36=\"\",\"\",INDEX(allGymnasts!$J$4:$J$103,MATCH(SMALL(allGymnasts!$N$4:$N$103,A36),allGymnasts!$N$4:$N$103,0))),\"\")","v":""},{"$f":"IFERROR(IF(allGymnasts!B36=\"\",\"\",INDEX(allGymnasts!$K$4:$K$103,MATCH(SMALL(allGymnasts!$N$4:$N$103,A36),allGymnasts!$N$4:$N$103,0))),\"\")","v":""},{"$f":"IFERROR(IF(allGymnasts!B36=\"\",\"\",INDEX(allGymnasts!$L$4:$L$103,MATCH(SMALL(allGymnasts!$N$4:$N$103,A36),allGymnasts!$N$4:$N$103,0))),\"\")","v":""},{"$f":"IFERROR(IF(allGymnasts!B36=\"\",\"\",INDEX(allGymnasts!$M$4:$M$103,MATCH(SMALL(allGymnasts!$N$4:$N$103,A36),allGymnasts!$N$4:$N$103,0))),\"\")","v":""}]
[34,{"$f":"IFERROR(_xlfn.FLOOR.MATH(IF(allGymnasts!A37=\"\",\"\",INDEX(allGymnasts!$N$4:$N$103,MATCH(SMALL(allGymnasts!$N$4:$N$103,A37),allGymnasts!$N$4:$N$103,0)))),\"\")","v":""},{"$f":"IFERROR(IF(allGymnasts!A37=\"\",\"\",INDEX(allGymnasts!$A$4:$A$103,MATCH(SMALL(allGymnasts!$N$4:$N$103,A37),allGymnasts!$N$4:$N$103,0))),\"\")","v":""},{"$f":"IFERROR(IF(allGymnasts!B37=\"\",\"\",INDEX(allGymnasts!$B$4:$B$103,MATCH(SMALL(allGymnasts!$N$4:$N$103,A37),allGymnasts!$N$4:$N$103,0))),\"\")","v":""},{"$f":"IFERROR(IF(allGymnasts!C37=\"\",\"\",INDEX(allGymnasts!$C$4:$C$103,MATCH(SMALL(allGymnasts!$N$4:$N$103,A37),allGymnasts!$N$4:$N$103,0))),\"\")","v":""},{"$f":"IFERROR(IF(allGymnasts!D37=\"\",\"\",INDEX(allGymnasts!$D$4:$D$103,MATCH(SMALL(allGymnasts!$N$4:$N$103,A37),allGymnasts!$N$4:$N$103,0))),\"\")","v":""},{"$f":"IFERROR(IF(allGymnasts!B37=\"\",\"\",INDEX(allGymnasts!$J$4:$J$103,MATCH(SMALL(allGymnasts!$N$4:$N$103,A37),allGymnasts!$N$4:$N$103,0))),\"\")","v":""},{"$f":"IFERROR(IF(allGymnasts!B37=\"\",\"\",INDEX(allGymnasts!$K$4:$K$103,MATCH(SMALL(allGymnasts!$N$4:$N$103,A37),allGymnasts!$N$4:$N$103,0))),\"\")","v":""},{"$f":"IFERROR(IF(allGymnasts!B37=\"\",\"\",INDEX(allGymnasts!$L$4:$L$103,MATCH(SMALL(allGymnasts!$N$4:$N$103,A37),allGymnasts!$N$4:$N$103,0))),\"\")","v":""},{"$f":"IFERROR(IF(allGymnasts!B37=\"\",\"\",INDEX(allGymnasts!$M$4:$M$103,MATCH(SMALL(allGymnasts!$N$4:$N$103,A37),allGymnasts!$N$4:$N$103,0))),\"\")","v":""}]
[35,{"$f":"IFERROR(_xlfn.FLOOR.MATH(IF(allGymnasts!A38=\"\",\"\",INDEX(allGymnasts!$N$4:$N$103,MATCH(SMALL(allGymnasts!$N$4:$N$103,A38),allGymnasts!$N$4:$N$103,0)))),\"\")","v":""},{"$f":"IFERROR(IF(allGymnasts!A38=\"\",\"\",INDEX(allGymnasts!$A$4:$A$103,MATCH(SMALL(allGymnasts!$N$4:$N$103,A38),allGymnasts!$N$4:$N$103,0))),\"\")","v":""},{"$f":"IFERROR(IF(allGymnasts!B38=\"\",\"\",INDEX(allGymnasts!$B$4:$B$103,MATCH(SMALL(allGymnasts!$N$4:$N$103,A38),allGymnasts!$N$4:$N$103,0))),\"\")","v":""},{"$f":"IFERROR(IF(allGymnasts!C38=\"\",\"\",INDEX(allGymnasts!$C$4:$C$103,MATCH(SMALL(allGymnasts!$N$4:$N$103,A38),allGymnasts!$N$4:$N$103,0))),\"\")","v":""},{"$f":"IFERROR(IF(allGymnasts!D38=\"\",\"\",INDEX(allGymnasts!$D$4:$D$103,MATCH(SMALL(allGymnasts!$N$4:$N$103,A38),allGymnasts!$N$4:$N$103,0))),\"\")","v":""},{"$f":"IFERROR(IF(allGymnasts!B38=\"\",\"\",INDEX(allGymnasts!$J$4:$J$103,MATCH(SMALL(allGymnasts!$N$4:$N$103,A38),allGymnasts!$N$4:$N$103,0))),\"\")","v":""},{"$f":"IFERROR(IF(allGymnasts!B38=\"\",\"\",INDEX(allGymnasts!$K$4:$K$103,MATCH(SMALL(allGymnasts!$N$4:$N$103,A38),allGymnasts!$N$4:$N$103,0))),\"\")","v":""},{"$f":"IFERROR(IF(allGymnasts!B38=\"\",\"\",INDEX(allGymnasts!$L$4:$L$103,MATCH(SMALL(allGymnasts!$N$4:$N$103,A38),allGymnasts!$N$4:$N$103,0))),\"\")","v":""},{"$f":"IFERROR(IF(allGymnasts!B38=\"\",\"\",INDEX(allGymnasts!$M$4:$M$103,MATCH(SMALL(allGymnasts!$N$4:$N$103,A38),allGymnasts!$N$4:$N$103,0))),\"\")","v":""}]
[36,{"$f":"IFERROR(_xlfn.FLOOR.MATH(IF(allGymnasts!A39=\"\",\"\",INDEX(allGymnasts!$N$4:$N$103,MATCH(SMALL(allGymnasts!$N$4:$N$103,A39),allGymnasts!$N$4:$N$103,0)))),\"\")","v":""},{"$f":"IFERROR(IF(allGymnasts!A39=\"\",\"\",INDEX(allGymnasts!$A$4:$A$103,MATCH(SMALL(allGymnasts!$N$4:$N$103,A39),allGymnasts!$N$4:$N$103,0))),\"\")","v":""},{"$f":"IFERROR(IF(allGymnasts!B39=\"\",\"\",INDEX(allGymnasts!$B$4:$B$103,MATCH(SMALL(allGymnasts!$N$4:$N$103,A39),allGymnasts!$N$4:$N$103,0))),\"\")","v":""},{"$f":"IFERROR(IF(allGymnasts!C39=\"\",\"\",INDEX(allGymnasts!$C$4:$C$103,MATCH(SMALL(allGymnasts!$N$4:$N$103,A39),allGymnasts!$N$4:$N$103,0))),\"\")","v":""},{"$f":"IFERROR(IF(allGymnasts!D39=\"\",\"\",INDEX(allGymnasts!$D$4:$D$103,MATCH(SMALL(allGymnasts!$N$4:$N$103,A39),allGymnasts!$N$4:$N$103,0))),\"\")","v":""},{"$f":"IFERROR(IF(allGymnasts!B39=\"\",\"\",INDEX(allGymnasts!$J$4:$J$103,MATCH(SMALL(allGymnasts!$N$4:$N$103,A39),allGymnasts!$N$4:$N$103,0))),\"\")","v":""},{"$f":"IFERROR(IF(allGymnasts!B39=\"\",\"\",INDEX(allGymnasts!$K$4:$K$103,MATCH(SMALL(allGymnasts!$N$4:$N$103,A39),allGymnasts!$N$4:$N$103,0))),\"\")","v":""},{"$f":"IFERROR(IF(allGymnasts!B39=\"\",\"\",INDEX(allGymnasts!$L$4:$L$103,MATCH(SMALL(allGymnasts!$N$4:$N$103,A39),allGymnasts!$N$4:$N$103,0))),\"\")","v":""},{"$f":"IFERROR(IF(allGymnasts!B39=\"\",\"\",INDEX(allGymnasts!$M$4:$M$103,MATCH(SMALL(allGymnasts!$N$4:$N$103,A39),allGymnasts!$N$4:$N$103,0))),\"\")","v":""}]
[37,{"$f":"IFERROR(_xlfn.FLOOR.MATH(IF(allGymnasts!A40=\"\",\"\",INDEX(allGymnasts!$N$4:$N$103,MATCH(SMALL(allGymnasts!$N$4:$N$103,A40),allGymnasts!$N$4:$N$103,0)))),\"\")","v":""},{"$f":"IFERROR(IF(allGymnasts!A40=\"\",\"\",INDEX(allGymnasts!$A$4:$A$103,MATCH(SMALL(allGymnasts!$N$4:$N$103,A40),allGymnasts!$N$4:$N$103,0))),\"\")","v":""},{"$f":"IFERROR(IF(allGymnasts!B40=\"\",\"\",INDEX(allGymnasts!$B$4:$B$103,MATCH(SMALL(allGymnasts!$N$4:$N$103,A40),allGymnasts!$N$4:$N$103,0))),\"\")","v":""},{"$f":"IFERROR(IF(allGymnasts!C40=\"\",\"\",INDEX(allGymnasts!$C$4:$C$103,MATCH(SMALL(allGymnasts!$N$4:$N$103,A40),allGymnasts!$N$4:$N$103,0))),\"\")","v":""},{"$f":"IFERROR(IF(allGymnasts!D40=\"\",\"\",INDEX(allGymnasts!$D$4:$D$103,MATCH(SMALL(allGymnasts!$N$4:$N$103,A40),allGymnasts!$N$4:$N$103,0))),\"\")","v":""},{"$f":"IFERROR(IF(allGymnasts!B40=\"\",\"\",INDEX(allGymnasts!$J$4:$J$103,MATCH(SMALL(allGymnasts!$N$4:$N$103,A40),allGymnasts!$N$4:$N$103,0))),\"\")","v":""},{"$f":"IFERROR(IF(allGymnasts!B40=\"\",\"\",INDEX(allGymnasts!$K$4:$K$103,MATCH(SMALL(allGymnasts!$N$4:$N$103,A40),allGymnasts!$N$4:$N$103,0))),\"\")","v":""},{"$f":"IFERROR(IF(allGymnasts!B40=\"\",\"\",INDEX(allGymnasts!$L$4:$L$103,MATCH(SMALL(allGymnasts!$N$4:$N$103,A40),allGymnasts!$N$4:$N$103,0))),\"\")","v":""},{"$f":"IFERROR(IF(allGymnasts!B40=\"\",\"\",INDEX(allGymnasts!$M$4:$M$103,MATCH(SMALL(allGymnasts!$N$4:$N$103,A40),allGymnasts!$N$4:$N$103,0))),\"\")","v":""}]
[38,{"$f":"IFERROR(_xlfn.FLOOR.MATH(IF(allGymnasts!A41=\"\",\"\",INDEX(allGymnasts!$N$4:$N$103,MATCH(SMALL(allGymnasts!$N$4:$N$103,A41),allGymnasts!$N$4:$N$103,0)))),\"\")","v":""},{"$f":"IFERROR(IF(allGymnasts!A41=\"\",\"\",INDEX(allGymnasts!$A$4:$A$103,MATCH(SMALL(allGymnasts!$N$4:$N$103,A41),allGymnasts!$N$4:$N$103,0))),\"\")","v":""},{"$f":"IFERROR(IF(allGymnasts!B41=\"\",\"\",INDEX(allGymnasts!$B$4:$B$103,MATCH(SMALL(allGymnasts!$N$4:$N$103,A41),allGymnasts!$N$4:$N$103,0))),\"\")","v":""},{"$f":"IFERROR(IF(allGymnasts!C41=\"\",\"\",INDEX(allGymnasts!$C$4:$C$103,MATCH(SMALL(allGymnasts!$N$4:$N$103,A41),allGymnasts!$N$4:$N$103,0))),\"\")","v":""},{"$f":"IFERROR(IF(allGymnasts!D41=\"\",\"\",INDEX(allGymnasts!$D$4:$D$103,MATCH(SMALL(allGymnasts!$N$4:$N$103,A41),allGymnasts!$N$4:$N$103,0))),\"\")","v":""},{"$f":"IFERROR(IF(allGymnasts!B41=\"\",\"\",INDEX(allGymnasts!$J$4:$J$103,MATCH(SMALL(allGymnasts!$N$4:$N$103,A41),allGymnasts!$N$4:$N$103,0))),\"\")","v":""},{"$f":"IFERROR(IF(allGymnasts!B41=\"\",\"\",INDEX(allGymnasts!$K$4:$K$103,MATCH(SMALL(allGymnasts!$N$4:$N$103,A41),allGymnasts!$N$4:$N$103,0))),\"\")","v":""},{"$f":"IFERROR(IF(allGymnasts!B41=\"\",\"\",INDEX(allGymnasts!$L$4:$L$103,MATCH(SMALL(allGymnasts!$N$4:$N$103,A41),allGymnasts!$N$4:$N$103,0))),\"\")","v":""},{"$f":"IFERROR(IF(allGymnasts!B41=\"\",\"\",INDEX(allGymnasts!$M$4:$M$103,MATCH(SMALL(allGymnasts!$N$4:$N$103,A41),allGymnasts!$N$4:$N$103,0))),\"\")","v":""}]
[39,{"$f":"IFERROR(_xlfn.FLOOR.MATH(IF(allGymnasts!A42=\"\",\"\",INDEX(allGymnasts!$N$4:$N$103,MATCH(SMALL(allGymnasts!$N$4:$N$103,A42),allGymnasts!$N$4:$N$103,0)))),\"\")","v":""},{"$f":"IFERROR(IF(allGymnasts!A42=\"\",\"\",INDEX(allGymnasts!$A$4:$A$103,MATCH(SMALL(allGymnasts!$N$4:$N$103,A42),allGymnasts!$N$4:$N$103,0))),\"\")","v":""},{"$f":"IFERROR(IF(allGymnasts!B42=\"\",\"\",INDEX(allGymnasts!$B$4:$B$103,MATCH(SMALL(allGymnasts!$N$4:$N$103,A42),allGymnasts!$N$4:$N$103,0))),\"\")","v":""},{"$f":"IFERROR(IF(allGymnasts!C42=\"\",\"\",INDEX(allGymnasts!$C$4:$C$103,MATCH(SMALL(allGymnasts!$N$4:$N$103,A42),allGymnasts!$N$4:$N$103,0))),\"\")","v":""},{"$f":"IFERROR(IF(allGymnasts!D42=\"\",\"\",INDEX(allGymnasts!$D$4:$D$103,MATCH(SMALL(allGymnasts!$N$4:$N$103,A42),allGymnasts!$N$4:$N$103,0))),\"\")","v":""},{"$f":"IFERROR(IF(allGymnasts!B42=\"\",\"\",INDEX(allGymnasts!$J$4:$J$103,MATCH(SMALL(allGymnasts!$N$4:$N$103,A42),allGymnasts!$N$4:$N$103,0))),\"\")","v":""},{"$f":"IFERROR(IF(allGymnasts!B42=\"\",\"\",INDEX(allGymnasts!$K$4:$K$103,MATCH(SMALL(allGymnasts!$N$4:$N$103,A42),allGymnasts!$N$4:$N$103,0))),\"\")","v":""},{"$f":"IFERROR(IF(allGymnasts!B42=\"\",\"\",INDEX(allGymnasts!$L$4:$L$103,MATCH(SMALL(allGymnasts!$N$4:$N$103,A42),allGymnasts!$N$4:$N$103,0))),\"\")","v":""},{"$f":"IFERROR(IF(allGymnasts!B42=\"\",\"\",INDEX(allGymnasts!$M$4:$M$103,MATCH(SMALL(allGymnasts!$N$4:$N$103,A42),allGymnasts!$N$4:$N$103,0))),\"\")","v":""}]
[40,{"$f":"IFERROR(_xlfn.FLOOR.MATH(IF(allGymnasts!A43=\"\",\"\",INDEX(allGymnasts!$N$4:$N$103,MATCH(SMALL(allGymnasts!$N$4:$N$103,A43),allGymnasts!$N$4:$N$103,0)))),\"\")","v":""},{"$f":"IFERROR(IF(allGymnasts!A43=\"\",\"\",INDEX(allGymnasts!$A$4:$A$103,MATCH(SMALL(allGymnasts!$N$4:$N$103,A43),allGymnasts!$N$4:$N$103,0))),\"\")","v":""},{"$f":"IFERROR(IF(allGymnasts!B43=\"\",\"\",INDEX(allGymnasts!$B$4:$B$103,MATCH(SMALL(allGymnasts!$N$4:$N$103,A43),allGymnasts!$N$4:$N$103,0))),\"\")","v":""},{"$f":"IFERROR(IF(allGymnasts!C43=\"\",\"\",INDEX(allGymnasts!$C$4:$C$103,MATCH(SMALL(allGymnasts!$N$4:$N$103,A43),allGymnasts!$N$4:$N$103,0))),\"\")","v":""},{"$f":"IFERROR(IF(allGymnasts!D43=\"\",\"\",INDEX(allGymnasts!$D$4:$D$103,MATCH(SMALL(allGymnasts!$N$4:$N$103,A43),allGymnasts!$N$4:$N$103,0))),\"\")","v":""},{"$f":"IFERROR(IF(allGymnasts!B43=\"\",\"\",INDEX(allGymnasts!$J$4:$J$103,MATCH(SMALL(allGymnasts!$N$4:$N$103,A43),allGymnasts!$N$4:$N$103,0))),\"\")","v":""},{"$f":"IFERROR(IF(allGymnasts!B43=\"\",\"\",INDEX(allGymnasts!$K$4:$K$103,MATCH(SMALL(allGymnasts!$N$4:$N$103,A43),allGymnasts!$N$4:$N$103,0))),\"\")","v":""},{"$f":"IFERROR(IF(allGymnasts!B43=\"\",\"\",INDEX(allGymnasts!$L$4:$L$103,MATCH(SMALL(allGymnasts!$N$4:$N$103,A43),allGymnasts!$N$4:$N$103,0))),\"\")","v":""},{"$f":"IFERROR(IF(allGymnasts!B43=\"\",\"\",INDEX(allGymnasts!$M$4:$M$103,MATCH(SMALL(allGymnasts!$N$4:$N$103,A43),allGymnasts!$N$4:$N$103,0))),\"\")","v":""}]
[41,{"$f":"IFERROR(_xlfn.FLOOR.MATH(IF(allGymnasts!A44=\"\",\"\",INDEX(allGymnasts!$N$4:$N$103,MATCH(SMALL(allGymnasts!$N$4:$N$103,A44),allGymnasts!$N$4:$N$103,0)))),\"\")","v":""},{"$f":"IFERROR(IF(allGymnasts!A44=\"\",\"\",INDEX(allGymnasts!$A$4:$A$103,MATCH(SMALL(allGymnasts!$N$4:$N$103,A44),allGymnasts!$N$4:$N$103,0))),\"\")","v":""},{"$f":"IFERROR(IF(allGymnasts!B44=\"\",\"\",INDEX(allGymnasts!$B$4:$B$103,MATCH(SMALL(allGymnasts!$N$4:$N$103,A44),allGymnasts!$N$4:$N$103,0))),\"\")","v":""},{"$f":"IFERROR(IF(allGymnasts!C44=\"\",\"\",INDEX(allGymnasts!$C$4:$C$103,MATCH(SMALL(allGymnasts!$N$4:$N$103,A44),allGymnasts!$N$4:$N$103,0))),\"\")","v":""},{"$f":"IFERROR(IF(allGymnasts!D44=\"\",\"\",INDEX(allGymnasts!$D$4:$D$103,MATCH(SMALL(allGymnasts!$N$4:$N$103,A44),allGymnasts!$N$4:$N$103,0))),\"\")","v":""},{"$f":"IFERROR(IF(allGymnasts!B44=\"\",\"\",INDEX(allGymnasts!$J$4:$J$103,MATCH(SMALL(allGymnasts!$N$4:$N$103,A44),allGymnasts!$N$4:$N$103,0))),\"\")","v":""},{"$f":"IFERROR(IF(allGymnasts!B44=\"\",\"\",INDEX(allGymnasts!$K$4:$K$103,MATCH(SMALL(allGymnasts!$N$4:$N$103,A44),allGymnasts!$N$4:$N$103,0))),\"\")","v":""},{"$f":"IFERROR(IF(allGymnasts!B44=\"\",\"\",INDEX(allGymnasts!$L$4:$L$103,MATCH(SMALL(allGymnasts!$N$4:$N$103,A44),allGymnasts!$N$4:$N$103,0))),\"\")","v":""},{"$f":"IFERROR(IF(allGymnasts!B44=\"\",\"\",INDEX(allGymnasts!$M$4:$M$103,MATCH(SMALL(allGymnasts!$N$4:$N$103,A44),allGymnasts!$N$4:$N$103,0))),\"\")","v":""}]
[42,{"$f":"IFERROR(_xlfn.FLOOR.MATH(IF(allGymnasts!A45=\"\",\"\",INDEX(allGymnasts!$N$4:$N$103,MATCH(SMALL(allGymnasts!$N$4:$N$103,A45),allGymnasts!$N$4:$N$103,0)))),\"\")","v":""},{"$f":"IFERROR(IF(allGymnasts!A45=\"\",\"\",INDEX(allGymnasts!$A$4:$A$103,MATCH(SMALL(allGymnasts!$N$4:$N$103,A45),allGymnasts!$N$4:$N$103,0))),\"\")","v":""},{"$f":"IFERROR(IF(allGymnasts!B45=\"\",\"\",INDEX(allGymnasts!$B$4:$B$103,MATCH(SMALL(allGymnasts!$N$4:$N$103,A45),allGymnasts!$N$4:$N$103,0))),\"\")","v":""},{"$f":"IFERROR(IF(allGymnasts!C45=\"\",\"\",INDEX(allGymnasts!$C$4:$C$103,MATCH(SMALL(allGymnasts!$N$4:$N$103,A45),allGymnasts!$N$4:$N$103,0))),\"\")","v":""},{"$f":"IFERROR(IF(allGymnasts!D45=\"\",\"\",INDEX(allGymnasts!$D$4:$D$103,MATCH(SMALL(allGymnasts!$N$4:$N$103,A45),allGymnasts!$N$4:$N$103,0))),\"\")","v":""},{"$f":"IFERROR(IF(allGymnasts!B45=\"\",\"\",INDEX(allGymnasts!$J$4:$J$103,MATCH(SMALL(allGymnasts!$N$4:$N$103,A45),allGymnasts!$N$4:$N$103,0))),\"\")","v":""},{"$f":"IFERROR(IF(allGymnasts!B45=\"\",\"\",INDEX(allGymnasts!$K$4:$K$103,MATCH(SMALL(allGymnasts!$N$4:$N$103,A45),allGymnasts!$N$4:$N$103,0))),\"\")","v":""},{"$f":"IFERROR(IF(allGymnasts!B45=\"\",\"\",INDEX(allGymnasts!$L$4:$L$103,MATCH(SMALL(allGymnasts!$N$4:$N$103,A45),allGymnasts!$N$4:$N$103,0))),\"\")","v":""},{"$f":"IFERROR(IF(allGymnasts!B45=\"\",\"\",INDEX(allGymnasts!$M$4:$M$103,MATCH(SMALL(allGymnasts!$N$4:$N$103,A45),allGymnasts!$N$4:$N$103,0))),\"\")","v":""}]
[43,{"$f":"IFERROR(_xlfn.FLOOR.MATH(IF(allGymnasts!A46=\"\",\"\",INDEX(allGymnasts!$N$4:$N$103,MATCH(SMALL(allGymnasts!$N$4:$N$103,A46),allGymnasts!$N$4:$N$103,0)))),\"\")","v":""},{"$f":"IFERROR(IF(allGymnasts!A46=\"\",\"\",INDEX(allGymnasts!$A$4:$A$103,MATCH(SMALL(allGymnasts!$N$4:$N$103,A46),allGymnasts!$N$4:$N$103,0))),\"\")","v":""},{"$f":"IFERROR(IF(allGymnasts!B46=\"\",\"\",INDEX(allGymnasts!$B$4:$B$103,MATCH(SMALL(allGymnasts!$N$4:$N$103,A46),allGymnasts!$N$4:$N$103,0))),\"\")","v":""},{"$f":"IFERROR(IF(allGymnasts!C46=\"\",\"\",INDEX(allGymnasts!$C$4:$C$103,MATCH(SMALL(allGymnasts!$N$4:$N$103,A46),allGymnasts!$N$4:$N$103,0))),\"\")","v":""},{"$f":"IFERROR(IF(allGymnasts!D46=\"\",\"\",INDEX(allGymnasts!$D$4:$D$103,MATCH(SMALL(allGymnasts!$N$4:$N$103,A46),allGymnasts!$N$4:$N$103,0))),\"\")","v":""},{"$f":"IFERROR(IF(allGymnasts!B46=\"\",\"\",INDEX(allGymnasts!$J$4:$J$103,MATCH(SMALL(allGymnasts!$N$4:$N$103,A46),allGymnasts!$N$4:$N$103,0))),\"\")","v":""},{"$f":"IFERROR(IF(allGymnasts!B46=\"\",\"\",INDEX(allGymnasts!$K$4:$K$103,MATCH(SMALL(allGymnasts!$N$4:$N$103,A46),allGymnasts!$N$4:$N$103,0))),\"\")","v":""},{"$f":"IFERROR(IF(allGymnasts!B46=\"\",\"\",INDEX(allGymnasts!$L$4:$L$103,MATCH(SMALL(allGymnasts!$N$4:$N$103,A46),allGymnasts!$N$4:$N$103,0))),\"\")","v":""},{"$f":"IFERROR(IF(allGymnasts!B46=\"\",\"\",INDEX(allGymnasts!$M$4:$M$103,MATCH(SMALL(allGymnasts!$N$4:$N$103,A46),allGymnasts!$N$4:$N$103,0))),\"\")","v":""}]
[44,{"$f":"IFERROR(_xlfn.FLOOR.MATH(IF(allGymnasts!A47=\"\",\"\",INDEX(allGymnasts!$N$4:$N$103,MATCH(SMALL(allGymnasts!$N$4:$N$103,A47),allGymnasts!$N$4:$N$103,0)))),\"\")","v":""},{"$f":"IFERROR(IF(allGymnasts!A47=\"\",\"\",INDEX(allGymnasts!$A$4:$A$103,MATCH(SMALL(allGymnasts!$N$4:$N$103,A47),allGymnasts!$N$4:$N$103,0))),\"\")","v":""},{"$f":"IFERROR(IF(allGymnasts!B47=\"\",\"\",INDEX(allGymnasts!$B$4:$B$103,MATCH(SMALL(allGymnasts!$N$4:$N$103,A47),allGymnasts!$N$4:$N$103,0))),\"\")","v":""},{"$f":"IFERROR(IF(allGymnasts!C47=\"\",\"\",INDEX(allGymnasts!$C$4:$C$103,MATCH(SMALL(allGymnasts!$N$4:$N$103,A47),allGymnasts!$N$4:$N$103,0))),\"\")","v":""},{"$f":"IFERROR(IF(allGymnasts!D47=\"\",\"\",INDEX(allGymnasts!$D$4:$D$103,MATCH(SMALL(allGymnasts!$N$4:$N$103,A47),allGymnasts!$N$4:$N$103,0))),\"\")","v":""},{"$f":"IFERROR(IF(allGymnasts!B47=\"\",\"\",INDEX(allGymnasts!$J$4:$J$103,MATCH(SMALL(allGymnasts!$N$4:$N$103,A47),allGymnasts!$N$4:$N$103,0))),\"\")","v":""},{"$f":"IFERROR(IF(allGymnasts!B47=\"\",\"\",INDEX(allGymnasts!$K$4:$K$103,MATCH(SMALL(allGymnasts!$N$4:$N$103,A47),allGymnasts!$N$4:$N$103,0))),\"\")","v":""},{"$f":"IFERROR(IF(allGymnasts!B47=\"\",\"\",INDEX(allGymnasts!$L$4:$L$103,MATCH(SMALL(allGymnasts!$N$4:$N$103,A47),allGymnasts!$N$4:$N$103,0))),\"\")","v":""},{"$f":"IFERROR(IF(allGymnasts!B47=\"\",\"\",INDEX(allGymnasts!$M$4:$M$103,MATCH(SMALL(allGymnasts!$N$4:$N$103,A47),allGymnasts!$N$4:$N$103,0))),\"\")","v":""}]
[45,{"$f":"IFERROR(_xlfn.FLOOR.MATH(IF(allGymnasts!A48=\"\",\"\",INDEX(allGymnasts!$N$4:$N$103,MATCH(SMALL(allGymnasts!$N$4:$N$103,A48),allGymnasts!$N$4:$N$103,0)))),\"\")","v":""},{"$f":"IFERROR(IF(allGymnasts!A48=\"\",\"\",INDEX(allGymnasts!$A$4:$A$103,MATCH(SMALL(allGymnasts!$N$4:$N$103,A48),allGymnasts!$N$4:$N$103,0))),\"\")","v":""},{"$f":"IFERROR(IF(allGymnasts!B48=\"\",\"\",INDEX(allGymnasts!$B$4:$B$103,MATCH(SMALL(allGymnasts!$N$4:$N$103,A48),allGymnasts!$N$4:$N$103,0))),\"\")","v":""},{"$f":"IFERROR(IF(allGymnasts!C48=\"\",\"\",INDEX(allGymnasts!$C$4:$C$103,MATCH(SMALL(allGymnasts!$N$4:$N$103,A48),allGymnasts!$N$4:$N$103,0))),\"\")","v":""},{"$f":"IFERROR(IF(allGymnasts!D48=\"\",\"\",INDEX(allGymnasts!$D$4:$D$103,MATCH(SMALL(allGymnasts!$N$4:$N$103,A48),allGymnasts!$N$4:$N$103,0))),\"\")","v":""},{"$f":"IFERROR(IF(allGymnasts!B48=\"\",\"\",INDEX(allGymnasts!$J$4:$J$103,MATCH(SMALL(allGymnasts!$N$4:$N$103,A48),allGymnasts!$N$4:$N$103,0))),\"\")","v":""},{"$f":"IFERROR(IF(allGymnasts!B48=\"\",\"\",INDEX(allGymnasts!$K$4:$K$103,MATCH(SMALL(allGymnasts!$N$4:$N$103,A48),allGymnasts!$N$4:$N$103,0))),\"\")","v":""},{"$f":"IFERROR(IF(allGymnasts!B48=\"\",\"\",INDEX(allGymnasts!$L$4:$L$103,MATCH(SMALL(allGymnasts!$N$4:$N$103,A48),allGymnasts!$N$4:$N$103,0))),\"\")","v":""},{"$f":"IFERROR(IF(allGymnasts!B48=\"\",\"\",INDEX(allGymnasts!$M$4:$M$103,MATCH(SMALL(allGymnasts!$N$4:$N$103,A48),allGymnasts!$N$4:$N$103,0))),\"\")","v":""}]
[46,{"$f":"IFERROR(_xlfn.FLOOR.MATH(IF(allGymnasts!A49=\"\",\"\",INDEX(allGymnasts!$N$4:$N$103,MATCH(SMALL(allGymnasts!$N$4:$N$103,A49),allGymnasts!$N$4:$N$103,0)))),\"\")","v":""},{"$f":"IFERROR(IF(allGymnasts!A49=\"\",\"\",INDEX(allGymnasts!$A$4:$A$103,MATCH(SMALL(allGymnasts!$N$4:$N$103,A49),allGymnasts!$N$4:$N$103,0))),\"\")","v":""},{"$f":"IFERROR(IF(allGymnasts!B49=\"\",\"\",INDEX(allGymnasts!$B$4:$B$103,MATCH(SMALL(allGymnasts!$N$4:$N$103,A49),allGymnasts!$N$4:$N$103,0))),\"\")","v":""},{"$f":"IFERROR(IF(allGymnasts!C49=\"\",\"\",INDEX(allGymnasts!$C$4:$C$103,MATCH(SMALL(allGymnasts!$N$4:$N$103,A49),allGymnasts!$N$4:$N$103,0))),\"\")","v":""},{"$f":"IFERROR(IF(allGymnasts!D49=\"\",\"\",INDEX(allGymnasts!$D$4:$D$103,MATCH(SMALL(allGymnasts!$N$4:$N$103,A49),allGymnasts!$N$4:$N$103,0))),\"\")","v":""},{"$f":"IFERROR(IF(allGymnasts!B49=\"\",\"\",INDEX(allGymnasts!$J$4:$J$103,MATCH(SMALL(allGymnasts!$N$4:$N$103,A49),allGymnasts!$N$4:$N$103,0))),\"\")","v":""},{"$f":"IFERROR(IF(allGymnasts!B49=\"\",\"\",INDEX(allGymnasts!$K$4:$K$103,MATCH(SMALL(allGymnasts!$N$4:$N$103,A49),allGymnasts!$N$4:$N$103,0))),\"\")","v":""},{"$f":"IFERROR(IF(allGymnasts!B49=\"\",\"\",INDEX(allGymnasts!$L$4:$L$103,MATCH(SMALL(allGymnasts!$N$4:$N$103,A49),allGymnasts!$N$4:$N$103,0))),\"\")","v":""},{"$f":"IFERROR(IF(allGymnasts!B49=\"\",\"\",INDEX(allGymnasts!$M$4:$M$103,MATCH(SMALL(allGymnasts!$N$4:$N$103,A49),allGymnasts!$N$4:$N$103,0))),\"\")","v":""}]
[47,{"$f":"IFERROR(_xlfn.FLOOR.MATH(IF(allGymnasts!A50=\"\",\"\",INDEX(allGymnasts!$N$4:$N$103,MATCH(SMALL(allGymnasts!$N$4:$N$103,A50),allGymnasts!$N$4:$N$103,0)))),\"\")","v":""},{"$f":"IFERROR(IF(allGymnasts!A50=\"\",\"\",INDEX(allGymnasts!$A$4:$A$103,MATCH(SMALL(allGymnasts!$N$4:$N$103,A50),allGymnasts!$N$4:$N$103,0))),\"\")","v":""},{"$f":"IFERROR(IF(allGymnasts!B50=\"\",\"\",INDEX(allGymnasts!$B$4:$B$103,MATCH(SMALL(allGymnasts!$N$4:$N$103,A50),allGymnasts!$N$4:$N$103,0))),\"\")","v":""},{"$f":"IFERROR(IF(allGymnasts!C50=\"\",\"\",INDEX(allGymnasts!$C$4:$C$103,MATCH(SMALL(allGymnasts!$N$4:$N$103,A50),allGymnasts!$N$4:$N$103,0))),\"\")","v":""},{"$f":"IFERROR(IF(allGymnasts!D50=\"\",\"\",INDEX(allGymnasts!$D$4:$D$103,MATCH(SMALL(allGymnasts!$N$4:$N$103,A50),allGymnasts!$N$4:$N$103,0))),\"\")","v":""},{"$f":"IFERROR(IF(allGymnasts!B50=\"\",\"\",INDEX(allGymnasts!$J$4:$J$103,MATCH(SMALL(allGymnasts!$N$4:$N$103,A50),allGymnasts!$N$4:$N$103,0))),\"\")","v":""},{"$f":"IFERROR(IF(allGymnasts!B50=\"\",\"\",INDEX(allGymnasts!$K$4:$K$103,MATCH(SMALL(allGymnasts!$N$4:$N$103,A50),allGymnasts!$N$4:$N$103,0))),\"\")","v":""},{"$f":"IFERROR(IF(allGymnasts!B50=\"\",\"\",INDEX(allGymnasts!$L$4:$L$103,MATCH(SMALL(allGymnasts!$N$4:$N$103,A50),allGymnasts!$N$4:$N$103,0))),\"\")","v":""},{"$f":"IFERROR(IF(allGymnasts!B50=\"\",\"\",INDEX(allGymnasts!$M$4:$M$103,MATCH(SMALL(allGymnasts!$N$4:$N$103,A50),allGymnasts!$N$4:$N$103,0))),\"\")","v":""}]
[48,{"$f":"IFERROR(_xlfn.FLOOR.MATH(IF(allGymnasts!A51=\"\",\"\",INDEX(allGymnasts!$N$4:$N$103,MATCH(SMALL(allGymnasts!$N$4:$N$103,A51),allGymnasts!$N$4:$N$103,0)))),\"\")","v":""},{"$f":"IFERROR(IF(allGymnasts!A51=\"\",\"\",INDEX(allGymnasts!$A$4:$A$103,MATCH(SMALL(allGymnasts!$N$4:$N$103,A51),allGymnasts!$N$4:$N$103,0))),\"\")","v":""},{"$f":"IFERROR(IF(allGymnasts!B51=\"\",\"\",INDEX(allGymnasts!$B$4:$B$103,MATCH(SMALL(allGymnasts!$N$4:$N$103,A51),allGymnasts!$N$4:$N$103,0))),\"\")","v":""},{"$f":"IFERROR(IF(allGymnasts!C51=\"\",\"\",INDEX(allGymnasts!$C$4:$C$103,MATCH(SMALL(allGymnasts!$N$4:$N$103,A51),allGymnasts!$N$4:$N$103,0))),\"\")","v":""},{"$f":"IFERROR(IF(allGymnasts!D51=\"\",\"\",INDEX(allGymnasts!$D$4:$D$103,MATCH(SMALL(allGymnasts!$N$4:$N$103,A51),allGymnasts!$N$4:$N$103,0))),\"\")","v":""},{"$f":"IFERROR(IF(allGymnasts!B51=\"\",\"\",INDEX(allGymnasts!$J$4:$J$103,MATCH(SMALL(allGymnasts!$N$4:$N$103,A51),allGymnasts!$N$4:$N$103,0))),\"\")","v":""},{"$f":"IFERROR(IF(allGymnasts!B51=\"\",\"\",INDEX(allGymnasts!$K$4:$K$103,MATCH(SMALL(allGymnasts!$N$4:$N$103,A51),allGymnasts!$N$4:$N$103,0))),\"\")","v":""},{"$f":"IFERROR(IF(allGymnasts!B51=\"\",\"\",INDEX(allGymnasts!$L$4:$L$103,MATCH(SMALL(allGymnasts!$N$4:$N$103,A51),allGymnasts!$N$4:$N$103,0))),\"\")","v":""},{"$f":"IFERROR(IF(allGymnasts!B51=\"\",\"\",INDEX(allGymnasts!$M$4:$M$103,MATCH(SMALL(allGymnasts!$N$4:$N$103,A51),allGymnasts!$N$4:$N$103,0))),\"\")","v":""}]
[49,{"$f":"IFERROR(_xlfn.FLOOR.MATH(IF(allGymnasts!A52=\"\",\"\",INDEX(allGymnasts!$N$4:$N$103,MATCH(SMALL(allGymnasts!$N$4:$N$103,A52),allGymnasts!$N$4:$N$103,0)))),\"\")","v":""},{"$f":"IFERROR(IF(allGymnasts!A52=\"\",\"\",INDEX(allGymnasts!$A$4:$A$103,MATCH(SMALL(allGymnasts!$N$4:$N$103,A52),allGymnasts!$N$4:$N$103,0))),\"\")","v":""},{"$f":"IFERROR(IF(allGymnasts!B52=\"\",\"\",INDEX(allGymnasts!$B$4:$B$103,MATCH(SMALL(allGymnasts!$N$4:$N$103,A52),allGymnasts!$N$4:$N$103,0))),\"\")","v":""},{"$f":"IFERROR(IF(allGymnasts!C52=\"\",\"\",INDEX(allGymnasts!$C$4:$C$103,MATCH(SMALL(allGymnasts!$N$4:$N$103,A52),allGymnasts!$N$4:$N$103,0))),\"\")","v":""},{"$f":"IFERROR(IF(allGymnasts!D52=\"\",\"\",INDEX(allGymnasts!$D$4:$D$103,MATCH(SMALL(allGymnasts!$N$4:$N$103,A52),allGymnasts!$N$4:$N$103,0))),\"\")","v":""},{"$f":"IFERROR(IF(allGymnasts!B52=\"\",\"\",INDEX(allGymnasts!$J$4:$J$103,MATCH(SMALL(allGymnasts!$N$4:$N$103,A52),allGymnasts!$N$4:$N$103,0))),\"\")","v":""},{"$f":"IFERROR(IF(allGymnasts!B52=\"\",\"\",INDEX(allGymnasts!$K$4:$K$103,MATCH(SMALL(allGymnasts!$N$4:$N$103,A52),allGymnasts!$N$4:$N$103,0))),\"\")","v":""},{"$f":"IFERROR(IF(allGymnasts!B52=\"\",\"\",INDEX(allGymnasts!$L$4:$L$103,MATCH(SMALL(allGymnasts!$N$4:$N$103,A52),allGymnasts!$N$4:$N$103,0))),\"\")","v":""},{"$f":"IFERROR(IF(allGymnasts!B52=\"\",\"\",INDEX(allGymnasts!$M$4:$M$103,MATCH(SMALL(allGymnasts!$N$4:$N$103,A52),allGymnasts!$N$4:$N$103,0))),\"\")","v":""}]
[50,{"$f":"IFERROR(_xlfn.FLOOR.MATH(IF(allGymnasts!A53=\"\",\"\",INDEX(allGymnasts!$N$4:$N$103,MATCH(SMALL(allGymnasts!$N$4:$N$103,A53),allGymnasts!$N$4:$N$103,0)))),\"\")","v":""},{"$f":"IFERROR(IF(allGymnasts!A53=\"\",\"\",INDEX(allGymnasts!$A$4:$A$103,MATCH(SMALL(allGymnasts!$N$4:$N$103,A53),allGymnasts!$N$4:$N$103,0))),\"\")","v":""},{"$f":"IFERROR(IF(allGymnasts!B53=\"\",\"\",INDEX(allGymnasts!$B$4:$B$103,MATCH(SMALL(allGymnasts!$N$4:$N$103,A53),allGymnasts!$N$4:$N$103,0))),\"\")","v":""},{"$f":"IFERROR(IF(allGymnasts!C53=\"\",\"\",INDEX(allGymnasts!$C$4:$C$103,MATCH(SMALL(allGymnasts!$N$4:$N$103,A53),allGymnasts!$N$4:$N$103,0))),\"\")","v":""},{"$f":"IFERROR(IF(allGymnasts!D53=\"\",\"\",INDEX(allGymnasts!$D$4:$D$103,MATCH(SMALL(allGymnasts!$N$4:$N$103,A53),allGymnasts!$N$4:$N$103,0))),\"\")","v":""},{"$f":"IFERROR(IF(allGymnasts!B53=\"\",\"\",INDEX(allGymnasts!$J$4:$J$103,MATCH(SMALL(allGymnasts!$N$4:$N$103,A53),allGymnasts!$N$4:$N$103,0))),\"\")","v":""},{"$f":"IFERROR(IF(allGymnasts!B53=\"\",\"\",INDEX(allGymnasts!$K$4:$K$103,MATCH(SMALL(allGymnasts!$N$4:$N$103,A53),allGymnasts!$N$4:$N$103,0))),\"\")","v":""},{"$f":"IFERROR(IF(allGymnasts!B53=\"\",\"\",INDEX(allGymnasts!$L$4:$L$103,MATCH(SMALL(allGymnasts!$N$4:$N$103,A53),allGymnasts!$N$4:$N$103,0))),\"\")","v":""},{"$f":"IFERROR(IF(allGymnasts!B53=\"\",\"\",INDEX(allGymnasts!$M$4:$M$103,MATCH(SMALL(allGymnasts!$N$4:$N$103,A53),allGymnasts!$N$4:$N$103,0))),\"\")","v":""}]
[51,{"$f":"IFERROR(_xlfn.FLOOR.MATH(IF(allGymnasts!A54=\"\",\"\",INDEX(allGymnasts!$N$4:$N$103,MATCH(SMALL(allGymnasts!$N$4:$N$103,A54),allGymnasts!$N$4:$N$103,0)))),\"\")","v":""},{"$f":"IFERROR(IF(allGymnasts!A54=\"\",\"\",INDEX(allGymnasts!$A$4:$A$103,MATCH(SMALL(allGymnasts!$N$4:$N$103,A54),allGymnasts!$N$4:$N$103,0))),\"\")","v":""},{"$f":"IFERROR(IF(allGymnasts!B54=\"\",\"\",INDEX(allGymnasts!$B$4:$B$103,MATCH(SMALL(allGymnasts!$N$4:$N$103,A54),allGymnasts!$N$4:$N$103,0))),\"\")","v":""},{"$f":"IFERROR(IF(allGymnasts!C54=\"\",\"\",INDEX(allGymnasts!$C$4:$C$103,MATCH(SMALL(allGymnasts!$N$4:$N$103,A54),allGymnasts!$N$4:$N$103,0))),\"\")","v":""},{"$f":"IFERROR(IF(allGymnasts!D54=\"\",\"\",INDEX(allGymnasts!$D$4:$D$103,MATCH(SMALL(allGymnasts!$N$4:$N$103,A54),allGymnasts!$N$4:$N$103,0))),\"\")","v":""},{"$f":"IFERROR(IF(allGymnasts!B54=\"\",\"\",INDEX(allGymnasts!$J$4:$J$103,MATCH(SMALL(allGymnasts!$N$4:$N$103,A54),allGymnasts!$N$4:$N$103,0))),\"\")","v":""},{"$f":"IFERROR(IF(allGymnasts!B54=\"\",\"\",INDEX(allGymnasts!$K$4:$K$103,MATCH(SMALL(allGymnasts!$N$4:$N$103,A54),allGymnasts!$N$4:$N$103,0))),\"\")","v":""},{"$f":"IFERROR(IF(allGymnasts!B54=\"\",\"\",INDEX(allGymnasts!$L$4:$L$103,MATCH(SMALL(allGymnasts!$N$4:$N$103,A54),allGymnasts!$N$4:$N$103,0))),\"\")","v":""},{"$f":"IFERROR(IF(allGymnasts!B54=\"\",\"\",INDEX(allGymnasts!$M$4:$M$103,MATCH(SMALL(allGymnasts!$N$4:$N$103,A54),allGymnasts!$N$4:$N$103,0))),\"\")","v":""}]
[52,{"$f":"IFERROR(_xlfn.FLOOR.MATH(IF(allGymnasts!A55=\"\",\"\",INDEX(allGymnasts!$N$4:$N$103,MATCH(SMALL(allGymnasts!$N$4:$N$103,A55),allGymnasts!$N$4:$N$103,0)))),\"\")","v":""},{"$f":"IFERROR(IF(allGymnasts!A55=\"\",\"\",INDEX(allGymnasts!$A$4:$A$103,MATCH(SMALL(allGymnasts!$N$4:$N$103,A55),allGymnasts!$N$4:$N$103,0))),\"\")","v":""},{"$f":"IFERROR(IF(allGymnasts!B55=\"\",\"\",INDEX(allGymnasts!$B$4:$B$103,MATCH(SMALL(allGymnasts!$N$4:$N$103,A55),allGymnasts!$N$4:$N$103,0))),\"\")","v":""},{"$f":"IFERROR(IF(allGymnasts!C55=\"\",\"\",INDEX(allGymnasts!$C$4:$C$103,MATCH(SMALL(allGymnasts!$N$4:$N$103,A55),allGymnasts!$N$4:$N$103,0))),\"\")","v":""},{"$f":"IFERROR(IF(allGymnasts!D55=\"\",\"\",INDEX(allGymnasts!$D$4:$D$103,MATCH(SMALL(allGymnasts!$N$4:$N$103,A55),allGymnasts!$N$4:$N$103,0))),\"\")","v":""},{"$f":"IFERROR(IF(allGymnasts!B55=\"\",\"\",INDEX(allGymnasts!$J$4:$J$103,MATCH(SMALL(allGymnasts!$N$4:$N$103,A55),allGymnasts!$N$4:$N$103,0))),\"\")","v":""},{"$f":"IFERROR(IF(allGymnasts!B55=\"\",\"\",INDEX(allGymnasts!$K$4:$K$103,MATCH(SMALL(allGymnasts!$N$4:$N$103,A55),allGymnasts!$N$4:$N$103,0))),\"\")","v":""},{"$f":"IFERROR(IF(allGymnasts!B55=\"\",\"\",INDEX(allGymnasts!$L$4:$L$103,MATCH(SMALL(allGymnasts!$N$4:$N$103,A55),allGymnasts!$N$4:$N$103,0))),\"\")","v":""},{"$f":"IFERROR(IF(allGymnasts!B55=\"\",\"\",INDEX(allGymnasts!$M$4:$M$103,MATCH(SMALL(allGymnasts!$N$4:$N$103,A55),allGymnasts!$N$4:$N$103,0))),\"\")","v":""}]
[53,{"$f":"IFERROR(_xlfn.FLOOR.MATH(IF(allGymnasts!A56=\"\",\"\",INDEX(allGymnasts!$N$4:$N$103,MATCH(SMALL(allGymnasts!$N$4:$N$103,A56),allGymnasts!$N$4:$N$103,0)))),\"\")","v":""},{"$f":"IFERROR(IF(allGymnasts!A56=\"\",\"\",INDEX(allGymnasts!$A$4:$A$103,MATCH(SMALL(allGymnasts!$N$4:$N$103,A56),allGymnasts!$N$4:$N$103,0))),\"\")","v":""},{"$f":"IFERROR(IF(allGymnasts!B56=\"\",\"\",INDEX(allGymnasts!$B$4:$B$103,MATCH(SMALL(allGymnasts!$N$4:$N$103,A56),allGymnasts!$N$4:$N$103,0))),\"\")","v":""},{"$f":"IFERROR(IF(allGymnasts!C56=\"\",\"\",INDEX(allGymnasts!$C$4:$C$103,MATCH(SMALL(allGymnasts!$N$4:$N$103,A56),allGymnasts!$N$4:$N$103,0))),\"\")","v":""},{"$f":"IFERROR(IF(allGymnasts!D56=\"\",\"\",INDEX(allGymnasts!$D$4:$D$103,MATCH(SMALL(allGymnasts!$N$4:$N$103,A56),allGymnasts!$N$4:$N$103,0))),\"\")","v":""},{"$f":"IFERROR(IF(allGymnasts!B56=\"\",\"\",INDEX(allGymnasts!$J$4:$J$103,MATCH(SMALL(allGymnasts!$N$4:$N$103,A56),allGymnasts!$N$4:$N$103,0))),\"\")","v":""},{"$f":"IFERROR(IF(allGymnasts!B56=\"\",\"\",INDEX(allGymnasts!$K$4:$K$103,MATCH(SMALL(allGymnasts!$N$4:$N$103,A56),allGymnasts!$N$4:$N$103,0))),\"\")","v":""},{"$f":"IFERROR(IF(allGymnasts!B56=\"\",\"\",INDEX(allGymnasts!$L$4:$L$103,MATCH(SMALL(allGymnasts!$N$4:$N$103,A56),allGymnasts!$N$4:$N$103,0))),\"\")","v":""},{"$f":"IFERROR(IF(allGymnasts!B56=\"\",\"\",INDEX(allGymnasts!$M$4:$M$103,MATCH(SMALL(allGymnasts!$N$4:$N$103,A56),allGymnasts!$N$4:$N$103,0))),\"\")","v":""}]
[54,{"$f":"IFERROR(_xlfn.FLOOR.MATH(IF(allGymnasts!A57=\"\",\"\",INDEX(allGymnasts!$N$4:$N$103,MATCH(SMALL(allGymnasts!$N$4:$N$103,A57),allGymnasts!$N$4:$N$103,0)))),\"\")","v":""},{"$f":"IFERROR(IF(allGymnasts!A57=\"\",\"\",INDEX(allGymnasts!$A$4:$A$103,MATCH(SMALL(allGymnasts!$N$4:$N$103,A57),allGymnasts!$N$4:$N$103,0))),\"\")","v":""},{"$f":"IFERROR(IF(allGymnasts!B57=\"\",\"\",INDEX(allGymnasts!$B$4:$B$103,MATCH(SMALL(allGymnasts!$N$4:$N$103,A57),allGymnasts!$N$4:$N$103,0))),\"\")","v":""},{"$f":"IFERROR(IF(allGymnasts!C57=\"\",\"\",INDEX(allGymnasts!$C$4:$C$103,MATCH(SMALL(allGymnasts!$N$4:$N$103,A57),allGymnasts!$N$4:$N$103,0))),\"\")","v":""},{"$f":"IFERROR(IF(allGymnasts!D57=\"\",\"\",INDEX(allGymnasts!$D$4:$D$103,MATCH(SMALL(allGymnasts!$N$4:$N$103,A57),allGymnasts!$N$4:$N$103,0))),\"\")","v":""},{"$f":"IFERROR(IF(allGymnasts!B57=\"\",\"\",INDEX(allGymnasts!$J$4:$J$103,MATCH(SMALL(allGymnasts!$N$4:$N$103,A57),allGymnasts!$N$4:$N$103,0))),\"\")","v":""},{"$f":"IFERROR(IF(allGymnasts!B57=\"\",\"\",INDEX(allGymnasts!$K$4:$K$103,MATCH(SMALL(allGymnasts!$N$4:$N$103,A57),allGymnasts!$N$4:$N$103,0))),\"\")","v":""},{"$f":"IFERROR(IF(allGymnasts!B57=\"\",\"\",INDEX(allGymnasts!$L$4:$L$103,MATCH(SMALL(allGymnasts!$N$4:$N$103,A57),allGymnasts!$N$4:$N$103,0))),\"\")","v":""},{"$f":"IFERROR(IF(allGymnasts!B57=\"\",\"\",INDEX(allGymnasts!$M$4:$M$103,MATCH(SMALL(allGymnasts!$N$4:$N$103,A57),allGymnasts!$N$4:$N$103,0))),\"\")","v":""}]
[55,{"$f":"IFERROR(_xlfn.FLOOR.MATH(IF(allGymnasts!A58=\"\",\"\",INDEX(allGymnasts!$N$4:$N$103,MATCH(SMALL(allGymnasts!$N$4:$N$103,A58),allGymnasts!$N$4:$N$103,0)))),\"\")","v":""},{"$f":"IFERROR(IF(allGymnasts!A58=\"\",\"\",INDEX(allGymnasts!$A$4:$A$103,MATCH(SMALL(allGymnasts!$N$4:$N$103,A58),allGymnasts!$N$4:$N$103,0))),\"\")","v":""},{"$f":"IFERROR(IF(allGymnasts!B58=\"\",\"\",INDEX(allGymnasts!$B$4:$B$103,MATCH(SMALL(allGymnasts!$N$4:$N$103,A58),allGymnasts!$N$4:$N$103,0))),\"\")","v":""},{"$f":"IFERROR(IF(allGymnasts!C58=\"\",\"\",INDEX(allGymnasts!$C$4:$C$103,MATCH(SMALL(allGymnasts!$N$4:$N$103,A58),allGymnasts!$N$4:$N$103,0))),\"\")","v":""},{"$f":"IFERROR(IF(allGymnasts!D58=\"\",\"\",INDEX(allGymnasts!$D$4:$D$103,MATCH(SMALL(allGymnasts!$N$4:$N$103,A58),allGymnasts!$N$4:$N$103,0))),\"\")","v":""},{"$f":"IFERROR(IF(allGymnasts!B58=\"\",\"\",INDEX(allGymnasts!$J$4:$J$103,MATCH(SMALL(allGymnasts!$N$4:$N$103,A58),allGymnasts!$N$4:$N$103,0))),\"\")","v":""},{"$f":"IFERROR(IF(allGymnasts!B58=\"\",\"\",INDEX(allGymnasts!$K$4:$K$103,MATCH(SMALL(allGymnasts!$N$4:$N$103,A58),allGymnasts!$N$4:$N$103,0))),\"\")","v":""},{"$f":"IFERROR(IF(allGymnasts!B58=\"\",\"\",INDEX(allGymnasts!$L$4:$L$103,MATCH(SMALL(allGymnasts!$N$4:$N$103,A58),allGymnasts!$N$4:$N$103,0))),\"\")","v":""},{"$f":"IFERROR(IF(allGymnasts!B58=\"\",\"\",INDEX(allGymnasts!$M$4:$M$103,MATCH(SMALL(allGymnasts!$N$4:$N$103,A58),allGymnasts!$N$4:$N$103,0))),\"\")","v":""}]
[56,{"$f":"IFERROR(_xlfn.FLOOR.MATH(IF(allGymnasts!A59=\"\",\"\",INDEX(allGymnasts!$N$4:$N$103,MATCH(SMALL(allGymnasts!$N$4:$N$103,A59),allGymnasts!$N$4:$N$103,0)))),\"\")","v":""},{"$f":"IFERROR(IF(allGymnasts!A59=\"\",\"\",INDEX(allGymnasts!$A$4:$A$103,MATCH(SMALL(allGymnasts!$N$4:$N$103,A59),allGymnasts!$N$4:$N$103,0))),\"\")","v":""},{"$f":"IFERROR(IF(allGymnasts!B59=\"\",\"\",INDEX(allGymnasts!$B$4:$B$103,MATCH(SMALL(allGymnasts!$N$4:$N$103,A59),allGymnasts!$N$4:$N$103,0))),\"\")","v":""},{"$f":"IFERROR(IF(allGymnasts!C59=\"\",\"\",INDEX(allGymnasts!$C$4:$C$103,MATCH(SMALL(allGymnasts!$N$4:$N$103,A59),allGymnasts!$N$4:$N$103,0))),\"\")","v":""},{"$f":"IFERROR(IF(allGymnasts!D59=\"\",\"\",INDEX(allGymnasts!$D$4:$D$103,MATCH(SMALL(allGymnasts!$N$4:$N$103,A59),allGymnasts!$N$4:$N$103,0))),\"\")","v":""},{"$f":"IFERROR(IF(allGymnasts!B59=\"\",\"\",INDEX(allGymnasts!$J$4:$J$103,MATCH(SMALL(allGymnasts!$N$4:$N$103,A59),allGymnasts!$N$4:$N$103,0))),\"\")","v":""},{"$f":"IFERROR(IF(allGymnasts!B59=\"\",\"\",INDEX(allGymnasts!$K$4:$K$103,MATCH(SMALL(allGymnasts!$N$4:$N$103,A59),allGymnasts!$N$4:$N$103,0))),\"\")","v":""},{"$f":"IFERROR(IF(allGymnasts!B59=\"\",\"\",INDEX(allGymnasts!$L$4:$L$103,MATCH(SMALL(allGymnasts!$N$4:$N$103,A59),allGymnasts!$N$4:$N$103,0))),\"\")","v":""},{"$f":"IFERROR(IF(allGymnasts!B59=\"\",\"\",INDEX(allGymnasts!$M$4:$M$103,MATCH(SMALL(allGymnasts!$N$4:$N$103,A59),allGymnasts!$N$4:$N$103,0))),\"\")","v":""}]
[57,{"$f":"IFERROR(_xlfn.FLOOR.MATH(IF(allGymnasts!A60=\"\",\"\",INDEX(allGymnasts!$N$4:$N$103,MATCH(SMALL(allGymnasts!$N$4:$N$103,A60),allGymnasts!$N$4:$N$103,0)))),\"\")","v":""},{"$f":"IFERROR(IF(allGymnasts!A60=\"\",\"\",INDEX(allGymnasts!$A$4:$A$103,MATCH(SMALL(allGymnasts!$N$4:$N$103,A60),allGymnasts!$N$4:$N$103,0))),\"\")","v":""},{"$f":"IFERROR(IF(allGymnasts!B60=\"\",\"\",INDEX(allGymnasts!$B$4:$B$103,MATCH(SMALL(allGymnasts!$N$4:$N$103,A60),allGymnasts!$N$4:$N$103,0))),\"\")","v":""},{"$f":"IFERROR(IF(allGymnasts!C60=\"\",\"\",INDEX(allGymnasts!$C$4:$C$103,MATCH(SMALL(allGymnasts!$N$4:$N$103,A60),allGymnasts!$N$4:$N$103,0))),\"\")","v":""},{"$f":"IFERROR(IF(allGymnasts!D60=\"\",\"\",INDEX(allGymnasts!$D$4:$D$103,MATCH(SMALL(allGymnasts!$N$4:$N$103,A60),allGymnasts!$N$4:$N$103,0))),\"\")","v":""},{"$f":"IFERROR(IF(allGymnasts!B60=\"\",\"\",INDEX(allGymnasts!$J$4:$J$103,MATCH(SMALL(allGymnasts!$N$4:$N$103,A60),allGymnasts!$N$4:$N$103,0))),\"\")","v":""},{"$f":"IFERROR(IF(allGymnasts!B60=\"\",\"\",INDEX(allGymnasts!$K$4:$K$103,MATCH(SMALL(allGymnasts!$N$4:$N$103,A60),allGymnasts!$N$4:$N$103,0))),\"\")","v":""},{"$f":"IFERROR(IF(allGymnasts!B60=\"\",\"\",INDEX(allGymnasts!$L$4:$L$103,MATCH(SMALL(allGymnasts!$N$4:$N$103,A60),allGymnasts!$N$4:$N$103,0))),\"\")","v":""},{"$f":"IFERROR(IF(allGymnasts!B60=\"\",\"\",INDEX(allGymnasts!$M$4:$M$103,MATCH(SMALL(allGymnasts!$N$4:$N$103,A60),allGymnasts!$N$4:$N$103,0))),\"\")","v":""}]
[58,{"$f":"IFERROR(_xlfn.FLOOR.MATH(IF(allGymnasts!A61=\"\",\"\",INDEX(allGymnasts!$N$4:$N$103,MATCH(SMALL(allGymnasts!$N$4:$N$103,A61),allGymnasts!$N$4:$N$103,0)))),\"\")","v":""},{"$f":"IFERROR(IF(allGymnasts!A61=\"\",\"\",INDEX(allGymnasts!$A$4:$A$103,MATCH(SMALL(allGymnasts!$N$4:$N$103,A61),allGymnasts!$N$4:$N$103,0))),\"\")","v":""},{"$f":"IFERROR(IF(allGymnasts!B61=\"\",\"\",INDEX(allGymnasts!$B$4:$B$103,MATCH(SMALL(allGymnasts!$N$4:$N$103,A61),allGymnasts!$N$4:$N$103,0))),\"\")","v":""},{"$f":"IFERROR(IF(allGymnasts!C61=\"\",\"\",INDEX(allGymnasts!$C$4:$C$103,MATCH(SMALL(allGymnasts!$N$4:$N$103,A61),allGymnasts!$N$4:$N$103,0))),\"\")","v":""},{"$f":"IFERROR(IF(allGymnasts!D61=\"\",\"\",INDEX(allGymnasts!$D$4:$D$103,MATCH(SMALL(allGymnasts!$N$4:$N$103,A61),allGymnasts!$N$4:$N$103,0))),\"\")","v":""},{"$f":"IFERROR(IF(allGymnasts!B61=\"\",\"\",INDEX(allGymnasts!$J$4:$J$103,MATCH(SMALL(allGymnasts!$N$4:$N$103,A61),allGymnasts!$N$4:$N$103,0))),\"\")","v":""},{"$f":"IFERROR(IF(allGymnasts!B61=\"\",\"\",INDEX(allGymnasts!$K$4:$K$103,MATCH(SMALL(allGymnasts!$N$4:$N$103,A61),allGymnasts!$N$4:$N$103,0))),\"\")","v":""},{"$f":"IFERROR(IF(allGymnasts!B61=\"\",\"\",INDEX(allGymnasts!$L$4:$L$103,MATCH(SMALL(allGymnasts!$N$4:$N$103,A61),allGymnasts!$N$4:$N$103,0))),\"\")","v":""},{"$f":"IFERROR(IF(allGymnasts!B61=\"\",\"\",INDEX(allGymnasts!$M$4:$M$103,MATCH(SMALL(allGymnasts!$N$4:$N$103,A61),allGymnasts!$N$4:$N$103,0))),\"\")","v":""}]
[59,{"$f":"IFERROR(_xlfn.FLOOR.MATH(IF(allGymnasts!A62=\"\",\"\",INDEX(allGymnasts!$N$4:$N$103,MATCH(SMALL(allGymnasts!$N$4:$N$103,A62),allGymnasts!$N$4:$N$103,0)))),\"\")","v":""},{"$f":"IFERROR(IF(allGymnasts!A62=\"\",\"\",INDEX(allGymnasts!$A$4:$A$103,MATCH(SMALL(allGymnasts!$N$4:$N$103,A62),allGymnasts!$N$4:$N$103,0))),\"\")","v":""},{"$f":"IFERROR(IF(allGymnasts!B62=\"\",\"\",INDEX(allGymnasts!$B$4:$B$103,MATCH(SMALL(allGymnasts!$N$4:$N$103,A62),allGymnasts!$N$4:$N$103,0))),\"\")","v":""},{"$f":"IFERROR(IF(allGymnasts!C62=\"\",\"\",INDEX(allGymnasts!$C$4:$C$103,MATCH(SMALL(allGymnasts!$N$4:$N$103,A62),allGymnasts!$N$4:$N$103,0))),\"\")","v":""},{"$f":"IFERROR(IF(allGymnasts!D62=\"\",\"\",INDEX(allGymnasts!$D$4:$D$103,MATCH(SMALL(allGymnasts!$N$4:$N$103,A62),allGymnasts!$N$4:$N$103,0))),\"\")","v":""},{"$f":"IFERROR(IF(allGymnasts!B62=\"\",\"\",INDEX(allGymnasts!$J$4:$J$103,MATCH(SMALL(allGymnasts!$N$4:$N$103,A62),allGymnasts!$N$4:$N$103,0))),\"\")","v":""},{"$f":"IFERROR(IF(allGymnasts!B62=\"\",\"\",INDEX(allGymnasts!$K$4:$K$103,MATCH(SMALL(allGymnasts!$N$4:$N$103,A62),allGymnasts!$N$4:$N$103,0))),\"\")","v":""},{"$f":"IFERROR(IF(allGymnasts!B62=\"\",\"\",INDEX(allGymnasts!$L$4:$L$103,MATCH(SMALL(allGymnasts!$N$4:$N$103,A62),allGymnasts!$N$4:$N$103,0))),\"\")","v":""},{"$f":"IFERROR(IF(allGymnasts!B62=\"\",\"\",INDEX(allGymnasts!$M$4:$M$103,MATCH(SMALL(allGymnasts!$N$4:$N$103,A62),allGymnasts!$N$4:$N$103,0))),\"\")","v":""}]
[60,{"$f":"IFERROR(_xlfn.FLOOR.MATH(IF(allGymnasts!A63=\"\",\"\",INDEX(allGymnasts!$N$4:$N$103,MATCH(SMALL(allGymnasts!$N$4:$N$103,A63),allGymnasts!$N$4:$N$103,0)))),\"\")","v":""},{"$f":"IFERROR(IF(allGymnasts!A63=\"\",\"\",INDEX(allGymnasts!$A$4:$A$103,MATCH(SMALL(allGymnasts!$N$4:$N$103,A63),allGymnasts!$N$4:$N$103,0))),\"\")","v":""},{"$f":"IFERROR(IF(allGymnasts!B63=\"\",\"\",INDEX(allGymnasts!$B$4:$B$103,MATCH(SMALL(allGymnasts!$N$4:$N$103,A63),allGymnasts!$N$4:$N$103,0))),\"\")","v":""},{"$f":"IFERROR(IF(allGymnasts!C63=\"\",\"\",INDEX(allGymnasts!$C$4:$C$103,MATCH(SMALL(allGymnasts!$N$4:$N$103,A63),allGymnasts!$N$4:$N$103,0))),\"\")","v":""},{"$f":"IFERROR(IF(allGymnasts!D63=\"\",\"\",INDEX(allGymnasts!$D$4:$D$103,MATCH(SMALL(allGymnasts!$N$4:$N$103,A63),allGymnasts!$N$4:$N$103,0))),\"\")","v":""},{"$f":"IFERROR(IF(allGymnasts!B63=\"\",\"\",INDEX(allGymnasts!$J$4:$J$103,MATCH(SMALL(allGymnasts!$N$4:$N$103,A63),allGymnasts!$N$4:$N$103,0))),\"\")","v":""},{"$f":"IFERROR(IF(allGymnasts!B63=\"\",\"\",INDEX(allGymnasts!$K$4:$K$103,MATCH(SMALL(allGymnasts!$N$4:$N$103,A63),allGymnasts!$N$4:$N$103,0))),\"\")","v":""},{"$f":"IFERROR(IF(allGymnasts!B63=\"\",\"\",INDEX(allGymnasts!$L$4:$L$103,MATCH(SMALL(allGymnasts!$N$4:$N$103,A63),allGymnasts!$N$4:$N$103,0))),\"\")","v":""},{"$f":"IFERROR(IF(allGymnasts!B63=\"\",\"\",INDEX(allGymnasts!$M$4:$M$103,MATCH(SMALL(allGymnasts!$N$4:$N$103,A63),allGymnasts!$N$4:$N$103,0))),\"\")","v":""}]
[61,{"$f":"IFERROR(_xlfn.FLOOR.MATH(IF(allGymnasts!A64=\"\",\"\",INDEX(allGymnasts!$N$4:$N$103,MATCH(SMALL(allGymnasts!$N$4:$N$103,A64),allGymnasts!$N$4:$N$103,0)))),\"\")","v":""},{"$f":"IFERROR(IF(allGymnasts!A64=\"\",\"\",INDEX(allGymnasts!$A$4:$A$103,MATCH(SMALL(allGymnasts!$N$4:$N$103,A64),allGymnasts!$N$4:$N$103,0))),\"\")","v":""},{"$f":"IFERROR(IF(allGymnasts!B64=\"\",\"\",INDEX(allGymnasts!$B$4:$B$103,MATCH(SMALL(allGymnasts!$N$4:$N$103,A64),allGymnasts!$N$4:$N$103,0))),\"\")","v":""},{"$f":"IFERROR(IF(allGymnasts!C64=\"\",\"\",INDEX(allGymnasts!$C$4:$C$103,MATCH(SMALL(allGymnasts!$N$4:$N$103,A64),allGymnasts!$N$4:$N$103,0))),\"\")","v":""},{"$f":"IFERROR(IF(allGymnasts!D64=\"\",\"\",INDEX(allGymnasts!$D$4:$D$103,MATCH(SMALL(allGymnasts!$N$4:$N$103,A64),allGymnasts!$N$4:$N$103,0))),\"\")","v":""},{"$f":"IFERROR(IF(allGymnasts!B64=\"\",\"\",INDEX(allGymnasts!$J$4:$J$103,MATCH(SMALL(allGymnasts!$N$4:$N$103,A64),allGymnasts!$N$4:$N$103,0))),\"\")","v":""},{"$f":"IFERROR(IF(allGymnasts!B64=\"\",\"\",INDEX(allGymnasts!$K$4:$K$103,MATCH(SMALL(allGymnasts!$N$4:$N$103,A64),allGymnasts!$N$4:$N$103,0))),\"\")","v":""},{"$f":"IFERROR(IF(allGymnasts!B64=\"\",\"\",INDEX(allGymnasts!$L$4:$L$103,MATCH(SMALL(allGymnasts!$N$4:$N$103,A64),allGymnasts!$N$4:$N$103,0))),\"\")","v":""},{"$f":"IFERROR(IF(allGymnasts!B64=\"\",\"\",INDEX(allGymnasts!$M$4:$M$103,MATCH(SMALL(allGymnasts!$N$4:$N$103,A64),allGymnasts!$N$4:$N$103,0))),\"\")","v":""}]
[62,{"$f":"IFERROR(_xlfn.FLOOR.MATH(IF(allGymnasts!A65=\"\",\"\",INDEX(allGymnasts!$N$4:$N$103,MATCH(SMALL(allGymnasts!$N$4:$N$103,A65),allGymnasts!$N$4:$N$103,0)))),\"\")","v":""},{"$f":"IFERROR(IF(allGymnasts!A65=\"\",\"\",INDEX(allGymnasts!$A$4:$A$103,MATCH(SMALL(allGymnasts!$N$4:$N$103,A65),allGymnasts!$N$4:$N$103,0))),\"\")","v":""},{"$f":"IFERROR(IF(allGymnasts!B65=\"\",\"\",INDEX(allGymnasts!$B$4:$B$103,MATCH(SMALL(allGymnasts!$N$4:$N$103,A65),allGymnasts!$N$4:$N$103,0))),\"\")","v":""},{"$f":"IFERROR(IF(allGymnasts!C65=\"\",\"\",INDEX(allGymnasts!$C$4:$C$103,MATCH(SMALL(allGymnasts!$N$4:$N$103,A65),allGymnasts!$N$4:$N$103,0))),\"\")","v":""},{"$f":"IFERROR(IF(allGymnasts!D65=\"\",\"\",INDEX(allGymnasts!$D$4:$D$103,MATCH(SMALL(allGymnasts!$N$4:$N$103,A65),allGymnasts!$N$4:$N$103,0))),\"\")","v":""},{"$f":"IFERROR(IF(allGymnasts!B65=\"\",\"\",INDEX(allGymnasts!$J$4:$J$103,MATCH(SMALL(allGymnasts!$N$4:$N$103,A65),allGymnasts!$N$4:$N$103,0))),\"\")","v":""},{"$f":"IFERROR(IF(allGymnasts!B65=\"\",\"\",INDEX(allGymnasts!$K$4:$K$103,MATCH(SMALL(allGymnasts!$N$4:$N$103,A65),allGymnasts!$N$4:$N$103,0))),\"\")","v":""},{"$f":"IFERROR(IF(allGymnasts!B65=\"\",\"\",INDEX(allGymnasts!$L$4:$L$103,MATCH(SMALL(allGymnasts!$N$4:$N$103,A65),allGymnasts!$N$4:$N$103,0))),\"\")","v":""},{"$f":"IFERROR(IF(allGymnasts!B65=\"\",\"\",INDEX(allGymnasts!$M$4:$M$103,MATCH(SMALL(allGymnasts!$N$4:$N$103,A65),allGymnasts!$N$4:$N$103,0))),\"\")","v":""}]
[63,{"$f":"IFERROR(_xlfn.FLOOR.MATH(IF(allGymnasts!A66=\"\",\"\",INDEX(allGymnasts!$N$4:$N$103,MATCH(SMALL(allGymnasts!$N$4:$N$103,A66),allGymnasts!$N$4:$N$103,0)))),\"\")","v":""},{"$f":"IFERROR(IF(allGymnasts!A66=\"\",\"\",INDEX(allGymnasts!$A$4:$A$103,MATCH(SMALL(allGymnasts!$N$4:$N$103,A66),allGymnasts!$N$4:$N$103,0))),\"\")","v":""},{"$f":"IFERROR(IF(allGymnasts!B66=\"\",\"\",INDEX(allGymnasts!$B$4:$B$103,MATCH(SMALL(allGymnasts!$N$4:$N$103,A66),allGymnasts!$N$4:$N$103,0))),\"\")","v":""},{"$f":"IFERROR(IF(allGymnasts!C66=\"\",\"\",INDEX(allGymnasts!$C$4:$C$103,MATCH(SMALL(allGymnasts!$N$4:$N$103,A66),allGymnasts!$N$4:$N$103,0))),\"\")","v":""},{"$f":"IFERROR(IF(allGymnasts!D66=\"\",\"\",INDEX(allGymnasts!$D$4:$D$103,MATCH(SMALL(allGymnasts!$N$4:$N$103,A66),allGymnasts!$N$4:$N$103,0))),\"\")","v":""},{"$f":"IFERROR(IF(allGymnasts!B66=\"\",\"\",INDEX(allGymnasts!$J$4:$J$103,MATCH(SMALL(allGymnasts!$N$4:$N$103,A66),allGymnasts!$N$4:$N$103,0))),\"\")","v":""},{"$f":"IFERROR(IF(allGymnasts!B66=\"\",\"\",INDEX(allGymnasts!$K$4:$K$103,MATCH(SMALL(allGymnasts!$N$4:$N$103,A66),allGymnasts!$N$4:$N$103,0))),\"\")","v":""},{"$f":"IFERROR(IF(allGymnasts!B66=\"\",\"\",INDEX(allGymnasts!$L$4:$L$103,MATCH(SMALL(allGymnasts!$N$4:$N$103,A66),allGymnasts!$N$4:$N$103,0))),\"\")","v":""},{"$f":"IFERROR(IF(allGymnasts!B66=\"\",\"\",INDEX(allGymnasts!$M$4:$M$103,MATCH(SMALL(allGymnasts!$N$4:$N$103,A66),allGymnasts!$N$4:$N$103,0))),\"\")","v":""}]
[64,{"$f":"IFERROR(_xlfn.FLOOR.MATH(IF(allGymnasts!A67=\"\",\"\",INDEX(allGymnasts!$N$4:$N$103,MATCH(SMALL(allGymnasts!$N$4:$N$103,A67),allGymnasts!$N$4:$N$103,0)))),\"\")","v":""},{"$f":"IFERROR(IF(allGymnasts!A67=\"\",\"\",INDEX(allGymnasts!$A$4:$A$103,MATCH(SMALL(allGymnasts!$N$4:$N$103,A67),allGymnasts!$N$4:$N$103,0))),\"\")","v":""},{"$f":"IFERROR(IF(allGymnasts!B67=\"\",\"\",INDEX(allGymnasts!$B$4:$B$103,MATCH(SMALL(allGymnasts!$N$4:$N$103,A67),allGymnasts!$N$4:$N$103,0))),\"\")","v":""},{"$f":"IFERROR(IF(allGymnasts!C67=\"\",\"\",INDEX(allGymnasts!$C$4:$C$103,MATCH(SMALL(allGymnasts!$N$4:$N$103,A67),allGymnasts!$N$4:$N$103,0))),\"\")","v":""},{"$f":"IFERROR(IF(allGymnasts!D67=\"\",\"\",INDEX(allGymnasts!$D$4:$D$103,MATCH(SMALL(allGymnasts!$N$4:$N$103,A67),allGymnasts!$N$4:$N$103,0))),\"\")","v":""},{"$f":"IFERROR(IF(allGymnasts!B67=\"\",\"\",INDEX(allGymnasts!$J$4:$J$103,MATCH(SMALL(allGymnasts!$N$4:$N$103,A67),allGymnasts!$N$4:$N$103,0))),\"\")","v":""},{"$f":"IFERROR(IF(allGymnasts!B67=\"\",\"\",INDEX(allGymnasts!$K$4:$K$103,MATCH(SMALL(allGymnasts!$N$4:$N$103,A67),allGymnasts!$N$4:$N$103,0))),\"\")","v":""},{"$f":"IFERROR(IF(allGymnasts!B67=\"\",\"\",INDEX(allGymnasts!$L$4:$L$103,MATCH(SMALL(allGymnasts!$N$4:$N$103,A67),allGymnasts!$N$4:$N$103,0))),\"\")","v":""},{"$f":"IFERROR(IF(allGymnasts!B67=\"\",\"\",INDEX(allGymnasts!$M$4:$M$103,MATCH(SMALL(allGymnasts!$N$4:$N$103,A67),allGymnasts!$N$4:$N$103,0))),\"\")","v":""}]
[65,{"$f":"IFERROR(_xlfn.FLOOR.MATH(IF(allGymnasts!A68=\"\",\"\",INDEX(allGymnasts!$N$4:$N$103,MATCH(SMALL(allGymnasts!$N$4:$N$103,A68),allGymnasts!$N$4:$N$103,0)))),\"\")","v":""},{"$f":"IFERROR(IF(allGymnasts!A68=\"\",\"\",INDEX(allGymnasts!$A$4:$A$103,MATCH(SMALL(allGymnasts!$N$4:$N$103,A68),allGymnasts!$N$4:$N$103,0))),\"\")","v":""},{"$f":"IFERROR(IF(allGymnasts!B68=\"\",\"\",INDEX(allGymnasts!$B$4:$B$103,MATCH(SMALL(allGymnasts!$N$4:$N$103,A68),allGymnasts!$N$4:$N$103,0))),\"\")","v":""},{"$f":"IFERROR(IF(allGymnasts!C68=\"\",\"\",INDEX(allGymnasts!$C$4:$C$103,MATCH(SMALL(allGymnasts!$N$4:$N$103,A68),allGymnasts!$N$4:$N$103,0))),\"\")","v":""},{"$f":"IFERROR(IF(allGymnasts!D68=\"\",\"\",INDEX(allGymnasts!$D$4:$D$103,MATCH(SMALL(allGymnasts!$N$4:$N$103,A68),allGymnasts!$N$4:$N$103,0))),\"\")","v":""},{"$f":"IFERROR(IF(allGymnasts!B68=\"\",\"\",INDEX(allGymnasts!$J$4:$J$103,MATCH(SMALL(allGymnasts!$N$4:$N$103,A68),allGymnasts!$N$4:$N$103,0))),\"\")","v":""},{"$f":"IFERROR(IF(allGymnasts!B68=\"\",\"\",INDEX(allGymnasts!$K$4:$K$103,MATCH(SMALL(allGymnasts!$N$4:$N$103,A68),allGymnasts!$N$4:$N$103,0))),\"\")","v":""},{"$f":"IFERROR(IF(allGymnasts!B68=\"\",\"\",INDEX(allGymnasts!$L$4:$L$103,MATCH(SMALL(allGymnasts!$N$4:$N$103,A68),allGymnasts!$N$4:$N$103,0))),\"\")","v":""},{"$f":"IFERROR(IF(allGymnasts!B68=\"\",\"\",INDEX(allGymnasts!$M$4:$M$103,MATCH(SMALL(allGymnasts!$N$4:$N$103,A68),allGymnasts!$N$4:$N$103,0))),\"\")","v":""}]
[66,{"$f":"IFERROR(_xlfn.FLOOR.MATH(IF(allGymnasts!A69=\"\",\"\",INDEX(allGymnasts!$N$4:$N$103,MATCH(SMALL(allGymnasts!$N$4:$N$103,A69),allGymnasts!$N$4:$N$103,0)))),\"\")","v":""},{"$f":"IFERROR(IF(allGymnasts!A69=\"\",\"\",INDEX(allGymnasts!$A$4:$A$103,MATCH(SMALL(allGymnasts!$N$4:$N$103,A69),allGymnasts!$N$4:$N$103,0))),\"\")","v":""},{"$f":"IFERROR(IF(allGymnasts!B69=\"\",\"\",INDEX(allGymnasts!$B$4:$B$103,MATCH(SMALL(allGymnasts!$N$4:$N$103,A69),allGymnasts!$N$4:$N$103,0))),\"\")","v":""},{"$f":"IFERROR(IF(allGymnasts!C69=\"\",\"\",INDEX(allGymnasts!$C$4:$C$103,MATCH(SMALL(allGymnasts!$N$4:$N$103,A69),allGymnasts!$N$4:$N$103,0))),\"\")","v":""},{"$f":"IFERROR(IF(allGymnasts!D69=\"\",\"\",INDEX(allGymnasts!$D$4:$D$103,MATCH(SMALL(allGymnasts!$N$4:$N$103,A69),allGymnasts!$N$4:$N$103,0))),\"\")","v":""},{"$f":"IFERROR(IF(allGymnasts!B69=\"\",\"\",INDEX(allGymnasts!$J$4:$J$103,MATCH(SMALL(allGymnasts!$N$4:$N$103,A69),allGymnasts!$N$4:$N$103,0))),\"\")","v":""},{"$f":"IFERROR(IF(allGymnasts!B69=\"\",\"\",INDEX(allGymnasts!$K$4:$K$103,MATCH(SMALL(allGymnasts!$N$4:$N$103,A69),allGymnasts!$N$4:$N$103,0))),\"\")","v":""},{"$f":"IFERROR(IF(allGymnasts!B69=\"\",\"\",INDEX(allGymnasts!$L$4:$L$103,MATCH(SMALL(allGymnasts!$N$4:$N$103,A69),allGymnasts!$N$4:$N$103,0))),\"\")","v":""},{"$f":"IFERROR(IF(allGymnasts!B69=\"\",\"\",INDEX(allGymnasts!$M$4:$M$103,MATCH(SMALL(allGymnasts!$N$4:$N$103,A69),allGymnasts!$N$4:$N$103,0))),\"\")","v":""}]
[67,{"$f":"IFERROR(_xlfn.FLOOR.MATH(IF(allGymnasts!A70=\"\",\"\",INDEX(allGymnasts!$N$4:$N$103,MATCH(SMALL(allGymnasts!$N$4:$N$103,A70),allGymnasts!$N$4:$N$103,0)))),\"\")","v":""},{"$f":"IFERROR(IF(allGymnasts!A70=\"\",\"\",INDEX(allGymnasts!$A$4:$A$103,MATCH(SMALL(allGymnasts!$N$4:$N$103,A70),allGymnasts!$N$4:$N$103,0))),\"\")","v":""},{"$f":"IFERROR(IF(allGymnasts!B70=\"\",\"\",INDEX(allGymnasts!$B$4:$B$103,MATCH(SMALL(allGymnasts!$N$4:$N$103,A70),allGymnasts!$N$4:$N$103,0))),\"\")","v":""},{"$f":"IFERROR(IF(allGymnasts!C70=\"\",\"\",INDEX(allGymnasts!$C$4:$C$103,MATCH(SMALL(allGymnasts!$N$4:$N$103,A70),allGymnasts!$N$4:$N$103,0))),\"\")","v":""},{"$f":"IFERROR(IF(allGymnasts!D70=\"\",\"\",INDEX(allGymnasts!$D$4:$D$103,MATCH(SMALL(allGymnasts!$N$4:$N$103,A70),allGymnasts!$N$4:$N$103,0))),\"\")","v":""},{"$f":"IFERROR(IF(allGymnasts!B70=\"\",\"\",INDEX(allGymnasts!$J$4:$J$103,MATCH(SMALL(allGymnasts!$N$4:$N$103,A70),allGymnasts!$N$4:$N$103,0))),\"\")","v":""},{"$f":"IFERROR(IF(allGymnasts!B70=\"\",\"\",INDEX(allGymnasts!$K$4:$K$103,MATCH(SMALL(allGymnasts!$N$4:$N$103,A70),allGymnasts!$N$4:$N$103,0))),\"\")","v":""},{"$f":"IFERROR(IF(allGymnasts!B70=\"\",\"\",INDEX(allGymnasts!$L$4:$L$103,MATCH(SMALL(allGymnasts!$N$4:$N$103,A70),allGymnasts!$N$4:$N$103,0))),\"\")","v":""},{"$f":"IFERROR(IF(allGymnasts!B70=\"\",\"\",INDEX(allGymnasts!$M$4:$M$103,MATCH(SMALL(allGymnasts!$N$4:$N$103,A70),allGymnasts!$N$4:$N$103,0))),\"\")","v":""}]
[68,{"$f":"IFERROR(_xlfn.FLOOR.MATH(IF(allGymnasts!A71=\"\",\"\",INDEX(allGymnasts!$N$4:$N$103,MATCH(SMALL(allGymnasts!$N$4:$N$103,A71),allGymnasts!$N$4:$N$103,0)))),\"\")","v":""},{"$f":"IFERROR(IF(allGymnasts!A71=\"\",\"\",INDEX(allGymnasts!$A$4:$A$103,MATCH(SMALL(allGymnasts!$N$4:$N$103,A71),allGymnasts!$N$4:$N$103,0))),\"\")","v":""},{"$f":"IFERROR(IF(allGymnasts!B71=\"\",\"\",INDEX(allGymnasts!$B$4:$B$103,MATCH(SMALL(allGymnasts!$N$4:$N$103,A71),allGymnasts!$N$4:$N$103,0))),\"\")","v":""},{"$f":"IFERROR(IF(allGymnasts!C71=\"\",\"\",INDEX(allGymnasts!$C$4:$C$103,MATCH(SMALL(allGymnasts!$N$4:$N$103,A71),allGymnasts!$N$4:$N$103,0))),\"\")","v":""},{"$f":"IFERROR(IF(allGymnasts!D71=\"\",\"\",INDEX(allGymnasts!$D$4:$D$103,MATCH(SMALL(allGymnasts!$N$4:$N$103,A71),allGymnasts!$N$4:$N$103,0))),\"\")","v":""},{"$f":"IFERROR(IF(allGymnasts!B71=\"\",\"\",INDEX(allGymnasts!$J$4:$J$103,MATCH(SMALL(allGymnasts!$N$4:$N$103,A71),allGymnasts!$N$4:$N$103,0))),\"\")","v":""},{"$f":"IFERROR(IF(allGymnasts!B71=\"\",\"\",INDEX(allGymnasts!$K$4:$K$103,MATCH(SMALL(allGymnasts!$N$4:$N$103,A71),allGymnasts!$N$4:$N$103,0))),\"\")","v":""},{"$f":"IFERROR(IF(allGymnasts!B71=\"\",\"\",INDEX(allGymnasts!$L$4:$L$103,MATCH(SMALL(allGymnasts!$N$4:$N$103,A71),allGymnasts!$N$4:$N$103,0))),\"\")","v":""},{"$f":"IFERROR(IF(allGymnasts!B71=\"\",\"\",INDEX(allGymnasts!$M$4:$M$103,MATCH(SMALL(allGymnasts!$N$4:$N$103,A71),allGymnasts!$N$4:$N$103,0))),\"\")","v":""}]
[69,{"$f":"IFERROR(_xlfn.FLOOR.MATH(IF(allGymnasts!A72=\"\",\"\",INDEX(allGymnasts!$N$4:$N$103,MATCH(SMALL(allGymnasts!$N$4:$N$103,A72),allGymnasts!$N$4:$N$103,0)))),\"\")","v":""},{"$f":"IFERROR(IF(allGymnasts!A72=\"\",\"\",INDEX(allGymnasts!$A$4:$A$103,MATCH(SMALL(allGymnasts!$N$4:$N$103,A72),allGymnasts!$N$4:$N$103,0))),\"\")","v":""},{"$f":"IFERROR(IF(allGymnasts!B72=\"\",\"\",INDEX(allGymnasts!$B$4:$B$103,MATCH(SMALL(allGymnasts!$N$4:$N$103,A72),allGymnasts!$N$4:$N$103,0))),\"\")","v":""},{"$f":"IFERROR(IF(allGymnasts!C72=\"\",\"\",INDEX(allGymnasts!$C$4:$C$103,MATCH(SMALL(allGymnasts!$N$4:$N$103,A72),allGymnasts!$N$4:$N$103,0))),\"\")","v":""},{"$f":"IFERROR(IF(allGymnasts!D72=\"\",\"\",INDEX(allGymnasts!$D$4:$D$103,MATCH(SMALL(allGymnasts!$N$4:$N$103,A72),allGymnasts!$N$4:$N$103,0))),\"\")","v":""},{"$f":"IFERROR(IF(allGymnasts!B72=\"\",\"\",INDEX(allGymnasts!$J$4:$J$103,MATCH(SMALL(allGymnasts!$N$4:$N$103,A72),allGymnasts!$N$4:$N$103,0))),\"\")","v":""},{"$f":"IFERROR(IF(allGymnasts!B72=\"\",\"\",INDEX(allGymnasts!$K$4:$K$103,MATCH(SMALL(allGymnasts!$N$4:$N$103,A72),allGymnasts!$N$4:$N$103,0))),\"\")","v":""},{"$f":"IFERROR(IF(allGymnasts!B72=\"\",\"\",INDEX(allGymnasts!$L$4:$L$103,MATCH(SMALL(allGymnasts!$N$4:$N$103,A72),allGymnasts!$N$4:$N$103,0))),\"\")","v":""},{"$f":"IFERROR(IF(allGymnasts!B72=\"\",\"\",INDEX(allGymnasts!$M$4:$M$103,MATCH(SMALL(allGymnasts!$N$4:$N$103,A72),allGymnasts!$N$4:$N$103,0))),\"\")","v":""}]
[70,{"$f":"IFERROR(_xlfn.FLOOR.MATH(IF(allGymnasts!A73=\"\",\"\",INDEX(allGymnasts!$N$4:$N$103,MATCH(SMALL(allGymnasts!$N$4:$N$103,A73),allGymnasts!$N$4:$N$103,0)))),\"\")","v":""},{"$f":"IFERROR(IF(allGymnasts!A73=\"\",\"\",INDEX(allGymnasts!$A$4:$A$103,MATCH(SMALL(allGymnasts!$N$4:$N$103,A73),allGymnasts!$N$4:$N$103,0))),\"\")","v":""},{"$f":"IFERROR(IF(allGymnasts!B73=\"\",\"\",INDEX(allGymnasts!$B$4:$B$103,MATCH(SMALL(allGymnasts!$N$4:$N$103,A73),allGymnasts!$N$4:$N$103,0))),\"\")","v":""},{"$f":"IFERROR(IF(allGymnasts!C73=\"\",\"\",INDEX(allGymnasts!$C$4:$C$103,MATCH(SMALL(allGymnasts!$N$4:$N$103,A73),allGymnasts!$N$4:$N$103,0))),\"\")","v":""},{"$f":"IFERROR(IF(allGymnasts!D73=\"\",\"\",INDEX(allGymnasts!$D$4:$D$103,MATCH(SMALL(allGymnasts!$N$4:$N$103,A73),allGymnasts!$N$4:$N$103,0))),\"\")","v":""},{"$f":"IFERROR(IF(allGymnasts!B73=\"\",\"\",INDEX(allGymnasts!$J$4:$J$103,MATCH(SMALL(allGymnasts!$N$4:$N$103,A73),allGymnasts!$N$4:$N$103,0))),\"\")","v":""},{"$f":"IFERROR(IF(allGymnasts!B73=\"\",\"\",INDEX(allGymnasts!$K$4:$K$103,MATCH(SMALL(allGymnasts!$N$4:$N$103,A73),allGymnasts!$N$4:$N$103,0))),\"\")","v":""},{"$f":"IFERROR(IF(allGymnasts!B73=\"\",\"\",INDEX(allGymnasts!$L$4:$L$103,MATCH(SMALL(allGymnasts!$N$4:$N$103,A73),allGymnasts!$N$4:$N$103,0))),\"\")","v":""},{"$f":"IFERROR(IF(allGymnasts!B73=\"\",\"\",INDEX(allGymnasts!$M$4:$M$103,MATCH(SMALL(allGymnasts!$N$4:$N$103,A73),allGymnasts!$N$4:$N$103,0))),\"\")","v":""}]
[71,{"$f":"IFERROR(_xlfn.FLOOR.MATH(IF(allGymnasts!A74=\"\",\"\",INDEX(allGymnasts!$N$4:$N$103,MATCH(SMALL(allGymnasts!$N$4:$N$103,A74),allGymnasts!$N$4:$N$103,0)))),\"\")","v":""},{"$f":"IFERROR(IF(allGymnasts!A74=\"\",\"\",INDEX(allGymnasts!$A$4:$A$103,MATCH(SMALL(allGymnasts!$N$4:$N$103,A74),allGymnasts!$N$4:$N$103,0))),\"\")","v":""},{"$f":"IFERROR(IF(allGymnasts!B74=\"\",\"\",INDEX(allGymnasts!$B$4:$B$103,MATCH(SMALL(allGymnasts!$N$4:$N$103,A74),allGymnasts!$N$4:$N$103,0))),\"\")","v":""},{"$f":"IFERROR(IF(allGymnasts!C74=\"\",\"\",INDEX(allGymnasts!$C$4:$C$103,MATCH(SMALL(allGymnasts!$N$4:$N$103,A74),allGymnasts!$N$4:$N$103,0))),\"\")","v":""},{"$f":"IFERROR(IF(allGymnasts!D74=\"\",\"\",INDEX(allGymnasts!$D$4:$D$103,MATCH(SMALL(allGymnasts!$N$4:$N$103,A74),allGymnasts!$N$4:$N$103,0))),\"\")","v":""},{"$f":"IFERROR(IF(allGymnasts!B74=\"\",\"\",INDEX(allGymnasts!$J$4:$J$103,MATCH(SMALL(allGymnasts!$N$4:$N$103,A74),allGymnasts!$N$4:$N$103,0))),\"\")","v":""},{"$f":"IFERROR(IF(allGymnasts!B74=\"\",\"\",INDEX(allGymnasts!$K$4:$K$103,MATCH(SMALL(allGymnasts!$N$4:$N$103,A74),allGymnasts!$N$4:$N$103,0))),\"\")","v":""},{"$f":"IFERROR(IF(allGymnasts!B74=\"\",\"\",INDEX(allGymnasts!$L$4:$L$103,MATCH(SMALL(allGymnasts!$N$4:$N$103,A74),allGymnasts!$N$4:$N$103,0))),\"\")","v":""},{"$f":"IFERROR(IF(allGymnasts!B74=\"\",\"\",INDEX(allGymnasts!$M$4:$M$103,MATCH(SMALL(allGymnasts!$N$4:$N$103,A74),allGymnasts!$N$4:$N$103,0))),\"\")","v":""}]
[72,{"$f":"IFERROR(_xlfn.FLOOR.MATH(IF(allGymnasts!A75=\"\",\"\",INDEX(allGymnasts!$N$4:$N$103,MATCH(SMALL(allGymnasts!$N$4:$N$103,A75),allGymnasts!$N$4:$N$103,0)))),\"\")","v":""},{"$f":"IFERROR(IF(allGymnasts!A75=\"\",\"\",INDEX(allGymnasts!$A$4:$A$103,MATCH(SMALL(allGymnasts!$N$4:$N$103,A75),allGymnasts!$N$4:$N$103,0))),\"\")","v":""},{"$f":"IFERROR(IF(allGymnasts!B75=\"\",\"\",INDEX(allGymnasts!$B$4:$B$103,MATCH(SMALL(allGymnasts!$N$4:$N$103,A75),allGymnasts!$N$4:$N$103,0))),\"\")","v":""},{"$f":"IFERROR(IF(allGymnasts!C75=\"\",\"\",INDEX(allGymnasts!$C$4:$C$103,MATCH(SMALL(allGymnasts!$N$4:$N$103,A75),allGymnasts!$N$4:$N$103,0))),\"\")","v":""},{"$f":"IFERROR(IF(allGymnasts!D75=\"\",\"\",INDEX(allGymnasts!$D$4:$D$103,MATCH(SMALL(allGymnasts!$N$4:$N$103,A75),allGymnasts!$N$4:$N$103,0))),\"\")","v":""},{"$f":"IFERROR(IF(allGymnasts!B75=\"\",\"\",INDEX(allGymnasts!$J$4:$J$103,MATCH(SMALL(allGymnasts!$N$4:$N$103,A75),allGymnasts!$N$4:$N$103,0))),\"\")","v":""},{"$f":"IFERROR(IF(allGymnasts!B75=\"\",\"\",INDEX(allGymnasts!$K$4:$K$103,MATCH(SMALL(allGymnasts!$N$4:$N$103,A75),allGymnasts!$N$4:$N$103,0))),\"\")","v":""},{"$f":"IFERROR(IF(allGymnasts!B75=\"\",\"\",INDEX(allGymnasts!$L$4:$L$103,MATCH(SMALL(allGymnasts!$N$4:$N$103,A75),allGymnasts!$N$4:$N$103,0))),\"\")","v":""},{"$f":"IFERROR(IF(allGymnasts!B75=\"\",\"\",INDEX(allGymnasts!$M$4:$M$103,MATCH(SMALL(allGymnasts!$N$4:$N$103,A75),allGymnasts!$N$4:$N$103,0))),\"\")","v":""}]
[73,{"$f":"IFERROR(_xlfn.FLOOR.MATH(IF(allGymnasts!A76=\"\",\"\",INDEX(allGymnasts!$N$4:$N$103,MATCH(SMALL(allGymnasts!$N$4:$N$103,A76),allGymnasts!$N$4:$N$103,0)))),\"\")","v":""},{"$f":"IFERROR(IF(allGymnasts!A76=\"\",\"\",INDEX(allGymnasts!$A$4:$A$103,MATCH(SMALL(allGymnasts!$N$4:$N$103,A76),allGymnasts!$N$4:$N$103,0))),\"\")","v":""},{"$f":"IFERROR(IF(allGymnasts!B76=\"\",\"\",INDEX(allGymnasts!$B$4:$B$103,MATCH(SMALL(allGymnasts!$N$4:$N$103,A76),allGymnasts!$N$4:$N$103,0))),\"\")","v":""},{"$f":"IFERROR(IF(allGymnasts!C76=\"\",\"\",INDEX(allGymnasts!$C$4:$C$103,MATCH(SMALL(allGymnasts!$N$4:$N$103,A76),allGymnasts!$N$4:$N$103,0))),\"\")","v":""},{"$f":"IFERROR(IF(allGymnasts!D76=\"\",\"\",INDEX(allGymnasts!$D$4:$D$103,MATCH(SMALL(allGymnasts!$N$4:$N$103,A76),allGymnasts!$N$4:$N$103,0))),\"\")","v":""},{"$f":"IFERROR(IF(allGymnasts!B76=\"\",\"\",INDEX(allGymnasts!$J$4:$J$103,MATCH(SMALL(allGymnasts!$N$4:$N$103,A76),allGymnasts!$N$4:$N$103,0))),\"\")","v":""},{"$f":"IFERROR(IF(allGymnasts!B76=\"\",\"\",INDEX(allGymnasts!$K$4:$K$103,MATCH(SMALL(allGymnasts!$N$4:$N$103,A76),allGymnasts!$N$4:$N$103,0))),\"\")","v":""},{"$f":"IFERROR(IF(allGymnasts!B76=\"\",\"\",INDEX(allGymnasts!$L$4:$L$103,MATCH(SMALL(allGymnasts!$N$4:$N$103,A76),allGymnasts!$N$4:$N$103,0))),\"\")","v":""},{"$f":"IFERROR(IF(allGymnasts!B76=\"\",\"\",INDEX(allGymnasts!$M$4:$M$103,MATCH(SMALL(allGymnasts!$N$4:$N$103,A76),allGymnasts!$N$4:$N$103,0))),\"\")","v":""}]
[74,{"$f":"IFERROR(_xlfn.FLOOR.MATH(IF(allGymnasts!A77=\"\",\"\",INDEX(allGymnasts!$N$4:$N$103,MATCH(SMALL(allGymnasts!$N$4:$N$103,A77),allGymnasts!$N$4:$N$103,0)))),\"\")","v":""},{"$f":"IFERROR(IF(allGymnasts!A77=\"\",\"\",INDEX(allGymnasts!$A$4:$A$103,MATCH(SMALL(allGymnasts!$N$4:$N$103,A77),allGymnasts!$N$4:$N$103,0))),\"\")","v":""},{"$f":"IFERROR(IF(allGymnasts!B77=\"\",\"\",INDEX(allGymnasts!$B$4:$B$103,MATCH(SMALL(allGymnasts!$N$4:$N$103,A77),allGymnasts!$N$4:$N$103,0))),\"\")","v":""},{"$f":"IFERROR(IF(allGymnasts!C77=\"\",\"\",INDEX(allGymnasts!$C$4:$C$103,MATCH(SMALL(allGymnasts!$N$4:$N$103,A77),allGymnasts!$N$4:$N$103,0))),\"\")","v":""},{"$f":"IFERROR(IF(allGymnasts!D77=\"\",\"\",INDEX(allGymnasts!$D$4:$D$103,MATCH(SMALL(allGymnasts!$N$4:$N$103,A77),allGymnasts!$N$4:$N$103,0))),\"\")","v":""},{"$f":"IFERROR(IF(allGymnasts!B77=\"\",\"\",INDEX(allGymnasts!$J$4:$J$103,MATCH(SMALL(allGymnasts!$N$4:$N$103,A77),allGymnasts!$N$4:$N$103,0))),\"\")","v":""},{"$f":"IFERROR(IF(allGymnasts!B77=\"\",\"\",INDEX(allGymnasts!$K$4:$K$103,MATCH(SMALL(allGymnasts!$N$4:$N$103,A77),allGymnasts!$N$4:$N$103,0))),\"\")","v":""},{"$f":"IFERROR(IF(allGymnasts!B77=\"\",\"\",INDEX(allGymnasts!$L$4:$L$103,MATCH(SMALL(allGymnasts!$N$4:$N$103,A77),allGymnasts!$N$4:$N$103,0))),\"\")","v":""},{"$f":"IFERROR(IF(allGymnasts!B77=\"\",\"\",INDEX(allGymnasts!$M$4:$M$103,MATCH(SMALL(allGymnasts!$N$4:$N$103,A77),allGymnasts!$N$4:$N$103,0))),\"\")","v":""}]
[75,{"$f":"IFERROR(_xlfn.FLOOR.MATH(IF(allGymnasts!A78=\"\",\"\",INDEX(allGymnasts!$N$4:$N$103,MATCH(SMALL(allGymnasts!$N$4:$N$103,A78),allGymnasts!$N$4:$N$103,0)))),\"\")","v":""},{"$f":"IFERROR(IF(allGymnasts!A78=\"\",\"\",INDEX(allGymnasts!$A$4:$A$103,MATCH(SMALL(allGymnasts!$N$4:$N$103,A78),allGymnasts!$N$4:$N$103,0))),\"\")","v":""},{"$f":"IFERROR(IF(allGymnasts!B78=\"\",\"\",INDEX(allGymnasts!$B$4:$B$103,MATCH(SMALL(allGymnasts!$N$4:$N$103,A78),allGymnasts!$N$4:$N$103,0))),\"\")","v":""},{"$f":"IFERROR(IF(allGymnasts!C78=\"\",\"\",INDEX(allGymnasts!$C$4:$C$103,MATCH(SMALL(allGymnasts!$N$4:$N$103,A78),allGymnasts!$N$4:$N$103,0))),\"\")","v":""},{"$f":"IFERROR(IF(allGymnasts!D78=\"\",\"\",INDEX(allGymnasts!$D$4:$D$103,MATCH(SMALL(allGymnasts!$N$4:$N$103,A78),allGymnasts!$N$4:$N$103,0))),\"\")","v":""},{"$f":"IFERROR(IF(allGymnasts!B78=\"\",\"\",INDEX(allGymnasts!$J$4:$J$103,MATCH(SMALL(allGymnasts!$N$4:$N$103,A78),allGymnasts!$N$4:$N$103,0))),\"\")","v":""},{"$f":"IFERROR(IF(allGymnasts!B78=\"\",\"\",INDEX(allGymnasts!$K$4:$K$103,MATCH(SMALL(allGymnasts!$N$4:$N$103,A78),allGymnasts!$N$4:$N$103,0))),\"\")","v":""},{"$f":"IFERROR(IF(allGymnasts!B78=\"\",\"\",INDEX(allGymnasts!$L$4:$L$103,MATCH(SMALL(allGymnasts!$N$4:$N$103,A78),allGymnasts!$N$4:$N$103,0))),\"\")","v":""},{"$f":"IFERROR(IF(allGymnasts!B78=\"\",\"\",INDEX(allGymnasts!$M$4:$M$103,MATCH(SMALL(allGymnasts!$N$4:$N$103,A78),allGymnasts!$N$4:$N$103,0))),\"\")","v":""}]
[76,{"$f":"IFERROR(_xlfn.FLOOR.MATH(IF(allGymnasts!A79=\"\",\"\",INDEX(allGymnasts!$N$4:$N$103,MATCH(SMALL(allGymnasts!$N$4:$N$103,A79),allGymnasts!$N$4:$N$103,0)))),\"\")","v":""},{"$f":"IFERROR(IF(allGymnasts!A79=\"\",\"\",INDEX(allGymnasts!$A$4:$A$103,MATCH(SMALL(allGymnasts!$N$4:$N$103,A79),allGymnasts!$N$4:$N$103,0))),\"\")","v":""},{"$f":"IFERROR(IF(allGymnasts!B79=\"\",\"\",INDEX(allGymnasts!$B$4:$B$103,MATCH(SMALL(allGymnasts!$N$4:$N$103,A79),allGymnasts!$N$4:$N$103,0))),\"\")","v":""},{"$f":"IFERROR(IF(allGymnasts!C79=\"\",\"\",INDEX(allGymnasts!$C$4:$C$103,MATCH(SMALL(allGymnasts!$N$4:$N$103,A79),allGymnasts!$N$4:$N$103,0))),\"\")","v":""},{"$f":"IFERROR(IF(allGymnasts!D79=\"\",\"\",INDEX(allGymnasts!$D$4:$D$103,MATCH(SMALL(allGymnasts!$N$4:$N$103,A79),allGymnasts!$N$4:$N$103,0))),\"\")","v":""},{"$f":"IFERROR(IF(allGymnasts!B79=\"\",\"\",INDEX(allGymnasts!$J$4:$J$103,MATCH(SMALL(allGymnasts!$N$4:$N$103,A79),allGymnasts!$N$4:$N$103,0))),\"\")","v":""},{"$f":"IFERROR(IF(allGymnasts!B79=\"\",\"\",INDEX(allGymnasts!$K$4:$K$103,MATCH(SMALL(allGymnasts!$N$4:$N$103,A79),allGymnasts!$N$4:$N$103,0))),\"\")","v":""},{"$f":"IFERROR(IF(allGymnasts!B79=\"\",\"\",INDEX(allGymnasts!$L$4:$L$103,MATCH(SMALL(allGymnasts!$N$4:$N$103,A79),allGymnasts!$N$4:$N$103,0))),\"\")","v":""},{"$f":"IFERROR(IF(allGymnasts!B79=\"\",\"\",INDEX(allGymnasts!$M$4:$M$103,MATCH(SMALL(allGymnasts!$N$4:$N$103,A79),allGymnasts!$N$4:$N$103,0))),\"\")","v":""}]
[77,{"$f":"IFERROR(_xlfn.FLOOR.MATH(IF(allGymnasts!A80=\"\",\"\",INDEX(allGymnasts!$N$4:$N$103,MATCH(SMALL(allGymnasts!$N$4:$N$103,A80),allGymnasts!$N$4:$N$103,0)))),\"\")","v":""},{"$f":"IFERROR(IF(allGymnasts!A80=\"\",\"\",INDEX(allGymnasts!$A$4:$A$103,MATCH(SMALL(allGymnasts!$N$4:$N$103,A80),allGymnasts!$N$4:$N$103,0))),\"\")","v":""},{"$f":"IFERROR(IF(allGymnasts!B80=\"\",\"\",INDEX(allGymnasts!$B$4:$B$103,MATCH(SMALL(allGymnasts!$N$4:$N$103,A80),allGymnasts!$N$4:$N$103,0))),\"\")","v":""},{"$f":"IFERROR(IF(allGymnasts!C80=\"\",\"\",INDEX(allGymnasts!$C$4:$C$103,MATCH(SMALL(allGymnasts!$N$4:$N$103,A80),allGymnasts!$N$4:$N$103,0))),\"\")","v":""},{"$f":"IFERROR(IF(allGymnasts!D80=\"\",\"\",INDEX(allGymnasts!$D$4:$D$103,MATCH(SMALL(allGymnasts!$N$4:$N$103,A80),allGymnasts!$N$4:$N$103,0))),\"\")","v":""},{"$f":"IFERROR(IF(allGymnasts!B80=\"\",\"\",INDEX(allGymnasts!$J$4:$J$103,MATCH(SMALL(allGymnasts!$N$4:$N$103,A80),allGymnasts!$N$4:$N$103,0))),\"\")","v":""},{"$f":"IFERROR(IF(allGymnasts!B80=\"\",\"\",INDEX(allGymnasts!$K$4:$K$103,MATCH(SMALL(allGymnasts!$N$4:$N$103,A80),allGymnasts!$N$4:$N$103,0))),\"\")","v":""},{"$f":"IFERROR(IF(allGymnasts!B80=\"\",\"\",INDEX(allGymnasts!$L$4:$L$103,MATCH(SMALL(allGymnasts!$N$4:$N$103,A80),allGymnasts!$N$4:$N$103,0))),\"\")","v":""},{"$f":"IFERROR(IF(allGymnasts!B80=\"\",\"\",INDEX(allGymnasts!$M$4:$M$103,MATCH(SMALL(allGymnasts!$N$4:$N$103,A80),allGymnasts!$N$4:$N$103,0))),\"\")","v":""}]
[78,{"$f":"IFERROR(_xlfn.FLOOR.MATH(IF(allGymnasts!A81=\"\",\"\",INDEX(allGymnasts!$N$4:$N$103,MATCH(SMALL(allGymnasts!$N$4:$N$103,A81),allGymnasts!$N$4:$N$103,0)))),\"\")","v":""},{"$f":"IFERROR(IF(allGymnasts!A81=\"\",\"\",INDEX(allGymnasts!$A$4:$A$103,MATCH(SMALL(allGymnasts!$N$4:$N$103,A81),allGymnasts!$N$4:$N$103,0))),\"\")","v":""},{"$f":"IFERROR(IF(allGymnasts!B81=\"\",\"\",INDEX(allGymnasts!$B$4:$B$103,MATCH(SMALL(allGymnasts!$N$4:$N$103,A81),allGymnasts!$N$4:$N$103,0))),\"\")","v":""},{"$f":"IFERROR(IF(allGymnasts!C81=\"\",\"\",INDEX(allGymnasts!$C$4:$C$103,MATCH(SMALL(allGymnasts!$N$4:$N$103,A81),allGymnasts!$N$4:$N$103,0))),\"\")","v":""},{"$f":"IFERROR(IF(allGymnasts!D81=\"\",\"\",INDEX(allGymnasts!$D$4:$D$103,MATCH(SMALL(allGymnasts!$N$4:$N$103,A81),allGymnasts!$N$4:$N$103,0))),\"\")","v":""},{"$f":"IFERROR(IF(allGymnasts!B81=\"\",\"\",INDEX(allGymnasts!$J$4:$J$103,MATCH(SMALL(allGymnasts!$N$4:$N$103,A81),allGymnasts!$N$4:$N$103,0))),\"\")","v":""},{"$f":"IFERROR(IF(allGymnasts!B81=\"\",\"\",INDEX(allGymnasts!$K$4:$K$103,MATCH(SMALL(allGymnasts!$N$4:$N$103,A81),allGymnasts!$N$4:$N$103,0))),\"\")","v":""},{"$f":"IFERROR(IF(allGymnasts!B81=\"\",\"\",INDEX(allGymnasts!$L$4:$L$103,MATCH(SMALL(allGymnasts!$N$4:$N$103,A81),allGymnasts!$N$4:$N$103,0))),\"\")","v":""},{"$f":"IFERROR(IF(allGymnasts!B81=\"\",\"\",INDEX(allGymnasts!$M$4:$M$103,MATCH(SMALL(allGymnasts!$N$4:$N$103,A81),allGymnasts!$N$4:$N$103,0))),\"\")","v":""}]
[79,{"$f":"IFERROR(_xlfn.FLOOR.MATH(IF(allGymnasts!A82=\"\",\"\",INDEX(allGymnasts!$N$4:$N$103,MATCH(SMALL(allGymnasts!$N$4:$N$103,A82),allGymnasts!$N$4:$N$103,0)))),\"\")","v":""},{"$f":"IFERROR(IF(allGymnasts!A82=\"\",\"\",INDEX(allGymnasts!$A$4:$A$103,MATCH(SMALL(allGymnasts!$N$4:$N$103,A82),allGymnasts!$N$4:$N$103,0))),\"\")","v":""},{"$f":"IFERROR(IF(allGymnasts!B82=\"\",\"\",INDEX(allGymnasts!$B$4:$B$103,MATCH(SMALL(allGymnasts!$N$4:$N$103,A82),allGymnasts!$N$4:$N$103,0))),\"\")","v":""},{"$f":"IFERROR(IF(allGymnasts!C82=\"\",\"\",INDEX(allGymnasts!$C$4:$C$103,MATCH(SMALL(allGymnasts!$N$4:$N$103,A82),allGymnasts!$N$4:$N$103,0))),\"\")","v":""},{"$f":"IFERROR(IF(allGymnasts!D82=\"\",\"\",INDEX(allGymnasts!$D$4:$D$103,MATCH(SMALL(allGymnasts!$N$4:$N$103,A82),allGymnasts!$N$4:$N$103,0))),\"\")","v":""},{"$f":"IFERROR(IF(allGymnasts!B82=\"\",\"\",INDEX(allGymnasts!$J$4:$J$103,MATCH(SMALL(allGymnasts!$N$4:$N$103,A82),allGymnasts!$N$4:$N$103,0))),\"\")","v":""},{"$f":"IFERROR(IF(allGymnasts!B82=\"\",\"\",INDEX(allGymnasts!$K$4:$K$103,MATCH(SMALL(allGymnasts!$N$4:$N$103,A82),allGymnasts!$N$4:$N$103,0))),\"\")","v":""},{"$f":"IFERROR(IF(allGymnasts!B82=\"\",\"\",INDEX(allGymnasts!$L$4:$L$103,MATCH(SMALL(allGymnasts!$N$4:$N$103,A82),allGymnasts!$N$4:$N$103,0))),\"\")","v":""},{"$f":"IFERROR(IF(allGymnasts!B82=\"\",\"\",INDEX(allGymnasts!$M$4:$M$103,MATCH(SMALL(allGymnasts!$N$4:$N$103,A82),allGymnasts!$N$4:$N$103,0))),\"\")","v":""}]
[80,{"$f":"IFERROR(_xlfn.FLOOR.MATH(IF(allGymnasts!A83=\"\",\"\",INDEX(allGymnasts!$N$4:$N$103,MATCH(SMALL(allGymnasts!$N$4:$N$103,A83),allGymnasts!$N$4:$N$103,0)))),\"\")","v":""},{"$f":"IFERROR(IF(allGymnasts!A83=\"\",\"\",INDEX(allGymnasts!$A$4:$A$103,MATCH(SMALL(allGymnasts!$N$4:$N$103,A83),allGymnasts!$N$4:$N$103,0))),\"\")","v":""},{"$f":"IFERROR(IF(allGymnasts!B83=\"\",\"\",INDEX(allGymnasts!$B$4:$B$103,MATCH(SMALL(allGymnasts!$N$4:$N$103,A83),allGymnasts!$N$4:$N$103,0))),\"\")","v":""},{"$f":"IFERROR(IF(allGymnasts!C83=\"\",\"\",INDEX(allGymnasts!$C$4:$C$103,MATCH(SMALL(allGymnasts!$N$4:$N$103,A83),allGymnasts!$N$4:$N$103,0))),\"\")","v":""},{"$f":"IFERROR(IF(allGymnasts!D83=\"\",\"\",INDEX(allGymnasts!$D$4:$D$103,MATCH(SMALL(allGymnasts!$N$4:$N$103,A83),allGymnasts!$N$4:$N$103,0))),\"\")","v":""},{"$f":"IFERROR(IF(allGymnasts!B83=\"\",\"\",INDEX(allGymnasts!$J$4:$J$103,MATCH(SMALL(allGymnasts!$N$4:$N$103,A83),allGymnasts!$N$4:$N$103,0))),\"\")","v":""},{"$f":"IFERROR(IF(allGymnasts!B83=\"\",\"\",INDEX(allGymnasts!$K$4:$K$103,MATCH(SMALL(allGymnasts!$N$4:$N$103,A83),allGymnasts!$N$4:$N$103,0))),\"\")","v":""},{"$f":"IFERROR(IF(allGymnasts!B83=\"\",\"\",INDEX(allGymnasts!$L$4:$L$103,MATCH(SMALL(allGymnasts!$N$4:$N$103,A83),allGymnasts!$N$4:$N$103,0))),\"\")","v":""},{"$f":"IFERROR(IF(allGymnasts!B83=\"\",\"\",INDEX(allGymnasts!$M$4:$M$103,MATCH(SMALL(allGymnasts!$N$4:$N$103,A83),allGymnasts!$N$4:$N$103,0))),\"\")","v":""}]
[81,{"$f":"IFERROR(_xlfn.FLOOR.MATH(IF(allGymnasts!A84=\"\",\"\",INDEX(allGymnasts!$N$4:$N$103,MATCH(SMALL(allGymnasts!$N$4:$N$103,A84),allGymnasts!$N$4:$N$103,0)))),\"\")","v":""},{"$f":"IFERROR(IF(allGymnasts!A84=\"\",\"\",INDEX(allGymnasts!$A$4:$A$103,MATCH(SMALL(allGymnasts!$N$4:$N$103,A84),allGymnasts!$N$4:$N$103,0))),\"\")","v":""},{"$f":"IFERROR(IF(allGymnasts!B84=\"\",\"\",INDEX(allGymnasts!$B$4:$B$103,MATCH(SMALL(allGymnasts!$N$4:$N$103,A84),allGymnasts!$N$4:$N$103,0))),\"\")","v":""},{"$f":"IFERROR(IF(allGymnasts!C84=\"\",\"\",INDEX(allGymnasts!$C$4:$C$103,MATCH(SMALL(allGymnasts!$N$4:$N$103,A84),allGymnasts!$N$4:$N$103,0))),\"\")","v":""},{"$f":"IFERROR(IF(allGymnasts!D84=\"\",\"\",INDEX(allGymnasts!$D$4:$D$103,MATCH(SMALL(allGymnasts!$N$4:$N$103,A84),allGymnasts!$N$4:$N$103,0))),\"\")","v":""},{"$f":"IFERROR(IF(allGymnasts!B84=\"\",\"\",INDEX(allGymnasts!$J$4:$J$103,MATCH(SMALL(allGymnasts!$N$4:$N$103,A84),allGymnasts!$N$4:$N$103,0))),\"\")","v":""},{"$f":"IFERROR(IF(allGymnasts!B84=\"\",\"\",INDEX(allGymnasts!$K$4:$K$103,MATCH(SMALL(allGymnasts!$N$4:$N$103,A84),allGymnasts!$N$4:$N$103,0))),\"\")","v":""},{"$f":"IFERROR(IF(allGymnasts!B84=\"\",\"\",INDEX(allGymnasts!$L$4:$L$103,MATCH(SMALL(allGymnasts!$N$4:$N$103,A84),allGymnasts!$N$4:$N$103,0))),\"\")","v":""},{"$f":"IFERROR(IF(allGymnasts!B84=\"\",\"\",INDEX(allGymnasts!$M$4:$M$103,MATCH(SMALL(allGymnasts!$N$4:$N$103,A84),allGymnasts!$N$4:$N$103,0))),\"\")","v":""}]
[82,{"$f":"IFERROR(_xlfn.FLOOR.MATH(IF(allGymnasts!A85=\"\",\"\",INDEX(allGymnasts!$N$4:$N$103,MATCH(SMALL(allGymnasts!$N$4:$N$103,A85),allGymnasts!$N$4:$N$103,0)))),\"\")","v":""},{"$f":"IFERROR(IF(allGymnasts!A85=\"\",\"\",INDEX(allGymnasts!$A$4:$A$103,MATCH(SMALL(allGymnasts!$N$4:$N$103,A85),allGymnasts!$N$4:$N$103,0))),\"\")","v":""},{"$f":"IFERROR(IF(allGymnasts!B85=\"\",\"\",INDEX(allGymnasts!$B$4:$B$103,MATCH(SMALL(allGymnasts!$N$4:$N$103,A85),allGymnasts!$N$4:$N$103,0))),\"\")","v":""},{"$f":"IFERROR(IF(allGymnasts!C85=\"\",\"\",INDEX(allGymnasts!$C$4:$C$103,MATCH(SMALL(allGymnasts!$N$4:$N$103,A85),allGymnasts!$N$4:$N$103,0))),\"\")","v":""},{"$f":"IFERROR(IF(allGymnasts!D85=\"\",\"\",INDEX(allGymnasts!$D$4:$D$103,MATCH(SMALL(allGymnasts!$N$4:$N$103,A85),allGymnasts!$N$4:$N$103,0))),\"\")","v":""},{"$f":"IFERROR(IF(allGymnasts!B85=\"\",\"\",INDEX(allGymnasts!$J$4:$J$103,MATCH(SMALL(allGymnasts!$N$4:$N$103,A85),allGymnasts!$N$4:$N$103,0))),\"\")","v":""},{"$f":"IFERROR(IF(allGymnasts!B85=\"\",\"\",INDEX(allGymnasts!$K$4:$K$103,MATCH(SMALL(allGymnasts!$N$4:$N$103,A85),allGymnasts!$N$4:$N$103,0))),\"\")","v":""},{"$f":"IFERROR(IF(allGymnasts!B85=\"\",\"\",INDEX(allGymnasts!$L$4:$L$103,MATCH(SMALL(allGymnasts!$N$4:$N$103,A85),allGymnasts!$N$4:$N$103,0))),\"\")","v":""},{"$f":"IFERROR(IF(allGymnasts!B85=\"\",\"\",INDEX(allGymnasts!$M$4:$M$103,MATCH(SMALL(allGymnasts!$N$4:$N$103,A85),allGymnasts!$N$4:$N$103,0))),\"\")","v":""}]
[83,{"$f":"IFERROR(_xlfn.FLOOR.MATH(IF(allGymnasts!A86=\"\",\"\",INDEX(allGymnasts!$N$4:$N$103,MATCH(SMALL(allGymnasts!$N$4:$N$103,A86),allGymnasts!$N$4:$N$103,0)))),\"\")","v":""},{"$f":"IFERROR(IF(allGymnasts!A86=\"\",\"\",INDEX(allGymnasts!$A$4:$A$103,MATCH(SMALL(allGymnasts!$N$4:$N$103,A86),allGymnasts!$N$4:$N$103,0))),\"\")","v":""},{"$f":"IFERROR(IF(allGymnasts!B86=\"\",\"\",INDEX(allGymnasts!$B$4:$B$103,MATCH(SMALL(allGymnasts!$N$4:$N$103,A86),allGymnasts!$N$4:$N$103,0))),\"\")","v":""},{"$f":"IFERROR(IF(allGymnasts!C86=\"\",\"\",INDEX(allGymnasts!$C$4:$C$103,MATCH(SMALL(allGymnasts!$N$4:$N$103,A86),allGymnasts!$N$4:$N$103,0))),\"\")","v":""},{"$f":"IFERROR(IF(allGymnasts!D86=\"\",\"\",INDEX(allGymnasts!$D$4:$D$103,MATCH(SMALL(allGymnasts!$N$4:$N$103,A86),allGymnasts!$N$4:$N$103,0))),\"\")","v":""},{"$f":"IFERROR(IF(allGymnasts!B86=\"\",\"\",INDEX(allGymnasts!$J$4:$J$103,MATCH(SMALL(allGymnasts!$N$4:$N$103,A86),allGymnasts!$N$4:$N$103,0))),\"\")","v":""},{"$f":"IFERROR(IF(allGymnasts!B86=\"\",\"\",INDEX(allGymnasts!$K$4:$K$103,MATCH(SMALL(allGymnasts!$N$4:$N$103,A86),allGymnasts!$N$4:$N$103,0))),\"\")","v":""},{"$f":"IFERROR(IF(allGymnasts!B86=\"\",\"\",INDEX(allGymnasts!$L$4:$L$103,MATCH(SMALL(allGymnasts!$N$4:$N$103,A86),allGymnasts!$N$4:$N$103,0))),\"\")","v":""},{"$f":"IFERROR(IF(allGymnasts!B86=\"\",\"\",INDEX(allGymnasts!$M$4:$M$103,MATCH(SMALL(allGymnasts!$N$4:$N$103,A86),allGymnasts!$N$4:$N$103,0))),\"\")","v":""}]
[84,{"$f":"IFERROR(_xlfn.FLOOR.MATH(IF(allGymnasts!A87=\"\",\"\",INDEX(allGymnasts!$N$4:$N$103,MATCH(SMALL(allGymnasts!$N$4:$N$103,A87),allGymnasts!$N$4:$N$103,0)))),\"\")","v":""},{"$f":"IFERROR(IF(allGymnasts!A87=\"\",\"\",INDEX(allGymnasts!$A$4:$A$103,MATCH(SMALL(allGymnasts!$N$4:$N$103,A87),allGymnasts!$N$4:$N$103,0))),\"\")","v":""},{"$f":"IFERROR(IF(allGymnasts!B87=\"\",\"\",INDEX(allGymnasts!$B$4:$B$103,MATCH(SMALL(allGymnasts!$N$4:$N$103,A87),allGymnasts!$N$4:$N$103,0))),\"\")","v":""},{"$f":"IFERROR(IF(allGymnasts!C87=\"\",\"\",INDEX(allGymnasts!$C$4:$C$103,MATCH(SMALL(allGymnasts!$N$4:$N$103,A87),allGymnasts!$N$4:$N$103,0))),\"\")","v":""},{"$f":"IFERROR(IF(allGymnasts!D87=\"\",\"\",INDEX(allGymnasts!$D$4:$D$103,MATCH(SMALL(allGymnasts!$N$4:$N$103,A87),allGymnasts!$N$4:$N$103,0))),\"\")","v":""},{"$f":"IFERROR(IF(allGymnasts!B87=\"\",\"\",INDEX(allGymnasts!$J$4:$J$103,MATCH(SMALL(allGymnasts!$N$4:$N$103,A87),allGymnasts!$N$4:$N$103,0))),\"\")","v":""},{"$f":"IFERROR(IF(allGymnasts!B87=\"\",\"\",INDEX(allGymnasts!$K$4:$K$103,MATCH(SMALL(allGymnasts!$N$4:$N$103,A87),allGymnasts!$N$4:$N$103,0))),\"\")","v":""},{"$f":"IFERROR(IF(allGymnasts!B87=\"\",\"\",INDEX(allGymnasts!$L$4:$L$103,MATCH(SMALL(allGymnasts!$N$4:$N$103,A87),allGymnasts!$N$4:$N$103,0))),\"\")","v":""},{"$f":"IFERROR(IF(allGymnasts!B87=\"\",\"\",INDEX(allGymnasts!$M$4:$M$103,MATCH(SMALL(allGymnasts!$N$4:$N$103,A87),allGymnasts!$N$4:$N$103,0))),\"\")","v":""}]
[85,{"$f":"IFERROR(_xlfn.FLOOR.MATH(IF(allGymnasts!A88=\"\",\"\",INDEX(allGymnasts!$N$4:$N$103,MATCH(SMALL(allGymnasts!$N$4:$N$103,A88),allGymnasts!$N$4:$N$103,0)))),\"\")","v":""},{"$f":"IFERROR(IF(allGymnasts!A88=\"\",\"\",INDEX(allGymnasts!$A$4:$A$103,MATCH(SMALL(allGymnasts!$N$4:$N$103,A88),allGymnasts!$N$4:$N$103,0))),\"\")","v":""},{"$f":"IFERROR(IF(allGymnasts!B88=\"\",\"\",INDEX(allGymnasts!$B$4:$B$103,MATCH(SMALL(allGymnasts!$N$4:$N$103,A88),allGymnasts!$N$4:$N$103,0))),\"\")","v":""},{"$f":"IFERROR(IF(allGymnasts!C88=\"\",\"\",INDEX(allGymnasts!$C$4:$C$103,MATCH(SMALL(allGymnasts!$N$4:$N$103,A88),allGymnasts!$N$4:$N$103,0))),\"\")","v":""},{"$f":"IFERROR(IF(allGymnasts!D88=\"\",\"\",INDEX(allGymnasts!$D$4:$D$103,MATCH(SMALL(allGymnasts!$N$4:$N$103,A88),allGymnasts!$N$4:$N$103,0))),\"\")","v":""},{"$f":"IFERROR(IF(allGymnasts!B88=\"\",\"\",INDEX(allGymnasts!$J$4:$J$103,MATCH(SMALL(allGymnasts!$N$4:$N$103,A88),allGymnasts!$N$4:$N$103,0))),\"\")","v":""},{"$f":"IFERROR(IF(allGymnasts!B88=\"\",\"\",INDEX(allGymnasts!$K$4:$K$103,MATCH(SMALL(allGymnasts!$N$4:$N$103,A88),allGymnasts!$N$4:$N$103,0))),\"\")","v":""},{"$f":"IFERROR(IF(allGymnasts!B88=\"\",\"\",INDEX(allGymnasts!$L$4:$L$103,MATCH(SMALL(allGymnasts!$N$4:$N$103,A88),allGymnasts!$N$4:$N$103,0))),\"\")","v":""},{"$f":"IFERROR(IF(allGymnasts!B88=\"\",\"\",INDEX(allGymnasts!$M$4:$M$103,MATCH(SMALL(allGymnasts!$N$4:$N$103,A88),allGymnasts!$N$4:$N$103,0))),\"\")","v":""}]
[86,{"$f":"IFERROR(_xlfn.FLOOR.MATH(IF(allGymnasts!A89=\"\",\"\",INDEX(allGymnasts!$N$4:$N$103,MATCH(SMALL(allGymnasts!$N$4:$N$103,A89),allGymnasts!$N$4:$N$103,0)))),\"\")","v":""},{"$f":"IFERROR(IF(allGymnasts!A89=\"\",\"\",INDEX(allGymnasts!$A$4:$A$103,MATCH(SMALL(allGymnasts!$N$4:$N$103,A89),allGymnasts!$N$4:$N$103,0))),\"\")","v":""},{"$f":"IFERROR(IF(allGymnasts!B89=\"\",\"\",INDEX(allGymnasts!$B$4:$B$103,MATCH(SMALL(allGymnasts!$N$4:$N$103,A89),allGymnasts!$N$4:$N$103,0))),\"\")","v":""},{"$f":"IFERROR(IF(allGymnasts!C89=\"\",\"\",INDEX(allGymnasts!$C$4:$C$103,MATCH(SMALL(allGymnasts!$N$4:$N$103,A89),allGymnasts!$N$4:$N$103,0))),\"\")","v":""},{"$f":"IFERROR(IF(allGymnasts!D89=\"\",\"\",INDEX(allGymnasts!$D$4:$D$103,MATCH(SMALL(allGymnasts!$N$4:$N$103,A89),allGymnasts!$N$4:$N$103,0))),\"\")","v":""},{"$f":"IFERROR(IF(allGymnasts!B89=\"\",\"\",INDEX(allGymnasts!$J$4:$J$103,MATCH(SMALL(allGymnasts!$N$4:$N$103,A89),allGymnasts!$N$4:$N$103,0))),\"\")","v":""},{"$f":"IFERROR(IF(allGymnasts!B89=\"\",\"\",INDEX(allGymnasts!$K$4:$K$103,MATCH(SMALL(allGymnasts!$N$4:$N$103,A89),allGymnasts!$N$4:$N$103,0))),\"\")","v":""},{"$f":"IFERROR(IF(allGymnasts!B89=\"\",\"\",INDEX(allGymnasts!$L$4:$L$103,MATCH(SMALL(allGymnasts!$N$4:$N$103,A89),allGymnasts!$N$4:$N$103,0))),\"\")","v":""},{"$f":"IFERROR(IF(allGymnasts!B89=\"\",\"\",INDEX(allGymnasts!$M$4:$M$103,MATCH(SMALL(allGymnasts!$N$4:$N$103,A89),allGymnasts!$N$4:$N$103,0))),\"\")","v":""}]
[87,{"$f":"IFERROR(_xlfn.FLOOR.MATH(IF(allGymnasts!A90=\"\",\"\",INDEX(allGymnasts!$N$4:$N$103,MATCH(SMALL(allGymnasts!$N$4:$N$103,A90),allGymnasts!$N$4:$N$103,0)))),\"\")","v":""},{"$f":"IFERROR(IF(allGymnasts!A90=\"\",\"\",INDEX(allGymnasts!$A$4:$A$103,MATCH(SMALL(allGymnasts!$N$4:$N$103,A90),allGymnasts!$N$4:$N$103,0))),\"\")","v":""},{"$f":"IFERROR(IF(allGymnasts!B90=\"\",\"\",INDEX(allGymnasts!$B$4:$B$103,MATCH(SMALL(allGymnasts!$N$4:$N$103,A90),allGymnasts!$N$4:$N$103,0))),\"\")","v":""},{"$f":"IFERROR(IF(allGymnasts!C90=\"\",\"\",INDEX(allGymnasts!$C$4:$C$103,MATCH(SMALL(allGymnasts!$N$4:$N$103,A90),allGymnasts!$N$4:$N$103,0))),\"\")","v":""},{"$f":"IFERROR(IF(allGymnasts!D90=\"\",\"\",INDEX(allGymnasts!$D$4:$D$103,MATCH(SMALL(allGymnasts!$N$4:$N$103,A90),allGymnasts!$N$4:$N$103,0))),\"\")","v":""},{"$f":"IFERROR(IF(allGymnasts!B90=\"\",\"\",INDEX(allGymnasts!$J$4:$J$103,MATCH(SMALL(allGymnasts!$N$4:$N$103,A90),allGymnasts!$N$4:$N$103,0))),\"\")","v":""},{"$f":"IFERROR(IF(allGymnasts!B90=\"\",\"\",INDEX(allGymnasts!$K$4:$K$103,MATCH(SMALL(allGymnasts!$N$4:$N$103,A90),allGymnasts!$N$4:$N$103,0))),\"\")","v":""},{"$f":"IFERROR(IF(allGymnasts!B90=\"\",\"\",INDEX(allGymnasts!$L$4:$L$103,MATCH(SMALL(allGymnasts!$N$4:$N$103,A90),allGymnasts!$N$4:$N$103,0))),\"\")","v":""},{"$f":"IFERROR(IF(allGymnasts!B90=\"\",\"\",INDEX(allGymnasts!$M$4:$M$103,MATCH(SMALL(allGymnasts!$N$4:$N$103,A90),allGymnasts!$N$4:$N$103,0))),\"\")","v":""}]
[88,{"$f":"IFERROR(_xlfn.FLOOR.MATH(IF(allGymnasts!A91=\"\",\"\",INDEX(allGymnasts!$N$4:$N$103,MATCH(SMALL(allGymnasts!$N$4:$N$103,A91),allGymnasts!$N$4:$N$103,0)))),\"\")","v":""},{"$f":"IFERROR(IF(allGymnasts!A91=\"\",\"\",INDEX(allGymnasts!$A$4:$A$103,MATCH(SMALL(allGymnasts!$N$4:$N$103,A91),allGymnasts!$N$4:$N$103,0))),\"\")","v":""},{"$f":"IFERROR(IF(allGymnasts!B91=\"\",\"\",INDEX(allGymnasts!$B$4:$B$103,MATCH(SMALL(allGymnasts!$N$4:$N$103,A91),allGymnasts!$N$4:$N$103,0))),\"\")","v":""},{"$f":"IFERROR(IF(allGymnasts!C91=\"\",\"\",INDEX(allGymnasts!$C$4:$C$103,MATCH(SMALL(allGymnasts!$N$4:$N$103,A91),allGymnasts!$N$4:$N$103,0))),\"\")","v":""},{"$f":"IFERROR(IF(allGymnasts!D91=\"\",\"\",INDEX(allGymnasts!$D$4:$D$103,MATCH(SMALL(allGymnasts!$N$4:$N$103,A91),allGymnasts!$N$4:$N$103,0))),\"\")","v":""},{"$f":"IFERROR(IF(allGymnasts!B91=\"\",\"\",INDEX(allGymnasts!$J$4:$J$103,MATCH(SMALL(allGymnasts!$N$4:$N$103,A91),allGymnasts!$N$4:$N$103,0))),\"\")","v":""},{"$f":"IFERROR(IF(allGymnasts!B91=\"\",\"\",INDEX(allGymnasts!$K$4:$K$103,MATCH(SMALL(allGymnasts!$N$4:$N$103,A91),allGymnasts!$N$4:$N$103,0))),\"\")","v":""},{"$f":"IFERROR(IF(allGymnasts!B91=\"\",\"\",INDEX(allGymnasts!$L$4:$L$103,MATCH(SMALL(allGymnasts!$N$4:$N$103,A91),allGymnasts!$N$4:$N$103,0))),\"\")","v":""},{"$f":"IFERROR(IF(allGymnasts!B91=\"\",\"\",INDEX(allGymnasts!$M$4:$M$103,MATCH(SMALL(allGymnasts!$N$4:$N$103,A91),allGymnasts!$N$4:$N$103,0))),\"\")","v":""}]
[89,{"$f":"IFERROR(_xlfn.FLOOR.MATH(IF(allGymnasts!A92=\"\",\"\",INDEX(allGymnasts!$N$4:$N$103,MATCH(SMALL(allGymnasts!$N$4:$N$103,A92),allGymnasts!$N$4:$N$103,0)))),\"\")","v":""},{"$f":"IFERROR(IF(allGymnasts!A92=\"\",\"\",INDEX(allGymnasts!$A$4:$A$103,MATCH(SMALL(allGymnasts!$N$4:$N$103,A92),allGymnasts!$N$4:$N$103,0))),\"\")","v":""},{"$f":"IFERROR(IF(allGymnasts!B92=\"\",\"\",INDEX(allGymnasts!$B$4:$B$103,MATCH(SMALL(allGymnasts!$N$4:$N$103,A92),allGymnasts!$N$4:$N$103,0))),\"\")","v":""},{"$f":"IFERROR(IF(allGymnasts!C92=\"\",\"\",INDEX(allGymnasts!$C$4:$C$103,MATCH(SMALL(allGymnasts!$N$4:$N$103,A92),allGymnasts!$N$4:$N$103,0))),\"\")","v":""},{"$f":"IFERROR(IF(allGymnasts!D92=\"\",\"\",INDEX(allGymnasts!$D$4:$D$103,MATCH(SMALL(allGymnasts!$N$4:$N$103,A92),allGymnasts!$N$4:$N$103,0))),\"\")","v":""},{"$f":"IFERROR(IF(allGymnasts!B92=\"\",\"\",INDEX(allGymnasts!$J$4:$J$103,MATCH(SMALL(allGymnasts!$N$4:$N$103,A92),allGymnasts!$N$4:$N$103,0))),\"\")","v":""},{"$f":"IFERROR(IF(allGymnasts!B92=\"\",\"\",INDEX(allGymnasts!$K$4:$K$103,MATCH(SMALL(allGymnasts!$N$4:$N$103,A92),allGymnasts!$N$4:$N$103,0))),\"\")","v":""},{"$f":"IFERROR(IF(allGymnasts!B92=\"\",\"\",INDEX(allGymnasts!$L$4:$L$103,MATCH(SMALL(allGymnasts!$N$4:$N$103,A92),allGymnasts!$N$4:$N$103,0))),\"\")","v":""},{"$f":"IFERROR(IF(allGymnasts!B92=\"\",\"\",INDEX(allGymnasts!$M$4:$M$103,MATCH(SMALL(allGymnasts!$N$4:$N$103,A92),allGymnasts!$N$4:$N$103,0))),\"\")","v":""}]
[90,{"$f":"IFERROR(_xlfn.FLOOR.MATH(IF(allGymnasts!A93=\"\",\"\",INDEX(allGymnasts!$N$4:$N$103,MATCH(SMALL(allGymnasts!$N$4:$N$103,A93),allGymnasts!$N$4:$N$103,0)))),\"\")","v":""},{"$f":"IFERROR(IF(allGymnasts!A93=\"\",\"\",INDEX(allGymnasts!$A$4:$A$103,MATCH(SMALL(allGymnasts!$N$4:$N$103,A93),allGymnasts!$N$4:$N$103,0))),\"\")","v":""},{"$f":"IFERROR(IF(allGymnasts!B93=\"\",\"\",INDEX(allGymnasts!$B$4:$B$103,MATCH(SMALL(allGymnasts!$N$4:$N$103,A93),allGymnasts!$N$4:$N$103,0))),\"\")","v":""},{"$f":"IFERROR(IF(allGymnasts!C93=\"\",\"\",INDEX(allGymnasts!$C$4:$C$103,MATCH(SMALL(allGymnasts!$N$4:$N$103,A93),allGymnasts!$N$4:$N$103,0))),\"\")","v":""},{"$f":"IFERROR(IF(allGymnasts!D93=\"\",\"\",INDEX(allGymnasts!$D$4:$D$103,MATCH(SMALL(allGymnasts!$N$4:$N$103,A93),allGymnasts!$N$4:$N$103,0))),\"\")","v":""},{"$f":"IFERROR(IF(allGymnasts!B93=\"\",\"\",INDEX(allGymnasts!$J$4:$J$103,MATCH(SMALL(allGymnasts!$N$4:$N$103,A93),allGymnasts!$N$4:$N$103,0))),\"\")","v":""},{"$f":"IFERROR(IF(allGymnasts!B93=\"\",\"\",INDEX(allGymnasts!$K$4:$K$103,MATCH(SMALL(allGymnasts!$N$4:$N$103,A93),allGymnasts!$N$4:$N$103,0))),\"\")","v":""},{"$f":"IFERROR(IF(allGymnasts!B93=\"\",\"\",INDEX(allGymnasts!$L$4:$L$103,MATCH(SMALL(allGymnasts!$N$4:$N$103,A93),allGymnasts!$N$4:$N$103,0))),\"\")","v":""},{"$f":"IFERROR(IF(allGymnasts!B93=\"\",\"\",INDEX(allGymnasts!$M$4:$M$103,MATCH(SMALL(allGymnasts!$N$4:$N$103,A93),allGymnasts!$N$4:$N$103,0))),\"\")","v":""}]
[91,{"$f":"IFERROR(_xlfn.FLOOR.MATH(IF(allGymnasts!A94=\"\",\"\",INDEX(allGymnasts!$N$4:$N$103,MATCH(SMALL(allGymnasts!$N$4:$N$103,A94),allGymnasts!$N$4:$N$103,0)))),\"\")","v":""},{"$f":"IFERROR(IF(allGymnasts!A94=\"\",\"\",INDEX(allGymnasts!$A$4:$A$103,MATCH(SMALL(allGymnasts!$N$4:$N$103,A94),allGymnasts!$N$4:$N$103,0))),\"\")","v":""},{"$f":"IFERROR(IF(allGymnasts!B94=\"\",\"\",INDEX(allGymnasts!$B$4:$B$103,MATCH(SMALL(allGymnasts!$N$4:$N$103,A94),allGymnasts!$N$4:$N$103,0))),\"\")","v":""},{"$f":"IFERROR(IF(allGymnasts!C94=\"\",\"\",INDEX(allGymnasts!$C$4:$C$103,MATCH(SMALL(allGymnasts!$N$4:$N$103,A94),allGymnasts!$N$4:$N$103,0))),\"\")","v":""},{"$f":"IFERROR(IF(allGymnasts!D94=\"\",\"\",INDEX(allGymnasts!$D$4:$D$103,MATCH(SMALL(allGymnasts!$N$4:$N$103,A94),allGymnasts!$N$4:$N$103,0))),\"\")","v":""},{"$f":"IFERROR(IF(allGymnasts!B94=\"\",\"\",INDEX(allGymnasts!$J$4:$J$103,MATCH(SMALL(allGymnasts!$N$4:$N$103,A94),allGymnasts!$N$4:$N$103,0))),\"\")","v":""},{"$f":"IFERROR(IF(allGymnasts!B94=\"\",\"\",INDEX(allGymnasts!$K$4:$K$103,MATCH(SMALL(allGymnasts!$N$4:$N$103,A94),allGymnasts!$N$4:$N$103,0))),\"\")","v":""},{"$f":"IFERROR(IF(allGymnasts!B94=\"\",\"\",INDEX(allGymnasts!$L$4:$L$103,MATCH(SMALL(allGymnasts!$N$4:$N$103,A94),allGymnasts!$N$4:$N$103,0))),\"\")","v":""},{"$f":"IFERROR(IF(allGymnasts!B94=\"\",\"\",INDEX(allGymnasts!$M$4:$M$103,MATCH(SMALL(allGymnasts!$N$4:$N$103,A94),allGymnasts!$N$4:$N$103,0))),\"\")","v":""}]
[92,{"$f":"IFERROR(_xlfn.FLOOR.MATH(IF(allGymnasts!A95=\"\",\"\",INDEX(allGymnasts!$N$4:$N$103,MATCH(SMALL(allGymnasts!$N$4:$N$103,A95),allGymnasts!$N$4:$N$103,0)))),\"\")","v":""},{"$f":"IFERROR(IF(allGymnasts!A95=\"\",\"\",INDEX(allGymnasts!$A$4:$A$103,MATCH(SMALL(allGymnasts!$N$4:$N$103,A95),allGymnasts!$N$4:$N$103,0))),\"\")","v":""},{"$f":"IFERROR(IF(allGymnasts!B95=\"\",\"\",INDEX(allGymnasts!$B$4:$B$103,MATCH(SMALL(allGymnasts!$N$4:$N$103,A95),allGymnasts!$N$4:$N$103,0))),\"\")","v":""},{"$f":"IFERROR(IF(allGymnasts!C95=\"\",\"\",INDEX(allGymnasts!$C$4:$C$103,MATCH(SMALL(allGymnasts!$N$4:$N$103,A95),allGymnasts!$N$4:$N$103,0))),\"\")","v":""},{"$f":"IFERROR(IF(allGymnasts!D95=\"\",\"\",INDEX(allGymnasts!$D$4:$D$103,MATCH(SMALL(allGymnasts!$N$4:$N$103,A95),allGymnasts!$N$4:$N$103,0))),\"\")","v":""},{"$f":"IFERROR(IF(allGymnasts!B95=\"\",\"\",INDEX(allGymnasts!$J$4:$J$103,MATCH(SMALL(allGymnasts!$N$4:$N$103,A95),allGymnasts!$N$4:$N$103,0))),\"\")","v":""},{"$f":"IFERROR(IF(allGymnasts!B95=\"\",\"\",INDEX(allGymnasts!$K$4:$K$103,MATCH(SMALL(allGymnasts!$N$4:$N$103,A95),allGymnasts!$N$4:$N$103,0))),\"\")","v":""},{"$f":"IFERROR(IF(allGymnasts!B95=\"\",\"\",INDEX(allGymnasts!$L$4:$L$103,MATCH(SMALL(allGymnasts!$N$4:$N$103,A95),allGymnasts!$N$4:$N$103,0))),\"\")","v":""},{"$f":"IFERROR(IF(allGymnasts!B95=\"\",\"\",INDEX(allGymnasts!$M$4:$M$103,MATCH(SMALL(allGymnasts!$N$4:$N$103,A95),allGymnasts!$N$4:$N$103,0))),\"\")","v":""}]
[93,{"$f":"IFERROR(_xlfn.FLOOR.MATH(IF(allGymnasts!A96=\"\",\"\",INDEX(allGymnasts!$N$4:$N$103,MATCH(SMALL(allGymnasts!$N$4:$N$103,A96),allGymnasts!$N$4:$N$103,0)))),\"\")","v":""},{"$f":"IFERROR(IF(allGymnasts!A96=\"\",\"\",INDEX(allGymnasts!$A$4:$A$103,MATCH(SMALL(allGymnasts!$N$4:$N$103,A96),allGymnasts!$N$4:$N$103,0))),\"\")","v":""},{"$f":"IFERROR(IF(allGymnasts!B96=\"\",\"\",INDEX(allGymnasts!$B$4:$B$103,MATCH(SMALL(allGymnasts!$N$4:$N$103,A96),allGymnasts!$N$4:$N$103,0))),\"\")","v":""},{"$f":"IFERROR(IF(allGymnasts!C96=\"\",\"\",INDEX(allGymnasts!$C$4:$C$103,MATCH(SMALL(allGymnasts!$N$4:$N$103,A96),allGymnasts!$N$4:$N$103,0))),\"\")","v":""},{"$f":"IFERROR(IF(allGymnasts!D96=\"\",\"\",INDEX(allGymnasts!$D$4:$D$103,MATCH(SMALL(allGymnasts!$N$4:$N$103,A96),allGymnasts!$N$4:$N$103,0))),\"\")","v":""},{"$f":"IFERROR(IF(allGymnasts!B96=\"\",\"\",INDEX(allGymnasts!$J$4:$J$103,MATCH(SMALL(allGymnasts!$N$4:$N$103,A96),allGymnasts!$N$4:$N$103,0))),\"\")","v":""},{"$f":"IFERROR(IF(allGymnasts!B96=\"\",\"\",INDEX(allGymnasts!$K$4:$K$103,MATCH(SMALL(allGymnasts!$N$4:$N$103,A96),allGymnasts!$N$4:$N$103,0))),\"\")","v":""},{"$f":"IFERROR(IF(allGymnasts!B96=\"\",\"\",INDEX(allGymnasts!$L$4:$L$103,MATCH(SMALL(allGymnasts!$N$4:$N$103,A96),allGymnasts!$N$4:$N$103,0))),\"\")","v":""},{"$f":"IFERROR(IF(allGymnasts!B96=\"\",\"\",INDEX(allGymnasts!$M$4:$M$103,MATCH(SMALL(allGymnasts!$N$4:$N$103,A96),allGymnasts!$N$4:$N$103,0))),\"\")","v":""}]
[94,{"$f":"IFERROR(_xlfn.FLOOR.MATH(IF(allGymnasts!A97=\"\",\"\",INDEX(allGymnasts!$N$4:$N$103,MATCH(SMALL(allGymnasts!$N$4:$N$103,A97),allGymnasts!$N$4:$N$103,0)))),\"\")","v":""},{"$f":"IFERROR(IF(allGymnasts!A97=\"\",\"\",INDEX(allGymnasts!$A$4:$A$103,MATCH(SMALL(allGymnasts!$N$4:$N$103,A97),allGymnasts!$N$4:$N$103,0))),\"\")","v":""},{"$f":"IFERROR(IF(allGymnasts!B97=\"\",\"\",INDEX(allGymnasts!$B$4:$B$103,MATCH(SMALL(allGymnasts!$N$4:$N$103,A97),allGymnasts!$N$4:$N$103,0))),\"\")","v":""},{"$f":"IFERROR(IF(allGymnasts!C97=\"\",\"\",INDEX(allGymnasts!$C$4:$C$103,MATCH(SMALL(allGymnasts!$N$4:$N$103,A97),allGymnasts!$N$4:$N$103,0))),\"\")","v":""},{"$f":"IFERROR(IF(allGymnasts!D97=\"\",\"\",INDEX(allGymnasts!$D$4:$D$103,MATCH(SMALL(allGymnasts!$N$4:$N$103,A97),allGymnasts!$N$4:$N$103,0))),\"\")","v":""},{"$f":"IFERROR(IF(allGymnasts!B97=\"\",\"\",INDEX(allGymnasts!$J$4:$J$103,MATCH(SMALL(allGymnasts!$N$4:$N$103,A97),allGymnasts!$N$4:$N$103,0))),\"\")","v":""},{"$f":"IFERROR(IF(allGymnasts!B97=\"\",\"\",INDEX(allGymnasts!$K$4:$K$103,MATCH(SMALL(allGymnasts!$N$4:$N$103,A97),allGymnasts!$N$4:$N$103,0))),\"\")","v":""},{"$f":"IFERROR(IF(allGymnasts!B97=\"\",\"\",INDEX(allGymnasts!$L$4:$L$103,MATCH(SMALL(allGymnasts!$N$4:$N$103,A97),allGymnasts!$N$4:$N$103,0))),\"\")","v":""},{"$f":"IFERROR(IF(allGymnasts!B97=\"\",\"\",INDEX(allGymnasts!$M$4:$M$103,MATCH(SMALL(allGymnasts!$N$4:$N$103,A97),allGymnasts!$N$4:$N$103,0))),\"\")","v":""}]
[95,{"$f":"IFERROR(_xlfn.FLOOR.MATH(IF(allGymnasts!A98=\"\",\"\",INDEX(allGymnasts!$N$4:$N$103,MATCH(SMALL(allGymnasts!$N$4:$N$103,A98),allGymnasts!$N$4:$N$103,0)))),\"\")","v":""},{"$f":"IFERROR(IF(allGymnasts!A98=\"\",\"\",INDEX(allGymnasts!$A$4:$A$103,MATCH(SMALL(allGymnasts!$N$4:$N$103,A98),allGymnasts!$N$4:$N$103,0))),\"\")","v":""},{"$f":"IFERROR(IF(allGymnasts!B98=\"\",\"\",INDEX(allGymnasts!$B$4:$B$103,MATCH(SMALL(allGymnasts!$N$4:$N$103,A98),allGymnasts!$N$4:$N$103,0))),\"\")","v":""},{"$f":"IFERROR(IF(allGymnasts!C98=\"\",\"\",INDEX(allGymnasts!$C$4:$C$103,MATCH(SMALL(allGymnasts!$N$4:$N$103,A98),allGymnasts!$N$4:$N$103,0))),\"\")","v":""},{"$f":"IFERROR(IF(allGymnasts!D98=\"\",\"\",INDEX(allGymnasts!$D$4:$D$103,MATCH(SMALL(allGymnasts!$N$4:$N$103,A98),allGymnasts!$N$4:$N$103,0))),\"\")","v":""},{"$f":"IFERROR(IF(allGymnasts!B98=\"\",\"\",INDEX(allGymnasts!$J$4:$J$103,MATCH(SMALL(allGymnasts!$N$4:$N$103,A98),allGymnasts!$N$4:$N$103,0))),\"\")","v":""},{"$f":"IFERROR(IF(allGymnasts!B98=\"\",\"\",INDEX(allGymnasts!$K$4:$K$103,MATCH(SMALL(allGymnasts!$N$4:$N$103,A98),allGymnasts!$N$4:$N$103,0))),\"\")","v":""},{"$f":"IFERROR(IF(allGymnasts!B98=\"\",\"\",INDEX(allGymnasts!$L$4:$L$103,MATCH(SMALL(allGymnasts!$N$4:$N$103,A98),allGymnasts!$N$4:$N$103,0))),\"\")","v":""},{"$f":"IFERROR(IF(allGymnasts!B98=\"\",\"\",INDEX(allGymnasts!$M$4:$M$103,MATCH(SMALL(allGymnasts!$N$4:$N$103,A98),allGymnasts!$N$4:$N$103,0))),\"\")","v":""}]
[96,{"$f":"IFERROR(_xlfn.FLOOR.MATH(IF(allGymnasts!A99=\"\",\"\",INDEX(allGymnasts!$N$4:$N$103,MATCH(SMALL(allGymnasts!$N$4:$N$103,A99),allGymnasts!$N$4:$N$103,0)))),\"\")","v":""},{"$f":"IFERROR(IF(allGymnasts!A99=\"\",\"\",INDEX(allGymnasts!$A$4:$A$103,MATCH(SMALL(allGymnasts!$N$4:$N$103,A99),allGymnasts!$N$4:$N$103,0))),\"\")","v":""},{"$f":"IFERROR(IF(allGymnasts!B99=\"\",\"\",INDEX(allGymnasts!$B$4:$B$103,MATCH(SMALL(allGymnasts!$N$4:$N$103,A99),allGymnasts!$N$4:$N$103,0))),\"\")","v":""},{"$f":"IFERROR(IF(allGymnasts!C99=\"\",\"\",INDEX(allGymnasts!$C$4:$C$103,MATCH(SMALL(allGymnasts!$N$4:$N$103,A99),allGymnasts!$N$4:$N$103,0))),\"\")","v":""},{"$f":"IFERROR(IF(allGymnasts!D99=\"\",\"\",INDEX(allGymnasts!$D$4:$D$103,MATCH(SMALL(allGymnasts!$N$4:$N$103,A99),allGymnasts!$N$4:$N$103,0))),\"\")","v":""},{"$f":"IFERROR(IF(allGymnasts!B99=\"\",\"\",INDEX(allGymnasts!$J$4:$J$103,MATCH(SMALL(allGymnasts!$N$4:$N$103,A99),allGymnasts!$N$4:$N$103,0))),\"\")","v":""},{"$f":"IFERROR(IF(allGymnasts!B99=\"\",\"\",INDEX(allGymnasts!$K$4:$K$103,MATCH(SMALL(allGymnasts!$N$4:$N$103,A99),allGymnasts!$N$4:$N$103,0))),\"\")","v":""},{"$f":"IFERROR(IF(allGymnasts!B99=\"\",\"\",INDEX(allGymnasts!$L$4:$L$103,MATCH(SMALL(allGymnasts!$N$4:$N$103,A99),allGymnasts!$N$4:$N$103,0))),\"\")","v":""},{"$f":"IFERROR(IF(allGymnasts!B99=\"\",\"\",INDEX(allGymnasts!$M$4:$M$103,MATCH(SMALL(allGymnasts!$N$4:$N$103,A99),allGymnasts!$N$4:$N$103,0))),\"\")","v":""}]
[97,{"$f":"IFERROR(_xlfn.FLOOR.MATH(IF(allGymnasts!A100=\"\",\"\",INDEX(allGymnasts!$N$4:$N$103,MATCH(SMALL(allGymnasts!$N$4:$N$103,A100),allGymnasts!$N$4:$N$103,0)))),\"\")","v":""},{"$f":"IFERROR(IF(allGymnasts!A100=\"\",\"\",INDEX(allGymnasts!$A$4:$A$103,MATCH(SMALL(allGymnasts!$N$4:$N$103,A100),allGymnasts!$N$4:$N$103,0))),\"\")","v":""},{"$f":"IFERROR(IF(allGymnasts!B100=\"\",\"\",INDEX(allGymnasts!$B$4:$B$103,MATCH(SMALL(allGymnasts!$N$4:$N$103,A100),allGymnasts!$N$4:$N$103,0))),\"\")","v":""},{"$f":"IFERROR(IF(allGymnasts!C100=\"\",\"\",INDEX(allGymnasts!$C$4:$C$103,MATCH(SMALL(allGymnasts!$N$4:$N$103,A100),allGymnasts!$N$4:$N$103,0))),\"\")","v":""},{"$f":"IFERROR(IF(allGymnasts!D100=\"\",\"\",INDEX(allGymnasts!$D$4:$D$103,MATCH(SMALL(allGymnasts!$N$4:$N$103,A100),allGymnasts!$N$4:$N$103,0))),\"\")","v":""},{"$f":"IFERROR(IF(allGymnasts!B100=\"\",\"\",INDEX(allGymnasts!$J$4:$J$103,MATCH(SMALL(allGymnasts!$N$4:$N$103,A100),allGymnasts!$N$4:$N$103,0))),\"\")","v":""},{"$f":"IFERROR(IF(allGymnasts!B100=\"\",\"\",INDEX(allGymnasts!$K$4:$K$103,MATCH(SMALL(allGymnasts!$N$4:$N$103,A100),allGymnasts!$N$4:$N$103,0))),\"\")","v":""},{"$f":"IFERROR(IF(allGymnasts!B100=\"\",\"\",INDEX(allGymnasts!$L$4:$L$103,MATCH(SMALL(allGymnasts!$N$4:$N$103,A100),allGymnasts!$N$4:$N$103,0))),\"\")","v":""},{"$f":"IFERROR(IF(allGymnasts!B100=\"\",\"\",INDEX(allGymnasts!$M$4:$M$103,MATCH(SMALL(allGymnasts!$N$4:$N$103,A100),allGymnasts!$N$4:$N$103,0))),\"\")","v":""}]
[98,{"$f":"IFERROR(_xlfn.FLOOR.MATH(IF(allGymnasts!A101=\"\",\"\",INDEX(allGymnasts!$N$4:$N$103,MATCH(SMALL(allGymnasts!$N$4:$N$103,A101),allGymnasts!$N$4:$N$103,0)))),\"\")","v":""},{"$f":"IFERROR(IF(allGymnasts!A101=\"\",\"\",INDEX(allGymnasts!$A$4:$A$103,MATCH(SMALL(allGymnasts!$N$4:$N$103,A101),allGymnasts!$N$4:$N$103,0))),\"\")","v":""},{"$f":"IFERROR(IF(allGymnasts!B101=\"\",\"\",INDEX(allGymnasts!$B$4:$B$103,MATCH(SMALL(allGymnasts!$N$4:$N$103,A101),allGymnasts!$N$4:$N$103,0))),\"\")","v":""},{"$f":"IFERROR(IF(allGymnasts!C101=\"\",\"\",INDEX(allGymnasts!$C$4:$C$103,MATCH(SMALL(allGymnasts!$N$4:$N$103,A101),allGymnasts!$N$4:$N$103,0))),\"\")","v":""},{"$f":"IFERROR(IF(allGymnasts!D101=\"\",\"\",INDEX(allGymnasts!$D$4:$D$103,MATCH(SMALL(allGymnasts!$N$4:$N$103,A101),allGymnasts!$N$4:$N$103,0))),\"\")","v":""},{"$f":"IFERROR(IF(allGymnasts!B101=\"\",\"\",INDEX(allGymnasts!$J$4:$J$103,MATCH(SMALL(allGymnasts!$N$4:$N$103,A101),allGymnasts!$N$4:$N$103,0))),\"\")","v":""},{"$f":"IFERROR(IF(allGymnasts!B101=\"\",\"\",INDEX(allGymnasts!$K$4:$K$103,MATCH(SMALL(allGymnasts!$N$4:$N$103,A101),allGymnasts!$N$4:$N$103,0))),\"\")","v":""},{"$f":"IFERROR(IF(allGymnasts!B101=\"\",\"\",INDEX(allGymnasts!$L$4:$L$103,MATCH(SMALL(allGymnasts!$N$4:$N$103,A101),allGymnasts!$N$4:$N$103,0))),\"\")","v":""},{"$f":"IFERROR(IF(allGymnasts!B101=\"\",\"\",INDEX(allGymnasts!$M$4:$M$103,MATCH(SMALL(allGymnasts!$N$4:$N$103,A101),allGymnasts!$N$4:$N$103,0))),\"\")","v":""}]
[99,{"$f":"IFERROR(_xlfn.FLOOR.MATH(IF(allGymnasts!A102=\"\",\"\",INDEX(allGymnasts!$N$4:$N$103,MATCH(SMALL(allGymnasts!$N$4:$N$103,A102),allGymnasts!$N$4:$N$103,0)))),\"\")","v":""},{"$f":"IFERROR(IF(allGymnasts!A102=\"\",\"\",INDEX(allGymnasts!$A$4:$A$103,MATCH(SMALL(allGymnasts!$N$4:$N$103,A102),allGymnasts!$N$4:$N$103,0))),\"\")","v":""},{"$f":"IFERROR(IF(allGymnasts!B102=\"\",\"\",INDEX(allGymnasts!$B$4:$B$103,MATCH(SMALL(allGymnasts!$N$4:$N$103,A102),allGymnasts!$N$4:$N$103,0))),\"\")","v":""},{"$f":"IFERROR(IF(allGymnasts!C102=\"\",\"\",INDEX(allGymnasts!$C$4:$C$103,MATCH(SMALL(allGymnasts!$N$4:$N$103,A102),allGymnasts!$N$4:$N$103,0))),\"\")","v":""},{"$f":"IFERROR(IF(allGymnasts!D102=\"\",\"\",INDEX(allGymnasts!$D$4:$D$103,MATCH(SMALL(allGymnasts!$N$4:$N$103,A102),allGymnasts!$N$4:$N$103,0))),\"\")","v":""},{"$f":"IFERROR(IF(allGymnasts!B102=\"\",\"\",INDEX(allGymnasts!$J$4:$J$103,MATCH(SMALL(allGymnasts!$N$4:$N$103,A102),allGymnasts!$N$4:$N$103,0))),\"\")","v":""},{"$f":"IFERROR(IF(allGymnasts!B102=\"\",\"\",INDEX(allGymnasts!$K$4:$K$103,MATCH(SMALL(allGymnasts!$N$4:$N$103,A102),allGymnasts!$N$4:$N$103,0))),\"\")","v":""},{"$f":"IFERROR(IF(allGymnasts!B102=\"\",\"\",INDEX(allGymnasts!$L$4:$L$103,MATCH(SMALL(allGymnasts!$N$4:$N$103,A102),allGymnasts!$N$4:$N$103,0))),\"\")","v":""},{"$f":"IFERROR(IF(allGymnasts!B102=\"\",\"\",INDEX(allGymnasts!$M$4:$M$103,MATCH(SMALL(allGymnasts!$N$4:$N$103,A102),allGymnasts!$N$4:$N$103,0))),\"\")","v":""}]
[100,{"$f":"IFERROR(_xlfn.FLOOR.MATH(IF(allGymnasts!A103=\"\",\"\",INDEX(allGymnasts!$N$4:$N$103,MATCH(SMALL(allGymnasts!$N$4:$N$103,A103),allGymnasts!$N$4:$N$103,0)))),\"\")","v":""},{"$f":"IFERROR(IF(allGymnasts!A103=\"\",\"\",INDEX(allGymnasts!$A$4:$A$103,MATCH(SMALL(allGymnasts!$N$4:$N$103,A103),allGymnasts!$N$4:$N$103,0))),\"\")","v":""},{"$f":"IFERROR(IF(allGymnasts!B103=\"\",\"\",INDEX(allGymnasts!$B$4:$B$103,MATCH(SMALL(allGymnasts!$N$4:$N$103,A103),allGymnasts!$N$4:$N$103,0))),\"\")","v":""},{"$f":"IFERROR(IF(allGymnasts!C103=\"\",\"\",INDEX(allGymnasts!$C$4:$C$103,MATCH(SMALL(allGymnasts!$N$4:$N$103,A103),allGymnasts!$N$4:$N$103,0))),\"\")","v":""},{"$f":"IFERROR(IF(allGymnasts!D103=\"\",\"\",INDEX(allGymnasts!$D$4:$D$103,MATCH(SMALL(allGymnasts!$N$4:$N$103,A103),allGymnasts!$N$4:$N$103,0))),\"\")","v":""},{"$f":"IFERROR(IF(allGymnasts!B103=\"\",\"\",INDEX(allGymnasts!$J$4:$J$103,MATCH(SMALL(allGymnasts!$N$4:$N$103,A103),allGymnasts!$N$4:$N$103,0))),\"\")","v":""},{"$f":"IFERROR(IF(allGymnasts!B103=\"\",\"\",INDEX(allGymnasts!$K$4:$K$103,MATCH(SMALL(allGymnasts!$N$4:$N$103,A103),allGymnasts!$N$4:$N$103,0))),\"\")","v":""},{"$f":"IFERROR(IF(allGymnasts!B103=\"\",\"\",INDEX(allGymnasts!$L$4:$L$103,MATCH(SMALL(allGymnasts!$N$4:$N$103,A103),allGymnasts!$N$4:$N$103,0))),\"\")","v":""},{"$f":"IFERROR(IF(allGymnasts!B103=\"\",\"\",INDEX(allGymnasts!$M$4:$M$103,MATCH(SMALL(allGymnasts!$N$4:$N$103,A103),allGymnasts!$N$4:$N$103,0))),\"\")","v":""}]

{"sheet":"Beam","index":4,"n_rows":103,"n_cols":10,"rows_kept":103,"cut":false,"hidden":false,"merged":[[0,1,0,2],[0,6,0,9]]}
[null,"Varsity",null,{"$f":"TODAY()","v":"2024-09-01"},null,null,"Event Results - Beam"]
[]
["Rank","Rank","Grade","First","Last","School","Judge 1","Judge 2","Penalty","Score"]
[1,{"$f":"IFERROR(_xlfn.FLOOR.MATH(IF(allGymnasts!A4=\"\",\"\",INDEX(allGymnasts!$S$4:$S$103,MATCH(SMALL(allGymnasts!$S$4:$S$103,A4),allGymnasts!$S$4:$S$103,0)))),\"\")","v":""},{"$f":"IFERROR(IF(allGymnasts!A4=\"\",\"\",INDEX(allGymnasts!$A$4:$A$103,MATCH(SMALL(allGymnasts!$S$4:$S$103,A4),allGymnasts!$S$4:$S$103,0))),\"\")","v":""},{"$f":"IFERROR(IF(allGymnasts!B4=\"\",\"\",INDEX(allGymnasts!$B$4:$B$103,MATCH(SMALL(allGymnasts!$S$4:$S$103,A4),allGymnasts!$S$4:$S$103,0))),\"\")","v":""},{"$f":"IFERROR(IF(allGymnasts!C4=\"\",\"\",INDEX(allGymnasts!$C$4:$C$103,MATCH(SMALL(allGymnasts!$S$4:$S$103,A4),allGymnasts!$S$4:$S$103,0))),\"\")","v":""},{"$f":"IFERROR(IF(allGymnasts!D4=\"\",\"\",INDEX(allGymnasts!$D$4:$D$103,MATCH(SMALL(allGymnasts!$S$4:$S$103,A4),allGymnasts!$S$4:$S$103,0))),\"\")","v":""},{"$f":"IFERROR(IF(allGymnasts!B4=\"\",\"\",INDEX(allGymnasts!$O$4:$O$103,MATCH(SMALL(allGymnasts!$S$4:$S$103,A4),allGymnasts!$S$4:$S$103,0))),\"\")","v":""},{"$f":"IFERROR(IF(allGymnasts!B4=\"\",\"\",INDEX(allGymnasts!$P$4:$P$103,MATCH(SMALL(allGymnasts!$S$4:$S$103,A4),allGymnasts!$S$4:$S$103,0))),\"\")","v":""},{"$f":"IFERROR(IF(allGymnasts!B4=\"\",\"\",INDEX(allGymnasts!$Q$4:$Q$103,MATCH(SMALL(allGymnasts!$S$4:$S$103,A4),allGymnasts!$S$4:$S$103,0))),\"\")","v":""},{"$f":"IFERROR(IF(allGymnasts!B4=\"\",\"\",INDEX(allGymnasts!$R$4:$R$103,MATCH(SMALL(allGymnasts!$S$4:$S$103,A4),allGymnasts!$S$4:$S$103,0))),\"\")","v":""}]
[2,{"$f":"IFERROR(_xlfn.FLOOR.MATH(IF(allGymnasts!A5=\"\",\"\",INDEX(allGymnasts!$S$4:$S$103,MATCH(SMALL(allGymnasts!$S$4:$S$103,A5),allGymnasts!$S$4:$S$103,0)))),\"\")","v":""},{"$f":"IFERROR(IF(allGymnasts!A5=\"\",\"\",INDEX(allGymnasts!$A$4:$A$103,MATCH(SMALL(allGymnasts!$S$4:$S$103,A5),allGymnasts!$S$4:$S$103,0))),\"\")","v":""},{"$f":"IFERROR(IF(allGymnasts!B5=\"\",\"\",INDEX(allGymnasts!$B$4:$B$103,MATCH(SMALL(allGymnasts!$S$4:$S$103,A5),allGymnasts!$S$4:$S$103,0))),\"\")","v":""},{"$f":"IFERROR(IF(allGymnasts!C5=\"\",\"\",INDEX(allGymnasts!$C$4:$C$103,MATCH(SMALL(allGymnasts!$S$4:$S$103,A5),allGymnasts!$S$4:$S$103,0))),\"\")","v":""},{"$f":"IFERROR(IF(allGymnasts!D5=\"\",\"\",INDEX(allGymnasts!$D$4:$D$103,MATCH(SMALL(allGymnasts!$S$4:$S$103,A5),allGymnasts!$S$4:$S$103,0))),\"\")","v":""},{"$f":"IFERROR(IF(allGymnasts!B5=\"\",\"\",INDEX(allGymnasts!$O$4:$O$103,MATCH(SMALL(allGymnasts!$S$4:$S$103,A5),allGymnasts!$S$4:$S$103,0))),\"\")","v":""},{"$f":"IFERROR(IF(allGymnasts!B5=\"\",\"\",INDEX(allGymnasts!$P$4:$P$103,MATCH(SMALL(allGymnasts!$S$4:$S$103,A5),allGymnasts!$S$4:$S$103,0))),\"\")","v":""},{"$f":"IFERROR(IF(allGymnasts!B5=\"\",\"\",INDEX(allGymnasts!$Q$4:$Q$103,MATCH(SMALL(allGymnasts!$S$4:$S$103,A5),allGymnasts!$S$4:$S$103,0))),\"\")","v":""},{"$f":"IFERROR(IF(allGymnasts!B5=\"\",\"\",INDEX(allGymnasts!$R$4:$R$103,MATCH(SMALL(allGymnasts!$S$4:$S$103,A5),allGymnasts!$S$4:$S$103,0))),\"\")","v":""}]
[3,{"$f":"IFERROR(_xlfn.FLOOR.MATH(IF(allGymnasts!A6=\"\",\"\",INDEX(allGymnasts!$S$4:$S$103,MATCH(SMALL(allGymnasts!$S$4:$S$103,A6),allGymnasts!$S$4:$S$103,0)))),\"\")","v":""},{"$f":"IFERROR(IF(allGymnasts!A6=\"\",\"\",INDEX(allGymnasts!$A$4:$A$103,MATCH(SMALL(allGymnasts!$S$4:$S$103,A6),allGymnasts!$S$4:$S$103,0))),\"\")","v":""},{"$f":"IFERROR(IF(allGymnasts!B6=\"\",\"\",INDEX(allGymnasts!$B$4:$B$103,MATCH(SMALL(allGymnasts!$S$4:$S$103,A6),allGymnasts!$S$4:$S$103,0))),\"\")","v":""},{"$f":"IFERROR(IF(allGymnasts!C6=\"\",\"\",INDEX(allGymnasts!$C$4:$C$103,MATCH(SMALL(allGymnasts!$S$4:$S$103,A6),allGymnasts!$S$4:$S$103,0))),\"\")","v":""},{"$f":"IFERROR(IF(allGymnasts!D6=\"\",\"\",INDEX(allGymnasts!$D$4:$D$103,MATCH(SMALL(allGymnasts!$S$4:$S$103,A6),allGymnasts!$S$4:$S$103,0))),\"\")","v":""},{"$f":"IFERROR(IF(allGymnasts!B6=\"\",\"\",INDEX(allGymnasts!$O$4:$O$103,MATCH(SMALL(allGymnasts!$S$4:$S$103,A6),allGymnasts!$S$4:$S$103,0))),\"\")","v":""},{"$f":"IFERROR(IF(allGymnasts!B6=\"\",\"\",INDEX(allGymnasts!$P$4:$P$103,MATCH(SMALL(allGymnasts!$S$4:$S$103,A6),allGymnasts!$S$4:$S$103,0))),\"\")","v":""},{"$f":"IFERROR(IF(allGymnasts!B6=\"\",\"\",INDEX(allGymnasts!$Q$4:$Q$103,MATCH(SMALL(allGymnasts!$S$4:$S$103,A6),allGymnasts!$S$4:$S$103,0))),\"\")","v":""},{"$f":"IFERROR(IF(allGymnasts!B6=\"\",\"\",INDEX(allGymnasts!$R$4:$R$103,MATCH(SMALL(allGymnasts!$S$4:$S$103,A6),allGymnasts!$S$4:$S$103,0))),\"\")","v":""}]
[4,{"$f":"IFERROR(_xlfn.FLOOR.MATH(IF(allGymnasts!A7=\"\",\"\",INDEX(allGymnasts!$S$4:$S$103,MATCH(SMALL(allGymnasts!$S$4:$S$103,A7),allGymnasts!$S$4:$S$103,0)))),\"\")","v":""},{"$f":"IFERROR(IF(allGymnasts!A7=\"\",\"\",INDEX(allGymnasts!$A$4:$A$103,MATCH(SMALL(allGymnasts!$S$4:$S$103,A7),allGymnasts!$S$4:$S$103,0))),\"\")","v":""},{"$f":"IFERROR(IF(allGymnasts!B7=\"\",\"\",INDEX(allGymnasts!$B$4:$B$103,MATCH(SMALL(allGymnasts!$S$4:$S$103,A7),allGymnasts!$S$4:$S$103,0))),\"\")","v":""},{"$f":"IFERROR(IF(allGymnasts!C7=\"\",\"\",INDEX(allGymnasts!$C$4:$C$103,MATCH(SMALL(allGymnasts!$S$4:$S$103,A7),allGymnasts!$S$4:$S$103,0))),\"\")","v":""},{"$f":"IFERROR(IF(allGymnasts!D7=\"\",\"\",INDEX(allGymnasts!$D$4:$D$103,MATCH(SMALL(allGymnasts!$S$4:$S$103,A7),allGymnasts!$S$4:$S$103,0))),\"\")","v":""},{"$f":"IFERROR(IF(allGymnasts!B7=\"\",\"\",INDEX(allGymnasts!$O$4:$O$103,MATCH(SMALL(allGymnasts!$S$4:$S$103,A7),allGymnasts!$S$4:$S$103,0))),\"\")","v":""},{"$f":"IFERROR(IF(allGymnasts!B7=\"\",\"\",INDEX(allGymnasts!$P$4:$P$103,MATCH(SMALL(allGymnasts!$S$4:$S$103,A7),allGymnasts!$S$4:$S$103,0))),\"\")","v":""},{"$f":"IFERROR(IF(allGymnasts!B7=\"\",\"\",INDEX(allGymnasts!$Q$4:$Q$103,MATCH(SMALL(allGymnasts!$S$4:$S$103,A7),allGymnasts!$S$4:$S$103,0))),\"\")","v":""},{"$f":"IFERROR(IF(allGymnasts!B7=\"\",\"\",INDEX(allGymnasts!$R$4:$R$103,MATCH(SMALL(allGymnasts!$S$4:$S$103,A7),allGymnasts!$S$4:$S$103,0))),\"\")","v":""}]
[5,{"$f":"IFERROR(_xlfn.FLOOR.MATH(IF(allGymnasts!A8=\"\",\"\",INDEX(allGymnasts!$S$4:$S$103,MATCH(SMALL(allGymnasts!$S$4:$S$103,A8),allGymnasts!$S$4:$S$103,0)))),\"\")","v":""},{"$f":"IFERROR(IF(allGymnasts!A8=\"\",\"\",INDEX(allGymnasts!$A$4:$A$103,MATCH(SMALL(allGymnasts!$S$4:$S$103,A8),allGymnasts!$S$4:$S$103,0))),\"\")","v":""},{"$f":"IFERROR(IF(allGymnasts!B8=\"\",\"\",INDEX(allGymnasts!$B$4:$B$103,MATCH(SMALL(allGymnasts!$S$4:$S$103,A8),allGymnasts!$S$4:$S$103,0))),\"\")","v":""},{"$f":"IFERROR(IF(allGymnasts!C8=\"\",\"\",INDEX(allGymnasts!$C$4:$C$103,MATCH(SMALL(allGymnasts!$S$4:$S$103,A8),allGymnasts!$S$4:$S$103,0))),\"\")","v":""},{"$f":"IFERROR(IF(allGymnasts!D8=\"\",\"\",INDEX(allGymnasts!$D$4:$D$103,MATCH(SMALL(allGymnasts!$S$4:$S$103,A8),allGymnasts!$S$4:$S$103,0))),\"\")","v":""},{"$f":"IFERROR(IF(allGymnasts!B8=\"\",\"\",INDEX(allGymnasts!$O$4:$O$103,MATCH(SMALL(allGymnasts!$S$4:$S$103,A8),allGymnasts!$S$4:$S$103,0))),\"\")","v":""},{"$f":"IFERROR(IF(allGymnasts!B8=\"\",\"\",INDEX(allGymnasts!$P$4:$P$103,MATCH(SMALL(allGymnasts!$S$4:$S$103,A8),allGymnasts!$S$4:$S$103,0))),\"\")","v":""},{"$f":"IFERROR(IF(allGymnasts!B8=\"\",\"\",INDEX(allGymnasts!$Q$4:$Q$103,MATCH(SMALL(allGymnasts!$S$4:$S$103,A8),allGymnasts!$S$4:$S$103,0))),\"\")","v":""},{"$f":"IFERROR(IF(allGymnasts!B8=\"\",\"\",INDEX(allGymnasts!$R$4:$R$103,MATCH(SMALL(allGymnasts!$S$4:$S$103,A8),allGymnasts!$S$4:$S$103,0))),\"\")","v":""}]
[6,{"$f":"IFERROR(_xlfn.FLOOR.MATH(IF(allGymnasts!A9=\"\",\"\",INDEX(allGymnasts!$S$4:$S$103,MATCH(SMALL(allGymnasts!$S$4:$S$103,A9),allGymnasts!$S$4:$S$103,0)))),\"\")","v":""},{"$f":"IFERROR(IF(allGymnasts!A9=\"\",\"\",INDEX(allGymnasts!$A$4:$A$103,MATCH(SMALL(allGymnasts!$S$4:$S$103,A9),allGymnasts!$S$4:$S$103,0))),\"\")","v":""},{"$f":"IFERROR(IF(allGymnasts!B9=\"\",\"\",INDEX(allGymnasts!$B$4:$B$103,MATCH(SMALL(allGymnasts!$S$4:$S$103,A9),allGymnasts!$S$4:$S$103,0))),\"\")","v":""},{"$f":"IFERROR(IF(allGymnasts!C9=\"\",\"\",INDEX(allGymnasts!$C$4:$C$103,MATCH(SMALL(allGymnasts!$S$4:$S$103,A9),allGymnasts!$S$4:$S$103,0))),\"\")","v":""},{"$f":"IFERROR(IF(allGymnasts!D9=\"\",\"\",INDEX(allGymnasts!$D$4:$D$103,MATCH(SMALL(allGymnasts!$S$4:$S$103,A9),allGymnasts!$S$4:$S$103,0))),\"\")","v":""},{"$f":"IFERROR(IF(allGymnasts!B9=\"\",\"\",INDEX(allGymnasts!$O$4:$O$103,MATCH(SMALL(allGymnasts!$S$4:$S$103,A9),allGymnasts!$S$4:$S$103,0))),\"\")","v":""},{"$f":"IFERROR(IF(allGymnasts!B9=\"\",\"\",INDEX(allGymnasts!$P$4:$P$103,MATCH(SMALL(allGymnasts!$S$4:$S$103,A9),allGymnasts!$S$4:$S$103,0))),\"\")","v":""},{"$f":"IFERROR(IF(allGymnasts!B9=\"\",\"\",INDEX(allGymnasts!$Q$4:$Q$103,MATCH(SMALL(allGymnasts!$S$4:$S$103,A9),allGymnasts!$S$4:$S$103,0))),\"\")","v":""},{"$f":"IFERROR(IF(allGymnasts!B9=\"\",\"\",INDEX(allGymnasts!$R$4:$R$103,MATCH(SMALL(allGymnasts!$S$4:$S$103,A9),allGymnasts!$S$4:$S$103,0))),\"\")","v":""}]
[7,{"$f":"IFERROR(_xlfn.FLOOR.MATH(IF(allGymnasts!A10=\"\",\"\",INDEX(allGymnasts!$S$4:$S$103,MATCH(SMALL(allGymnasts!$S$4:$S$103,A10),allGymnasts!$S$4:$S$103,0)))),\"\")","v":""},{"$f":"IFERROR(IF(allGymnasts!A10=\"\",\"\",INDEX(allGymnasts!$A$4:$A$103,MATCH(SMALL(allGymnasts!$S$4:$S$103,A10),allGymnasts!$S$4:$S$103,0))),\"\")","v":""},{"$f":"IFERROR(IF(allGymnasts!B10=\"\",\"\",INDEX(allGymnasts!$B$4:$B$103,MATCH(SMALL(allGymnasts!$S$4:$S$103,A10),allGymnasts!$S$4:$S$103,0))),\"\")","v":""},{"$f":"IFERROR(IF(allGymnasts!C10=\"\",\"\",INDEX(allGymnasts!$C$4:$C$103,MATCH(SMALL(allGymnasts!$S$4:$S$103,A10),allGymnasts!$S$4:$S$103,0))),\"\")","v":""},{"$f":"IFERROR(IF(allGymnasts!D10=\"\",\"\",INDEX(allGymnasts!$D$4:$D$103,MATCH(SMALL(allGymnasts!$S$4:$S$103,A10),allGymnasts!$S$4:$S$103,0))),\"\")","v":""},{"$f":"IFERROR(IF(allGymnasts!B10=\"\",\"\",INDEX(allGymnasts!$O$4:$O$103,MATCH(SMALL(allGymnasts!$S$4:$S$103,A10),allGymnasts!$S$4:$S$103,0))),\"\")","v":""},{"$f":"IFERROR(IF(allGymnasts!B10=\"\",\"\",INDEX(allGymnasts!$P$4:$P$103,MATCH(SMALL(allGymnasts!$S$4:$S$103,A10),allGymnasts!$S$4:$S$103,0))),\"\")","v":""},{"$f":"IFERROR(IF(allGymnasts!B10=\"\",\"\",INDEX(allGymnasts!$Q$4:$Q$103,MATCH(SMALL(allGymnasts!$S$4:$S$103,A10),allGymnasts!$S$4:$S$103,0))),\"\")","v":""},{"$f":"IFERROR(IF(allGymnasts!B10=\"\",\"\",INDEX(allGymnasts!$R$4:$R$103,MATCH(SMALL(allGymnasts!$S$4:$S$103,A10),allGymnasts!$S$4:$S$103,0))),\"\")","v":""}]
[8,{"$f":"IFERROR(_xlfn.FLOOR.MATH(IF(allGymnasts!A11=\"\",\"\",INDEX(allGymnasts!$S$4:$S$103,MATCH(SMALL(allGymnasts!$S$4:$S$103,A11),allGymnasts!$S$4:$S$103,0)))),\"\")","v":""},{"$f":"IFERROR(IF(allGymnasts!A11=\"\",\"\",INDEX(allGymnasts!$A$4:$A$103,MATCH(SMALL(allGymnasts!$S$4:$S$103,A11),allGymnasts!$S$4:$S$103,0))),\"\")","v":""},{"$f":"IFERROR(IF(allGymnasts!B11=\"\",\"\",INDEX(allGymnasts!$B$4:$B$103,MATCH(SMALL(allGymnasts!$S$4:$S$103,A11),allGymnasts!$S$4:$S$103,0))),\"\")","v":""},{"$f":"IFERROR(IF(allGymnasts!C11=\"\",\"\",INDEX(allGymnasts!$C$4:$C$103,MATCH(SMALL(allGymnasts!$S$4:$S$103,A11),allGymnasts!$S$4:$S$103,0))),\"\")","v":""},{"$f":"IFERROR(IF(allGymnasts!D11=\"\",\"\",INDEX(allGymnasts!$D$4:$D$103,MATCH(SMALL(allGymnasts!$S$4:$S$103,A11),allGymnasts!$S$4:$S$103,0))),\"\")","v":""},{"$f":"IFERROR(IF(allGymnasts!B11=\"\",\"\",INDEX(allGymnasts!$O$4:$O$103,MATCH(SMALL(allGymnasts!$S$4:$S$103,A11),allGymnasts!$S$4:$S$103,0))),\"\")","v":""},{"$f":"IFERROR(IF(allGymnasts!B11=\"\",\"\",INDEX(allGymnasts!$P$4:$P$103,MATCH(SMALL(allGymnasts!$S$4:$S$103,A11),allGymnasts!$S$4:$S$103,0))),\"\")","v":""},{"$f":"IFERROR(IF(allGymnasts!B11=\"\",\"\",INDEX(allGymnasts!$Q$4:$Q$103,MATCH(SMALL(allGymnasts!$S$4:$S$103,A11),allGymnasts!$S$4:$S$103,0))),\"\")","v":""},{"$f":"IFERROR(IF(allGymnasts!B11=\"\",\"\",INDEX(allGymnasts!$R$4:$R$103,MATCH(SMALL(allGymnasts!$S$4:$S$103,A11),allGymnasts!$S$4:$S$103,0))),\"\")","v":""}]
[9,{"$f":"IFERROR(_xlfn.FLOOR.MATH(IF(allGymnasts!A12=\"\",\"\",INDEX(allGymnasts!$S$4:$S$103,MATCH(SMALL(allGymnasts!$S$4:$S$103,A12),allGymnasts!$S$4:$S$103,0)))),\"\")","v":""},{"$f":"IFERROR(IF(allGymnasts!A12=\"\",\"\",INDEX(allGymnasts!$A$4:$A$103,MATCH(SMALL(allGymnasts!$S$4:$S$103,A12),allGymnasts!$S$4:$S$103,0))),\"\")","v":""},{"$f":"IFERROR(IF(allGymnasts!B12=\"\",\"\",INDEX(allGymnasts!$B$4:$B$103,MATCH(SMALL(allGymnasts!$S$4:$S$103,A12),allGymnasts!$S$4:$S$103,0))),\"\")","v":""},{"$f":"IFERROR(IF(allGymnasts!C12=\"\",\"\",INDEX(allGymnasts!$C$4:$C$103,MATCH(SMALL(allGymnasts!$S$4:$S$103,A12),allGymnasts!$S$4:$S$103,0))),\"\")","v":""},{"$f":"IFERROR(IF(allGymnasts!D12=\"\",\"\",INDEX(allGymnasts!$D$4:$D$103,MATCH(SMALL(allGymnasts!$S$4:$S$103,A12),allGymnasts!$S$4:$S$103,0))),\"\")","v":""},{"$f":"IFERROR(IF(allGymnasts!B12=\"\",\"\",INDEX(allGymnasts!$O$4:$O$103,MATCH(SMALL(allGymnasts!$S$4:$S$103,A12),allGymnasts!$S$4:$S$103,0))),\"\")","v":""},{"$f":"IFERROR(IF(allGymnasts!B12=\"\",\"\",INDEX(allGymnasts!$P$4:$P$103,MATCH(SMALL(allGymnasts!$S$4:$S$103,A12),allGymnasts!$S$4:$S$103,0))),\"\")","v":""},{"$f":"IFERROR(IF(allGymnasts!B12=\"\",\"\",INDEX(allGymnasts!$Q$4:$Q$103,MATCH(SMALL(allGymnasts!$S$4:$S$103,A12),allGymnasts!$S$4:$S$103,0))),\"\")","v":""},{"$f":"IFERROR(IF(allGymnasts!B12=\"\",\"\",INDEX(allGymnasts!$R$4:$R$103,MATCH(SMALL(allGymnasts!$S$4:$S$103,A12),allGymnasts!$S$4:$S$103,0))),\"\")","v":""}]
[10,{"$f":"IFERROR(_xlfn.FLOOR.MATH(IF(allGymnasts!A13=\"\",\"\",INDEX(allGymnasts!$S$4:$S$103,MATCH(SMALL(allGymnasts!$S$4:$S$103,A13),allGymnasts!$S$4:$S$103,0)))),\"\")","v":""},{"$f":"IFERROR(IF(allGymnasts!A13=\"\",\"\",INDEX(allGymnasts!$A$4:$A$103,MATCH(SMALL(allGymnasts!$S$4:$S$103,A13),allGymnasts!$S$4:$S$103,0))),\"\")","v":""},{"$f":"IFERROR(IF(allGymnasts!B13=\"\",\"\",INDEX(allGymnasts!$B$4:$B$103,MATCH(SMALL(allGymnasts!$S$4:$S$103,A13),allGymnasts!$S$4:$S$103,0))),\"\")","v":""},{"$f":"IFERROR(IF(allGymnasts!C13=\"\",\"\",INDEX(allGymnasts!$C$4:$C$103,MATCH(SMALL(allGymnasts!$S$4:$S$103,A13),allGymnasts!$S$4:$S$103,0))),\"\")","v":""},{"$f":"IFERROR(IF(allGymnasts!D13=\"\",\"\",INDEX(allGymnasts!$D$4:$D$103,MATCH(SMALL(allGymnasts!$S$4:$S$103,A13),allGymnasts!$S$4:$S$103,0))),\"\")","v":""},{"$f":"IFERROR(IF(allGymnasts!B13=\"\",\"\",INDEX(allGymnasts!$O$4:$O$103,MATCH(SMALL(allGymnasts!$S$4:$S$103,A13),allGymnasts!$S$4:$S$103,0))),\"\")","v":""},{"$f":"IFERROR(IF(allGymnasts!B13=\"\",\"\",INDEX(allGymnasts!$P$4:$P$103,MATCH(SMALL(allGymnasts!$S$4:$S$103,A13),allGymnasts!$S$4:$S$103,0))),\"\")","v":""},{"$f":"IFERROR(IF(allGymnasts!B13=\"\",\"\",INDEX(allGymnasts!$Q$4:$Q$103,MATCH(SMALL(allGymnasts!$S$4:$S$103,A13),allGymnasts!$S$4:$S$103,0))),\"\")","v":""},{"$f":"IFERROR(IF(allGymnasts!B13=\"\",\"\",INDEX(allGymnasts!$R$4:$R$103,MATCH(SMALL(allGymnasts!$S$4:$S$103,A13),allGymnasts!$S$4:$S$103,0))),\"\")","v":""}]
[11,{"$f":"IFERROR(_xlfn.FLOOR.MATH(IF(allGymnasts!A14=\"\",\"\",INDEX(allGymnasts!$S$4:$S$103,MATCH(SMALL(allGymnasts!$S$4:$S$103,A14),allGymnasts!$S$4:$S$103,0)))),\"\")","v":""},{"$f":"IFERROR(IF(allGymnasts!A14=\"\",\"\",INDEX(allGymnasts!$A$4:$A$103,MATCH(SMALL(allGymnasts!$S$4:$S$103,A14),allGymnasts!$S$4:$S$103,0))),\"\")","v":""},{"$f":"IFERROR(IF(allGymnasts!B14=\"\",\"\",INDEX(allGymnasts!$B$4:$B$103,MATCH(SMALL(allGymnasts!$S$4:$S$103,A14),allGymnasts!$S$4:$S$103,0))),\"\")","v":""},{"$f":"IFERROR(IF(allGymnasts!C14=\"\",\"\",INDEX(allGymnasts!$C$4:$C$103,MATCH(SMALL(allGymnasts!$S$4:$S$103,A14),allGymnasts!$S$4:$S$103,0))),\"\")","v":""},{"$f":"IFERROR(IF(allGymnasts!D14=\"\",\"\",INDEX(allGymnasts!$D$4:$D$103,MATCH(SMALL(allGymnasts!$S$4:$S$103,A14),allGymnasts!$S$4:$S$103,0))),\"\")","v":""},{"$f":"IFERROR(IF(allGymnasts!B14=\"\",\"\",INDEX(allGymnasts!$O$4:$O$103,MATCH(SMALL(allGymnasts!$S$4:$S$103,A14),allGymnasts!$S$4:$S$103,0))),\"\")","v":""},{"$f":"IFERROR(IF(allGymnasts!B14=\"\",\"\",INDEX(allGymnasts!$P$4:$P$103,MATCH(SMALL(allGymnasts!$S$4:$S$103,A14),allGymnasts!$S$4:$S$103,0))),\"\")","v":""},{"$f":"IFERROR(IF(allGymnasts!B14=\"\",\"\",INDEX(allGymnasts!$Q$4:$Q$103,MATCH(SMALL(allGymnasts!$S$4:$S$103,A14),allGymnasts!$S$4:$S$103,0))),\"\")","v":""},{"$f":"IFERROR(IF(allGymnasts!B14=\"\",\"\",INDEX(allGymnasts!$R$4:$R$103,MATCH(SMALL(allGymnasts!$S$4:$S$103,A14),allGymnasts!$S$4:$S$103,0))),\"\")","v":""}]
[12,{"$f":"IFERROR(_xlfn.FLOOR.MATH(IF(allGymnasts!A15=\"\",\"\",INDEX(allGymnasts!$S$4:$S$103,MATCH(SMALL(allGymnasts!$S$4:$S$103,A15),allGymnasts!$S$4:$S$103,0)))),\"\")","v":""},{"$f":"IFERROR(IF(allGymnasts!A15=\"\",\"\",INDEX(allGymnasts!$A$4:$A$103,MATCH(SMALL(allGymnasts!$S$4:$S$103,A15),allGymnasts!$S$4:$S$103,0))),\"\")","v":""},{"$f":"IFERROR(IF(allGymnasts!B15=\"\",\"\",INDEX(allGymnasts!$B$4:$B$103,MATCH(SMALL(allGymnasts!$S$4:$S$103,A15),allGymnasts!$S$4:$S$103,0))),\"\")","v":""},{"$f":"IFERROR(IF(allGymnasts!C15=\"\",\"\",INDEX(allGymnasts!$C$4:$C$103,MATCH(SMALL(allGymnasts!$S$4:$S$103,A15),allGymnasts!$S$4:$S$103,0))),\"\")","v":""},{"$f":"IFERROR(IF(allGymnasts!D15=\"\",\"\",INDEX(allGymnasts!$D$4:$D$103,MATCH(SMALL(allGymnasts!$S$4:$S$103,A15),allGymnasts!$S$4:$S$103,0))),\"\")","v":""},{"$f":"IFERROR(IF(allGymnasts!B15=\"\",\"\",INDEX(allGymnasts!$O$4:$O$103,MATCH(SMALL(allGymnasts!$S$4:$S$103,A15),allGymnasts!$S$4:$S$103,0))),\"\")","v":""},{"$f":"IFERROR(IF(allGymnasts!B15=\"\",\"\",INDEX(allGymnasts!$P$4:$P$103,MATCH(SMALL(allGymnasts!$S$4:$S$103,A15),allGymnasts!$S$4:$S$103,0))),\"\")","v":""},{"$f":"IFERROR(IF(allGymnasts!B15=\"\",\"\",INDEX(allGymnasts!$Q$4:$Q$103,MATCH(SMALL(allGymnasts!$S$4:$S$103,A15),allGymnasts!$S$4:$S$103,0))),\"\")","v":""},{"$f":"IFERROR(IF(allGymnasts!B15=\"\",\"\",INDEX(allGymnasts!$R$4:$R$103,MATCH(SMALL(allGymnasts!$S$4:$S$103,A15),allGymnasts!$S$4:$S$103,0))),\"\")","v":""}]
[13,{"$f":"IFERROR(_xlfn.FLOOR.MATH(IF(allGymnasts!A16=\"\",\"\",INDEX(allGymnasts!$S$4:$S$103,MATCH(SMALL(allGymnasts!$S$4:$S$103,A16),allGymnasts!$S$4:$S$103,0)))),\"\")","v":""},{"$f":"IFERROR(IF(allGymnasts!A16=\"\",\"\",INDEX(allGymnasts!$A$4:$A$103,MATCH(SMALL(allGymnasts!$S$4:$S$103,A16),allGymnasts!$S$4:$S$103,0))),\"\")","v":""},{"$f":"IFERROR(IF(allGymnasts!B16=\"\",\"\",INDEX(allGymnasts!$B$4:$B$103,MATCH(SMALL(allGymnasts!$S$4:$S$103,A16),allGymnasts!$S$4:$S$103,0))),\"\")","v":""},{"$f":"IFERROR(IF(allGymnasts!C16=\"\",\"\",INDEX(allGymnasts!$C$4:$C$103,MATCH(SMALL(allGymnasts!$S$4:$S$103,A16),allGymnasts!$S$4:$S$103,0))),\"\")","v":""},{"$f":"IFERROR(IF(allGymnasts!D16=\"\",\"\",INDEX(allGymnasts!$D$4:$D$103,MATCH(SMALL(allGymnasts!$S$4:$S$103,A16),allGymnasts!$S$4:$S$103,0))),\"\")","v":""},{"$f":"IFERROR(IF(allGymnasts!B16=\"\",\"\",INDEX(allGymnasts!$O$4:$O$103,MATCH(SMALL(allGymnasts!$S$4:$S$103,A16),allGymnasts!$S$4:$S$103,0))),\"\")","v":""},{"$f":"IFERROR(IF(allGymnasts!B16=\"\",\"\",INDEX(allGymnasts!$P$4:$P$103,MATCH(SMALL(allGymnasts!$S$4:$S$103,A16),allGymnasts!$S$4:$S$103,0))),\"\")","v":""},{"$f":"IFERROR(IF(allGymnasts!B16=\"\",\"\",INDEX(allGymnasts!$Q$4:$Q$103,MATCH(SMALL(allGymnasts!$S$4:$S$103,A16),allGymnasts!$S$4:$S$103,0))),\"\")","v":""},{"$f":"IFERROR(IF(allGymnasts!B16=\"\",\"\",INDEX(allGymnasts!$R$4:$R$103,MATCH(SMALL(allGymnasts!$S$4:$S$103,A16),allGymnasts!$S$4:$S$103,0))),\"\")","v":""}]
[14,{"$f":"IFERROR(_xlfn.FLOOR.MATH(IF(allGymnasts!A17=\"\",\"\",INDEX(allGymnasts!$S$4:$S$103,MATCH(SMALL(allGymnasts!$S$4:$S$103,A17),allGymnasts!$S$4:$S$103,0)))),\"\")","v":""},{"$f":"IFERROR(IF(allGymnasts!A17=\"\",\"\",INDEX(allGymnasts!$A$4:$A$103,MATCH(SMALL(allGymnasts!$S$4:$S$103,A17),allGymnasts!$S$4:$S$103,0))),\"\")","v":""},{"$f":"IFERROR(IF(allGymnasts!B17=\"\",\"\",INDEX(allGymnasts!$B$4:$B$103,MATCH(SMALL(allGymnasts!$S$4:$S$103,A17),allGymnasts!$S$4:$S$103,0))),\"\")","v":""},{"$f":"IFERROR(IF(allGymnasts!C17=\"\",\"\",INDEX(allGymnasts!$C$4:$C$103,MATCH(SMALL(allGymnasts!$S$4:$S$103,A17),allGymnasts!$S$4:$S$103,0))),\"\")","v":""},{"$f":"IFERROR(IF(allGymnasts!D17=\"\",\"\",INDEX(allGymnasts!$D$4:$D$103,MATCH(SMALL(allGymnasts!$S$4:$S$103,A17),allGymnasts!$S$4:$S$103,0))),\"\")","v":""},{"$f":"IFERROR(IF(allGymnasts!B17=\"\",\"\",INDEX(allGymnasts!$O$4:$O$103,MATCH(SMALL(allGymnasts!$S$4:$S$103,A17),allGymnasts!$S$4:$S$103,0))),\"\")","v":""},{"$f":"IFERROR(IF(allGymnasts!B17=\"\",\"\",INDEX(allGymnasts!$P$4:$P$103,MATCH(SMALL(allGymnasts!$S$4:$S$103,A17),allGymnasts!$S$4:$S$103,0))),\"\")","v":""},{"$f":"IFERROR(IF(allGymnasts!B17=\"\",\"\",INDEX(allGymnasts!$Q$4:$Q$103,MATCH(SMALL(allGymnasts!$S$4:$S$103,A17),allGymnasts!$S$4:$S$103,0))),\"\")","v":""},{"$f":"IFERROR(IF(allGymnasts!B17=\"\",\"\",INDEX(allGymnasts!$R$4:$R$103,MATCH(SMALL(allGymnasts!$S$4:$S$103,A17),allGymnasts!$S$4:$S$103,0))),\"\")","v":""}]
[15,{"$f":"IFERROR(_xlfn.FLOOR.MATH(IF(allGymnasts!A18=\"\",\"\",INDEX(allGymnasts!$S$4:$S$103,MATCH(SMALL(allGymnasts!$S$4:$S$103,A18),allGymnasts!$S$4:$S$103,0)))),\"\")","v":""},{"$f":"IFERROR(IF(allGymnasts!A18=\"\",\"\",INDEX(allGymnasts!$A$4:$A$103,MATCH(SMALL(allGymnasts!$S$4:$S$103,A18),allGymnasts!$S$4:$S$103,0))),\"\")","v":""},{"$f":"IFERROR(IF(allGymnasts!B18=\"\",\"\",INDEX(allGymnasts!$B$4:$B$103,MATCH(SMALL(allGymnasts!$S$4:$S$103,A18),allGymnasts!$S$4:$S$103,0))),\"\")","v":""},{"$f":"IFERROR(IF(allGymnasts!C18=\"\",\"\",INDEX(allGymnasts!$C$4:$C$103,MATCH(SMALL(allGymnasts!$S$4:$S$103,A18),allGymnasts!$S$4:$S$103,0))),\"\")","v":""},{"$f":"IFERROR(IF(allGymnasts!D18=\"\",\"\",INDEX(allGymnasts!$D$4:$D$103,MATCH(SMALL(allGymnasts!$S$4:$S$103,A18),allGymnasts!$S$4:$S$103,0))),\"\")","v":""},{"$f":"IFERROR(IF(allGymnasts!B18=\"\",\"\",INDEX(allGymnasts!$O$4:$O$103,MATCH(SMALL(allGymnasts!$S$4:$S$103,A18),allGymnasts!$S$4:$S$103,0))),\"\")","v":""},{"$f":"IFERROR(IF(allGymnasts!B18=\"\",\"\",INDEX(allGymnasts!$P$4:$P$103,MATCH(SMALL(allGymnasts!$S$4:$S$103,A18),allGymnasts!$S$4:$S$103,0))),\"\")","v":""},{"$f":"IFERROR(IF(allGymnasts!B18=\"\",\"\",INDEX(allGymnasts!$Q$4:$Q$103,MATCH(SMALL(allGymnasts!$S$4:$S$103,A18),allGymnasts!$S$4:$S$103,0))),\"\")","v":""},{"$f":"IFERROR(IF(allGymnasts!B18=\"\",\"\",INDEX(allGymnasts!$R$4:$R$103,MATCH(SMALL(allGymnasts!$S$4:$S$103,A18),allGymnasts!$S$4:$S$103,0))),\"\")","v":""}]
[16,{"$f":"IFERROR(_xlfn.FLOOR.MATH(IF(allGymnasts!A19=\"\",\"\",INDEX(allGymnasts!$S$4:$S$103,MATCH(SMALL(allGymnasts!$S$4:$S$103,A19),allGymnasts!$S$4:$S$103,0)))),\"\")","v":""},{"$f":"IFERROR(IF(allGymnasts!A19=\"\",\"\",INDEX(allGymnasts!$A$4:$A$103,MATCH(SMALL(allGymnasts!$S$4:$S$103,A19),allGymnasts!$S$4:$S$103,0))),\"\")","v":""},{"$f":"IFERROR(IF(allGymnasts!B19=\"\",\"\",INDEX(allGymnasts!$B$4:$B$103,MATCH(SMALL(allGymnasts!$S$4:$S$103,A19),allGymnasts!$S$4:$S$103,0))),\"\")","v":""},{"$f":"IFERROR(IF(allGymnasts!C19=\"\",\"\",INDEX(allGymnasts!$C$4:$C$103,MATCH(SMALL(allGymnasts!$S$4:$S$103,A19),allGymnasts!$S$4:$S$103,0))),\"\")","v":""},{"$f":"IFERROR(IF(allGymnasts!D19=\"\",\"\",INDEX(allGymnasts!$D$4:$D$103,MATCH(SMALL(allGymnasts!$S$4:$S$103,A19),allGymnasts!$S$4:$S$103,0))),\"\")","v":""},{"$f":"IFERROR(IF(allGymnasts!B19=\"\",\"\",INDEX(allGymnasts!$O$4:$O$103,MATCH(SMALL(allGymnasts!$S$4:$S$103,A19),allGymnasts!$S$4:$S$103,0))),\"\")","v":""},{"$f":"IFERROR(IF(allGymnasts!B19=\"\",\"\",INDEX(allGymnasts!$P$4:$P$103,MATCH(SMALL(allGymnasts!$S$4:$S$103,A19),allGymnasts!$S$4:$S$103,0))),\"\")","v":""},{"$f":"IFERROR(IF(allGymnasts!B19=\"\",\"\",INDEX(allGymnasts!$Q$4:$Q$103,MATCH(SMALL(allGymnasts!$S$4:$S$103,A19),allGymnasts!$S$4:$S$103,0))),\"\")","v":""},{"$f":"IFERROR(IF(allGymnasts!B19=\"\",\"\",INDEX(allGymnasts!$R$4:$R$103,MATCH(SMALL(allGymnasts!$S$4:$S$103,A19),allGymnasts!$S$4:$S$103,0))),\"\")","v":""}]
[17,{"$f":"IFERROR(_xlfn.FLOOR.MATH(IF(allGymnasts!A20=\"\",\"\",INDEX(allGymnasts!$S$4:$S$103,MATCH(SMALL(allGymnasts!$S$4:$S$103,A20),allGymnasts!$S$4:$S$103,0)))),\"\")","v":""},{"$f":"IFERROR(IF(allGymnasts!A20=\"\",\"\",INDEX(allGymnasts!$A$4:$A$103,MATCH(SMALL(allGymnasts!$S$4:$S$103,A20),allGymnasts!$S$4:$S$103,0))),\"\")","v":""},{"$f":"IFERROR(IF(allGymnasts!B20=\"\",\"\",INDEX(allGymnasts!$B$4:$B$103,MATCH(SMALL(allGymnasts!$S$4:$S$103,A20),allGymnasts!$S$4:$S$103,0))),\"\")","v":""},{"$f":"IFERROR(IF(allGymnasts!C20=\"\",\"\",INDEX(allGymnasts!$C$4:$C$103,MATCH(SMALL(allGymnasts!$S$4:$S$103,A20),allGymnasts!$S$4:$S$103,0))),\"\")","v":""},{"$f":"IFERROR(IF(allGymnasts!D20=\"\",\"\",INDEX(allGymnasts!$D$4:$D$103,MATCH(SMALL(allGymnasts!$S$4:$S$103,A20),allGymnasts!$S$4:$S$103,0))),\"\")","v":""},{"$f":"IFERROR(IF(allGymnasts!B20=\"\",\"\",INDEX(allGymnasts!$O$4:$O$103,MATCH(SMALL(allGymnasts!$S$4:$S$103,A20),allGymnasts!$S$4:$S$103,0))),\"\")","v":""},{"$f":"IFERROR(IF(allGymnasts!B20=\"\",\"\",INDEX(allGymnasts!$P$4:$P$103,MATCH(SMALL(allGymnasts!$S$4:$S$103,A20),allGymnasts!$S$4:$S$103,0))),\"\")","v":""},{"$f":"IFERROR(IF(allGymnasts!B20=\"\",\"\",INDEX(allGymnasts!$Q$4:$Q$103,MATCH(SMALL(allGymnasts!$S$4:$S$103,A20),allGymnasts!$S$4:$S$103,0))),\"\")","v":""},{"$f":"IFERROR(IF(allGymnasts!B20=\"\",\"\",INDEX(allGymnasts!$R$4:$R$103,MATCH(SMALL(allGymnasts!$S$4:$S$103,A20),allGymnasts!$S$4:$S$103,0))),\"\")","v":""}]
[18,{"$f":"IFERROR(_xlfn.FLOOR.MATH(IF(allGymnasts!A21=\"\",\"\",INDEX(allGymnasts!$S$4:$S$103,MATCH(SMALL(allGymnasts!$S$4:$S$103,A21),allGymnasts!$S$4:$S$103,0)))),\"\")","v":""},{"$f":"IFERROR(IF(allGymnasts!A21=\"\",\"\",INDEX(allGymnasts!$A$4:$A$103,MATCH(SMALL(allGymnasts!$S$4:$S$103,A21),allGymnasts!$S$4:$S$103,0))),\"\")","v":""},{"$f":"IFERROR(IF(allGymnasts!B21=\"\",\"\",INDEX(allGymnasts!$B$4:$B$103,MATCH(SMALL(allGymnasts!$S$4:$S$103,A21),allGymnasts!$S$4:$S$103,0))),\"\")","v":""},{"$f":"IFERROR(IF(allGymnasts!C21=\"\",\"\",INDEX(allGymnasts!$C$4:$C$103,MATCH(SMALL(allGymnasts!$S$4:$S$103,A21),allGymnasts!$S$4:$S$103,0))),\"\")","v":""},{"$f":"IFERROR(IF(allGymnasts!D21=\"\",\"\",INDEX(allGymnasts!$D$4:$D$103,MATCH(SMALL(allGymnasts!$S$4:$S$103,A21),allGymnasts!$S$4:$S$103,0))),\"\")","v":""},{"$f":"IFERROR(IF(allGymnasts!B21=\"\",\"\",INDEX(allGymnasts!$O$4:$O$103,MATCH(SMALL(allGymnasts!$S$4:$S$103,A21),allGymnasts!$S$4:$S$103,0))),\"\")","v":""},{"$f":"IFERROR(IF(allGymnasts!B21=\"\",\"\",INDEX(allGymnasts!$P$4:$P$103,MATCH(SMALL(allGymnasts!$S$4:$S$103,A21),allGymnasts!$S$4:$S$103,0))),\"\")","v":""},{"$f":"IFERROR(IF(allGymnasts!B21=\"\",\"\",INDEX(allGymnasts!$Q$4:$Q$103,MATCH(SMALL(allGymnasts!$S$4:$S$103,A21),allGymnasts!$S$4:$S$103,0))),\"\")","v":""},{"$f":"IFERROR(IF(allGymnasts!B21=\"\",\"\",INDEX(allGymnasts!$R$4:$R$103,MATCH(SMALL(allGymnasts!$S$4:$S$103,A21),allGymnasts!$S$4:$S$103,0))),\"\")","v":""}]
[19,{"$f":"IFERROR(_xlfn.FLOOR.MATH(IF(allGymnasts!A22=\"\",\"\",INDEX(allGymnasts!$S$4:$S$103,MATCH(SMALL(allGymnasts!$S$4:$S$103,A22),allGymnasts!$S$4:$S$103,0)))),\"\")","v":""},{"$f":"IFERROR(IF(allGymnasts!A22=\"\",\"\",INDEX(allGymnasts!$A$4:$A$103,MATCH(SMALL(allGymnasts!$S$4:$S$103,A22),allGymnasts!$S$4:$S$103,0))),\"\")","v":""},{"$f":"IFERROR(IF(allGymnasts!B22=\"\",\"\",INDEX(allGymnasts!$B$4:$B$103,MATCH(SMALL(allGymnasts!$S$4:$S$103,A22),allGymnasts!$S$4:$S$103,0))),\"\")","v":""},{"$f":"IFERROR(IF(allGymnasts!C22=\"\",\"\",INDEX(allGymnasts!$C$4:$C$103,MATCH(SMALL(allGymnasts!$S$4:$S$103,A22),allGymnasts!$S$4:$S$103,0))),\"\")","v":""},{"$f":"IFERROR(IF(allGymnasts!D22=\"\",\"\",INDEX(allGymnasts!$D$4:$D$103,MATCH(SMALL(allGymnasts!$S$4:$S$103,A22),allGymnasts!$S$4:$S$103,0))),\"\")","v":""},{"$f":"IFERROR(IF(allGymnasts!B22=\"\",\"\",INDEX(allGymnasts!$O$4:$O$103,MATCH(SMALL(allGymnasts!$S$4:$S$103,A22),allGymnasts!$S$4:$S$103,0))),\"\")","v":""},{"$f":"IFERROR(IF(allGymnasts!B22=\"\",\"\",INDEX(allGymnasts!$P$4:$P$103,MATCH(SMALL(allGymnasts!$S$4:$S$103,A22),allGymnasts!$S$4:$S$103,0))),\"\")","v":""},{"$f":"IFERROR(IF(allGymnasts!B22=\"\",\"\",INDEX(allGymnasts!$Q$4:$Q$103,MATCH(SMALL(allGymnasts!$S$4:$S$103,A22),allGymnasts!$S$4:$S$103,0))),\"\")","v":""},{"$f":"IFERROR(IF(allGymnasts!B22=\"\",\"\",INDEX(allGymnasts!$R$4:$R$103,MATCH(SMALL(allGymnasts!$S$4:$S$103,A22),allGymnasts!$S$4:$S$103,0))),\"\")","v":""}]
[20,{"$f":"IFERROR(_xlfn.FLOOR.MATH(IF(allGymnasts!A23=\"\",\"\",INDEX(allGymnasts!$S$4:$S$103,MATCH(SMALL(allGymnasts!$S$4:$S$103,A23),allGymnasts!$S$4:$S$103,0)))),\"\")","v":""},{"$f":"IFERROR(IF(allGymnasts!A23=\"\",\"\",INDEX(allGymnasts!$A$4:$A$103,MATCH(SMALL(allGymnasts!$S$4:$S$103,A23),allGymnasts!$S$4:$S$103,0))),\"\")","v":""},{"$f":"IFERROR(IF(allGymnasts!B23=\"\",\"\",INDEX(allGymnasts!$B$4:$B$103,MATCH(SMALL(allGymnasts!$S$4:$S$103,A23),allGymnasts!$S$4:$S$103,0))),\"\")","v":""},{"$f":"IFERROR(IF(allGymnasts!C23=\"\",\"\",INDEX(allGymnasts!$C$4:$C$103,MATCH(SMALL(allGymnasts!$S$4:$S$103,A23),allGymnasts!$S$4:$S$103,0))),\"\")","v":""},{"$f":"IFERROR(IF(allGymnasts!D23=\"\",\"\",INDEX(allGymnasts!$D$4:$D$103,MATCH(SMALL(allGymnasts!$S$4:$S$103,A23),allGymnasts!$S$4:$S$103,0))),\"\")","v":""},{"$f":"IFERROR(IF(allGymnasts!B23=\"\",\"\",INDEX(allGymnasts!$O$4:$O$103,MATCH(SMALL(allGymnasts!$S$4:$S$103,A23),allGymnasts!$S$4:$S$103,0))),\"\")","v":""},{"$f":"IFERROR(IF(allGymnasts!B23=\"\",\"\",INDEX(allGymnasts!$P$4:$P$103,MATCH(SMALL(allGymnasts!$S$4:$S$103,A23),allGymnasts!$S$4:$S$103,0))),\"\")","v":""},{"$f":"IFERROR(IF(allGymnasts!B23=\"\",\"\",INDEX(allGymnasts!$Q$4:$Q$103,MATCH(SMALL(allGymnasts!$S$4:$S$103,A23),allGymnasts!$S$4:$S$103,0))),\"\")","v":""},{"$f":"IFERROR(IF(allGymnasts!B23=\"\",\"\",INDEX(allGymnasts!$R$4:$R$103,MATCH(SMALL(allGymnasts!$S$4:$S$103,A23),allGymnasts!$S$4:$S$103,0))),\"\")","v":""}]
[21,{"$f":"IFERROR(_xlfn.FLOOR.MATH(IF(allGymnasts!A24=\"\",\"\",INDEX(allGymnasts!$S$4:$S$103,MATCH(SMALL(allGymnasts!$S$4:$S$103,A24),allGymnasts!$S$4:$S$103,0)))),\"\")","v":""},{"$f":"IFERROR(IF(allGymnasts!A24=\"\",\"\",INDEX(allGymnasts!$A$4:$A$103,MATCH(SMALL(allGymnasts!$S$4:$S$103,A24),allGymnasts!$S$4:$S$103,0))),\"\")","v":""},{"$f":"IFERROR(IF(allGymnasts!B24=\"\",\"\",INDEX(allGymnasts!$B$4:$B$103,MATCH(SMALL(allGymnasts!$S$4:$S$103,A24),allGymnasts!$S$4:$S$103,0))),\"\")","v":""},{"$f":"IFERROR(IF(allGymnasts!C24=\"\",\"\",INDEX(allGymnasts!$C$4:$C$103,MATCH(SMALL(allGymnasts!$S$4:$S$103,A24),allGymnasts!$S$4:$S$103,0))),\"\")","v":""},{"$f":"IFERROR(IF(allGymnasts!D24=\"\",\"\",INDEX(allGymnasts!$D$4:$D$103,MATCH(SMALL(allGymnasts!$S$4:$S$103,A24),allGymnasts!$S$4:$S$103,0))),\"\")","v":""},{"$f":"IFERROR(IF(allGymnasts!B24=\"\",\"\",INDEX(allGymnasts!$O$4:$O$103,MATCH(SMALL(allGymnasts!$S$4:$S$103,A24),allGymnasts!$S$4:$S$103,0))),\"\")","v":""},{"$f":"IFERROR(IF(allGymnasts!B24=\"\",\"\",INDEX(allGymnasts!$P$4:$P$103,MATCH(SMALL(allGymnasts!$S$4:$S$103,A24),allGymnasts!$S$4:$S$103,0))),\"\")","v":""},{"$f":"IFERROR(IF(allGymnasts!B24=\"\",\"\",INDEX(allGymnasts!$Q$4:$Q$103,MATCH(SMALL(allGymnasts!$S$4:$S$103,A24),allGymnasts!$S$4:$S$103,0))),\"\")","v":""},{"$f":"IFERROR(IF(allGymnasts!B24=\"\",\"\",INDEX(allGymnasts!$R$4:$R$103,MATCH(SMALL(allGymnasts!$S$4:$S$103,A24),allGymnasts!$S$4:$S$103,0))),\"\")","v":""}]
[22,{"$f":"IFERROR(_xlfn.FLOOR.MATH(IF(allGymnasts!A25=\"\",\"\",INDEX(allGymnasts!$S$4:$S$103,MATCH(SMALL(allGymnasts!$S$4:$S$103,A25),allGymnasts!$S$4:$S$103,0)))),\"\")","v":""},{"$f":"IFERROR(IF(allGymnasts!A25=\"\",\"\",INDEX(allGymnasts!$A$4:$A$103,MATCH(SMALL(allGymnasts!$S$4:$S$103,A25),allGymnasts!$S$4:$S$103,0))),\"\")","v":""},{"$f":"IFERROR(IF(allGymnasts!B25=\"\",\"\",INDEX(allGymnasts!$B$4:$B$103,MATCH(SMALL(allGymnasts!$S$4:$S$103,A25),allGymnasts!$S$4:$S$103,0))),\"\")","v":""},{"$f":"IFERROR(IF(allGymnasts!C25=\"\",\"\",INDEX(allGymnasts!$C$4:$C$103,MATCH(SMALL(allGymnasts!$S$4:$S$103,A25),allGymnasts!$S$4:$S$103,0))),\"\")","v":""},{"$f":"IFERROR(IF(allGymnasts!D25=\"\",\"\",INDEX(allGymnasts!$D$4:$D$103,MATCH(SMALL(allGymnasts!$S$4:$S$103,A25),allGymnasts!$S$4:$S$103,0))),\"\")","v":""},{"$f":"IFERROR(IF(allGymnasts!B25=\"\",\"\",INDEX(allGymnasts!$O$4:$O$103,MATCH(SMALL(allGymnasts!$S$4:$S$103,A25),allGymnasts!$S$4:$S$103,0))),\"\")","v":""},{"$f":"IFERROR(IF(allGymnasts!B25=\"\",\"\",INDEX(allGymnasts!$P$4:$P$103,MATCH(SMALL(allGymnasts!$S$4:$S$103,A25),allGymnasts!$S$4:$S$103,0))),\"\")","v":""},{"$f":"IFERROR(IF(allGymnasts!B25=\"\",\"\",INDEX(allGymnasts!$Q$4:$Q$103,MATCH(SMALL(allGymnasts!$S$4:$S$103,A25),allGymnasts!$S$4:$S$103,0))),\"\")","v":""},{"$f":"IFERROR(IF(allGymnasts!B25=\"\",\"\",INDEX(allGymnasts!$R$4:$R$103,MATCH(SMALL(allGymnasts!$S$4:$S$103,A25),allGymnasts!$S$4:$S$103,0))),\"\")","v":""}]
[23,{"$f":"IFERROR(_xlfn.FLOOR.MATH(IF(allGymnasts!A26=\"\",\"\",INDEX(allGymnasts!$S$4:$S$103,MATCH(SMALL(allGymnasts!$S$4:$S$103,A26),allGymnasts!$S$4:$S$103,0)))),\"\")","v":""},{"$f":"IFERROR(IF(allGymnasts!A26=\"\",\"\",INDEX(allGymnasts!$A$4:$A$103,MATCH(SMALL(allGymnasts!$S$4:$S$103,A26),allGymnasts!$S$4:$S$103,0))),\"\")","v":""},{"$f":"IFERROR(IF(allGymnasts!B26=\"\",\"\",INDEX(allGymnasts!$B$4:$B$103,MATCH(SMALL(allGymnasts!$S$4:$S$103,A26),allGymnasts!$S$4:$S$103,0))),\"\")","v":""},{"$f":"IFERROR(IF(allGymnasts!C26=\"\",\"\",INDEX(allGymnasts!$C$4:$C$103,MATCH(SMALL(allGymnasts!$S$4:$S$103,A26),allGymnasts!$S$4:$S$103,0))),\"\")","v":""},{"$f":"IFERROR(IF(allGymnasts!D26=\"\",\"\",INDEX(allGymnasts!$D$4:$D$103,MATCH(SMALL(allGymnasts!$S$4:$S$103,A26),allGymnasts!$S$4:$S$103,0))),\"\")","v":""},{"$f":"IFERROR(IF(allGymnasts!B26=\"\",\"\",INDEX(allGymnasts!$O$4:$O$103,MATCH(SMALL(allGymnasts!$S$4:$S$103,A26),allGymnasts!$S$4:$S$103,0))),\"\")","v":""},{"$f":"IFERROR(IF(allGymnasts!B26=\"\",\"\",INDEX(allGymnasts!$P$4:$P$103,MATCH(SMALL(allGymnasts!$S$4:$S$103,A26),allGymnasts!$S$4:$S$103,0))),\"\")","v":""},{"$f":"IFERROR(IF(allGymnasts!B26=\"\",\"\",INDEX(allGymnasts!$Q$4:$Q$103,MATCH(SMALL(allGymnasts!$S$4:$S$103,A26),allGymnasts!$S$4:$S$103,0))),\"\")","v":""},{"$f":"IFERROR(IF(allGymnasts!B26=\"\",\"\",INDEX(allGymnasts!$R$4:$R$103,MATCH(SMALL(allGymnasts!$S$4:$S$103,A26),allGymnasts!$S$4:$S$103,0))),\"\")","v":""}]
[24,{"$f":"IFERROR(_xlfn.FLOOR.MATH(IF(allGymnasts!A27=\"\",\"\",INDEX(allGymnasts!$S$4:$S$103,MATCH(SMALL(allGymnasts!$S$4:$S$103,A27),allGymnasts!$S$4:$S$103,0)))),\"\")","v":""},{"$f":"IFERROR(IF(allGymnasts!A27=\"\",\"\",INDEX(allGymnasts!$A$4:$A$103,MATCH(SMALL(allGymnasts!$S$4:$S$103,A27),allGymnasts!$S$4:$S$103,0))),\"\")","v":""},{"$f":"IFERROR(IF(allGymnasts!B27=\"\",\"\",INDEX(allGymnasts!$B$4:$B$103,MATCH(SMALL(allGymnasts!$S$4:$S$103,A27),allGymnasts!$S$4:$S$103,0))),\"\")","v":""},{"$f":"IFERROR(IF(allGymnasts!C27=\"\",\"\",INDEX(allGymnasts!$C$4:$C$103,MATCH(SMALL(allGymnasts!$S$4:$S$103,A27),allGymnasts!$S$4:$S$103,0))),\"\")","v":""},{"$f":"IFERROR(IF(allGymnasts!D27=\"\",\"\",INDEX(allGymnasts!$D$4:$D$103,MATCH(SMALL(allGymnasts!$S$4:$S$103,A27),allGymnasts!$S$4:$S$103,0))),\"\")","v":""},{"$f":"IFERROR(IF(allGymnasts!B27=\"\",\"\",INDEX(allGymnasts!$O$4:$O$103,MATCH(SMALL(allGymnasts!$S$4:$S$103,A27),allGymnasts!$S$4:$S$103,0))),\"\")","v":""},{"$f":"IFERROR(IF(allGymnasts!B27=\"\",\"\",INDEX(allGymnasts!$P$4:$P$103,MATCH(SMALL(allGymnasts!$S$4:$S$103,A27),allGymnasts!$S$4:$S$103,0))),\"\")","v":""},{"$f":"IFERROR(IF(allGymnasts!B27=\"\",\"\",INDEX(allGymnasts!$Q$4:$Q$103,MATCH(SMALL(allGymnasts!$S$4:$S$103,A27),allGymnasts!$S$4:$S$103,0))),\"\")","v":""},{"$f":"IFERROR(IF(allGymnasts!B27=\"\",\"\",INDEX(allGymnasts!$R$4:$R$103,MATCH(SMALL(allGymnasts!$S$4:$S$103,A27),allGymnasts!$S$4:$S$103,0))),\"\")","v":""}]
[25,{"$f":"IFERROR(_xlfn.FLOOR.MATH(IF(allGymnasts!A28=\"\",\"\",INDEX(allGymnasts!$S$4:$S$103,MATCH(SMALL(allGymnasts!$S$4:$S$103,A28),allGymnasts!$S$4:$S$103,0)))),\"\")","v":""},{"$f":"IFERROR(IF(allGymnasts!A28=\"\",\"\",INDEX(allGymnasts!$A$4:$A$103,MATCH(SMALL(allGymnasts!$S$4:$S$103,A28),allGymnasts!$S$4:$S$103,0))),\"\")","v":""},{"$f":"IFERROR(IF(allGymnasts!B28=\"\",\"\",INDEX(allGymnasts!$B$4:$B$103,MATCH(SMALL(allGymnasts!$S$4:$S$103,A28),allGymnasts!$S$4:$S$103,0))),\"\")","v":""},{"$f":"IFERROR(IF(allGymnasts!C28=\"\",\"\",INDEX(allGymnasts!$C$4:$C$103,MATCH(SMALL(allGymnasts!$S$4:$S$103,A28),allGymnasts!$S$4:$S$103,0))),\"\")","v":""},{"$f":"IFERROR(IF(allGymnasts!D28=\"\",\"\",INDEX(allGymnasts!$D$4:$D$103,MATCH(SMALL(allGymnasts!$S$4:$S$103,A28),allGymnasts!$S$4:$S$103,0))),\"\")","v":""},{"$f":"IFERROR(IF(allGymnasts!B28=\"\",\"\",INDEX(allGymnasts!$O$4:$O$103,MATCH(SMALL(allGymnasts!$S$4:$S$103,A28),allGymnasts!$S$4:$S$103,0))),\"\")","v":""},{"$f":"IFERROR(IF(allGymnasts!B28=\"\",\"\",INDEX(allGymnasts!$P$4:$P$103,MATCH(SMALL(allGymnasts!$S$4:$S$103,A28),allGymnasts!$S$4:$S$103,0))),\"\")","v":""},{"$f":"IFERROR(IF(allGymnasts!B28=\"\",\"\",INDEX(allGymnasts!$Q$4:$Q$103,MATCH(SMALL(allGymnasts!$S$4:$S$103,A28),allGymnasts!$S$4:$S$103,0))),\"\")","v":""},{"$f":"IFERROR(IF(allGymnasts!B28=\"\",\"\",INDEX(allGymnasts!$R$4:$R$103,MATCH(SMALL(allGymnasts!$S$4:$S$103,A28),allGymnasts!$S$4:$S$103,0))),\"\")","v":""}]
[26,{"$f":"IFERROR(_xlfn.FLOOR.MATH(IF(allGymnasts!A29=\"\",\"\",INDEX(allGymnasts!$S$4:$S$103,MATCH(SMALL(allGymnasts!$S$4:$S$103,A29),allGymnasts!$S$4:$S$103,0)))),\"\")","v":""},{"$f":"IFERROR(IF(allGymnasts!A29=\"\",\"\",INDEX(allGymnasts!$A$4:$A$103,MATCH(SMALL(allGymnasts!$S$4:$S$103,A29),allGymnasts!$S$4:$S$103,0))),\"\")","v":""},{"$f":"IFERROR(IF(allGymnasts!B29=\"\",\"\",INDEX(allGymnasts!$B$4:$B$103,MATCH(SMALL(allGymnasts!$S$4:$S$103,A29),allGymnasts!$S$4:$S$103,0))),\"\")","v":""},{"$f":"IFERROR(IF(allGymnasts!C29=\"\",\"\",INDEX(allGymnasts!$C$4:$C$103,MATCH(SMALL(allGymnasts!$S$4:$S$103,A29),allGymnasts!$S$4:$S$103,0))),\"\")","v":""},{"$f":"IFERROR(IF(allGymnasts!D29=\"\",\"\",INDEX(allGymnasts!$D$4:$D$103,MATCH(SMALL(allGymnasts!$S$4:$S$103,A29),allGymnasts!$S$4:$S$103,0))),\"\")","v":""},{"$f":"IFERROR(IF(allGymnasts!B29=\"\",\"\",INDEX(allGymnasts!$O$4:$O$103,MATCH(SMALL(allGymnasts!$S$4:$S$103,A29),allGymnasts!$S$4:$S$103,0))),\"\")","v":""},{"$f":"IFERROR(IF(allGymnasts!B29=\"\",\"\",INDEX(allGymnasts!$P$4:$P$103,MATCH(SMALL(allGymnasts!$S$4:$S$103,A29),allGymnasts!$S$4:$S$103,0))),\"\")","v":""},{"$f":"IFERROR(IF(allGymnasts!B29=\"\",\"\",INDEX(allGymnasts!$Q$4:$Q$103,MATCH(SMALL(allGymnasts!$S$4:$S$103,A29),allGymnasts!$S$4:$S$103,0))),\"\")","v":""},{"$f":"IFERROR(IF(allGymnasts!B29=\"\",\"\",INDEX(allGymnasts!$R$4:$R$103,MATCH(SMALL(allGymnasts!$S$4:$S$103,A29),allGymnasts!$S$4:$S$103,0))),\"\")","v":""}]
[27,{"$f":"IFERROR(_xlfn.FLOOR.MATH(IF(allGymnasts!A30=\"\",\"\",INDEX(allGymnasts!$S$4:$S$103,MATCH(SMALL(allGymnasts!$S$4:$S$103,A30),allGymnasts!$S$4:$S$103,0)))),\"\")","v":""},{"$f":"IFERROR(IF(allGymnasts!A30=\"\",\"\",INDEX(allGymnasts!$A$4:$A$103,MATCH(SMALL(allGymnasts!$S$4:$S$103,A30),allGymnasts!$S$4:$S$103,0))),\"\")","v":""},{"$f":"IFERROR(IF(allGymnasts!B30=\"\",\"\",INDEX(allGymnasts!$B$4:$B$103,MATCH(SMALL(allGymnasts!$S$4:$S$103,A30),allGymnasts!$S$4:$S$103,0))),\"\")","v":""},{"$f":"IFERROR(IF(allGymnasts!C30=\"\",\"\",INDEX(allGymnasts!$C$4:$C$103,MATCH(SMALL(allGymnasts!$S$4:$S$103,A30),allGymnasts!$S$4:$S$103,0))),\"\")","v":""},{"$f":"IFERROR(IF(allGymnasts!D30=\"\",\"\",INDEX(allGymnasts!$D$4:$D$103,MATCH(SMALL(allGymnasts!$S$4:$S$103,A30),allGymnasts!$S$4:$S$103,0))),\"\")","v":""},{"$f":"IFERROR(IF(allGymnasts!B30=\"\",\"\",INDEX(allGymnasts!$O$4:$O$103,MATCH(SMALL(allGymnasts!$S$4:$S$103,A30),allGymnasts!$S$4:$S$103,0))),\"\")","v":""},{"$f":"IFERROR(IF(allGymnasts!B30=\"\",\"\",INDEX(allGymnasts!$P$4:$P$103,MATCH(SMALL(allGymnasts!$S$4:$S$103,A30),allGymnasts!$S$4:$S$103,0))),\"\")","v":""},{"$f":"IFERROR(IF(allGymnasts!B30=\"\",\"\",INDEX(allGymnasts!$Q$4:$Q$103,MATCH(SMALL(allGymnasts!$S$4:$S$103,A30),allGymnasts!$S$4:$S$103,0))),\"\")","v":""},{"$f":"IFERROR(IF(allGymnasts!B30=\"\",\"\",INDEX(allGymnasts!$R$4:$R$103,MATCH(SMALL(allGymnasts!$S$4:$S$103,A30),allGymnasts!$S$4:$S$103,0))),\"\")","v":""}]
[28,{"$f":"IFERROR(_xlfn.FLOOR.MATH(IF(allGymnasts!A31=\"\",\"\",INDEX(allGymnasts!$S$4:$S$103,MATCH(SMALL(allGymnasts!$S$4:$S$103,A31),allGymnasts!$S$4:$S$103,0)))),\"\")","v":""},{"$f":"IFERROR(IF(allGymnasts!A31=\"\",\"\",INDEX(allGymnasts!$A$4:$A$103,MATCH(SMALL(allGymnasts!$S$4:$S$103,A31),allGymnasts!$S$4:$S$103,0))),\"\")","v":""},{"$f":"IFERROR(IF(allGymnasts!B31=\"\",\"\",INDEX(allGymnasts!$B$4:$B$103,MATCH(SMALL(allGymnasts!$S$4:$S$103,A31),allGymnasts!$S$4:$S$103,0))),\"\")","v":""},{"$f":"IFERROR(IF(allGymnasts!C31=\"\",\"\",INDEX(allGymnasts!$C$4:$C$103,MATCH(SMALL(allGymnasts!$S$4:$S$103,A31),allGymnasts!$S$4:$S$103,0))),\"\")","v":""},{"$f":"IFERROR(IF(allGymnasts!D31=\"\",\"\",INDEX(allGymnasts!$D$4:$D$103,MATCH(SMALL(allGymnasts!$S$4:$S$103,A31),allGymnasts!$S$4:$S$103,0))),\"\")","v":""},{"$f":"IFERROR(IF(allGymnasts!B31=\"\",\"\",INDEX(allGymnasts!$O$4:$O$103,MATCH(SMALL(allGymnasts!$S$4:$S$103,A31),allGymnasts!$S$4:$S$103,0))),\"\")","v":""},{"$f":"IFERROR(IF(allGymnasts!B31=\"\",\"\",INDEX(allGymnasts!$P$4:$P$103,MATCH(SMALL(allGymnasts!$S$4:$S$103,A31),allGymnasts!$S$4:$S$103,0))),\"\")","v":""},{"$f":"IFERROR(IF(allGymnasts!B31=\"\",\"\",INDEX(allGymnasts!$Q$4:$Q$103,MATCH(SMALL(allGymnasts!$S$4:$S$103,A31),allGymnasts!$S$4:$S$103,0))),\"\")","v":""},{"$f":"IFERROR(IF(allGymnasts!B31=\"\",\"\",INDEX(allGymnasts!$R$4:$R$103,MATCH(SMALL(allGymnasts!$S$4:$S$103,A31),allGymnasts!$S$4:$S$103,0))),\"\")","v":""}]
[29,{"$f":"IFERROR(_xlfn.FLOOR.MATH(IF(allGymnasts!A32=\"\",\"\",INDEX(allGymnasts!$S$4:$S$103,MATCH(SMALL(allGymnasts!$S$4:$S$103,A32),allGymnasts!$S$4:$S$103,0)))),\"\")","v":""},{"$f":"IFERROR(IF(allGymnasts!A32=\"\",\"\",INDEX(allGymnasts!$A$4:$A$103,MATCH(SMALL(allGymnasts!$S$4:$S$103,A32),allGymnasts!$S$4:$S$103,0))),\"\")","v":""},{"$f":"IFERROR(IF(allGymnasts!B32=\"\",\"\",INDEX(allGymnasts!$B$4:$B$103,MATCH(SMALL(allGymnasts!$S$4:$S$103,A32),allGymnasts!$S$4:$S$103,0))),\"\")","v":""},{"$f":"IFERROR(IF(allGymnasts!C32=\"\",\"\",INDEX(allGymnasts!$C$4:$C$103,MATCH(SMALL(allGymnasts!$S$4:$S$103,A32),allGymnasts!$S$4:$S$103,0))),\"\")","v":""},{"$f":"IFERROR(IF(allGymnasts!D32=\"\",\"\",INDEX(allGymnasts!$D$4:$D$103,MATCH(SMALL(allGymnasts!$S$4:$S$103,A32),allGymnasts!$S$4:$S$103,0))),\"\")","v":""},{"$f":"IFERROR(IF(allGymnasts!B32=\"\",\"\",INDEX(allGymnasts!$O$4:$O$103,MATCH(SMALL(allGymnasts!$S$4:$S$103,A32),allGymnasts!$S$4:$S$103,0))),\"\")","v":""},{"$f":"IFERROR(IF(allGymnasts!B32=\"\",\"\",INDEX(allGymnasts!$P$4:$P$103,MATCH(SMALL(allGymnasts!$S$4:$S$103,A32),allGymnasts!$S$4:$S$103,0))),\"\")","v":""},{"$f":"IFERROR(IF(allGymnasts!B32=\"\",\"\",INDEX(allGymnasts!$Q$4:$Q$103,MATCH(SMALL(allGymnasts!$S$4:$S$103,A32),allGymnasts!$S$4:$S$103,0))),\"\")","v":""},{"$f":"IFERROR(IF(allGymnasts!B32=\"\",\"\",INDEX(allGymnasts!$R$4:$R$103,MATCH(SMALL(allGymnasts!$S$4:$S$103,A32),allGymnasts!$S$4:$S$103,0))),\"\")","v":""}]
[30,{"$f":"IFERROR(_xlfn.FLOOR.MATH(IF(allGymnasts!A33=\"\",\"\",INDEX(allGymnasts!$S$4:$S$103,MATCH(SMALL(allGymnasts!$S$4:$S$103,A33),allGymnasts!$S$4:$S$103,0)))),\"\")","v":""},{"$f":"IFERROR(IF(allGymnasts!A33=\"\",\"\",INDEX(allGymnasts!$A$4:$A$103,MATCH(SMALL(allGymnasts!$S$4:$S$103,A33),allGymnasts!$S$4:$S$103,0))),\"\")","v":""},{"$f":"IFERROR(IF(allGymnasts!B33=\"\",\"\",INDEX(allGymnasts!$B$4:$B$103,MATCH(SMALL(allGymnasts!$S$4:$S$103,A33),allGymnasts!$S$4:$S$103,0))),\"\")","v":""},{"$f":"IFERROR(IF(allGymnasts!C33=\"\",\"\",INDEX(allGymnasts!$C$4:$C$103,MATCH(SMALL(allGymnasts!$S$4:$S$103,A33),allGymnasts!$S$4:$S$103,0))),\"\")","v":""},{"$f":"IFERROR(IF(allGymnasts!D33=\"\",\"\",INDEX(allGymnasts!$D$4:$D$103,MATCH(SMALL(allGymnasts!$S$4:$S$103,A33),allGymnasts!$S$4:$S$103,0))),\"\")","v":""},{"$f":"IFERROR(IF(allGymnasts!B33=\"\",\"\",INDEX(allGymnasts!$O$4:$O$103,MATCH(SMALL(allGymnasts!$S$4:$S$103,A33),allGymnasts!$S$4:$S$103,0))),\"\")","v":""},{"$f":"IFERROR(IF(allGymnasts!B33=\"\",\"\",INDEX(allGymnasts!$P$4:$P$103,MATCH(SMALL(allGymnasts!$S$4:$S$103,A33),allGymnasts!$S$4:$S$103,0))),\"\")","v":""},{"$f":"IFERROR(IF(allGymnasts!B33=\"\",\"\",INDEX(allGymnasts!$Q$4:$Q$103,MATCH(SMALL(allGymnasts!$S$4:$S$103,A33),allGymnasts!$S$4:$S$103,0))),\"\")","v":""},{"$f":"IFERROR(IF(allGymnasts!B33=\"\",\"\",INDEX(allGymnasts!$R$4:$R$103,MATCH(SMALL(allGymnasts!$S$4:$S$103,A33),allGymnasts!$S$4:$S$103,0))),\"\")","v":""}]
[31,{"$f":"IFERROR(_xlfn.FLOOR.MATH(IF(allGymnasts!A34=\"\",\"\",INDEX(allGymnasts!$S$4:$S$103,MATCH(SMALL(allGymnasts!$S$4:$S$103,A34),allGymnasts!$S$4:$S$103,0)))),\"\")","v":""},{"$f":"IFERROR(IF(allGymnasts!A34=\"\",\"\",INDEX(allGymnasts!$A$4:$A$103,MATCH(SMALL(allGymnasts!$S$4:$S$103,A34),allGymnasts!$S$4:$S$103,0))),\"\")","v":""},{"$f":"IFERROR(IF(allGymnasts!B34=\"\",\"\",INDEX(allGymnasts!$B$4:$B$103,MATCH(SMALL(allGymnasts!$S$4:$S$103,A34),allGymnasts!$S$4:$S$103,0))),\"\")","v":""},{"$f":"IFERROR(IF(allGymnasts!C34=\"\",\"\",INDEX(allGymnasts!$C$4:$C$103,MATCH(SMALL(allGymnasts!$S$4:$S$103,A34),allGymnasts!$S$4:$S$103,0))),\"\")","v":""},{"$f":"IFERROR(IF(allGymnasts!D34=\"\",\"\",INDEX(allGymnasts!$D$4:$D$103,MATCH(SMALL(allGymnasts!$S$4:$S$103,A34),allGymnasts!$S$4:$S$103,0))),\"\")","v":""},{"$f":"IFERROR(IF(allGymnasts!B34=\"\",\"\",INDEX(allGymnasts!$O$4:$O$103,MATCH(SMALL(allGymnasts!$S$4:$S$103,A34),allGymnasts!$S$4:$S$103,0))),\"\")","v":""},{"$f":"IFERROR(IF(allGymnasts!B34=\"\",\"\",INDEX(allGymnasts!$P$4:$P$103,MATCH(SMALL(allGymnasts!$S$4:$S$103,A34),allGymnasts!$S$4:$S$103,0))),\"\")","v":""},{"$f":"IFERROR(IF(allGymnasts!B34=\"\",\"\",INDEX(allGymnasts!$Q$4:$Q$103,MATCH(SMALL(allGymnasts!$S$4:$S$103,A34),allGymnasts!$S$4:$S$103,0))),\"\")","v":""},{"$f":"IFERROR(IF(allGymnasts!B34=\"\",\"\",INDEX(allGymnasts!$R$4:$R$103,MATCH(SMALL(allGymnasts!$S$4:$S$103,A34),allGymnasts!$S$4:$S$103,0))),\"\")","v":""}]
[32,{"$f":"IFERROR(_xlfn.FLOOR.MATH(IF(allGymnasts!A35=\"\",\"\",INDEX(allGymnasts!$S$4:$S$103,MATCH(SMALL(allGymnasts!$S$4:$S$103,A35),allGymnasts!$S$4:$S$103,0)))),\"\")","v":""},{"$f":"IFERROR(IF(allGymnasts!A35=\"\",\"\",INDEX(allGymnasts!$A$4:$A$103,MATCH(SMALL(allGymnasts!$S$4:$S$103,A35),allGymnasts!$S$4:$S$103,0))),\"\")","v":""},{"$f":"IFERROR(IF(allGymnasts!B35=\"\",\"\",INDEX(allGymnasts!$B$4:$B$103,MATCH(SMALL(allGymnasts!$S$4:$S$103,A35),allGymnasts!$S$4:$S$103,0))),\"\")","v":""},{"$f":"IFERROR(IF(allGymnasts!C35=\"\",\"\",INDEX(allGymnasts!$C$4:$C$103,MATCH(SMALL(allGymnasts!$S$4:$S$103,A35),allGymnasts!$S$4:$S$103,0))),\"\")","v":""},{"$f":"IFERROR(IF(allGymnasts!D35=\"\",\"\",INDEX(allGymnasts!$D$4:$D$103,MATCH(SMALL(allGymnasts!$S$4:$S$103,A35),allGymnasts!$S$4:$S$103,0))),\"\")","v":""},{"$f":"IFERROR(IF(allGymnasts!B35=\"\",\"\",INDEX(allGymnasts!$O$4:$O$103,MATCH(SMALL(allGymnasts!$S$4:$S$103,A35),allGymnasts!$S$4:$S$103,0))),\"\")","v":""},{"$f":"IFERROR(IF(allGymnasts!B35=\"\",\"\",INDEX(allGymnasts!$P$4:$P$103,MATCH(SMALL(allGymnasts!$S$4:$S$103,A35),allGymnasts!$S$4:$S$103,0))),\"\")","v":""},{"$f":"IFERROR(IF(allGymnasts!B35=\"\",\"\",INDEX(allGymnasts!$Q$4:$Q$103,MATCH(SMALL(allGymnasts!$S$4:$S$103,A35),allGymnasts!$S$4:$S$103,0))),\"\")","v":""},{"$f":"IFERROR(IF(allGymnasts!B35=\"\",\"\",INDEX(allGymnasts!$R$4:$R$103,MATCH(SMALL(allGymnasts!$S$4:$S$103,A35),allGymnasts!$S$4:$S$103,0))),\"\")","v":""}]
[33,{"$f":"IFERROR(_xlfn.FLOOR.MATH(IF(allGymnasts!A36=\"\",\"\",INDEX(allGymnasts!$S$4:$S$103,MATCH(SMALL(allGymnasts!$S$4:$S$103,A36),allGymnasts!$S$4:$S$103,0)))),\"\")","v":""},{"$f":"IFERROR(IF(allGymnasts!A36=\"\",\"\",INDEX(allGymnasts!$A$4:$A$103,MATCH(SMALL(allGymnasts!$S$4:$S$103,A36),allGymnasts!$S$4:$S$103,0))),\"\")","v":""},{"$f":"IFERROR(IF(allGymnasts!B36=\"\",\"\",INDEX(allGymnasts!$B$4:$B$103,MATCH(SMALL(allGymnasts!$S$4:$S$103,A36),allGymnasts!$S$4:$S$103,0))),\"\")","v":""},{"$f":"IFERROR(IF(allGymnasts!C36=\"\",\"\",INDEX(allGymnasts!$C$4:$C$103,MATCH(SMALL(allGymnasts!$S$4:$S$103,A36),allGymnasts!$S$4:$S$103,0))),\"\")","v":""},{"$f":"IFERROR(IF(allGymnasts!D36=\"\",\"\",INDEX(allGymnasts!$D$4:$D$103,MATCH(SMALL(allGymnasts!$S$4:$S$103,A36),allGymnasts!$S$4:$S$103,0))),\"\")","v":""},{"$f":"IFERROR(IF(allGymnasts!B36=\"\",\"\",INDEX(allGymnasts!$O$4:$O$103,MATCH(SMALL(allGymnasts!$S$4:$S$103,A36),allGymnasts!$S$4:$S$103,0))),\"\")","v":""},{"$f":"IFERROR(IF(allGymnasts!B36=\"\",\"\",INDEX(allGymnasts!$P$4:$P$103,MATCH(SMALL(allGymnasts!$S$4:$S$103,A36),allGymnasts!$S$4:$S$103,0))),\"\")","v":""},{"$f":"IFERROR(IF(allGymnasts!B36=\"\",\"\",INDEX(allGymnasts!$Q$4:$Q$103,MATCH(SMALL(allGymnasts!$S$4:$S$103,A36),allGymnasts!$S$4:$S$103,0))),\"\")","v":""},{"$f":"IFERROR(IF(allGymnasts!B36=\"\",\"\",INDEX(allGymnasts!$R$4:$R$103,MATCH(SMALL(allGymnasts!$S$4:$S$103,A36),allGymnasts!$S$4:$S$103,0))),\"\")","v":""}]
[34,{"$f":"IFERROR(_xlfn.FLOOR.MATH(IF(allGymnasts!A37=\"\",\"\",INDEX(allGymnasts!$S$4:$S$103,MATCH(SMALL(allGymnasts!$S$4:$S$103,A37),allGymnasts!$S$4:$S$103,0)))),\"\")","v":""},{"$f":"IFERROR(IF(allGymnasts!A37=\"\",\"\",INDEX(allGymnasts!$A$4:$A$103,MATCH(SMALL(allGymnasts!$S$4:$S$103,A37),allGymnasts!$S$4:$S$103,0))),\"\")","v":""},{"$f":"IFERROR(IF(allGymnasts!B37=\"\",\"\",INDEX(allGymnasts!$B$4:$B$103,MATCH(SMALL(allGymnasts!$S$4:$S$103,A37),allGymnasts!$S$4:$S$103,0))),\"\")","v":""},{"$f":"IFERROR(IF(allGymnasts!C37=\"\",\"\",INDEX(allGymnasts!$C$4:$C$103,MATCH(SMALL(allGymnasts!$S$4:$S$103,A37),allGymnasts!$S$4:$S$103,0))),\"\")","v":""},{"$f":"IFERROR(IF(allGymnasts!D37=\"\",\"\",INDEX(allGymnasts!$D$4:$D$103,MATCH(SMALL(allGymnasts!$S$4:$S$103,A37),allGymnasts!$S$4:$S$103,0))),\"\")","v":""},{"$f":"IFERROR(IF(allGymnasts!B37=\"\",\"\",INDEX(allGymnasts!$O$4:$O$103,MATCH(SMALL(allGymnasts!$S$4:$S$103,A37),allGymnasts!$S$4:$S$103,0))),\"\")","v":""},{"$f":"IFERROR(IF(allGymnasts!B37=\"\",\"\",INDEX(allGymnasts!$P$4:$P$103,MATCH(SMALL(allGymnasts!$S$4:$S$103,A37),allGymnasts!$S$4:$S$103,0))),\"\")","v":""},{"$f":"IFERROR(IF(allGymnasts!B37=\"\",\"\",INDEX(allGymnasts!$Q$4:$Q$103,MATCH(SMALL(allGymnasts!$S$4:$S$103,A37),allGymnasts!$S$4:$S$103,0))),\"\")","v":""},{"$f":"IFERROR(IF(allGymnasts!B37=\"\",\"\",INDEX(allGymnasts!$R$4:$R$103,MATCH(SMALL(allGymnasts!$S$4:$S$103,A37),allGymnasts!$S$4:$S$103,0))),\"\")","v":""}]
[35,{"$f":"IFERROR(_xlfn.FLOOR.MATH(IF(allGymnasts!A38=\"\",\"\",INDEX(allGymnasts!$S$4:$S$103,MATCH(SMALL(allGymnasts!$S$4:$S$103,A38),allGymnasts!$S$4:$S$103,0)))),\"\")","v":""},{"$f":"IFERROR(IF(allGymnasts!A38=\"\",\"\",INDEX(allGymnasts!$A$4:$A$103,MATCH(SMALL(allGymnasts!$S$4:$S$103,A38),allGymnasts!$S$4:$S$103,0))),\"\")","v":""},{"$f":"IFERROR(IF(allGymnasts!B38=\"\",\"\",INDEX(allGymnasts!$B$4:$B$103,MATCH(SMALL(allGymnasts!$S$4:$S$103,A38),allGymnasts!$S$4:$S$103,0))),\"\")","v":""},{"$f":"IFERROR(IF(allGymnasts!C38=\"\",\"\",INDEX(allGymnasts!$C$4:$C$103,MATCH(SMALL(allGymnasts!$S$4:$S$103,A38),allGymnasts!$S$4:$S$103,0))),\"\")","v":""},{"$f":"IFERROR(IF(allGymnasts!D38=\"\",\"\",INDEX(allGymnasts!$D$4:$D$103,MATCH(SMALL(allGymnasts!$S$4:$S$103,A38),allGymnasts!$S$4:$S$103,0))),\"\")","v":""},{"$f":"IFERROR(IF(allGymnasts!B38=\"\",\"\",INDEX(allGymnasts!$O$4:$O$103,MATCH(SMALL(allGymnasts!$S$4:$S$103,A38),allGymnasts!$S$4:$S$103,0))),\"\")","v":""},{"$f":"IFERROR(IF(allGymnasts!B38=\"\",\"\",INDEX(allGymnasts!$P$4:$P$103,MATCH(SMALL(allGymnasts!$S$4:$S$103,A38),allGymnasts!$S$4:$S$103,0))),\"\")","v":""},{"$f":"IFERROR(IF(allGymnasts!B38=\"\",\"\",INDEX(allGymnasts!$Q$4:$Q$103,MATCH(SMALL(allGymnasts!$S$4:$S$103,A38),allGymnasts!$S$4:$S$103,0))),\"\")","v":""},{"$f":"IFERROR(IF(allGymnasts!B38=\"\",\"\",INDEX(allGymnasts!$R$4:$R$103,MATCH(SMALL(allGymnasts!$S$4:$S$103,A38),allGymnasts!$S$4:$S$103,0))),\"\")","v":""}]
[36,{"$f":"IFERROR(_xlfn.FLOOR.MATH(IF(allGymnasts!A39=\"\",\"\",INDEX(allGymnasts!$S$4:$S$103,MATCH(SMALL(allGymnasts!$S$4:$S$103,A39),allGymnasts!$S$4:$S$103,0)))),\"\")","v":""},{"$f":"IFERROR(IF(allGymnasts!A39=\"\",\"\",INDEX(allGymnasts!$A$4:$A$103,MATCH(SMALL(allGymnasts!$S$4:$S$103,A39),allGymnasts!$S$4:$S$103,0))),\"\")","v":""},{"$f":"IFERROR(IF(allGymnasts!B39=\"\",\"\",INDEX(allGymnasts!$B$4:$B$103,MATCH(SMALL(allGymnasts!$S$4:$S$103,A39),allGymnasts!$S$4:$S$103,0))),\"\")","v":""},{"$f":"IFERROR(IF(allGymnasts!C39=\"\",\"\",INDEX(allGymnasts!$C$4:$C$103,MATCH(SMALL(allGymnasts!$S$4:$S$103,A39),allGymnasts!$S$4:$S$103,0))),\"\")","v":""},{"$f":"IFERROR(IF(allGymnasts!D39=\"\",\"\",INDEX(allGymnasts!$D$4:$D$103,MATCH(SMALL(allGymnasts!$S$4:$S$103,A39),allGymnasts!$S$4:$S$103,0))),\"\")","v":""},{"$f":"IFERROR(IF(allGymnasts!B39=\"\",\"\",INDEX(allGymnasts!$O$4:$O$103,MATCH(SMALL(allGymnasts!$S$4:$S$103,A39),allGymnasts!$S$4:$S$103,0))),\"\")","v":""},{"$f":"IFERROR(IF(allGymnasts!B39=\"\",\"\",INDEX(allGymnasts!$P$4:$P$103,MATCH(SMALL(allGymnasts!$S$4:$S$103,A39),allGymnasts!$S$4:$S$103,0))),\"\")","v":""},{"$f":"IFERROR(IF(allGymnasts!B39=\"\",\"\",INDEX(allGymnasts!$Q$4:$Q$103,MATCH(SMALL(allGymnasts!$S$4:$S$103,A39),allGymnasts!$S$4:$S$103,0))),\"\")","v":""},{"$f":"IFERROR(IF(allGymnasts!B39=\"\",\"\",INDEX(allGymnasts!$R$4:$R$103,MATCH(SMALL(allGymnasts!$S$4:$S$103,A39),allGymnasts!$S$4:$S$103,0))),\"\")","v":""}]
[37,{"$f":"IFERROR(_xlfn.FLOOR.MATH(IF(allGymnasts!A40=\"\",\"\",INDEX(allGymnasts!$S$4:$S$103,MATCH(SMALL(allGymnasts!$S$4:$S$103,A40),allGymnasts!$S$4:$S$103,0)))),\"\")","v":""},{"$f":"IFERROR(IF(allGymnasts!A40=\"\",\"\",INDEX(allGymnasts!$A$4:$A$103,MATCH(SMALL(allGymnasts!$S$4:$S$103,A40),allGymnasts!$S$4:$S$103,0))),\"\")","v":""},{"$f":"IFERROR(IF(allGymnasts!B40=\"\",\"\",INDEX(allGymnasts!$B$4:$B$103,MATCH(SMALL(allGymnasts!$S$4:$S$103,A40),allGymnasts!$S$4:$S$103,0))),\"\")","v":""},{"$f":"IFERROR(IF(allGymnasts!C40=\"\",\"\",INDEX(allGymnasts!$C$4:$C$103,MATCH(SMALL(allGymnasts!$S$4:$S$103,A40),allGymnasts!$S$4:$S$103,0))),\"\")","v":""},{"$f":"IFERROR(IF(allGymnasts!D40=\"\",\"\",INDEX(allGymnasts!$D$4:$D$103,MATCH(SMALL(allGymnasts!$S$4:$S$103,A40),allGymnasts!$S$4:$S$103,0))),\"\")","v":""},{"$f":"IFERROR(IF(allGymnasts!B40=\"\",\"\",INDEX(allGymnasts!$O$4:$O$103,MATCH(SMALL(allGymnasts!$S$4:$S$103,A40),allGymnasts!$S$4:$S$103,0))),\"\")","v":""},{"$f":"IFERROR(IF(allGymnasts!B40=\"\",\"\",INDEX(allGymnasts!$P$4:$P$103,MATCH(SMALL(allGymnasts!$S$4:$S$103,A40),allGymnasts!$S$4:$S$103,0))),\"\")","v":""},{"$f":"IFERROR(IF(allGymnasts!B40=\"\",\"\",INDEX(allGymnasts!$Q$4:$Q$103,MATCH(SMALL(allGymnasts!$S$4:$S$103,A40),allGymnasts!$S$4:$S$103,0))),\"\")","v":""},{"$f":"IFERROR(IF(allGymnasts!B40=\"\",\"\",INDEX(allGymnasts!$R$4:$R$103,MATCH(SMALL(allGymnasts!$S$4:$S$103,A40),allGymnasts!$S$4:$S$103,0))),\"\")","v":""}]
[38,{"$f":"IFERROR(_xlfn.FLOOR.MATH(IF(allGymnasts!A41=\"\",\"\",INDEX(allGymnasts!$S$4:$S$103,MATCH(SMALL(allGymnasts!$S$4:$S$103,A41),allGymnasts!$S$4:$S$103,0)))),\"\")","v":""},{"$f":"IFERROR(IF(allGymnasts!A41=\"\",\"\",INDEX(allGymnasts!$A$4:$A$103,MATCH(SMALL(allGymnasts!$S$4:$S$103,A41),allGymnasts!$S$4:$S$103,0))),\"\")","v":""},{"$f":"IFERROR(IF(allGymnasts!B41=\"\",\"\",INDEX(allGymnasts!$B$4:$B$103,MATCH(SMALL(allGymnasts!$S$4:$S$103,A41),allGymnasts!$S$4:$S$103,0))),\"\")","v":""},{"$f":"IFERROR(IF(allGymnasts!C41=\"\",\"\",INDEX(allGymnasts!$C$4:$C$103,MATCH(SMALL(allGymnasts!$S$4:$S$103,A41),allGymnasts!$S$4:$S$103,0))),\"\")","v":""},{"$f":"IFERROR(IF(allGymnasts!D41=\"\",\"\",INDEX(allGymnasts!$D$4:$D$103,MATCH(SMALL(allGymnasts!$S$4:$S$103,A41),allGymnasts!$S$4:$S$103,0))),\"\")","v":""},{"$f":"IFERROR(IF(allGymnasts!B41=\"\",\"\",INDEX(allGymnasts!$O$4:$O$103,MATCH(SMALL(allGymnasts!$S$4:$S$103,A41),allGymnasts!$S$4:$S$103,0))),\"\")","v":""},{"$f":"IFERROR(IF(allGymnasts!B41=\"\",\"\",INDEX(allGymnasts!$P$4:$P$103,MATCH(SMALL(allGymnasts!$S$4:$S$103,A41),allGymnasts!$S$4:$S$103,0))),\"\")","v":""},{"$f":"IFERROR(IF(allGymnasts!B41=\"\",\"\",INDEX(allGymnasts!$Q$4:$Q$103,MATCH(SMALL(allGymnasts!$S$4:$S$103,A41),allGymnasts!$S$4:$S$103,0))),\"\")","v":""},{"$f":"IFERROR(IF(allGymnasts!B41=\"\",\"\",INDEX(allGymnasts!$R$4:$R$103,MATCH(SMALL(allGymnasts!$S$4:$S$103,A41),allGymnasts!$S$4:$S$103,0))),\"\")","v":""}]
[39,{"$f":"IFERROR(_xlfn.FLOOR.MATH(IF(allGymnasts!A42=\"\",\"\",INDEX(allGymnasts!$S$4:$S$103,MATCH(SMALL(allGymnasts!$S$4:$S$103,A42),allGymnasts!$S$4:$S$103,0)))),\"\")","v":""},{"$f":"IFERROR(IF(allGymnasts!A42=\"\",\"\",INDEX(allGymnasts!$A$4:$A$103,MATCH(SMALL(allGymnasts!$S$4:$S$103,A42),allGymnasts!$S$4:$S$103,0))),\"\")","v":""},{"$f":"IFERROR(IF(allGymnasts!B42=\"\",\"\",INDEX(allGymnasts!$B$4:$B$103,MATCH(SMALL(allGymnasts!$S$4:$S$103,A42),allGymnasts!$S$4:$S$103,0))),\"\")","v":""},{"$f":"IFERROR(IF(allGymnasts!C42=\"\",\"\",INDEX(allGymnasts!$C$4:$C$103,MATCH(SMALL(allGymnasts!$S$4:$S$103,A42),allGymnasts!$S$4:$S$103,0))),\"\")","v":""},{"$f":"IFERROR(IF(allGymnasts!D42=\"\",\"\",INDEX(allGymnasts!$D$4:$D$103,MATCH(SMALL(allGymnasts!$S$4:$S$103,A42),allGymnasts!$S$4:$S$103,0))),\"\")","v":""},{"$f":"IFERROR(IF(allGymnasts!B42=\"\",\"\",INDEX(allGymnasts!$O$4:$O$103,MATCH(SMALL(allGymnasts!$S$4:$S$103,A42),allGymnasts!$S$4:$S$103,0))),\"\")","v":""},{"$f":"IFERROR(IF(allGymnasts!B42=\"\",\"\",INDEX(allGymnasts!$P$4:$P$103,MATCH(SMALL(allGymnasts!$S$4:$S$103,A42),allGymnasts!$S$4:$S$103,0))),\"\")","v":""},{"$f":"IFERROR(IF(allGymnasts!B42=\"\",\"\",INDEX(allGymnasts!$Q$4:$Q$103,MATCH(SMALL(allGymnasts!$S$4:$S$103,A42),allGymnasts!$S$4:$S$103,0))),\"\")","v":""},{"$f":"IFERROR(IF(allGymnasts!B42=\"\",\"\",INDEX(allGymnasts!$R$4:$R$103,MATCH(SMALL(allGymnasts!$S$4:$S$103,A42),allGymnasts!$S$4:$S$103,0))),\"\")","v":""}]
[40,{"$f":"IFERROR(_xlfn.FLOOR.MATH(IF(allGymnasts!A43=\"\",\"\",INDEX(allGymnasts!$S$4:$S$103,MATCH(SMALL(allGymnasts!$S$4:$S$103,A43),allGymnasts!$S$4:$S$103,0)))),\"\")","v":""},{"$f":"IFERROR(IF(allGymnasts!A43=\"\",\"\",INDEX(allGymnasts!$A$4:$A$103,MATCH(SMALL(allGymnasts!$S$4:$S$103,A43),allGymnasts!$S$4:$S$103,0))),\"\")","v":""},{"$f":"IFERROR(IF(allGymnasts!B43=\"\",\"\",INDEX(allGymnasts!$B$4:$B$103,MATCH(SMALL(allGymnasts!$S$4:$S$103,A43),allGymnasts!$S$4:$S$103,0))),\"\")","v":""},{"$f":"IFERROR(IF(allGymnasts!C43=\"\",\"\",INDEX(allGymnasts!$C$4:$C$103,MATCH(SMALL(allGymnasts!$S$4:$S$103,A43),allGymnasts!$S$4:$S$103,0))),\"\")","v":""},{"$f":"IFERROR(IF(allGymnasts!D43=\"\",\"\",INDEX(allGymnasts!$D$4:$D$103,MATCH(SMALL(allGymnasts!$S$4:$S$103,A43),allGymnasts!$S$4:$S$103,0))),\"\")","v":""},{"$f":"IFERROR(IF(allGymnasts!B43=\"\",\"\",INDEX(allGymnasts!$O$4:$O$103,MATCH(SMALL(allGymnasts!$S$4:$S$103,A43),allGymnasts!$S$4:$S$103,0))),\"\")","v":""},{"$f":"IFERROR(IF(allGymnasts!B43=\"\",\"\",INDEX(allGymnasts!$P$4:$P$103,MATCH(SMALL(allGymnasts!$S$4:$S$103,A43),allGymnasts!$S$4:$S$103,0))),\"\")","v":""},{"$f":"IFERROR(IF(allGymnasts!B43=\"\",\"\",INDEX(allGymnasts!$Q$4:$Q$103,MATCH(SMALL(allGymnasts!$S$4:$S$103,A43),allGymnasts!$S$4:$S$103,0))),\"\")","v":""},{"$f":"IFERROR(IF(allGymnasts!B43=\"\",\"\",INDEX(allGymnasts!$R$4:$R$103,MATCH(SMALL(allGymnasts!$S$4:$S$103,A43),allGymnasts!$S$4:$S$103,0))),\"\")","v":""}]
[41,{"$f":"IFERROR(_xlfn.FLOOR.MATH(IF(allGymnasts!A44=\"\",\"\",INDEX(allGymnasts!$S$4:$S$103,MATCH(SMALL(allGymnasts!$S$4:$S$103,A44),allGymnasts!$S$4:$S$103,0)))),\"\")","v":""},{"$f":"IFERROR(IF(allGymnasts!A44=\"\",\"\",INDEX(allGymnasts!$A$4:$A$103,MATCH(SMALL(allGymnasts!$S$4:$S$103,A44),allGymnasts!$S$4:$S$103,0))),\"\")","v":""},{"$f":"IFERROR(IF(allGymnasts!B44=\"\",\"\",INDEX(allGymnasts!$B$4:$B$103,MATCH(SMALL(allGymnasts!$S$4:$S$103,A44),allGymnasts!$S$4:$S$103,0))),\"\")","v":""},{"$f":"IFERROR(IF(allGymnasts!C44=\"\",\"\",INDEX(allGymnasts!$C$4:$C$103,MATCH(SMALL(allGymnasts!$S$4:$S$103,A44),allGymnasts!$S$4:$S$103,0))),\"\")","v":""},{"$f":"IFERROR(IF(allGymnasts!D44=\"\",\"\",INDEX(allGymnasts!$D$4:$D$103,MATCH(SMALL(allGymnasts!$S$4:$S$103,A44),allGymnasts!$S$4:$S$103,0))),\"\")","v":""},{"$f":"IFERROR(IF(allGymnasts!B44=\"\",\"\",INDEX(allGymnasts!$O$4:$O$103,MATCH(SMALL(allGymnasts!$S$4:$S$103,A44),allGymnasts!$S$4:$S$103,0))),\"\")","v":""},{"$f":"IFERROR(IF(allGymnasts!B44=\"\",\"\",INDEX(allGymnasts!$P$4:$P$103,MATCH(SMALL(allGymnasts!$S$4:$S$103,A44),allGymnasts!$S$4:$S$103,0))),\"\")","v":""},{"$f":"IFERROR(IF(allGymnasts!B44=\"\",\"\",INDEX(allGymnasts!$Q$4:$Q$103,MATCH(SMALL(allGymnasts!$S$4:$S$103,A44),allGymnasts!$S$4:$S$103,0))),\"\")","v":""},{"$f":"IFERROR(IF(allGymnasts!B44=\"\",\"\",INDEX(allGymnasts!$R$4:$R$103,MATCH(SMALL(allGymnasts!$S$4:$S$103,A44),allGymnasts!$S$4:$S$103,0))),\"\")","v":""}]
[42,{"$f":"IFERROR(_xlfn.FLOOR.MATH(IF(allGymnasts!A45=\"\",\"\",INDEX(allGymnasts!$S$4:$S$103,MATCH(SMALL(allGymnasts!$S$4:$S$103,A45),allGymnasts!$S$4:$S$103,0)))),\"\")","v":""},{"$f":"IFERROR(IF(allGymnasts!A45=\"\",\"\",INDEX(allGymnasts!$A$4:$A$103,MATCH(SMALL(allGymnasts!$S$4:$S$103,A45),allGymnasts!$S$4:$S$103,0))),\"\")","v":""},{"$f":"IFERROR(IF(allGymnasts!B45=\"\",\"\",INDEX(allGymnasts!$B$4:$B$103,MATCH(SMALL(allGymnasts!$S$4:$S$103,A45),allGymnasts!$S$4:$S$103,0))),\"\")","v":""},{"$f":"IFERROR(IF(allGymnasts!C45=\"\",\"\",INDEX(allGymnasts!$C$4:$C$103,MATCH(SMALL(allGymnasts!$S$4:$S$103,A45),allGymnasts!$S$4:$S$103,0))),\"\")","v":""},{"$f":"IFERROR(IF(allGymnasts!D45=\"\",\"\",INDEX(allGymnasts!$D$4:$D$103,MATCH(SMALL(allGymnasts!$S$4:$S$103,A45),allGymnasts!$S$4:$S$103,0))),\"\")","v":""},{"$f":"IFERROR(IF(allGymnasts!B45=\"\",\"\",INDEX(allGymnasts!$O$4:$O$103,MATCH(SMALL(allGymnasts!$S$4:$S$103,A45),allGymnasts!$S$4:$S$103,0))),\"\")","v":""},{"$f":"IFERROR(IF(allGymnasts!B45=\"\",\"\",INDEX(allGymnasts!$P$4:$P$103,MATCH(SMALL(allGymnasts!$S$4:$S$103,A45),allGymnasts!$S$4:$S$103,0))),\"\")","v":""},{"$f":"IFERROR(IF(allGymnasts!B45=\"\",\"\",INDEX(allGymnasts!$Q$4:$Q$103,MATCH(SMALL(allGymnasts!$S$4:$S$103,A45),allGymnasts!$S$4:$S$103,0))),\"\")","v":""},{"$f":"IFERROR(IF(allGymnasts!B45=\"\",\"\",INDEX(allGymnasts!$R$4:$R$103,MATCH(SMALL(allGymnasts!$S$4:$S$103,A45),allGymnasts!$S$4:$S$103,0))),\"\")","v":""}]
[43,{"$f":"IFERROR(_xlfn.FLOOR.MATH(IF(allGymnasts!A46=\"\",\"\",INDEX(allGymnasts!$S$4:$S$103,MATCH(SMALL(allGymnasts!$S$4:$S$103,A46),allGymnasts!$S$4:$S$103,0)))),\"\")","v":""},{"$f":"IFERROR(IF(allGymnasts!A46=\"\",\"\",INDEX(allGymnasts!$A$4:$A$103,MATCH(SMALL(allGymnasts!$S$4:$S$103,A46),allGymnasts!$S$4:$S$103,0))),\"\")","v":""},{"$f":"IFERROR(IF(allGymnasts!B46=\"\",\"\",INDEX(allGymnasts!$B$4:$B$103,MATCH(SMALL(allGymnasts!$S$4:$S$103,A46),allGymnasts!$S$4:$S$103,0))),\"\")","v":""},{"$f":"IFERROR(IF(allGymnasts!C46=\"\",\"\",INDEX(allGymnasts!$C$4:$C$103,MATCH(SMALL(allGymnasts!$S$4:$S$103,A46),allGymnasts!$S$4:$S$103,0))),\"\")","v":""},{"$f":"IFERROR(IF(allGymnasts!D46=\"\",\"\",INDEX(allGymnasts!$D$4:$D$103,MATCH(SMALL(allGymnasts!$S$4:$S$103,A46),allGymnasts!$S$4:$S$103,0))),\"\")","v":""},{"$f":"IFERROR(IF(allGymnasts!B46=\"\",\"\",INDEX(allGymnasts!$O$4:$O$103,MATCH(SMALL(allGymnasts!$S$4:$S$103,A46),allGymnasts!$S$4:$S$103,0))),\"\")","v":""},{"$f":"IFERROR(IF(allGymnasts!B46=\"\",\"\",INDEX(allGymnasts!$P$4:$P$103,MATCH(SMALL(allGymnasts!$S$4:$S$103,A46),allGymnasts!$S$4:$S$103,0))),\"\")","v":""},{"$f":"IFERROR(IF(allGymnasts!B46=\"\",\"\",INDEX(allGymnasts!$Q$4:$Q$103,MATCH(SMALL(allGymnasts!$S$4:$S$103,A46),allGymnasts!$S$4:$S$103,0))),\"\")","v":""},{"$f":"IFERROR(IF(allGymnasts!B46=\"\",\"\",INDEX(allGymnasts!$R$4:$R$103,MATCH(SMALL(allGymnasts!$S$4:$S$103,A46),allGymnasts!$S$4:$S$103,0))),\"\")","v":""}]
[44,{"$f":"IFERROR(_xlfn.FLOOR.MATH(IF(allGymnasts!A47=\"\",\"\",INDEX(allGymnasts!$S$4:$S$103,MATCH(SMALL(allGymnasts!$S$4:$S$103,A47),allGymnasts!$S$4:$S$103,0)))),\"\")","v":""},{"$f":"IFERROR(IF(allGymnasts!A47=\"\",\"\",INDEX(allGymnasts!$A$4:$A$103,MATCH(SMALL(allGymnasts!$S$4:$S$103,A47),allGymnasts!$S$4:$S$103,0))),\"\")","v":""},{"$f":"IFERROR(IF(allGymnasts!B47=\"\",\"\",INDEX(allGymnasts!$B$4:$B$103,MATCH(SMALL(allGymnasts!$S$4:$S$103,A47),allGymnasts!$S$4:$S$103,0))),\"\")","v":""},{"$f":"IFERROR(IF(allGymnasts!C47=\"\",\"\",INDEX(allGymnasts!$C$4:$C$103,MATCH(SMALL(allGymnasts!$S$4:$S$103,A47),allGymnasts!$S$4:$S$103,0))),\"\")","v":""},{"$f":"IFERROR(IF(allGymnasts!D47=\"\",\"\",INDEX(allGymnasts!$D$4:$D$103,MATCH(SMALL(allGymnasts!$S$4:$S$103,A47),allGymnasts!$S$4:$S$103,0))),\"\")","v":""},{"$f":"IFERROR(IF(allGymnasts!B47=\"\",\"\",INDEX(allGymnasts!$O$4:$O$103,MATCH(SMALL(allGymnasts!$S$4:$S$103,A47),allGymnasts!$S$4:$S$103,0))),\"\")","v":""},{"$f":"IFERROR(IF(allGymnasts!B47=\"\",\"\",INDEX(allGymnasts!$P$4:$P$103,MATCH(SMALL(allGymnasts!$S$4:$S$103,A47),allGymnasts!$S$4:$S$103,0))),\"\")","v":""},{"$f":"IFERROR(IF(allGymnasts!B47=\"\",\"\",INDEX(allGymnasts!$Q$4:$Q$103,MATCH(SMALL(allGymnasts!$S$4:$S$103,A47),allGymnasts!$S$4:$S$103,0))),\"\")","v":""},{"$f":"IFERROR(IF(allGymnasts!B47=\"\",\"\",INDEX(allGymnasts!$R$4:$R$103,MATCH(SMALL(allGymnasts!$S$4:$S$103,A47),allGymnasts!$S$4:$S$103,0))),\"\")","v":""}]
[45,{"$f":"IFERROR(_xlfn.FLOOR.MATH(IF(allGymnasts!A48=\"\",\"\",INDEX(allGymnasts!$S$4:$S$103,MATCH(SMALL(allGymnasts!$S$4:$S$103,A48),allGymnasts!$S$4:$S$103,0)))),\"\")","v":""},{"$f":"IFERROR(IF(allGymnasts!A48=\"\",\"\",INDEX(allGymnasts!$A$4:$A$103,MATCH(SMALL(allGymnasts!$S$4:$S$103,A48),allGymnasts!$S$4:$S$103,0))),\"\")","v":""},{"$f":"IFERROR(IF(allGymnasts!B48=\"\",\"\",INDEX(allGymnasts!$B$4:$B$103,MATCH(SMALL(allGymnasts!$S$4:$S$103,A48),allGymnasts!$S$4:$S$103,0))),\"\")","v":""},{"$f":"IFERROR(IF(allGymnasts!C48=\"\",\"\",INDEX(allGymnasts!$C$4:$C$103,MATCH(SMALL(allGymnasts!$S$4:$S$103,A48),allGymnasts!$S$4:$S$103,0))),\"\")","v":""},{"$f":"IFERROR(IF(allGymnasts!D48=\"\",\"\",INDEX(allGymnasts!$D$4:$D$103,MATCH(SMALL(allGymnasts!$S$4:$S$103,A48),allGymnasts!$S$4:$S$103,0))),\"\")","v":""},{"$f":"IFERROR(IF(allGymnasts!B48=\"\",\"\",INDEX(allGymnasts!$O$4:$O$103,MATCH(SMALL(allGymnasts!$S$4:$S$103,A48),allGymnasts!$S$4:$S$103,0))),\"\")","v":""},{"$f":"IFERROR(IF(allGymnasts!B48=\"\",\"\",INDEX(allGymnasts!$P$4:$P$103,MATCH(SMALL(allGymnasts!$S$4:$S$103,A48),allGymnasts!$S$4:$S$103,0))),\"\")","v":""},{"$f":"IFERROR(IF(allGymnasts!B48=\"\",\"\",INDEX(allGymnasts!$Q$4:$Q$103,MATCH(SMALL(allGymnasts!$S$4:$S$103,A48),allGymnasts!$S$4:$S$103,0))),\"\")","v":""},{"$f":"IFERROR(IF(allGymnasts!B48=\"\",\"\",INDEX(allGymnasts!$R$4:$R$103,MATCH(SMALL(allGymnasts!$S$4:$S$103,A48),allGymnasts!$S$4:$S$103,0))),\"\")","v":""}]
[46,{"$f":"IFERROR(_xlfn.FLOOR.MATH(IF(allGymnasts!A49=\"\",\"\",INDEX(allGymnasts!$S$4:$S$103,MATCH(SMALL(allGymnasts!$S$4:$S$103,A49),allGymnasts!$S$4:$S$103,0)))),\"\")","v":""},{"$f":"IFERROR(IF(allGymnasts!A49=\"\",\"\",INDEX(allGymnasts!$A$4:$A$103,MATCH(SMALL(allGymnasts!$S$4:$S$103,A49),allGymnasts!$S$4:$S$103,0))),\"\")","v":""},{"$f":"IFERROR(IF(allGymnasts!B49=\"\",\"\",INDEX(allGymnasts!$B$4:$B$103,MATCH(SMALL(allGymnasts!$S$4:$S$103,A49),allGymnasts!$S$4:$S$103,0))),\"\")","v":""},{"$f":"IFERROR(IF(allGymnasts!C49=\"\",\"\",INDEX(allGymnasts!$C$4:$C$103,MATCH(SMALL(allGymnasts!$S$4:$S$103,A49),allGymnasts!$S$4:$S$103,0))),\"\")","v":""},{"$f":"IFERROR(IF(allGymnasts!D49=\"\",\"\",INDEX(allGymnasts!$D$4:$D$103,MATCH(SMALL(allGymnasts!$S$4:$S$103,A49),allGymnasts!$S$4:$S$103,0))),\"\")","v":""},{"$f":"IFERROR(IF(allGymnasts!B49=\"\",\"\",INDEX(allGymnasts!$O$4:$O$103,MATCH(SMALL(allGymnasts!$S$4:$S$103,A49),allGymnasts!$S$4:$S$103,0))),\"\")","v":""},{"$f":"IFERROR(IF(allGymnasts!B49=\"\",\"\",INDEX(allGymnasts!$P$4:$P$103,MATCH(SMALL(allGymnasts!$S$4:$S$103,A49),allGymnasts!$S$4:$S$103,0))),\"\")","v":""},{"$f":"IFERROR(IF(allGymnasts!B49=\"\",\"\",INDEX(allGymnasts!$Q$4:$Q$103,MATCH(SMALL(allGymnasts!$S$4:$S$103,A49),allGymnasts!$S$4:$S$103,0))),\"\")","v":""},{"$f":"IFERROR(IF(allGymnasts!B49=\"\",\"\",INDEX(allGymnasts!$R$4:$R$103,MATCH(SMALL(allGymnasts!$S$4:$S$103,A49),allGymnasts!$S$4:$S$103,0))),\"\")","v":""}]
[47,{"$f":"IFERROR(_xlfn.FLOOR.MATH(IF(allGymnasts!A50=\"\",\"\",INDEX(allGymnasts!$S$4:$S$103,MATCH(SMALL(allGymnasts!$S$4:$S$103,A50),allGymnasts!$S$4:$S$103,0)))),\"\")","v":""},{"$f":"IFERROR(IF(allGymnasts!A50=\"\",\"\",INDEX(allGymnasts!$A$4:$A$103,MATCH(SMALL(allGymnasts!$S$4:$S$103,A50),allGymnasts!$S$4:$S$103,0))),\"\")","v":""},{"$f":"IFERROR(IF(allGymnasts!B50=\"\",\"\",INDEX(allGymnasts!$B$4:$B$103,MATCH(SMALL(allGymnasts!$S$4:$S$103,A50),allGymnasts!$S$4:$S$103,0))),\"\")","v":""},{"$f":"IFERROR(IF(allGymnasts!C50=\"\",\"\",INDEX(allGymnasts!$C$4:$C$103,MATCH(SMALL(allGymnasts!$S$4:$S$103,A50),allGymnasts!$S$4:$S$103,0))),\"\")","v":""},{"$f":"IFERROR(IF(allGymnasts!D50=\"\",\"\",INDEX(allGymnasts!$D$4:$D$103,MATCH(SMALL(allGymnasts!$S$4:$S$103,A50),allGymnasts!$S$4:$S$103,0))),\"\")","v":""},{"$f":"IFERROR(IF(allGymnasts!B50=\"\",\"\",INDEX(allGymnasts!$O$4:$O$103,MATCH(SMALL(allGymnasts!$S$4:$S$103,A50),allGymnasts!$S$4:$S$103,0))),\"\")","v":""},{"$f":"IFERROR(IF(allGymnasts!B50=\"\",\"\",INDEX(allGymnasts!$P$4:$P$103,MATCH(SMALL(allGymnasts!$S$4:$S$103,A50),allGymnasts!$S$4:$S$103,0))),\"\")","v":""},{"$f":"IFERROR(IF(allGymnasts!B50=\"\",\"\",INDEX(allGymnasts!$Q$4:$Q$103,MATCH(SMALL(allGymnasts!$S$4:$S$103,A50),allGymnasts!$S$4:$S$103,0))),\"\")","v":""},{"$f":"IFERROR(IF(allGymnasts!B50=\"\",\"\",INDEX(allGymnasts!$R$4:$R$103,MATCH(SMALL(allGymnasts!$S$4:$S$103,A50),allGymnasts!$S$4:$S$103,0))),\"\")","v":""}]
[48,{"$f":"IFERROR(_xlfn.FLOOR.MATH(IF(allGymnasts!A51=\"\",\"\",INDEX(allGymnasts!$S$4:$S$103,MATCH(SMALL(allGymnasts!$S$4:$S$103,A51),allGymnasts!$S$4:$S$103,0)))),\"\")","v":""},{"$f":"IFERROR(IF(allGymnasts!A51=\"\",\"\",INDEX(allGymnasts!$A$4:$A$103,MATCH(SMALL(allGymnasts!$S$4:$S$103,A51),allGymnasts!$S$4:$S$103,0))),\"\")","v":""},{"$f":"IFERROR(IF(allGymnasts!B51=\"\",\"\",INDEX(allGymnasts!$B$4:$B$103,MATCH(SMALL(allGymnasts!$S$4:$S$103,A51),allGymnasts!$S$4:$S$103,0))),\"\")","v":""},{"$f":"IFERROR(IF(allGymnasts!C51=\"\",\"\",INDEX(allGymnasts!$C$4:$C$103,MATCH(SMALL(allGymnasts!$S$4:$S$103,A51),allGymnasts!$S$4:$S$103,0))),\"\")","v":""},{"$f":"IFERROR(IF(allGymnasts!D51=\"\",\"\",INDEX(allGymnasts!$D$4:$D$103,MATCH(SMALL(allGymnasts!$S$4:$S$103,A51),allGymnasts!$S$4:$S$103,0))),\"\")","v":""},{"$f":"IFERROR(IF(allGymnasts!B51=\"\",\"\",INDEX(allGymnasts!$O$4:$O$103,MATCH(SMALL(allGymnasts!$S$4:$S$103,A51),allGymnasts!$S$4:$S$103,0))),\"\")","v":""},{"$f":"IFERROR(IF(allGymnasts!B51=\"\",\"\",INDEX(allGymnasts!$P$4:$P$103,MATCH(SMALL(allGymnasts!$S$4:$S$103,A51),allGymnasts!$S$4:$S$103,0))),\"\")","v":""},{"$f":"IFERROR(IF(allGymnasts!B51=\"\",\"\",INDEX(allGymnasts!$Q$4:$Q$103,MATCH(SMALL(allGymnasts!$S$4:$S$103,A51),allGymnasts!$S$4:$S$103,0))),\"\")","v":""},{"$f":"IFERROR(IF(allGymnasts!B51=\"\",\"\",INDEX(allGymnasts!$R$4:$R$103,MATCH(SMALL(allGymnasts!$S$4:$S$103,A51),allGymnasts!$S$4:$S$103,0))),\"\")","v":""}]
[49,{"$f":"IFERROR(_xlfn.FLOOR.MATH(IF(allGymnasts!A52=\"\",\"\",INDEX(allGymnasts!$S$4:$S$103,MATCH(SMALL(allGymnasts!$S$4:$S$103,A52),allGymnasts!$S$4:$S$103,0)))),\"\")","v":""},{"$f":"IFERROR(IF(allGymnasts!A52=\"\",\"\",INDEX(allGymnasts!$A$4:$A$103,MATCH(SMALL(allGymnasts!$S$4:$S$103,A52),allGymnasts!$S$4:$S$103,0))),\"\")","v":""},{"$f":"IFERROR(IF(allGymnasts!B52=\"\",\"\",INDEX(allGymnasts!$B$4:$B$103,MATCH(SMALL(allGymnasts!$S$4:$S$103,A52),allGymnasts!$S$4:$S$103,0))),\"\")","v":""},{"$f":"IFERROR(IF(allGymnasts!C52=\"\",\"\",INDEX(allGymnasts!$C$4:$C$103,MATCH(SMALL(allGymnasts!$S$4:$S$103,A52),allGymnasts!$S$4:$S$103,0))),\"\")","v":""},{"$f":"IFERROR(IF(allGymnasts!D52=\"\",\"\",INDEX(allGymnasts!$D$4:$D$103,MATCH(SMALL(allGymnasts!$S$4:$S$103,A52),allGymnasts!$S$4:$S$103,0))),\"\")","v":""},{"$f":"IFERROR(IF(allGymnasts!B52=\"\",\"\",INDEX(allGymnasts!$O$4:$O$103,MATCH(SMALL(allGymnasts!$S$4:$S$103,A52),allGymnasts!$S$4:$S$103,0))),\"\")","v":""},{"$f":"IFERROR(IF(allGymnasts!B52=\"\",\"\",INDEX(allGymnasts!$P$4:$P$103,MATCH(SMALL(allGymnasts!$S$4:$S$103,A52),allGymnasts!$S$4:$S$103,0))),\"\")","v":""},{"$f":"IFERROR(IF(allGymnasts!B52=\"\",\"\",INDEX(allGymnasts!$Q$4:$Q$103,MATCH(SMALL(allGymnasts!$S$4:$S$103,A52),allGymnasts!$S$4:$S$103,0))),\"\")","v":""},{"$f":"IFERROR(IF(allGymnasts!B52=\"\",\"\",INDEX(allGymnasts!$R$4:$R$103,MATCH(SMALL(allGymnasts!$S$4:$S$103,A52),allGymnasts!$S$4:$S$103,0))),\"\")","v":""}]
[50,{"$f":"IFERROR(_xlfn.FLOOR.MATH(IF(allGymnasts!A53=\"\",\"\",INDEX(allGymnasts!$S$4:$S$103,MATCH(SMALL(allGymnasts!$S$4:$S$103,A53),allGymnasts!$S$4:$S$103,0)))),\"\")","v":""},{"$f":"IFERROR(IF(allGymnasts!A53=\"\",\"\",INDEX(allGymnasts!$A$4:$A$103,MATCH(SMALL(allGymnasts!$S$4:$S$103,A53),allGymnasts!$S$4:$S$103,0))),\"\")","v":""},{"$f":"IFERROR(IF(allGymnasts!B53=\"\",\"\",INDEX(allGymnasts!$B$4:$B$103,MATCH(SMALL(allGymnasts!$S$4:$S$103,A53),allGymnasts!$S$4:$S$103,0))),\"\")","v":""},{"$f":"IFERROR(IF(allGymnasts!C53=\"\",\"\",INDEX(allGymnasts!$C$4:$C$103,MATCH(SMALL(allGymnasts!$S$4:$S$103,A53),allGymnasts!$S$4:$S$103,0))),\"\")","v":""},{"$f":"IFERROR(IF(allGymnasts!D53=\"\",\"\",INDEX(allGymnasts!$D$4:$D$103,MATCH(SMALL(allGymnasts!$S$4:$S$103,A53),allGymnasts!$S$4:$S$103,0))),\"\")","v":""},{"$f":"IFERROR(IF(allGymnasts!B53=\"\",\"\",INDEX(allGymnasts!$O$4:$O$103,MATCH(SMALL(allGymnasts!$S$4:$S$103,A53),allGymnasts!$S$4:$S$103,0))),\"\")","v":""},{"$f":"IFERROR(IF(allGymnasts!B53=\"\",\"\",INDEX(allGymnasts!$P$4:$P$103,MATCH(SMALL(allGymnasts!$S$4:$S$103,A53),allGymnasts!$S$4:$S$103,0))),\"\")","v":""},{"$f":"IFERROR(IF(allGymnasts!B53=\"\",\"\",INDEX(allGymnasts!$Q$4:$Q$103,MATCH(SMALL(allGymnasts!$S$4:$S$103,A53),allGymnasts!$S$4:$S$103,0))),\"\")","v":""},{"$f":"IFERROR(IF(allGymnasts!B53=\"\",\"\",INDEX(allGymnasts!$R$4:$R$103,MATCH(SMALL(allGymnasts!$S$4:$S$103,A53),allGymnasts!$S$4:$S$103,0))),\"\")","v":""}]
[51,{"$f":"IFERROR(_xlfn.FLOOR.MATH(IF(allGymnasts!A54=\"\",\"\",INDEX(allGymnasts!$S$4:$S$103,MATCH(SMALL(allGymnasts!$S$4:$S$103,A54),allGymnasts!$S$4:$S$103,0)))),\"\")","v":""},{"$f":"IFERROR(IF(allGymnasts!A54=\"\",\"\",INDEX(allGymnasts!$A$4:$A$103,MATCH(SMALL(allGymnasts!$S$4:$S$103,A54),allGymnasts!$S$4:$S$103,0))),\"\")","v":""},{"$f":"IFERROR(IF(allGymnasts!B54=\"\",\"\",INDEX(allGymnasts!$B$4:$B$103,MATCH(SMALL(allGymnasts!$S$4:$S$103,A54),allGymnasts!$S$4:$S$103,0))),\"\")","v":""},{"$f":"IFERROR(IF(allGymnasts!C54=\"\",\"\",INDEX(allGymnasts!$C$4:$C$103,MATCH(SMALL(allGymnasts!$S$4:$S$103,A54),allGymnasts!$S$4:$S$103,0))),\"\")","v":""},{"$f":"IFERROR(IF(allGymnasts!D54=\"\",\"\",INDEX(allGymnasts!$D$4:$D$103,MATCH(SMALL(allGymnasts!$S$4:$S$103,A54),allGymnasts!$S$4:$S$103,0))),\"\")","v":""},{"$f":"IFERROR(IF(allGymnasts!B54=\"\",\"\",INDEX(allGymnasts!$O$4:$O$103,MATCH(SMALL(allGymnasts!$S$4:$S$103,A54),allGymnasts!$S$4:$S$103,0))),\"\")","v":""},{"$f":"IFERROR(IF(allGymnasts!B54=\"\",\"\",INDEX(allGymnasts!$P$4:$P$103,MATCH(SMALL(allGymnasts!$S$4:$S$103,A54),allGymnasts!$S$4:$S$103,0))),\"\")","v":""},{"$f":"IFERROR(IF(allGymnasts!B54=\"\",\"\",INDEX(allGymnasts!$Q$4:$Q$103,MATCH(SMALL(allGymnasts!$S$4:$S$103,A54),allGymnasts!$S$4:$S$103,0))),\"\")","v":""},{"$f":"IFERROR(IF(allGymnasts!B54=\"\",\"\",INDEX(allGymnasts!$R$4:$R$103,MATCH(SMALL(allGymnasts!$S$4:$S$103,A54),allGymnasts!$S$4:$S$103,0))),\"\")","v":""}]
[52,{"$f":"IFERROR(_xlfn.FLOOR.MATH(IF(allGymnasts!A55=\"\",\"\",INDEX(allGymnasts!$S$4:$S$103,MATCH(SMALL(allGymnasts!$S$4:$S$103,A55),allGymnasts!$S$4:$S$103,0)))),\"\")","v":""},{"$f":"IFERROR(IF(allGymnasts!A55=\"\",\"\",INDEX(allGymnasts!$A$4:$A$103,MATCH(SMALL(allGymnasts!$S$4:$S$103,A55),allGymnasts!$S$4:$S$103,0))),\"\")","v":""},{"$f":"IFERROR(IF(allGymnasts!B55=\"\",\"\",INDEX(allGymnasts!$B$4:$B$103,MATCH(SMALL(allGymnasts!$S$4:$S$103,A55),allGymnasts!$S$4:$S$103,0))),\"\")","v":""},{"$f":"IFERROR(IF(allGymnasts!C55=\"\",\"\",INDEX(allGymnasts!$C$4:$C$103,MATCH(SMALL(allGymnasts!$S$4:$S$103,A55),allGymnasts!$S$4:$S$103,0))),\"\")","v":""},{"$f":"IFERROR(IF(allGymnasts!D55=\"\",\"\",INDEX(allGymnasts!$D$4:$D$103,MATCH(SMALL(allGymnasts!$S$4:$S$103,A55),allGymnasts!$S$4:$S$103,0))),\"\")","v":""},{"$f":"IFERROR(IF(allGymnasts!B55=\"\",\"\",INDEX(allGymnasts!$O$4:$O$103,MATCH(SMALL(allGymnasts!$S$4:$S$103,A55),allGymnasts!$S$4:$S$103,0))),\"\")","v":""},{"$f":"IFERROR(IF(allGymnasts!B55=\"\",\"\",INDEX(allGymnasts!$P$4:$P$103,MATCH(SMALL(allGymnasts!$S$4:$S$103,A55),allGymnasts!$S$4:$S$103,0))),\"\")","v":""},{"$f":"IFERROR(IF(allGymnasts!B55=\"\",\"\",INDEX(allGymnasts!$Q$4:$Q$103,MATCH(SMALL(allGymnasts!$S$4:$S$103,A55),allGymnasts!$S$4:$S$103,0))),\"\")","v":""},{"$f":"IFERROR(IF(allGymnasts!B55=\"\",\"\",INDEX(allGymnasts!$R$4:$R$103,MATCH(SMALL(allGymnasts!$S$4:$S$103,A55),allGymnasts!$S$4:$S$103,0))),\"\")","v":""}]
[53,{"$f":"IFERROR(_xlfn.FLOOR.MATH(IF(allGymnasts!A56=\"\",\"\",INDEX(allGymnasts!$S$4:$S$103,MATCH(SMALL(allGymnasts!$S$4:$S$103,A56),allGymnasts!$S$4:$S$103,0)))),\"\")","v":""},{"$f":"IFERROR(IF(allGymnasts!A56=\"\",\"\",INDEX(allGymnasts!$A$4:$A$103,MATCH(SMALL(allGymnasts!$S$4:$S$103,A56),allGymnasts!$S$4:$S$103,0))),\"\")","v":""},{"$f":"IFERROR(IF(allGymnasts!B56=\"\",\"\",INDEX(allGymnasts!$B$4:$B$103,MATCH(SMALL(allGymnasts!$S$4:$S$103,A56),allGymnasts!$S$4:$S$103,0))),\"\")","v":""},{"$f":"IFERROR(IF(allGymnasts!C56=\"\",\"\",INDEX(allGymnasts!$C$4:$C$103,MATCH(SMALL(allGymnasts!$S$4:$S$103,A56),allGymnasts!$S$4:$S$103,0))),\"\")","v":""},{"$f":"IFERROR(IF(allGymnasts!D56=\"\",\"\",INDEX(allGymnasts!$D$4:$D$103,MATCH(SMALL(allGymnasts!$S$4:$S$103,A56),allGymnasts!$S$4:$S$103,0))),\"\")","v":""},{"$f":"IFERROR(IF(allGymnasts!B56=\"\",\"\",INDEX(allGymnasts!$O$4:$O$103,MATCH(SMALL(allGymnasts!$S$4:$S$103,A56),allGymnasts!$S$4:$S$103,0))),\"\")","v":""},{"$f":"IFERROR(IF(allGymnasts!B56=\"\",\"\",INDEX(allGymnasts!$P$4:$P$103,MATCH(SMALL(allGymnasts!$S$4:$S$103,A56),allGymnasts!$S$4:$S$103,0))),\"\")","v":""},{"$f":"IFERROR(IF(allGymnasts!B56=\"\",\"\",INDEX(allGymnasts!$Q$4:$Q$103,MATCH(SMALL(allGymnasts!$S$4:$S$103,A56),allGymnasts!$S$4:$S$103,0))),\"\")","v":""},{"$f":"IFERROR(IF(allGymnasts!B56=\"\",\"\",INDEX(allGymnasts!$R$4:$R$103,MATCH(SMALL(allGymnasts!$S$4:$S$103,A56),allGymnasts!$S$4:$S$103,0))),\"\")","v":""}]
[54,{"$f":"IFERROR(_xlfn.FLOOR.MATH(IF(allGymnasts!A57=\"\",\"\",INDEX(allGymnasts!$S$4:$S$103,MATCH(SMALL(allGymnasts!$S$4:$S$103,A57),allGymnasts!$S$4:$S$103,0)))),\"\")","v":""},{"$f":"IFERROR(IF(allGymnasts!A57=\"\",\"\",INDEX(allGymnasts!$A$4:$A$103,MATCH(SMALL(allGymnasts!$S$4:$S$103,A57),allGymnasts!$S$4:$S$103,0))),\"\")","v":""},{"$f":"IFERROR(IF(allGymnasts!B57=\"\",\"\",INDEX(allGymnasts!$B$4:$B$103,MATCH(SMALL(allGymnasts!$S$4:$S$103,A57),allGymnasts!$S$4:$S$103,0))),\"\")","v":""},{"$f":"IFERROR(IF(allGymnasts!C57=\"\",\"\",INDEX(allGymnasts!$C$4:$C$103,MATCH(SMALL(allGymnasts!$S$4:$S$103,A57),allGymnasts!$S$4:$S$103,0))),\"\")","v":""},{"$f":"IFERROR(IF(allGymnasts!D57=\"\",\"\",INDEX(allGymnasts!$D$4:$D$103,MATCH(SMALL(allGymnasts!$S$4:$S$103,A57),allGymnasts!$S$4:$S$103,0))),\"\")","v":""},{"$f":"IFERROR(IF(allGymnasts!B57=\"\",\"\",INDEX(allGymnasts!$O$4:$O$103,MATCH(SMALL(allGymnasts!$S$4:$S$103,A57),allGymnasts!$S$4:$S$103,0))),\"\")","v":""},{"$f":"IFERROR(IF(allGymnasts!B57=\"\",\"\",INDEX(allGymnasts!$P$4:$P$103,MATCH(SMALL(allGymnasts!$S$4:$S$103,A57),allGymnasts!$S$4:$S$103,0))),\"\")","v":""},{"$f":"IFERROR(IF(allGymnasts!B57=\"\",\"\",INDEX(allGymnasts!$Q$4:$Q$103,MATCH(SMALL(allGymnasts!$S$4:$S$103,A57),allGymnasts!$S$4:$S$103,0))),\"\")","v":""},{"$f":"IFERROR(IF(allGymnasts!B57=\"\",\"\",INDEX(allGymnasts!$R$4:$R$103,MATCH(SMALL(allGymnasts!$S$4:$S$103,A57),allGymnasts!$S$4:$S$103,0))),\"\")","v":""}]
[55,{"$f":"IFERROR(_xlfn.FLOOR.MATH(IF(allGymnasts!A58=\"\",\"\",INDEX(allGymnasts!$S$4:$S$103,MATCH(SMALL(allGymnasts!$S$4:$S$103,A58),allGymnasts!$S$4:$S$103,0)))),\"\")","v":""},{"$f":"IFERROR(IF(allGymnasts!A58=\"\",\"\",INDEX(allGymnasts!$A$4:$A$103,MATCH(SMALL(allGymnasts!$S$4:$S$103,A58),allGymnasts!$S$4:$S$103,0))),\"\")","v":""},{"$f":"IFERROR(IF(allGymnasts!B58=\"\",\"\",INDEX(allGymnasts!$B$4:$B$103,MATCH(SMALL(allGymnasts!$S$4:$S$103,A58),allGymnasts!$S$4:$S$103,0))),\"\")","v":""},{"$f":"IFERROR(IF(allGymnasts!C58=\"\",\"\",INDEX(allGymnasts!$C$4:$C$103,MATCH(SMALL(allGymnasts!$S$4:$S$103,A58),allGymnasts!$S$4:$S$103,0))),\"\")","v":""},{"$f":"IFERROR(IF(allGymnasts!D58=\"\",\"\",INDEX(allGymnasts!$D$4:$D$103,MATCH(SMALL(allGymnasts!$S$4:$S$103,A58),allGymnasts!$S$4:$S$103,0))),\"\")","v":""},{"$f":"IFERROR(IF(allGymnasts!B58=\"\",\"\",INDEX(allGymnasts!$O$4:$O$103,MATCH(SMALL(allGymnasts!$S$4:$S$103,A58),allGymnasts!$S$4:$S$103,0))),\"\")","v":""},{"$f":"IFERROR(IF(allGymnasts!B58=\"\",\"\",INDEX(allGymnasts!$P$4:$P$103,MATCH(SMALL(allGymnasts!$S$4:$S$103,A58),allGymnasts!$S$4:$S$103,0))),\"\")","v":""},{"$f":"IFERROR(IF(allGymnasts!B58=\"\",\"\",INDEX(allGymnasts!$Q$4:$Q$103,MATCH(SMALL(allGymnasts!$S$4:$S$103,A58),allGymnasts!$S$4:$S$103,0))),\"\")","v":""},{"$f":"IFERROR(IF(allGymnasts!B58=\"\",\"\",INDEX(allGymnasts!$R$4:$R$103,MATCH(SMALL(allGymnasts!$S$4:$S$103,A58),allGymnasts!$S$4:$S$103,0))),\"\")","v":""}]
[56,{"$f":"IFERROR(_xlfn.FLOOR.MATH(IF(allGymnasts!A59=\"\",\"\",INDEX(allGymnasts!$S$4:$S$103,MATCH(SMALL(allGymnasts!$S$4:$S$103,A59),allGymnasts!$S$4:$S$103,0)))),\"\")","v":""},{"$f":"IFERROR(IF(allGymnasts!A59=\"\",\"\",INDEX(allGymnasts!$A$4:$A$103,MATCH(SMALL(allGymnasts!$S$4:$S$103,A59),allGymnasts!$S$4:$S$103,0))),\"\")","v":""},{"$f":"IFERROR(IF(allGymnasts!B59=\"\",\"\",INDEX(allGymnasts!$B$4:$B$103,MATCH(SMALL(allGymnasts!$S$4:$S$103,A59),allGymnasts!$S$4:$S$103,0))),\"\")","v":""},{"$f":"IFERROR(IF(allGymnasts!C59=\"\",\"\",INDEX(allGymnasts!$C$4:$C$103,MATCH(SMALL(allGymnasts!$S$4:$S$103,A59),allGymnasts!$S$4:$S$103,0))),\"\")","v":""},{"$f":"IFERROR(IF(allGymnasts!D59=\"\",\"\",INDEX(allGymnasts!$D$4:$D$103,MATCH(SMALL(allGymnasts!$S$4:$S$103,A59),allGymnasts!$S$4:$S$103,0))),\"\")","v":""},{"$f":"IFERROR(IF(allGymnasts!B59=\"\",\"\",INDEX(allGymnasts!$O$4:$O$103,MATCH(SMALL(allGymnasts!$S$4:$S$103,A59),allGymnasts!$S$4:$S$103,0))),\"\")","v":""},{"$f":"IFERROR(IF(allGymnasts!B59=\"\",\"\",INDEX(allGymnasts!$P$4:$P$103,MATCH(SMALL(allGymnasts!$S$4:$S$103,A59),allGymnasts!$S$4:$S$103,0))),\"\")","v":""},{"$f":"IFERROR(IF(allGymnasts!B59=\"\",\"\",INDEX(allGymnasts!$Q$4:$Q$103,MATCH(SMALL(allGymnasts!$S$4:$S$103,A59),allGymnasts!$S$4:$S$103,0))),\"\")","v":""},{"$f":"IFERROR(IF(allGymnasts!B59=\"\",\"\",INDEX(allGymnasts!$R$4:$R$103,MATCH(SMALL(allGymnasts!$S$4:$S$103,A59),allGymnasts!$S$4:$S$103,0))),\"\")","v":""}]
[57,{"$f":"IFERROR(_xlfn.FLOOR.MATH(IF(allGymnasts!A60=\"\",\"\",INDEX(allGymnasts!$S$4:$S$103,MATCH(SMALL(allGymnasts!$S$4:$S$103,A60),allGymnasts!$S$4:$S$103,0)))),\"\")","v":""},{"$f":"IFERROR(IF(allGymnasts!A60=\"\",\"\",INDEX(allGymnasts!$A$4:$A$103,MATCH(SMALL(allGymnasts!$S$4:$S$103,A60),allGymnasts!$S$4:$S$103,0))),\"\")","v":""},{"$f":"IFERROR(IF(allGymnasts!B60=\"\",\"\",INDEX(allGymnasts!$B$4:$B$103,MATCH(SMALL(allGymnasts!$S$4:$S$103,A60),allGymnasts!$S$4:$S$103,0))),\"\")","v":""},{"$f":"IFERROR(IF(allGymnasts!C60=\"\",\"\",INDEX(allGymnasts!$C$4:$C$103,MATCH(SMALL(allGymnasts!$S$4:$S$103,A60),allGymnasts!$S$4:$S$103,0))),\"\")","v":""},{"$f":"IFERROR(IF(allGymnasts!D60=\"\",\"\",INDEX(allGymnasts!$D$4:$D$103,MATCH(SMALL(allGymnasts!$S$4:$S$103,A60),allGymnasts!$S$4:$S$103,0))),\"\")","v":""},{"$f":"IFERROR(IF(allGymnasts!B60=\"\",\"\",INDEX(allGymnasts!$O$4:$O$103,MATCH(SMALL(allGymnasts!$S$4:$S$103,A60),allGymnasts!$S$4:$S$103,0))),\"\")","v":""},{"$f":"IFERROR(IF(allGymnasts!B60=\"\",\"\",INDEX(allGymnasts!$P$4:$P$103,MATCH(SMALL(allGymnasts!$S$4:$S$103,A60),allGymnasts!$S$4:$S$103,0))),\"\")","v":""},{"$f":"IFERROR(IF(allGymnasts!B60=\"\",\"\",INDEX(allGymnasts!$Q$4:$Q$103,MATCH(SMALL(allGymnasts!$S$4:$S$103,A60),allGymnasts!$S$4:$S$103,0))),\"\")","v":""},{"$f":"IFERROR(IF(allGymnasts!B60=\"\",\"\",INDEX(allGymnasts!$R$4:$R$103,MATCH(SMALL(allGymnasts!$S$4:$S$103,A60),allGymnasts!$S$4:$S$103,0))),\"\")","v":""}]
[58,{"$f":"IFERROR(_xlfn.FLOOR.MATH(IF(allGymnasts!A61=\"\",\"\",INDEX(allGymnasts!$S$4:$S$103,MATCH(SMALL(allGymnasts!$S$4:$S$103,A61),allGymnasts!$S$4:$S$103,0)))),\"\")","v":""},{"$f":"IFERROR(IF(allGymnasts!A61=\"\",\"\",INDEX(allGymnasts!$A$4:$A$103,MATCH(SMALL(allGymnasts!$S$4:$S$103,A61),allGymnasts!$S$4:$S$103,0))),\"\")","v":""},{"$f":"IFERROR(IF(allGymnasts!B61=\"\",\"\",INDEX(allGymnasts!$B$4:$B$103,MATCH(SMALL(allGymnasts!$S$4:$S$103,A61),allGymnasts!$S$4:$S$103,0))),\"\")","v":""},{"$f":"IFERROR(IF(allGymnasts!C61=\"\",\"\",INDEX(allGymnasts!$C$4:$C$103,MATCH(SMALL(allGymnasts!$S$4:$S$103,A61),allGymnasts!$S$4:$S$103,0))),\"\")","v":""},{"$f":"IFERROR(IF(allGymnasts!D61=\"\",\"\",INDEX(allGymnasts!$D$4:$D$103,MATCH(SMALL(allGymnasts!$S$4:$S$103,A61),allGymnasts!$S$4:$S$103,0))),\"\")","v":""},{"$f":"IFERROR(IF(allGymnasts!B61=\"\",\"\",INDEX(allGymnasts!$O$4:$O$103,MATCH(SMALL(allGymnasts!$S$4:$S$103,A61),allGymnasts!$S$4:$S$103,0))),\"\")","v":""},{"$f":"IFERROR(IF(allGymnasts!B61=\"\",\"\",INDEX(allGymnasts!$P$4:$P$103,MATCH(SMALL(allGymnasts!$S$4:$S$103,A61),allGymnasts!$S$4:$S$103,0))),\"\")","v":""},{"$f":"IFERROR(IF(allGymnasts!B61=\"\",\"\",INDEX(allGymnasts!$Q$4:$Q$103,MATCH(SMALL(allGymnasts!$S$4:$S$103,A61),allGymnasts!$S$4:$S$103,0))),\"\")","v":""},{"$f":"IFERROR(IF(allGymnasts!B61=\"\",\"\",INDEX(allGymnasts!$R$4:$R$103,MATCH(SMALL(allGymnasts!$S$4:$S$103,A61),allGymnasts!$S$4:$S$103,0))),\"\")","v":""}]
[59,{"$f":"IFERROR(_xlfn.FLOOR.MATH(IF(allGymnasts!A62=\"\",\"\",INDEX(allGymnasts!$S$4:$S$103,MATCH(SMALL(allGymnasts!$S$4:$S$103,A62),allGymnasts!$S$4:$S$103,0)))),\"\")","v":""},{"$f":"IFERROR(IF(allGymnasts!A62=\"\",\"\",INDEX(allGymnasts!$A$4:$A$103,MATCH(SMALL(allGymnasts!$S$4:$S$103,A62),allGymnasts!$S$4:$S$103,0))),\"\")","v":""},{"$f":"IFERROR(IF(allGymnasts!B62=\"\",\"\",INDEX(allGymnasts!$B$4:$B$103,MATCH(SMALL(allGymnasts!$S$4:$S$103,A62),allGymnasts!$S$4:$S$103,0))),\"\")","v":""},{"$f":"IFERROR(IF(allGymnasts!C62=\"\",\"\",INDEX(allGymnasts!$C$4:$C$103,MATCH(SMALL(allGymnasts!$S$4:$S$103,A62),allGymnasts!$S$4:$S$103,0))),\"\")","v":""},{"$f":"IFERROR(IF(allGymnasts!D62=\"\",\"\",INDEX(allGymnasts!$D$4:$D$103,MATCH(SMALL(allGymnasts!$S$4:$S$103,A62),allGymnasts!$S$4:$S$103,0))),\"\")","v":""},{"$f":"IFERROR(IF(allGymnasts!B62=\"\",\"\",INDEX(allGymnasts!$O$4:$O$103,MATCH(SMALL(allGymnasts!$S$4:$S$103,A62),allGymnasts!$S$4:$S$103,0))),\"\")","v":""},{"$f":"IFERROR(IF(allGymnasts!B62=\"\",\"\",INDEX(allGymnasts!$P$4:$P$103,MATCH(SMALL(allGymnasts!$S$4:$S$103,A62),allGymnasts!$S$4:$S$103,0))),\"\")","v":""},{"$f":"IFERROR(IF(allGymnasts!B62=\"\",\"\",INDEX(allGymnasts!$Q$4:$Q$103,MATCH(SMALL(allGymnasts!$S$4:$S$103,A62),allGymnasts!$S$4:$S$103,0))),\"\")","v":""},{"$f":"IFERROR(IF(allGymnasts!B62=\"\",\"\",INDEX(allGymnasts!$R$4:$R$103,MATCH(SMALL(allGymnasts!$S$4:$S$103,A62),allGymnasts!$S$4:$S$103,0))),\"\")","v":""}]
[60,{"$f":"IFERROR(_xlfn.FLOOR.MATH(IF(allGymnasts!A63=\"\",\"\",INDEX(allGymnasts!$S$4:$S$103,MATCH(SMALL(allGymnasts!$S$4:$S$103,A63),allGymnasts!$S$4:$S$103,0)))),\"\")","v":""},{"$f":"IFERROR(IF(allGymnasts!A63=\"\",\"\",INDEX(allGymnasts!$A$4:$A$103,MATCH(SMALL(allGymnasts!$S$4:$S$103,A63),allGymnasts!$S$4:$S$103,0))),\"\")","v":""},{"$f":"IFERROR(IF(allGymnasts!B63=\"\",\"\",INDEX(allGymnasts!$B$4:$B$103,MATCH(SMALL(allGymnasts!$S$4:$S$103,A63),allGymnasts!$S$4:$S$103,0))),\"\")","v":""},{"$f":"IFERROR(IF(allGymnasts!C63=\"\",\"\",INDEX(allGymnasts!$C$4:$C$103,MATCH(SMALL(allGymnasts!$S$4:$S$103,A63),allGymnasts!$S$4:$S$103,0))),\"\")","v":""},{"$f":"IFERROR(IF(allGymnasts!D63=\"\",\"\",INDEX(allGymnasts!$D$4:$D$103,MATCH(SMALL(allGymnasts!$S$4:$S$103,A63),allGymnasts!$S$4:$S$103,0))),\"\")","v":""},{"$f":"IFERROR(IF(allGymnasts!B63=\"\",\"\",INDEX(allGymnasts!$O$4:$O$103,MATCH(SMALL(allGymnasts!$S$4:$S$103,A63),allGymnasts!$S$4:$S$103,0))),\"\")","v":""},{"$f":"IFERROR(IF(allGymnasts!B63=\"\",\"\",INDEX(allGymnasts!$P$4:$P$103,MATCH(SMALL(allGymnasts!$S$4:$S$103,A63),allGymnasts!$S$4:$S$103,0))),\"\")","v":""},{"$f":"IFERROR(IF(allGymnasts!B63=\"\",\"\",INDEX(allGymnasts!$Q$4:$Q$103,MATCH(SMALL(allGymnasts!$S$4:$S$103,A63),allGymnasts!$S$4:$S$103,0))),\"\")","v":""},{"$f":"IFERROR(IF(allGymnasts!B63=\"\",\"\",INDEX(allGymnasts!$R$4:$R$103,MATCH(SMALL(allGymnasts!$S$4:$S$103,A63),allGymnasts!$S$4:$S$103,0))),\"\")","v":""}]
[61,{"$f":"IFERROR(_xlfn.FLOOR.MATH(IF(allGymnasts!A64=\"\",\"\",INDEX(allGymnasts!$S$4:$S$103,MATCH(SMALL(allGymnasts!$S$4:$S$103,A64),allGymnasts!$S$4:$S$103,0)))),\"\")","v":""},{"$f":"IFERROR(IF(allGymnasts!A64=\"\",\"\",INDEX(allGymnasts!$A$4:$A$103,MATCH(SMALL(allGymnasts!$S$4:$S$103,A64),allGymnasts!$S$4:$S$103,0))),\"\")","v":""},{"$f":"IFERROR(IF(allGymnasts!B64=\"\",\"\",INDEX(allGymnasts!$B$4:$B$103,MATCH(SMALL(allGymnasts!$S$4:$S$103,A64),allGymnasts!$S$4:$S$103,0))),\"\")","v":""},{"$f":"IFERROR(IF(allGymnasts!C64=\"\",\"\",INDEX(allGymnasts!$C$4:$C$103,MATCH(SMALL(allGymnasts!$S$4:$S$103,A64),allGymnasts!$S$4:$S$103,0))),\"\")","v":""},{"$f":"IFERROR(IF(allGymnasts!D64=\"\",\"\",INDEX(allGymnasts!$D$4:$D$103,MATCH(SMALL(allGymnasts!$S$4:$S$103,A64),allGymnasts!$S$4:$S$103,0))),\"\")","v":""},{"$f":"IFERROR(IF(allGymnasts!B64=\"\",\"\",INDEX(allGymnasts!$O$4:$O$103,MATCH(SMALL(allGymnasts!$S$4:$S$103,A64),allGymnasts!$S$4:$S$103,0))),\"\")","v":""},{"$f":"IFERROR(IF(allGymnasts!B64=\"\",\"\",INDEX(allGymnasts!$P$4:$P$103,MATCH(SMALL(allGymnasts!$S$4:$S$103,A64),allGymnasts!$S$4:$S$103,0))),\"\")","v":""},{"$f":"IFERROR(IF(allGymnasts!B64=\"\",\"\",INDEX(allGymnasts!$Q$4:$Q$103,MATCH(SMALL(allGymnasts!$S$4:$S$103,A64),allGymnasts!$S$4:$S$103,0))),\"\")","v":""},{"$f":"IFERROR(IF(allGymnasts!B64=\"\",\"\",INDEX(allGymnasts!$R$4:$R$103,MATCH(SMALL(allGymnasts!$S$4:$S$103,A64),allGymnasts!$S$4:$S$103,0))),\"\")","v":""}]
[62,{"$f":"IFERROR(_xlfn.FLOOR.MATH(IF(allGymnasts!A65=\"\",\"\",INDEX(allGymnasts!$S$4:$S$103,MATCH(SMALL(allGymnasts!$S$4:$S$103,A65),allGymnasts!$S$4:$S$103,0)))),\"\")","v":""},{"$f":"IFERROR(IF(allGymnasts!A65=\"\",\"\",INDEX(allGymnasts!$A$4:$A$103,MATCH(SMALL(allGymnasts!$S$4:$S$103,A65),allGymnasts!$S$4:$S$103,0))),\"\")","v":""},{"$f":"IFERROR(IF(allGymnasts!B65=\"\",\"\",INDEX(allGymnasts!$B$4:$B$103,MATCH(SMALL(allGymnasts!$S$4:$S$103,A65),allGymnasts!$S$4:$S$103,0))),\"\")","v":""},{"$f":"IFERROR(IF(allGymnasts!C65=\"\",\"\",INDEX(allGymnasts!$C$4:$C$103,MATCH(SMALL(allGymnasts!$S$4:$S$103,A65),allGymnasts!$S$4:$S$103,0))),\"\")","v":""},{"$f":"IFERROR(IF(allGymnasts!D65=\"\",\"\",INDEX(allGymnasts!$D$4:$D$103,MATCH(SMALL(allGymnasts!$S$4:$S$103,A65),allGymnasts!$S$4:$S$103,0))),\"\")","v":""},{"$f":"IFERROR(IF(allGymnasts!B65=\"\",\"\",INDEX(allGymnasts!$O$4:$O$103,MATCH(SMALL(allGymnasts!$S$4:$S$103,A65),allGymnasts!$S$4:$S$103,0))),\"\")","v":""},{"$f":"IFERROR(IF(allGymnasts!B65=\"\",\"\",INDEX(allGymnasts!$P$4:$P$103,MATCH(SMALL(allGymnasts!$S$4:$S$103,A65),allGymnasts!$S$4:$S$103,0))),\"\")","v":""},{"$f":"IFERROR(IF(allGymnasts!B65=\"\",\"\",INDEX(allGymnasts!$Q$4:$Q$103,MATCH(SMALL(allGymnasts!$S$4:$S$103,A65),allGymnasts!$S$4:$S$103,0))),\"\")","v":""},{"$f":"IFERROR(IF(allGymnasts!B65=\"\",\"\",INDEX(allGymnasts!$R$4:$R$103,MATCH(SMALL(allGymnasts!$S$4:$S$103,A65),allGymnasts!$S$4:$S$103,0))),\"\")","v":""}]
[63,{"$f":"IFERROR(_xlfn.FLOOR.MATH(IF(allGymnasts!A66=\"\",\"\",INDEX(allGymnasts!$S$4:$S$103,MATCH(SMALL(allGymnasts!$S$4:$S$103,A66),allGymnasts!$S$4:$S$103,0)))),\"\")","v":""},{"$f":"IFERROR(IF(allGymnasts!A66=\"\",\"\",INDEX(allGymnasts!$A$4:$A$103,MATCH(SMALL(allGymnasts!$S$4:$S$103,A66),allGymnasts!$S$4:$S$103,0))),\"\")","v":""},{"$f":"IFERROR(IF(allGymnasts!B66=\"\",\"\",INDEX(allGymnasts!$B$4:$B$103,MATCH(SMALL(allGymnasts!$S$4:$S$103,A66),allGymnasts!$S$4:$S$103,0))),\"\")","v":""},{"$f":"IFERROR(IF(allGymnasts!C66=\"\",\"\",INDEX(allGymnasts!$C$4:$C$103,MATCH(SMALL(allGymnasts!$S$4:$S$103,A66),allGymnasts!$S$4:$S$103,0))),\"\")","v":""},{"$f":"IFERROR(IF(allGymnasts!D66=\"\",\"\",INDEX(allGymnasts!$D$4:$D$103,MATCH(SMALL(allGymnasts!$S$4:$S$103,A66),allGymnasts!$S$4:$S$103,0))),\"\")","v":""},{"$f":"IFERROR(IF(allGymnasts!B66=\"\",\"\",INDEX(allGymnasts!$O$4:$O$103,MATCH(SMALL(allGymnasts!$S$4:$S$103,A66),allGymnasts!$S$4:$S$103,0))),\"\")","v":""},{"$f":"IFERROR(IF(allGymnasts!B66=\"\",\"\",INDEX(allGymnasts!$P$4:$P$103,MATCH(SMALL(allGymnasts!$S$4:$S$103,A66),allGymnasts!$S$4:$S$103,0))),\"\")","v":""},{"$f":"IFERROR(IF(allGymnasts!B66=\"\",\"\",INDEX(allGymnasts!$Q$4:$Q$103,MATCH(SMALL(allGymnasts!$S$4:$S$103,A66),allGymnasts!$S$4:$S$103,0))),\"\")","v":""},{"$f":"IFERROR(IF(allGymnasts!B66=\"\",\"\",INDEX(allGymnasts!$R$4:$R$103,MATCH(SMALL(allGymnasts!$S$4:$S$103,A66),allGymnasts!$S$4:$S$103,0))),\"\")","v":""}]
[64,{"$f":"IFERROR(_xlfn.FLOOR.MATH(IF(allGymnasts!A67=\"\",\"\",INDEX(allGymnasts!$S$4:$S$103,MATCH(SMALL(allGymnasts!$S$4:$S$103,A67),allGymnasts!$S$4:$S$103,0)))),\"\")","v":""},{"$f":"IFERROR(IF(allGymnasts!A67=\"\",\"\",INDEX(allGymnasts!$A$4:$A$103,MATCH(SMALL(allGymnasts!$S$4:$S$103,A67),allGymnasts!$S$4:$S$103,0))),\"\")","v":""},{"$f":"IFERROR(IF(allGymnasts!B67=\"\",\"\",INDEX(allGymnasts!$B$4:$B$103,MATCH(SMALL(allGymnasts!$S$4:$S$103,A67),allGymnasts!$S$4:$S$103,0))),\"\")","v":""},{"$f":"IFERROR(IF(allGymnasts!C67=\"\",\"\",INDEX(allGymnasts!$C$4:$C$103,MATCH(SMALL(allGymnasts!$S$4:$S$103,A67),allGymnasts!$S$4:$S$103,0))),\"\")","v":""},{"$f":"IFERROR(IF(allGymnasts!D67=\"\",\"\",INDEX(allGymnasts!$D$4:$D$103,MATCH(SMALL(allGymnasts!$S$4:$S$103,A67),allGymnasts!$S$4:$S$103,0))),\"\")","v":""},{"$f":"IFERROR(IF(allGymnasts!B67=\"\",\"\",INDEX(allGymnasts!$O$4:$O$103,MATCH(SMALL(allGymnasts!$S$4:$S$103,A67),allGymnasts!$S$4:$S$103,0))),\"\")","v":""},{"$f":"IFERROR(IF(allGymnasts!B67=\"\",\"\",INDEX(allGymnasts!$P$4:$P$103,MATCH(SMALL(allGymnasts!$S$4:$S$103,A67),allGymnasts!$S$4:$S$103,0))),\"\")","v":""},{"$f":"IFERROR(IF(allGymnasts!B67=\"\",\"\",INDEX(allGymnasts!$Q$4:$Q$103,MATCH(SMALL(allGymnasts!$S$4:$S$103,A67),allGymnasts!$S$4:$S$103,0))),\"\")","v":""},{"$f":"IFERROR(IF(allGymnasts!B67=\"\",\"\",INDEX(allGymnasts!$R$4:$R$103,MATCH(SMALL(allGymnasts!$S$4:$S$103,A67),allGymnasts!$S$4:$S$103,0))),\"\")","v":""}]
[65,{"$f":"IFERROR(_xlfn.FLOOR.MATH(IF(allGymnasts!A68=\"\",\"\",INDEX(allGymnasts!$S$4:$S$103,MATCH(SMALL(allGymnasts!$S$4:$S$103,A68),allGymnasts!$S$4:$S$103,0)))),\"\")","v":""},{"$f":"IFERROR(IF(allGymnasts!A68=\"\",\"\",INDEX(allGymnasts!$A$4:$A$103,MATCH(SMALL(allGymnasts!$S$4:$S$103,A68),allGymnasts!$S$4:$S$103,0))),\"\")","v":""},{"$f":"IFERROR(IF(allGymnasts!B68=\"\",\"\",INDEX(allGymnasts!$B$4:$B$103,MATCH(SMALL(allGymnasts!$S$4:$S$103,A68),allGymnasts!$S$4:$S$103,0))),\"\")","v":""},{"$f":"IFERROR(IF(allGymnasts!C68=\"\",\"\",INDEX(allGymnasts!$C$4:$C$103,MATCH(SMALL(allGymnasts!$S$4:$S$103,A68),allGymnasts!$S$4:$S$103,0))),\"\")","v":""},{"$f":"IFERROR(IF(allGymnasts!D68=\"\",\"\",INDEX(allGymnasts!$D$4:$D$103,MATCH(SMALL(allGymnasts!$S$4:$S$103,A68),allGymnasts!$S$4:$S$103,0))),\"\")","v":""},{"$f":"IFERROR(IF(allGymnasts!B68=\"\",\"\",INDEX(allGymnasts!$O$4:$O$103,MATCH(SMALL(allGymnasts!$S$4:$S$103,A68),allGymnasts!$S$4:$S$103,0))),\"\")","v":""},{"$f":"IFERROR(IF(allGymnasts!B68=\"\",\"\",INDEX(allGymnasts!$P$4:$P$103,MATCH(SMALL(allGymnasts!$S$4:$S$103,A68),allGymnasts!$S$4:$S$103,0))),\"\")","v":""},{"$f":"IFERROR(IF(allGymnasts!B68=\"\",\"\",INDEX(allGymnasts!$Q$4:$Q$103,MATCH(SMALL(allGymnasts!$S$4:$S$103,A68),allGymnasts!$S$4:$S$103,0))),\"\")","v":""},{"$f":"IFERROR(IF(allGymnasts!B68=\"\",\"\",INDEX(allGymnasts!$R$4:$R$103,MATCH(SMALL(allGymnasts!$S$4:$S$103,A68),allGymnasts!$S$4:$S$103,0))),\"\")","v":""}]
[66,{"$f":"IFERROR(_xlfn.FLOOR.MATH(IF(allGymnasts!A69=\"\",\"\",INDEX(allGymnasts!$S$4:$S$103,MATCH(SMALL(allGymnasts!$S$4:$S$103,A69),allGymnasts!$S$4:$S$103,0)))),\"\")","v":""},{"$f":"IFERROR(IF(allGymnasts!A69=\"\",\"\",INDEX(allGymnasts!$A$4:$A$103,MATCH(SMALL(allGymnasts!$S$4:$S$103,A69),allGymnasts!$S$4:$S$103,0))),\"\")","v":""},{"$f":"IFERROR(IF(allGymnasts!B69=\"\",\"\",INDEX(allGymnasts!$B$4:$B$103,MATCH(SMALL(allGymnasts!$S$4:$S$103,A69),allGymnasts!$S$4:$S$103,0))),\"\")","v":""},{"$f":"IFERROR(IF(allGymnasts!C69=\"\",\"\",INDEX(allGymnasts!$C$4:$C$103,MATCH(SMALL(allGymnasts!$S$4:$S$103,A69),allGymnasts!$S$4:$S$103,0))),\"\")","v":""},{"$f":"IFERROR(IF(allGymnasts!D69=\"\",\"\",INDEX(allGymnasts!$D$4:$D$103,MATCH(SMALL(allGymnasts!$S$4:$S$103,A69),allGymnasts!$S$4:$S$103,0))),\"\")","v":""},{"$f":"IFERROR(IF(allGymnasts!B69=\"\",\"\",INDEX(allGymnasts!$O$4:$O$103,MATCH(SMALL(allGymnasts!$S$4:$S$103,A69),allGymnasts!$S$4:$S$103,0))),\"\")","v":""},{"$f":"IFERROR(IF(allGymnasts!B69=\"\",\"\",INDEX(allGymnasts!$P$4:$P$103,MATCH(SMALL(allGymnasts!$S$4:$S$103,A69),allGymnasts!$S$4:$S$103,0))),\"\")","v":""},{"$f":"IFERROR(IF(allGymnasts!B69=\"\",\"\",INDEX(allGymnasts!$Q$4:$Q$103,MATCH(SMALL(allGymnasts!$S$4:$S$103,A69),allGymnasts!$S$4:$S$103,0))),\"\")","v":""},{"$f":"IFERROR(IF(allGymnasts!B69=\"\",\"\",INDEX(allGymnasts!$R$4:$R$103,MATCH(SMALL(allGymnasts!$S$4:$S$103,A69),allGymnasts!$S$4:$S$103,0))),\"\")","v":""}]
[67,{"$f":"IFERROR(_xlfn.FLOOR.MATH(IF(allGymnasts!A70=\"\",\"\",INDEX(allGymnasts!$S$4:$S$103,MATCH(SMALL(allGymnasts!$S$4:$S$103,A70),allGymnasts!$S$4:$S$103,0)))),\"\")","v":""},{"$f":"IFERROR(IF(allGymnasts!A70=\"\",\"\",INDEX(allGymnasts!$A$4:$A$103,MATCH(SMALL(allGymnasts!$S$4:$S$103,A70),allGymnasts!$S$4:$S$103,0))),\"\")","v":""},{"$f":"IFERROR(IF(allGymnasts!B70=\"\",\"\",INDEX(allGymnasts!$B$4:$B$103,MATCH(SMALL(allGymnasts!$S$4:$S$103,A70),allGymnasts!$S$4:$S$103,0))),\"\")","v":""},{"$f":"IFERROR(IF(allGymnasts!C70=\"\",\"\",INDEX(allGymnasts!$C$4:$C$103,MATCH(SMALL(allGymnasts!$S$4:$S$103,A70),allGymnasts!$S$4:$S$103,0))),\"\")","v":""},{"$f":"IFERROR(IF(allGymnasts!D70=\"\",\"\",INDEX(allGymnasts!$D$4:$D$103,MATCH(SMALL(allGymnasts!$S$4:$S$103,A70),allGymnasts!$S$4:$S$103,0))),\"\")","v":""},{"$f":"IFERROR(IF(allGymnasts!B70=\"\",\"\",INDEX(allGymnasts!$O$4:$O$103,MATCH(SMALL(allGymnasts!$S$4:$S$103,A70),allGymnasts!$S$4:$S$103,0))),\"\")","v":""},{"$f":"IFERROR(IF(allGymnasts!B70=\"\",\"\",INDEX(allGymnasts!$P$4:$P$103,MATCH(SMALL(allGymnasts!$S$4:$S$103,A70),allGymnasts!$S$4:$S$103,0))),\"\")","v":""},{"$f":"IFERROR(IF(allGymnasts!B70=\"\",\"\",INDEX(allGymnasts!$Q$4:$Q$103,MATCH(SMALL(allGymnasts!$S$4:$S$103,A70),allGymnasts!$S$4:$S$103,0))),\"\")","v":""},{"$f":"IFERROR(IF(allGymnasts!B70=\"\",\"\",INDEX(allGymnasts!$R$4:$R$103,MATCH(SMALL(allGymnasts!$S$4:$S$103,A70),allGymnasts!$S$4:$S$103,0))),\"\")","v":""}]
[68,{"$f":"IFERROR(_xlfn.FLOOR.MATH(IF(allGymnasts!A71=\"\",\"\",INDEX(allGymnasts!$S$4:$S$103,MATCH(SMALL(allGymnasts!$S$4:$S$103,A71),allGymnasts!$S$4:$S$103,0)))),\"\")","v":""},{"$f":"IFERROR(IF(allGymnasts!A71=\"\",\"\",INDEX(allGymnasts!$A$4:$A$103,MATCH(SMALL(allGymnasts!$S$4:$S$103,A71),allGymnasts!$S$4:$S$103,0))),\"\")","v":""},{"$f":"IFERROR(IF(allGymnasts!B71=\"\",\"\",INDEX(allGymnasts!$B$4:$B$103,MATCH(SMALL(allGymnasts!$S$4:$S$103,A71),allGymnasts!$S$4:$S$103,0))),\"\")","v":""},{"$f":"IFERROR(IF(allGymnasts!C71=\"\",\"\",INDEX(allGymnasts!$C$4:$C$103,MATCH(SMALL(allGymnasts!$S$4:$S$103,A71),allGymnasts!$S$4:$S$103,0))),\"\")","v":""},{"$f":"IFERROR(IF(allGymnasts!D71=\"\",\"\",INDEX(allGymnasts!$D$4:$D$103,MATCH(SMALL(allGymnasts!$S$4:$S$103,A71),allGymnasts!$S$4:$S$103,0))),\"\")","v":""},{"$f":"IFERROR(IF(allGymnasts!B71=\"\",\"\",INDEX(allGymnasts!$O$4:$O$103,MATCH(SMALL(allGymnasts!$S$4:$S$103,A71),allGymnasts!$S$4:$S$103,0))),\"\")","v":""},{"$f":"IFERROR(IF(allGymnasts!B71=\"\",\"\",INDEX(allGymnasts!$P$4:$P$103,MATCH(SMALL(allGymnasts!$S$4:$S$103,A71),allGymnasts!$S$4:$S$103,0))),\"\")","v":""},{"$f":"IFERROR(IF(allGymnasts!B71=\"\",\"\",INDEX(allGymnasts!$Q$4:$Q$103,MATCH(SMALL(allGymnasts!$S$4:$S$103,A71),allGymnasts!$S$4:$S$103,0))),\"\")","v":""},{"$f":"IFERROR(IF(allGymnasts!B71=\"\",\"\",INDEX(allGymnasts!$R$4:$R$103,MATCH(SMALL(allGymnasts!$S$4:$S$103,A71),allGymnasts!$S$4:$S$103,0))),\"\")","v":""}]
[69,{"$f":"IFERROR(_xlfn.FLOOR.MATH(IF(allGymnasts!A72=\"\",\"\",INDEX(allGymnasts!$S$4:$S$103,MATCH(SMALL(allGymnasts!$S$4:$S$103,A72),allGymnasts!$S$4:$S$103,0)))),\"\")","v":""},{"$f":"IFERROR(IF(allGymnasts!A72=\"\",\"\",INDEX(allGymnasts!$A$4:$A$103,MATCH(SMALL(allGymnasts!$S$4:$S$103,A72),allGymnasts!$S$4:$S$103,0))),\"\")","v":""},{"$f":"IFERROR(IF(allGymnasts!B72=\"\",\"\",INDEX(allGymnasts!$B$4:$B$103,MATCH(SMALL(allGymnasts!$S$4:$S$103,A72),allGymnasts!$S$4:$S$103,0))),\"\")","v":""},{"$f":"IFERROR(IF(allGymnasts!C72=\"\",\"\",INDEX(allGymnasts!$C$4:$C$103,MATCH(SMALL(allGymnasts!$S$4:$S$103,A72),allGymnasts!$S$4:$S$103,0))),\"\")","v":""},{"$f":"IFERROR(IF(allGymnasts!D72=\"\",\"\",INDEX(allGymnasts!$D$4:$D$103,MATCH(SMALL(allGymnasts!$S$4:$S$103,A72),allGymnasts!$S$4:$S$103,0))),\"\")","v":""},{"$f":"IFERROR(IF(allGymnasts!B72=\"\",\"\",INDEX(allGymnasts!$O$4:$O$103,MATCH(SMALL(allGymnasts!$S$4:$S$103,A72),allGymnasts!$S$4:$S$103,0))),\"\")","v":""},{"$f":"IFERROR(IF(allGymnasts!B72=\"\",\"\",INDEX(allGymnasts!$P$4:$P$103,MATCH(SMALL(allGymnasts!$S$4:$S$103,A72),allGymnasts!$S$4:$S$103,0))),\"\")","v":""},{"$f":"IFERROR(IF(allGymnasts!B72=\"\",\"\",INDEX(allGymnasts!$Q$4:$Q$103,MATCH(SMALL(allGymnasts!$S$4:$S$103,A72),allGymnasts!$S$4:$S$103,0))),\"\")","v":""},{"$f":"IFERROR(IF(allGymnasts!B72=\"\",\"\",INDEX(allGymnasts!$R$4:$R$103,MATCH(SMALL(allGymnasts!$S$4:$S$103,A72),allGymnasts!$S$4:$S$103,0))),\"\")","v":""}]
[70,{"$f":"IFERROR(_xlfn.FLOOR.MATH(IF(allGymnasts!A73=\"\",\"\",INDEX(allGymnasts!$S$4:$S$103,MATCH(SMALL(allGymnasts!$S$4:$S$103,A73),allGymnasts!$S$4:$S$103,0)))),\"\")","v":""},{"$f":"IFERROR(IF(allGymnasts!A73=\"\",\"\",INDEX(allGymnasts!$A$4:$A$103,MATCH(SMALL(allGymnasts!$S$4:$S$103,A73),allGymnasts!$S$4:$S$103,0))),\"\")","v":""},{"$f":"IFERROR(IF(allGymnasts!B73=\"\",\"\",INDEX(allGymnasts!$B$4:$B$103,MATCH(SMALL(allGymnasts!$S$4:$S$103,A73),allGymnasts!$S$4:$S$103,0))),\"\")","v":""},{"$f":"IFERROR(IF(allGymnasts!C73=\"\",\"\",INDEX(allGymnasts!$C$4:$C$103,MATCH(SMALL(allGymnasts!$S$4:$S$103,A73),allGymnasts!$S$4:$S$103,0))),\"\")","v":""},{"$f":"IFERROR(IF(allGymnasts!D73=\"\",\"\",INDEX(allGymnasts!$D$4:$D$103,MATCH(SMALL(allGymnasts!$S$4:$S$103,A73),allGymnasts!$S$4:$S$103,0))),\"\")","v":""},{"$f":"IFERROR(IF(allGymnasts!B73=\"\",\"\",INDEX(allGymnasts!$O$4:$O$103,MATCH(SMALL(allGymnasts!$S$4:$S$103,A73),allGymnasts!$S$4:$S$103,0))),\"\")","v":""},{"$f":"IFERROR(IF(allGymnasts!B73=\"\",\"\",INDEX(allGymnasts!$P$4:$P$103,MATCH(SMALL(allGymnasts!$S$4:$S$103,A73),allGymnasts!$S$4:$S$103,0))),\"\")","v":""},{"$f":"IFERROR(IF(allGymnasts!B73=\"\",\"\",INDEX(allGymnasts!$Q$4:$Q$103,MATCH(SMALL(allGymnasts!$S$4:$S$103,A73),allGymnasts!$S$4:$S$103,0))),\"\")","v":""},{"$f":"IFERROR(IF(allGymnasts!B73=\"\",\"\",INDEX(allGymnasts!$R$4:$R$103,MATCH(SMALL(allGymnasts!$S$4:$S$103,A73),allGymnasts!$S$4:$S$103,0))),\"\")","v":""}]
[71,{"$f":"IFERROR(_xlfn.FLOOR.MATH(IF(allGymnasts!A74=\"\",\"\",INDEX(allGymnasts!$S$4:$S$103,MATCH(SMALL(allGymnasts!$S$4:$S$103,A74),allGymnasts!$S$4:$S$103,0)))),\"\")","v":""},{"$f":"IFERROR(IF(allGymnasts!A74=\"\",\"\",INDEX(allGymnasts!$A$4:$A$103,MATCH(SMALL(allGymnasts!$S$4:$S$103,A74),allGymnasts!$S$4:$S$103,0))),\"\")","v":""},{"$f":"IFERROR(IF(allGymnasts!B74=\"\",\"\",INDEX(allGymnasts!$B$4:$B$103,MATCH(SMALL(allGymnasts!$S$4:$S$103,A74),allGymnasts!$S$4:$S$103,0))),\"\")","v":""},{"$f":"IFERROR(IF(allGymnasts!C74=\"\",\"\",INDEX(allGymnasts!$C$4:$C$103,MATCH(SMALL(allGymnasts!$S$4:$S$103,A74),allGymnasts!$S$4:$S$103,0))),\"\")","v":""},{"$f":"IFERROR(IF(allGymnasts!D74=\"\",\"\",INDEX(allGymnasts!$D$4:$D$103,MATCH(SMALL(allGymnasts!$S$4:$S$103,A74),allGymnasts!$S$4:$S$103,0))),\"\")","v":""},{"$f":"IFERROR(IF(allGymnasts!B74=\"\",\"\",INDEX(allGymnasts!$O$4:$O$103,MATCH(SMALL(allGymnasts!$S$4:$S$103,A74),allGymnasts!$S$4:$S$103,0))),\"\")","v":""},{"$f":"IFERROR(IF(allGymnasts!B74=\"\",\"\",INDEX(allGymnasts!$P$4:$P$103,MATCH(SMALL(allGymnasts!$S$4:$S$103,A74),allGymnasts!$S$4:$S$103,0))),\"\")","v":""},{"$f":"IFERROR(IF(allGymnasts!B74=\"\",\"\",INDEX(allGymnasts!$Q$4:$Q$103,MATCH(SMALL(allGymnasts!$S$4:$S$103,A74),allGymnasts!$S$4:$S$103,0))),\"\")","v":""},{"$f":"IFERROR(IF(allGymnasts!B74=\"\",\"\",INDEX(allGymnasts!$R$4:$R$103,MATCH(SMALL(allGymnasts!$S$4:$S$103,A74),allGymnasts!$S$4:$S$103,0))),\"\")","v":""}]
[72,{"$f":"IFERROR(_xlfn.FLOOR.MATH(IF(allGymnasts!A75=\"\",\"\",INDEX(allGymnasts!$S$4:$S$103,MATCH(SMALL(allGymnasts!$S$4:$S$103,A75),allGymnasts!$S$4:$S$103,0)))),\"\")","v":""},{"$f":"IFERROR(IF(allGymnasts!A75=\"\",\"\",INDEX(allGymnasts!$A$4:$A$103,MATCH(SMALL(allGymnasts!$S$4:$S$103,A75),allGymnasts!$S$4:$S$103,0))),\"\")","v":""},{"$f":"IFERROR(IF(allGymnasts!B75=\"\",\"\",INDEX(allGymnasts!$B$4:$B$103,MATCH(SMALL(allGymnasts!$S$4:$S$103,A75),allGymnasts!$S$4:$S$103,0))),\"\")","v":""},{"$f":"IFERROR(IF(allGymnasts!C75=\"\",\"\",INDEX(allGymnasts!$C$4:$C$103,MATCH(SMALL(allGymnasts!$S$4:$S$103,A75),allGymnasts!$S$4:$S$103,0))),\"\")","v":""},{"$f":"IFERROR(IF(allGymnasts!D75=\"\",\"\",INDEX(allGymnasts!$D$4:$D$103,MATCH(SMALL(allGymnasts!$S$4:$S$103,A75),allGymnasts!$S$4:$S$103,0))),\"\")","v":""},{"$f":"IFERROR(IF(allGymnasts!B75=\"\",\"\",INDEX(allGymnasts!$O$4:$O$103,MATCH(SMALL(allGymnasts!$S$4:$S$103,A75),allGymnasts!$S$4:$S$103,0))),\"\")","v":""},{"$f":"IFERROR(IF(allGymnasts!B75=\"\",\"\",INDEX(allGymnasts!$P$4:$P$103,MATCH(SMALL(allGymnasts!$S$4:$S$103,A75),allGymnasts!$S$4:$S$103,0))),\"\")","v":""},{"$f":"IFERROR(IF(allGymnasts!B75=\"\",\"\",INDEX(allGymnasts!$Q$4:$Q$103,MATCH(SMALL(allGymnasts!$S$4:$S$103,A75),allGymnasts!$S$4:$S$103,0))),\"\")","v":""},{"$f":"IFERROR(IF(allGymnasts!B75=\"\",\"\",INDEX(allGymnasts!$R$4:$R$103,MATCH(SMALL(allGymnasts!$S$4:$S$103,A75),allGymnasts!$S$4:$S$103,0))),\"\")","v":""}]
[73,{"$f":"IFERROR(_xlfn.FLOOR.MATH(IF(allGymnasts!A76=\"\",\"\",INDEX(allGymnasts!$S$4:$S$103,MATCH(SMALL(allGymnasts!$S$4:$S$103,A76),allGymnasts!$S$4:$S$103,0)))),\"\")","v":""},{"$f":"IFERROR(IF(allGymnasts!A76=\"\",\"\",INDEX(allGymnasts!$A$4:$A$103,MATCH(SMALL(allGymnasts!$S$4:$S$103,A76),allGymnasts!$S$4:$S$103,0))),\"\")","v":""},{"$f":"IFERROR(IF(allGymnasts!B76=\"\",\"\",INDEX(allGymnasts!$B$4:$B$103,MATCH(SMALL(allGymnasts!$S$4:$S$103,A76),allGymnasts!$S$4:$S$103,0))),\"\")","v":""},{"$f":"IFERROR(IF(allGymnasts!C76=\"\",\"\",INDEX(allGymnasts!$C$4:$C$103,MATCH(SMALL(allGymnasts!$S$4:$S$103,A76),allGymnasts!$S$4:$S$103,0))),\"\")","v":""},{"$f":"IFERROR(IF(allGymnasts!D76=\"\",\"\",INDEX(allGymnasts!$D$4:$D$103,MATCH(SMALL(allGymnasts!$S$4:$S$103,A76),allGymnasts!$S$4:$S$103,0))),\"\")","v":""},{"$f":"IFERROR(IF(allGymnasts!B76=\"\",\"\",INDEX(allGymnasts!$O$4:$O$103,MATCH(SMALL(allGymnasts!$S$4:$S$103,A76),allGymnasts!$S$4:$S$103,0))),\"\")","v":""},{"$f":"IFERROR(IF(allGymnasts!B76=\"\",\"\",INDEX(allGymnasts!$P$4:$P$103,MATCH(SMALL(allGymnasts!$S$4:$S$103,A76),allGymnasts!$S$4:$S$103,0))),\"\")","v":""},{"$f":"IFERROR(IF(allGymnasts!B76=\"\",\"\",INDEX(allGymnasts!$Q$4:$Q$103,MATCH(SMALL(allGymnasts!$S$4:$S$103,A76),allGymnasts!$S$4:$S$103,0))),\"\")","v":""},{"$f":"IFERROR(IF(allGymnasts!B76=\"\",\"\",INDEX(allGymnasts!$R$4:$R$103,MATCH(SMALL(allGymnasts!$S$4:$S$103,A76),allGymnasts!$S$4:$S$103,0))),\"\")","v":""}]
[74,{"$f":"IFERROR(_xlfn.FLOOR.MATH(IF(allGymnasts!A77=\"\",\"\",INDEX(allGymnasts!$S$4:$S$103,MATCH(SMALL(allGymnasts!$S$4:$S$103,A77),allGymnasts!$S$4:$S$103,0)))),\"\")","v":""},{"$f":"IFERROR(IF(allGymnasts!A77=\"\",\"\",INDEX(allGymnasts!$A$4:$A$103,MATCH(SMALL(allGymnasts!$S$4:$S$103,A77),allGymnasts!$S$4:$S$103,0))),\"\")","v":""},{"$f":"IFERROR(IF(allGymnasts!B77=\"\",\"\",INDEX(allGymnasts!$B$4:$B$103,MATCH(SMALL(allGymnasts!$S$4:$S$103,A77),allGymnasts!$S$4:$S$103,0))),\"\")","v":""},{"$f":"IFERROR(IF(allGymnasts!C77=\"\",\"\",INDEX(allGymnasts!$C$4:$C$103,MATCH(SMALL(allGymnasts!$S$4:$S$103,A77),allGymnasts!$S$4:$S$103,0))),\"\")","v":""},{"$f":"IFERROR(IF(allGymnasts!D77=\"\",\"\",INDEX(allGymnasts!$D$4:$D$103,MATCH(SMALL(allGymnasts!$S$4:$S$103,A77),allGymnasts!$S$4:$S$103,0))),\"\")","v":""},{"$f":"IFERROR(IF(allGymnasts!B77=\"\",\"\",INDEX(allGymnasts!$O$4:$O$103,MATCH(SMALL(allGymnasts!$S$4:$S$103,A77),allGymnasts!$S$4:$S$103,0))),\"\")","v":""},{"$f":"IFERROR(IF(allGymnasts!B77=\"\",\"\",INDEX(allGymnasts!$P$4:$P$103,MATCH(SMALL(allGymnasts!$S$4:$S$103,A77),allGymnasts!$S$4:$S$103,0))),\"\")","v":""},{"$f":"IFERROR(IF(allGymnasts!B77=\"\",\"\",INDEX(allGymnasts!$Q$4:$Q$103,MATCH(SMALL(allGymnasts!$S$4:$S$103,A77),allGymnasts!$S$4:$S$103,0))),\"\")","v":""},{"$f":"IFERROR(IF(allGymnasts!B77=\"\",\"\",INDEX(allGymnasts!$R$4:$R$103,MATCH(SMALL(allGymnasts!$S$4:$S$103,A77),allGymnasts!$S$4:$S$103,0))),\"\")","v":""}]
[75,{"$f":"IFERROR(_xlfn.FLOOR.MATH(IF(allGymnasts!A78=\"\",\"\",INDEX(allGymnasts!$S$4:$S$103,MATCH(SMALL(allGymnasts!$S$4:$S$103,A78),allGymnasts!$S$4:$S$103,0)))),\"\")","v":""},{"$f":"IFERROR(IF(allGymnasts!A78=\"\",\"\",INDEX(allGymnasts!$A$4:$A$103,MATCH(SMALL(allGymnasts!$S$4:$S$103,A78),allGymnasts!$S$4:$S$103,0))),\"\")","v":""},{"$f":"IFERROR(IF(allGymnasts!B78=\"\",\"\",INDEX(allGymnasts!$B$4:$B$103,MATCH(SMALL(allGymnasts!$S$4:$S$103,A78),allGymnasts!$S$4:$S$103,0))),\"\")","v":""},{"$f":"IFERROR(IF(allGymnasts!C78=\"\",\"\",INDEX(allGymnasts!$C$4:$C$103,MATCH(SMALL(allGymnasts!$S$4:$S$103,A78),allGymnasts!$S$4:$S$103,0))),\"\")","v":""},{"$f":"IFERROR(IF(allGymnasts!D78=\"\",\"\",INDEX(allGymnasts!$D$4:$D$103,MATCH(SMALL(allGymnasts!$S$4:$S$103,A78),allGymnasts!$S$4:$S$103,0))),\"\")","v":""},{"$f":"IFERROR(IF(allGymnasts!B78=\"\",\"\",INDEX(allGymnasts!$O$4:$O$103,MATCH(SMALL(allGymnasts!$S$4:$S$103,A78),allGymnasts!$S$4:$S$103,0))),\"\")","v":""},{"$f":"IFERROR(IF(allGymnasts!B78=\"\",\"\",INDEX(allGymnasts!$P$4:$P$103,MATCH(SMALL(allGymnasts!$S$4:$S$103,A78),allGymnasts!$S$4:$S$103,0))),\"\")","v":""},{"$f":"IFERROR(IF(allGymnasts!B78=\"\",\"\",INDEX(allGymnasts!$Q$4:$Q$103,MATCH(SMALL(allGymnasts!$S$4:$S$103,A78),allGymnasts!$S$4:$S$103,0))),\"\")","v":""},{"$f":"IFERROR(IF(allGymnasts!B78=\"\",\"\",INDEX(allGymnasts!$R$4:$R$103,MATCH(SMALL(allGymnasts!$S$4:$S$103,A78),allGymnasts!$S$4:$S$103,0))),\"\")","v":""}]
[76,{"$f":"IFERROR(_xlfn.FLOOR.MATH(IF(allGymnasts!A79=\"\",\"\",INDEX(allGymnasts!$S$4:$S$103,MATCH(SMALL(allGymnasts!$S$4:$S$103,A79),allGymnasts!$S$4:$S$103,0)))),\"\")","v":""},{"$f":"IFERROR(IF(allGymnasts!A79=\"\",\"\",INDEX(allGymnasts!$A$4:$A$103,MATCH(SMALL(allGymnasts!$S$4:$S$103,A79),allGymnasts!$S$4:$S$103,0))),\"\")","v":""},{"$f":"IFERROR(IF(allGymnasts!B79=\"\",\"\",INDEX(allGymnasts!$B$4:$B$103,MATCH(SMALL(allGymnasts!$S$4:$S$103,A79),allGymnasts!$S$4:$S$103,0))),\"\")","v":""},{"$f":"IFERROR(IF(allGymnasts!C79=\"\",\"\",INDEX(allGymnasts!$C$4:$C$103,MATCH(SMALL(allGymnasts!$S$4:$S$103,A79),allGymnasts!$S$4:$S$103,0))),\"\")","v":""},{"$f":"IFERROR(IF(allGymnasts!D79=\"\",\"\",INDEX(allGymnasts!$D$4:$D$103,MATCH(SMALL(allGymnasts!$S$4:$S$103,A79),allGymnasts!$S$4:$S$103,0))),\"\")","v":""},{"$f":"IFERROR(IF(allGymnasts!B79=\"\",\"\",INDEX(allGymnasts!$O$4:$O$103,MATCH(SMALL(allGymnasts!$S$4:$S$103,A79),allGymnasts!$S$4:$S$103,0))),\"\")","v":""},{"$f":"IFERROR(IF(allGymnasts!B79=\"\",\"\",INDEX(allGymnasts!$P$4:$P$103,MATCH(SMALL(allGymnasts!$S$4:$S$103,A79),allGymnasts!$S$4:$S$103,0))),\"\")","v":""},{"$f":"IFERROR(IF(allGymnasts!B79=\"\",\"\",INDEX(allGymnasts!$Q$4:$Q$103,MATCH(SMALL(allGymnasts!$S$4:$S$103,A79),allGymnasts!$S$4:$S$103,0))),\"\")","v":""},{"$f":"IFERROR(IF(allGymnasts!B79=\"\",\"\",INDEX(allGymnasts!$R$4:$R$103,MATCH(SMALL(allGymnasts!$S$4:$S$103,A79),allGymnasts!$S$4:$S$103,0))),\"\")","v":""}]
[77,{"$f":"IFERROR(_xlfn.FLOOR.MATH(IF(allGymnasts!A80=\"\",\"\",INDEX(allGymnasts!$S$4:$S$103,MATCH(SMALL(allGymnasts!$S$4:$S$103,A80),allGymnasts!$S$4:$S$103,0)))),\"\")","v":""},{"$f":"IFERROR(IF(allGymnasts!A80=\"\",\"\",INDEX(allGymnasts!$A$4:$A$103,MATCH(SMALL(allGymnasts!$S$4:$S$103,A80),allGymnasts!$S$4:$S$103,0))),\"\")","v":""},{"$f":"IFERROR(IF(allGymnasts!B80=\"\",\"\",INDEX(allGymnasts!$B$4:$B$103,MATCH(SMALL(allGymnasts!$S$4:$S$103,A80),allGymnasts!$S$4:$S$103,0))),\"\")","v":""},{"$f":"IFERROR(IF(allGymnasts!C80=\"\",\"\",INDEX(allGymnasts!$C$4:$C$103,MATCH(SMALL(allGymnasts!$S$4:$S$103,A80),allGymnasts!$S$4:$S$103,0))),\"\")","v":""},{"$f":"IFERROR(IF(allGymnasts!D80=\"\",\"\",INDEX(allGymnasts!$D$4:$D$103,MATCH(SMALL(allGymnasts!$S$4:$S$103,A80),allGymnasts!$S$4:$S$103,0))),\"\")","v":""},{"$f":"IFERROR(IF(allGymnasts!B80=\"\",\"\",INDEX(allGymnasts!$O$4:$O$103,MATCH(SMALL(allGymnasts!$S$4:$S$103,A80),allGymnasts!$S$4:$S$103,0))),\"\")","v":""},{"$f":"IFERROR(IF(allGymnasts!B80=\"\",\"\",INDEX(allGymnasts!$P$4:$P$103,MATCH(SMALL(allGymnasts!$S$4:$S$103,A80),allGymnasts!$S$4:$S$103,0))),\"\")","v":""},{"$f":"IFERROR(IF(allGymnasts!B80=\"\",\"\",INDEX(allGymnasts!$Q$4:$Q$103,MATCH(SMALL(allGymnasts!$S$4:$S$103,A80),allGymnasts!$S$4:$S$103,0))),\"\")","v":""},{"$f":"IFERROR(IF(allGymnasts!B80=\"\",\"\",INDEX(allGymnasts!$R$4:$R$103,MATCH(SMALL(allGymnasts!$S$4:$S$103,A80),allGymnasts!$S$4:$S$103,0))),\"\")","v":""}]
[78,{"$f":"IFERROR(_xlfn.FLOOR.MATH(IF(allGymnasts!A81=\"\",\"\",INDEX(allGymnasts!$S$4:$S$103,MATCH(SMALL(allGymnasts!$S$4:$S$103,A81),allGymnasts!$S$4:$S$103,0)))),\"\")","v":""},{"$f":"IFERROR(IF(allGymnasts!A81=\"\",\"\",INDEX(allGymnasts!$A$4:$A$103,MATCH(SMALL(allGymnasts!$S$4:$S$103,A81),allGymnasts!$S$4:$S$103,0))),\"\")","v":""},{"$f":"IFERROR(IF(allGymnasts!B81=\"\",\"\",INDEX(allGymnasts!$B$4:$B$103,MATCH(SMALL(allGymnasts!$S$4:$S$103,A81),allGymnasts!$S$4:$S$103,0))),\"\")","v":""},{"$f":"IFERROR(IF(allGymnasts!C81=\"\",\"\",INDEX(allGymnasts!$C$4:$C$103,MATCH(SMALL(allGymnasts!$S$4:$S$103,A81),allGymnasts!$S$4:$S$103,0))),\"\")","v":""},{"$f":"IFERROR(IF(allGymnasts!D81=\"\",\"\",INDEX(allGymnasts!$D$4:$D$103,MATCH(SMALL(allGymnasts!$S$4:$S$103,A81),allGymnasts!$S$4:$S$103,0))),\"\")","v":""},{"$f":"IFERROR(IF(allGymnasts!B81=\"\",\"\",INDEX(allGymnasts!$O$4:$O$103,MATCH(SMALL(allGymnasts!$S$4:$S$103,A81),allGymnasts!$S$4:$S$103,0))),\"\")","v":""},{"$f":"IFERROR(IF(allGymnasts!B81=\"\",\"\",INDEX(allGymnasts!$P$4:$P$103,MATCH(SMALL(allGymnasts!$S$4:$S$103,A81),allGymnasts!$S$4:$S$103,0))),\"\")","v":""},{"$f":"IFERROR(IF(allGymnasts!B81=\"\",\"\",INDEX(allGymnasts!$Q$4:$Q$103,MATCH(SMALL(allGymnasts!$S$4:$S$103,A81),allGymnasts!$S$4:$S$103,0))),\"\")","v":""},{"$f":"IFERROR(IF(allGymnasts!B81=\"\",\"\",INDEX(allGymnasts!$R$4:$R$103,MATCH(SMALL(allGymnasts!$S$4:$S$103,A81),allGymnasts!$S$4:$S$103,0))),\"\")","v":""}]
[79,{"$f":"IFERROR(_xlfn.FLOOR.MATH(IF(allGymnasts!A82=\"\",\"\",INDEX(allGymnasts!$S$4:$S$103,MATCH(SMALL(allGymnasts!$S$4:$S$103,A82),allGymnasts!$S$4:$S$103,0)))),\"\")","v":""},{"$f":"IFERROR(IF(allGymnasts!A82=\"\",\"\",INDEX(allGymnasts!$A$4:$A$103,MATCH(SMALL(allGymnasts!$S$4:$S$103,A82),allGymnasts!$S$4:$S$103,0))),\"\")","v":""},{"$f":"IFERROR(IF(allGymnasts!B82=\"\",\"\",INDEX(allGymnasts!$B$4:$B$103,MATCH(SMALL(allGymnasts!$S$4:$S$103,A82),allGymnasts!$S$4:$S$103,0))),\"\")","v":""},{"$f":"IFERROR(IF(allGymnasts!C82=\"\",\"\",INDEX(allGymnasts!$C$4:$C$103,MATCH(SMALL(allGymnasts!$S$4:$S$103,A82),allGymnasts!$S$4:$S$103,0))),\"\")","v":""},{"$f":"IFERROR(IF(allGymnasts!D82=\"\",\"\",INDEX(allGymnasts!$D$4:$D$103,MATCH(SMALL(allGymnasts!$S$4:$S$103,A82),allGymnasts!$S$4:$S$103,0))),\"\")","v":""},{"$f":"IFERROR(IF(allGymnasts!B82=\"\",\"\",INDEX(allGymnasts!$O$4:$O$103,MATCH(SMALL(allGymnasts!$S$4:$S$103,A82),allGymnasts!$S$4:$S$103,0))),\"\")","v":""},{"$f":"IFERROR(IF(allGymnasts!B82=\"\",\"\",INDEX(allGymnasts!$P$4:$P$103,MATCH(SMALL(allGymnasts!$S$4:$S$103,A82),allGymnasts!$S$4:$S$103,0))),\"\")","v":""},{"$f":"IFERROR(IF(allGymnasts!B82=\"\",\"\",INDEX(allGymnasts!$Q$4:$Q$103,MATCH(SMALL(allGymnasts!$S$4:$S$103,A82),allGymnasts!$S$4:$S$103,0))),\"\")","v":""},{"$f":"IFERROR(IF(allGymnasts!B82=\"\",\"\",INDEX(allGymnasts!$R$4:$R$103,MATCH(SMALL(allGymnasts!$S$4:$S$103,A82),allGymnasts!$S$4:$S$103,0))),\"\")","v":""}]
[80,{"$f":"IFERROR(_xlfn.FLOOR.MATH(IF(allGymnasts!A83=\"\",\"\",INDEX(allGymnasts!$S$4:$S$103,MATCH(SMALL(allGymnasts!$S$4:$S$103,A83),allGymnasts!$S$4:$S$103,0)))),\"\")","v":""},{"$f":"IFERROR(IF(allGymnasts!A83=\"\",\"\",INDEX(allGymnasts!$A$4:$A$103,MATCH(SMALL(allGymnasts!$S$4:$S$103,A83),allGymnasts!$S$4:$S$103,0))),\"\")","v":""},{"$f":"IFERROR(IF(allGymnasts!B83=\"\",\"\",INDEX(allGymnasts!$B$4:$B$103,MATCH(SMALL(allGymnasts!$S$4:$S$103,A83),allGymnasts!$S$4:$S$103,0))),\"\")","v":""},{"$f":"IFERROR(IF(allGymnasts!C83=\"\",\"\",INDEX(allGymnasts!$C$4:$C$103,MATCH(SMALL(allGymnasts!$S$4:$S$103,A83),allGymnasts!$S$4:$S$103,0))),\"\")","v":""},{"$f":"IFERROR(IF(allGymnasts!D83=\"\",\"\",INDEX(allGymnasts!$D$4:$D$103,MATCH(SMALL(allGymnasts!$S$4:$S$103,A83),allGymnasts!$S$4:$S$103,0))),\"\")","v":""},{"$f":"IFERROR(IF(allGymnasts!B83=\"\",\"\",INDEX(allGymnasts!$O$4:$O$103,MATCH(SMALL(allGymnasts!$S$4:$S$103,A83),allGymnasts!$S$4:$S$103,0))),\"\")","v":""},{"$f":"IFERROR(IF(allGymnasts!B83=\"\",\"\",INDEX(allGymnasts!$P$4:$P$103,MATCH(SMALL(allGymnasts!$S$4:$S$103,A83),allGymnasts!$S$4:$S$103,0))),\"\")","v":""},{"$f":"IFERROR(IF(allGymnasts!B83=\"\",\"\",INDEX(allGymnasts!$Q$4:$Q$103,MATCH(SMALL(allGymnasts!$S$4:$S$103,A83),allGymnasts!$S$4:$S$103,0))),\"\")","v":""},{"$f":"IFERROR(IF(allGymnasts!B83=\"\",\"\",INDEX(allGymnasts!$R$4:$R$103,MATCH(SMALL(allGymnasts!$S$4:$S$103,A83),allGymnasts!$S$4:$S$103,0))),\"\")","v":""}]
[81,{"$f":"IFERROR(_xlfn.FLOOR.MATH(IF(allGymnasts!A84=\"\",\"\",INDEX(allGymnasts!$S$4:$S$103,MATCH(SMALL(allGymnasts!$S$4:$S$103,A84),allGymnasts!$S$4:$S$103,0)))),\"\")","v":""},{"$f":"IFERROR(IF(allGymnasts!A84=\"\",\"\",INDEX(allGymnasts!$A$4:$A$103,MATCH(SMALL(allGymnasts!$S$4:$S$103,A84),allGymnasts!$S$4:$S$103,0))),\"\")","v":""},{"$f":"IFERROR(IF(allGymnasts!B84=\"\",\"\",INDEX(allGymnasts!$B$4:$B$103,MATCH(SMALL(allGymnasts!$S$4:$S$103,A84),allGymnasts!$S$4:$S$103,0))),\"\")","v":""},{"$f":"IFERROR(IF(allGymnasts!C84=\"\",\"\",INDEX(allGymnasts!$C$4:$C$103,MATCH(SMALL(allGymnasts!$S$4:$S$103,A84),allGymnasts!$S$4:$S$103,0))),\"\")","v":""},{"$f":"IFERROR(IF(allGymnasts!D84=\"\",\"\",INDEX(allGymnasts!$D$4:$D$103,MATCH(SMALL(allGymnasts!$S$4:$S$103,A84),allGymnasts!$S$4:$S$103,0))),\"\")","v":""},{"$f":"IFERROR(IF(allGymnasts!B84=\"\",\"\",INDEX(allGymnasts!$O$4:$O$103,MATCH(SMALL(allGymnasts!$S$4:$S$103,A84),allGymnasts!$S$4:$S$103,0))),\"\")","v":""},{"$f":"IFERROR(IF(allGymnasts!B84=\"\",\"\",INDEX(allGymnasts!$P$4:$P$103,MATCH(SMALL(allGymnasts!$S$4:$S$103,A84),allGymnasts!$S$4:$S$103,0))),\"\")","v":""},{"$f":"IFERROR(IF(allGymnasts!B84=\"\",\"\",INDEX(allGymnasts!$Q$4:$Q$103,MATCH(SMALL(allGymnasts!$S$4:$S$103,A84),allGymnasts!$S$4:$S$103,0))),\"\")","v":""},{"$f":"IFERROR(IF(allGymnasts!B84=\"\",\"\",INDEX(allGymnasts!$R$4:$R$103,MATCH(SMALL(allGymnasts!$S$4:$S$103,A84),allGymnasts!$S$4:$S$103,0))),\"\")","v":""}]
[82,{"$f":"IFERROR(_xlfn.FLOOR.MATH(IF(allGymnasts!A85=\"\",\"\",INDEX(allGymnasts!$S$4:$S$103,MATCH(SMALL(allGymnasts!$S$4:$S$103,A85),allGymnasts!$S$4:$S$103,0)))),\"\")","v":""},{"$f":"IFERROR(IF(allGymnasts!A85=\"\",\"\",INDEX(allGymnasts!$A$4:$A$103,MATCH(SMALL(allGymnasts!$S$4:$S$103,A85),allGymnasts!$S$4:$S$103,0))),\"\")","v":""},{"$f":"IFERROR(IF(allGymnasts!B85=\"\",\"\",INDEX(allGymnasts!$B$4:$B$103,MATCH(SMALL(allGymnasts!$S$4:$S$103,A85),allGymnasts!$S$4:$S$103,0))),\"\")","v":""},{"$f":"IFERROR(IF(allGymnasts!C85=\"\",\"\",INDEX(allGymnasts!$C$4:$C$103,MATCH(SMALL(allGymnasts!$S$4:$S$103,A85),allGymnasts!$S$4:$S$103,0))),\"\")","v":""},{"$f":"IFERROR(IF(allGymnasts!D85=\"\",\"\",INDEX(allGymnasts!$D$4:$D$103,MATCH(SMALL(allGymnasts!$S$4:$S$103,A85),allGymnasts!$S$4:$S$103,0))),\"\")","v":""},{"$f":"IFERROR(IF(allGymnasts!B85=\"\",\"\",INDEX(allGymnasts!$O$4:$O$103,MATCH(SMALL(allGymnasts!$S$4:$S$103,A85),allGymnasts!$S$4:$S$103,0))),\"\")","v":""},{"$f":"IFERROR(IF(allGymnasts!B85=\"\",\"\",INDEX(allGymnasts!$P$4:$P$103,MATCH(SMALL(allGymnasts!$S$4:$S$103,A85),allGymnasts!$S$4:$S$103,0))),\"\")","v":""},{"$f":"IFERROR(IF(allGymnasts!B85=\"\",\"\",INDEX(allGymnasts!$Q$4:$Q$103,MATCH(SMALL(allGymnasts!$S$4:$S$103,A85),allGymnasts!$S$4:$S$103,0))),\"\")","v":""},{"$f":"IFERROR(IF(allGymnasts!B85=\"\",\"\",INDEX(allGymnasts!$R$4:$R$103,MATCH(SMALL(allGymnasts!$S$4:$S$103,A85),allGymnasts!$S$4:$S$103,0))),\"\")","v":""}]
[83,{"$f":"IFERROR(_xlfn.FLOOR.MATH(IF(allGymnasts!A86=\"\",\"\",INDEX(allGymnasts!$S$4:$S$103,MATCH(SMALL(allGymnasts!$S$4:$S$103,A86),allGymnasts!$S$4:$S$103,0)))),\"\")","v":""},{"$f":"IFERROR(IF(allGymnasts!A86=\"\",\"\",INDEX(allGymnasts!$A$4:$A$103,MATCH(SMALL(allGymnasts!$S$4:$S$103,A86),allGymnasts!$S$4:$S$103,0))),\"\")","v":""},{"$f":"IFERROR(IF(allGymnasts!B86=\"\",\"\",INDEX(allGymnasts!$B$4:$B$103,MATCH(SMALL(allGymnasts!$S$4:$S$103,A86),allGymnasts!$S$4:$S$103,0))),\"\")","v":""},{"$f":"IFERROR(IF(allGymnasts!C86=\"\",\"\",INDEX(allGymnasts!$C$4:$C$103,MATCH(SMALL(allGymnasts!$S$4:$S$103,A86),allGymnasts!$S$4:$S$103,0))),\"\")","v":""},{"$f":"IFERROR(IF(allGymnasts!D86=\"\",\"\",INDEX(allGymnasts!$D$4:$D$103,MATCH(SMALL(allGymnasts!$S$4:$S$103,A86),allGymnasts!$S$4:$S$103,0))),\"\")","v":""},{"$f":"IFERROR(IF(allGymnasts!B86=\"\",\"\",INDEX(allGymnasts!$O$4:$O$103,MATCH(SMALL(allGymnasts!$S$4:$S$103,A86),allGymnasts!$S$4:$S$103,0))),\"\")","v":""},{"$f":"IFERROR(IF(allGymnasts!B86=\"\",\"\",INDEX(allGymnasts!$P$4:$P$103,MATCH(SMALL(allGymnasts!$S$4:$S$103,A86),allGymnasts!$S$4:$S$103,0))),\"\")","v":""},{"$f":"IFERROR(IF(allGymnasts!B86=\"\",\"\",INDEX(allGymnasts!$Q$4:$Q$103,MATCH(SMALL(allGymnasts!$S$4:$S$103,A86),allGymnasts!$S$4:$S$103,0))),\"\")","v":""},{"$f":"IFERROR(IF(allGymnasts!B86=\"\",\"\",INDEX(allGymnasts!$R$4:$R$103,MATCH(SMALL(allGymnasts!$S$4:$S$103,A86),allGymnasts!$S$4:$S$103,0))),\"\")","v":""}]
[84,{"$f":"IFERROR(_xlfn.FLOOR.MATH(IF(allGymnasts!A87=\"\",\"\",INDEX(allGymnasts!$S$4:$S$103,MATCH(SMALL(allGymnasts!$S$4:$S$103,A87),allGymnasts!$S$4:$S$103,0)))),\"\")","v":""},{"$f":"IFERROR(IF(allGymnasts!A87=\"\",\"\",INDEX(allGymnasts!$A$4:$A$103,MATCH(SMALL(allGymnasts!$S$4:$S$103,A87),allGymnasts!$S$4:$S$103,0))),\"\")","v":""},{"$f":"IFERROR(IF(allGymnasts!B87=\"\",\"\",INDEX(allGymnasts!$B$4:$B$103,MATCH(SMALL(allGymnasts!$S$4:$S$103,A87),allGymnasts!$S$4:$S$103,0))),\"\")","v":""},{"$f":"IFERROR(IF(allGymnasts!C87=\"\",\"\",INDEX(allGymnasts!$C$4:$C$103,MATCH(SMALL(allGymnasts!$S$4:$S$103,A87),allGymnasts!$S$4:$S$103,0))),\"\")","v":""},{"$f":"IFERROR(IF(allGymnasts!D87=\"\",\"\",INDEX(allGymnasts!$D$4:$D$103,MATCH(SMALL(allGymnasts!$S$4:$S$103,A87),allGymnasts!$S$4:$S$103,0))),\"\")","v":""},{"$f":"IFERROR(IF(allGymnasts!B87=\"\",\"\",INDEX(allGymnasts!$O$4:$O$103,MATCH(SMALL(allGymnasts!$S$4:$S$103,A87),allGymnasts!$S$4:$S$103,0))),\"\")","v":""},{"$f":"IFERROR(IF(allGymnasts!B87=\"\",\"\",INDEX(allGymnasts!$P$4:$P$103,MATCH(SMALL(allGymnasts!$S$4:$S$103,A87),allGymnasts!$S$4:$S$103,0))),\"\")","v":""},{"$f":"IFERROR(IF(allGymnasts!B87=\"\",\"\",INDEX(allGymnasts!$Q$4:$Q$103,MATCH(SMALL(allGymnasts!$S$4:$S$103,A87),allGymnasts!$S$4:$S$103,0))),\"\")","v":""},{"$f":"IFERROR(IF(allGymnasts!B87=\"\",\"\",INDEX(allGymnasts!$R$4:$R$103,MATCH(SMALL(allGymnasts!$S$4:$S$103,A87),allGymnasts!$S$4:$S$103,0))),\"\")","v":""}]
[85,{"$f":"IFERROR(_xlfn.FLOOR.MATH(IF(allGymnasts!A88=\"\",\"\",INDEX(allGymnasts!$S$4:$S$103,MATCH(SMALL(allGymnasts!$S$4:$S$103,A88),allGymnasts!$S$4:$S$103,0)))),\"\")","v":""},{"$f":"IFERROR(IF(allGymnasts!A88=\"\",\"\",INDEX(allGymnasts!$A$4:$A$103,MATCH(SMALL(allGymnasts!$S$4:$S$103,A88),allGymnasts!$S$4:$S$103,0))),\"\")","v":""},{"$f":"IFERROR(IF(allGymnasts!B88=\"\",\"\",INDEX(allGymnasts!$B$4:$B$103,MATCH(SMALL(allGymnasts!$S$4:$S$103,A88),allGymnasts!$S$4:$S$103,0))),\"\")","v":""},{"$f":"IFERROR(IF(allGymnasts!C88=\"\",\"\",INDEX(allGymnasts!$C$4:$C$103,MATCH(SMALL(allGymnasts!$S$4:$S$103,A88),allGymnasts!$S$4:$S$103,0))),\"\")","v":""},{"$f":"IFERROR(IF(allGymnasts!D88=\"\",\"\",INDEX(allGymnasts!$D$4:$D$103,MATCH(SMALL(allGymnasts!$S$4:$S$103,A88),allGymnasts!$S$4:$S$103,0))),\"\")","v":""},{"$f":"IFERROR(IF(allGymnasts!B88=\"\",\"\",INDEX(allGymnasts!$O$4:$O$103,MATCH(SMALL(allGymnasts!$S$4:$S$103,A88),allGymnasts!$S$4:$S$103,0))),\"\")","v":""},{"$f":"IFERROR(IF(allGymnasts!B88=\"\",\"\",INDEX(allGymnasts!$P$4:$P$103,MATCH(SMALL(allGymnasts!$S$4:$S$103,A88),allGymnasts!$S$4:$S$103,0))),\"\")","v":""},{"$f":"IFERROR(IF(allGymnasts!B88=\"\",\"\",INDEX(allGymnasts!$Q$4:$Q$103,MATCH(SMALL(allGymnasts!$S$4:$S$103,A88),allGymnasts!$S$4:$S$103,0))),\"\")","v":""},{"$f":"IFERROR(IF(allGymnasts!B88=\"\",\"\",INDEX(allGymnasts!$R$4:$R$103,MATCH(SMALL(allGymnasts!$S$4:$S$103,A88),allGymnasts!$S$4:$S$103,0))),\"\")","v":""}]
[86,{"$f":"IFERROR(_xlfn.FLOOR.MATH(IF(allGymnasts!A89=\"\",\"\",INDEX(allGymnasts!$S$4:$S$103,MATCH(SMALL(allGymnasts!$S$4:$S$103,A89),allGymnasts!$S$4:$S$103,0)))),\"\")","v":""},{"$f":"IFERROR(IF(allGymnasts!A89=\"\",\"\",INDEX(allGymnasts!$A$4:$A$103,MATCH(SMALL(allGymnasts!$S$4:$S$103,A89),allGymnasts!$S$4:$S$103,0))),\"\")","v":""},{"$f":"IFERROR(IF(allGymnasts!B89=\"\",\"\",INDEX(allGymnasts!$B$4:$B$103,MATCH(SMALL(allGymnasts!$S$4:$S$103,A89),allGymnasts!$S$4:$S$103,0))),\"\")","v":""},{"$f":"IFERROR(IF(allGymnasts!C89=\"\",\"\",INDEX(allGymnasts!$C$4:$C$103,MATCH(SMALL(allGymnasts!$S$4:$S$103,A89),allGymnasts!$S$4:$S$103,0))),\"\")","v":""},{"$f":"IFERROR(IF(allGymnasts!D89=\"\",\"\",INDEX(allGymnasts!$D$4:$D$103,MATCH(SMALL(allGymnasts!$S$4:$S$103,A89),allGymnasts!$S$4:$S$103,0))),\"\")","v":""},{"$f":"IFERROR(IF(allGymnasts!B89=\"\",\"\",INDEX(allGymnasts!$O$4:$O$103,MATCH(SMALL(allGymnasts!$S$4:$S$103,A89),allGymnasts!$S$4:$S$103,0))),\"\")","v":""},{"$f":"IFERROR(IF(allGymnasts!B89=\"\",\"\",INDEX(allGymnasts!$P$4:$P$103,MATCH(SMALL(allGymnasts!$S$4:$S$103,A89),allGymnasts!$S$4:$S$103,0))),\"\")","v":""},{"$f":"IFERROR(IF(allGymnasts!B89=\"\",\"\",INDEX(allGymnasts!$Q$4:$Q$103,MATCH(SMALL(allGymnasts!$S$4:$S$103,A89),allGymnasts!$S$4:$S$103,0))),\"\")","v":""},{"$f":"IFERROR(IF(allGymnasts!B89=\"\",\"\",INDEX(allGymnasts!$R$4:$R$103,MATCH(SMALL(allGymnasts!$S$4:$S$103,A89),allGymnasts!$S$4:$S$103,0))),\"\")","v":""}]
[87,{"$f":"IFERROR(_xlfn.FLOOR.MATH(IF(allGymnasts!A90=\"\",\"\",INDEX(allGymnasts!$S$4:$S$103,MATCH(SMALL(allGymnasts!$S$4:$S$103,A90),allGymnasts!$S$4:$S$103,0)))),\"\")","v":""},{"$f":"IFERROR(IF(allGymnasts!A90=\"\",\"\",INDEX(allGymnasts!$A$4:$A$103,MATCH(SMALL(allGymnasts!$S$4:$S$103,A90),allGymnasts!$S$4:$S$103,0))),\"\")","v":""},{"$f":"IFERROR(IF(allGymnasts!B90=\"\",\"\",INDEX(allGymnasts!$B$4:$B$103,MATCH(SMALL(allGymnasts!$S$4:$S$103,A90),allGymnasts!$S$4:$S$103,0))),\"\")","v":""},{"$f":"IFERROR(IF(allGymnasts!C90=\"\",\"\",INDEX(allGymnasts!$C$4:$C$103,MATCH(SMALL(allGymnasts!$S$4:$S$103,A90),allGymnasts!$S$4:$S$103,0))),\"\")","v":""},{"$f":"IFERROR(IF(allGymnasts!D90=\"\",\"\",INDEX(allGymnasts!$D$4:$D$103,MATCH(SMALL(allGymnasts!$S$4:$S$103,A90),allGymnasts!$S$4:$S$103,0))),\"\")","v":""},{"$f":"IFERROR(IF(allGymnasts!B90=\"\",\"\",INDEX(allGymnasts!$O$4:$O$103,MATCH(SMALL(allGymnasts!$S$4:$S$103,A90),allGymnasts!$S$4:$S$103,0))),\"\")","v":""},{"$f":"IFERROR(IF(allGymnasts!B90=\"\",\"\",INDEX(allGymnasts!$P$4:$P$103,MATCH(SMALL(allGymnasts!$S$4:$S$103,A90),allGymnasts!$S$4:$S$103,0))),\"\")","v":""},{"$f":"IFERROR(IF(allGymnasts!B90=\"\",\"\",INDEX(allGymnasts!$Q$4:$Q$103,MATCH(SMALL(allGymnasts!$S$4:$S$103,A90),allGymnasts!$S$4:$S$103,0))),\"\")","v":""},{"$f":"IFERROR(IF(allGymnasts!B90=\"\",\"\",INDEX(allGymnasts!$R$4:$R$103,MATCH(SMALL(allGymnasts!$S$4:$S$103,A90),allGymnasts!$S$4:$S$103,0))),\"\")","v":""}]
[88,{"$f":"IFERROR(_xlfn.FLOOR.MATH(IF(allGymnasts!A91=\"\",\"\",INDEX(allGymnasts!$S$4:$S$103,MATCH(SMALL(allGymnasts!$S$4:$S$103,A91),allGymnasts!$S$4:$S$103,0)))),\"\")","v":""},{"$f":"IFERROR(IF(allGymnasts!A91=\"\",\"\",INDEX(allGymnasts!$A$4:$A$103,MATCH(SMALL(allGymnasts!$S$4:$S$103,A91),allGymnasts!$S$4:$S$103,0))),\"\")","v":""},{"$f":"IFERROR(IF(allGymnasts!B91=\"\",\"\",INDEX(allGymnasts!$B$4:$B$103,MATCH(SMALL(allGymnasts!$S$4:$S$103,A91),allGymnasts!$S$4:$S$103,0))),\"\")","v":""},{"$f":"IFERROR(IF(allGymnasts!C91=\"\",\"\",INDEX(allGymnasts!$C$4:$C$103,MATCH(SMALL(allGymnasts!$S$4:$S$103,A91),allGymnasts!$S$4:$S$103,0))),\"\")","v":""},{"$f":"IFERROR(IF(allGymnasts!D91=\"\",\"\",INDEX(allGymnasts!$D$4:$D$103,MATCH(SMALL(allGymnasts!$S$4:$S$103,A91),allGymnasts!$S$4:$S$103,0))),\"\")","v":""},{"$f":"IFERROR(IF(allGymnasts!B91=\"\",\"\",INDEX(allGymnasts!$O$4:$O$103,MATCH(SMALL(allGymnasts!$S$4:$S$103,A91),allGymnasts!$S$4:$S$103,0))),\"\")","v":""},{"$f":"IFERROR(IF(allGymnasts!B91=\"\",\"\",INDEX(allGymnasts!$P$4:$P$103,MATCH(SMALL(allGymnasts!$S$4:$S$103,A91),allGymnasts!$S$4:$S$103,0))),\"\")","v":""},{"$f":"IFERROR(IF(allGymnasts!B91=\"\",\"\",INDEX(allGymnasts!$Q$4:$Q$103,MATCH(SMALL(allGymnasts!$S$4:$S$103,A91),allGymnasts!$S$4:$S$103,0))),\"\")","v":""},{"$f":"IFERROR(IF(allGymnasts!B91=\"\",\"\",INDEX(allGymnasts!$R$4:$R$103,MATCH(SMALL(allGymnasts!$S$4:$S$103,A91),allGymnasts!$S$4:$S$103,0))),\"\")","v":""}]
[89,{"$f":"IFERROR(_xlfn.FLOOR.MATH(IF(allGymnasts!A92=\"\",\"\",INDEX(allGymnasts!$S$4:$S$103,MATCH(SMALL(allGymnasts!$S$4:$S$103,A92),allGymnasts!$S$4:$S$103,0)))),\"\")","v":""},{"$f":"IFERROR(IF(allGymnasts!A92=\"\",\"\",INDEX(allGymnasts!$A$4:$A$103,MATCH(SMALL(allGymnasts!$S$4:$S$103,A92),allGymnasts!$S$4:$S$103,0))),\"\")","v":""},{"$f":"IFERROR(IF(allGymnasts!B92=\"\",\"\",INDEX(allGymnasts!$B$4:$B$103,MATCH(SMALL(allGymnasts!$S$4:$S$103,A92),allGymnasts!$S$4:$S$103,0))),\"\")","v":""},{"$f":"IFERROR(IF(allGymnasts!C92=\"\",\"\",INDEX(allGymnasts!$C$4:$C$103,MATCH(SMALL(allGymnasts!$S$4:$S$103,A92),allGymnasts!$S$4:$S$103,0))),\"\")","v":""},{"$f":"IFERROR(IF(allGymnasts!D92=\"\",\"\",INDEX(allGymnasts!$D$4:$D$103,MATCH(SMALL(allGymnasts!$S$4:$S$103,A92),allGymnasts!$S$4:$S$103,0))),\"\")","v":""},{"$f":"IFERROR(IF(allGymnasts!B92=\"\",\"\",INDEX(allGymnasts!$O$4:$O$103,MATCH(SMALL(allGymnasts!$S$4:$S$103,A92),allGymnasts!$S$4:$S$103,0))),\"\")","v":""},{"$f":"IFERROR(IF(allGymnasts!B92=\"\",\"\",INDEX(allGymnasts!$P$4:$P$103,MATCH(SMALL(allGymnasts!$S$4:$S$103,A92),allGymnasts!$S$4:$S$103,0))),\"\")","v":""},{"$f":"IFERROR(IF(allGymnasts!B92=\"\",\"\",INDEX(allGymnasts!$Q$4:$Q$103,MATCH(SMALL(allGymnasts!$S$4:$S$103,A92),allGymnasts!$S$4:$S$103,0))),\"\")","v":""},{"$f":"IFERROR(IF(allGymnasts!B92=\"\",\"\",INDEX(allGymnasts!$R$4:$R$103,MATCH(SMALL(allGymnasts!$S$4:$S$103,A92),allGymnasts!$S$4:$S$103,0))),\"\")","v":""}]
[90,{"$f":"IFERROR(_xlfn.FLOOR.MATH(IF(allGymnasts!A93=\"\",\"\",INDEX(allGymnasts!$S$4:$S$103,MATCH(SMALL(allGymnasts!$S$4:$S$103,A93),allGymnasts!$S$4:$S$103,0)))),\"\")","v":""},{"$f":"IFERROR(IF(allGymnasts!A93=\"\",\"\",INDEX(allGymnasts!$A$4:$A$103,MATCH(SMALL(allGymnasts!$S$4:$S$103,A93),allGymnasts!$S$4:$S$103,0))),\"\")","v":""},{"$f":"IFERROR(IF(allGymnasts!B93=\"\",\"\",INDEX(allGymnasts!$B$4:$B$103,MATCH(SMALL(allGymnasts!$S$4:$S$103,A93),allGymnasts!$S$4:$S$103,0))),\"\")","v":""},{"$f":"IFERROR(IF(allGymnasts!C93=\"\",\"\",INDEX(allGymnasts!$C$4:$C$103,MATCH(SMALL(allGymnasts!$S$4:$S$103,A93),allGymnasts!$S$4:$S$103,0))),\"\")","v":""},{"$f":"IFERROR(IF(allGymnasts!D93=\"\",\"\",INDEX(allGymnasts!$D$4:$D$103,MATCH(SMALL(allGymnasts!$S$4:$S$103,A93),allGymnasts!$S$4:$S$103,0))),\"\")","v":""},{"$f":"IFERROR(IF(allGymnasts!B93=\"\",\"\",INDEX(allGymnasts!$O$4:$O$103,MATCH(SMALL(allGymnasts!$S$4:$S$103,A93),allGymnasts!$S$4:$S$103,0))),\"\")","v":""},{"$f":"IFERROR(IF(allGymnasts!B93=\"\",\"\",INDEX(allGymnasts!$P$4:$P$103,MATCH(SMALL(allGymnasts!$S$4:$S$103,A93),allGymnasts!$S$4:$S$103,0))),\"\")","v":""},{"$f":"IFERROR(IF(allGymnasts!B93=\"\",\"\",INDEX(allGymnasts!$Q$4:$Q$103,MATCH(SMALL(allGymnasts!$S$4:$S$103,A93),allGymnasts!$S$4:$S$103,0))),\"\")","v":""},{"$f":"IFERROR(IF(allGymnasts!B93=\"\",\"\",INDEX(allGymnasts!$R$4:$R$103,MATCH(SMALL(allGymnasts!$S$4:$S$103,A93),allGymnasts!$S$4:$S$103,0))),\"\")","v":""}]
[91,{"$f":"IFERROR(_xlfn.FLOOR.MATH(IF(allGymnasts!A94=\"\",\"\",INDEX(allGymnasts!$S$4:$S$103,MATCH(SMALL(allGymnasts!$S$4:$S$103,A94),allGymnasts!$S$4:$S$103,0)))),\"\")","v":""},{"$f":"IFERROR(IF(allGymnasts!A94=\"\",\"\",INDEX(allGymnasts!$A$4:$A$103,MATCH(SMALL(allGymnasts!$S$4:$S$103,A94),allGymnasts!$S$4:$S$103,0))),\"\")","v":""},{"$f":"IFERROR(IF(allGymnasts!B94=\"\",\"\",INDEX(allGymnasts!$B$4:$B$103,MATCH(SMALL(allGymnasts!$S$4:$S$103,A94),allGymnasts!$S$4:$S$103,0))),\"\")","v":""},{"$f":"IFERROR(IF(allGymnasts!C94=\"\",\"\",INDEX(allGymnasts!$C$4:$C$103,MATCH(SMALL(allGymnasts!$S$4:$S$103,A94),allGymnasts!$S$4:$S$103,0))),\"\")","v":""},{"$f":"IFERROR(IF(allGymnasts!D94=\"\",\"\",INDEX(allGymnasts!$D$4:$D$103,MATCH(SMALL(allGymnasts!$S$4:$S$103,A94),allGymnasts!$S$4:$S$103,0))),\"\")","v":""},{"$f":"IFERROR(IF(allGymnasts!B94=\"\",\"\",INDEX(allGymnasts!$O$4:$O$103,MATCH(SMALL(allGymnasts!$S$4:$S$103,A94),allGymnasts!$S$4:$S$103,0))),\"\")","v":""},{"$f":"IFERROR(IF(allGymnasts!B94=\"\",\"\",INDEX(allGymnasts!$P$4:$P$103,MATCH(SMALL(allGymnasts!$S$4:$S$103,A94),allGymnasts!$S$4:$S$103,0))),\"\")","v":""},{"$f":"IFERROR(IF(allGymnasts!B94=\"\",\"\",INDEX(allGymnasts!$Q$4:$Q$103,MATCH(SMALL(allGymnasts!$S$4:$S$103,A94),allGymnasts!$S$4:$S$103,0))),\"\")","v":""},{"$f":"IFERROR(IF(allGymnasts!B94=\"\",\"\",INDEX(allGymnasts!$R$4:$R$103,MATCH(SMALL(allGymnasts!$S$4:$S$103,A94),allGymnasts!$S$4:$S$103,0))),\"\")","v":""}]
[92,{"$f":"IFERROR(_xlfn.FLOOR.MATH(IF(allGymnasts!A95=\"\",\"\",INDEX(allGymnasts!$S$4:$S$103,MATCH(SMALL(allGymnasts!$S$4:$S$103,A95),allGymnasts!$S$4:$S$103,0)))),\"\")","v":""},{"$f":"IFERROR(IF(allGymnasts!A95=\"\",\"\",INDEX(allGymnasts!$A$4:$A$103,MATCH(SMALL(allGymnasts!$S$4:$S$103,A95),allGymnasts!$S$4:$S$103,0))),\"\")","v":""},{"$f":"IFERROR(IF(allGymnasts!B95=\"\",\"\",INDEX(allGymnasts!$B$4:$B$103,MATCH(SMALL(allGymnasts!$S$4:$S$103,A95),allGymnasts!$S$4:$S$103,0))),\"\")","v":""},{"$f":"IFERROR(IF(allGymnasts!C95=\"\",\"\",INDEX(allGymnasts!$C$4:$C$103,MATCH(SMALL(allGymnasts!$S$4:$S$103,A95),allGymnasts!$S$4:$S$103,0))),\"\")","v":""},{"$f":"IFERROR(IF(allGymnasts!D95=\"\",\"\",INDEX(allGymnasts!$D$4:$D$103,MATCH(SMALL(allGymnasts!$S$4:$S$103,A95),allGymnasts!$S$4:$S$103,0))),\"\")","v":""},{"$f":"IFERROR(IF(allGymnasts!B95=\"\",\"\",INDEX(allGymnasts!$O$4:$O$103,MATCH(SMALL(allGymnasts!$S$4:$S$103,A95),allGymnasts!$S$4:$S$103,0))),\"\")","v":""},{"$f":"IFERROR(IF(allGymnasts!B95=\"\",\"\",INDEX(allGymnasts!$P$4:$P$103,MATCH(SMALL(allGymnasts!$S$4:$S$103,A95),allGymnasts!$S$4:$S$103,0))),\"\")","v":""},{"$f":"IFERROR(IF(allGymnasts!B95=\"\",\"\",INDEX(allGymnasts!$Q$4:$Q$103,MATCH(SMALL(allGymnasts!$S$4:$S$103,A95),allGymnasts!$S$4:$S$103,0))),\"\")","v":""},{"$f":"IFERROR(IF(allGymnasts!B95=\"\",\"\",INDEX(allGymnasts!$R$4:$R$103,MATCH(SMALL(allGymnasts!$S$4:$S$103,A95),allGymnasts!$S$4:$S$103,0))),\"\")","v":""}]
[93,{"$f":"IFERROR(_xlfn.FLOOR.MATH(IF(allGymnasts!A96=\"\",\"\",INDEX(allGymnasts!$S$4:$S$103,MATCH(SMALL(allGymnasts!$S$4:$S$103,A96),allGymnasts!$S$4:$S$103,0)))),\"\")","v":""},{"$f":"IFERROR(IF(allGymnasts!A96=\"\",\"\",INDEX(allGymnasts!$A$4:$A$103,MATCH(SMALL(allGymnasts!$S$4:$S$103,A96),allGymnasts!$S$4:$S$103,0))),\"\")","v":""},{"$f":"IFERROR(IF(allGymnasts!B96=\"\",\"\",INDEX(allGymnasts!$B$4:$B$103,MATCH(SMALL(allGymnasts!$S$4:$S$103,A96),allGymnasts!$S$4:$S$103,0))),\"\")","v":""},{"$f":"IFERROR(IF(allGymnasts!C96=\"\",\"\",INDEX(allGymnasts!$C$4:$C$103,MATCH(SMALL(allGymnasts!$S$4:$S$103,A96),allGymnasts!$S$4:$S$103,0))),\"\")","v":""},{"$f":"IFERROR(IF(allGymnasts!D96=\"\",\"\",INDEX(allGymnasts!$D$4:$D$103,MATCH(SMALL(allGymnasts!$S$4:$S$103,A96),allGymnasts!$S$4:$S$103,0))),\"\")","v":""},{"$f":"IFERROR(IF(allGymnasts!B96=\"\",\"\",INDEX(allGymnasts!$O$4:$O$103,MATCH(SMALL(allGymnasts!$S$4:$S$103,A96),allGymnasts!$S$4:$S$103,0))),\"\")","v":""},{"$f":"IFERROR(IF(allGymnasts!B96=\"\",\"\",INDEX(allGymnasts!$P$4:$P$103,MATCH(SMALL(allGymnasts!$S$4:$S$103,A96),allGymnasts!$S$4:$S$103,0))),\"\")","v":""},{"$f":"IFERROR(IF(allGymnasts!B96=\"\",\"\",INDEX(allGymnasts!$Q$4:$Q$103,MATCH(SMALL(allGymnasts!$S$4:$S$103,A96),allGymnasts!$S$4:$S$103,0))),\"\")","v":""},{"$f":"IFERROR(IF(allGymnasts!B96=\"\",\"\",INDEX(allGymnasts!$R$4:$R$103,MATCH(SMALL(allGymnasts!$S$4:$S$103,A96),allGymnasts!$S$4:$S$103,0))),\"\")","v":""}]
[94,{"$f":"IFERROR(_xlfn.FLOOR.MATH(IF(allGymnasts!A97=\"\",\"\",INDEX(allGymnasts!$S$4:$S$103,MATCH(SMALL(allGymnasts!$S$4:$S$103,A97),allGymnasts!$S$4:$S$103,0)))),\"\")","v":""},{"$f":"IFERROR(IF(allGymnasts!A97=\"\",\"\",INDEX(allGymnasts!$A$4:$A$103,MATCH(SMALL(allGymnasts!$S$4:$S$103,A97),allGymnasts!$S$4:$S$103,0))),\"\")","v":""},{"$f":"IFERROR(IF(allGymnasts!B97=\"\",\"\",INDEX(allGymnasts!$B$4:$B$103,MATCH(SMALL(allGymnasts!$S$4:$S$103,A97),allGymnasts!$S$4:$S$103,0))),\"\")","v":""},{"$f":"IFERROR(IF(allGymnasts!C97=\"\",\"\",INDEX(allGymnasts!$C$4:$C$103,MATCH(SMALL(allGymnasts!$S$4:$S$103,A97),allGymnasts!$S$4:$S$103,0))),\"\")","v":""},{"$f":"IFERROR(IF(allGymnasts!D97=\"\",\"\",INDEX(allGymnasts!$D$4:$D$103,MATCH(SMALL(allGymnasts!$S$4:$S$103,A97),allGymnasts!$S$4:$S$103,0))),\"\")","v":""},{"$f":"IFERROR(IF(allGymnasts!B97=\"\",\"\",INDEX(allGymnasts!$O$4:$O$103,MATCH(SMALL(allGymnasts!$S$4:$S$103,A97),allGymnasts!$S$4:$S$103,0))),\"\")","v":""},{"$f":"IFERROR(IF(allGymnasts!B97=\"\",\"\",INDEX(allGymnasts!$P$4:$P$103,MATCH(SMALL(allGymnasts!$S$4:$S$103,A97),allGymnasts!$S$4:$S$103,0))),\"\")","v":""},{"$f":"IFERROR(IF(allGymnasts!B97=\"\",\"\",INDEX(allGymnasts!$Q$4:$Q$103,MATCH(SMALL(allGymnasts!$S$4:$S$103,A97),allGymnasts!$S$4:$S$103,0))),\"\")","v":""},{"$f":"IFERROR(IF(allGymnasts!B97=\"\",\"\",INDEX(allGymnasts!$R$4:$R$103,MATCH(SMALL(allGymnasts!$S$4:$S$103,A97),allGymnasts!$S$4:$S$103,0))),\"\")","v":""}]
[95,{"$f":"IFERROR(_xlfn.FLOOR.MATH(IF(allGymnasts!A98=\"\",\"\",INDEX(allGymnasts!$S$4:$S$103,MATCH(SMALL(allGymnasts!$S$4:$S$103,A98),allGymnasts!$S$4:$S$103,0)))),\"\")","v":""},{"$f":"IFERROR(IF(allGymnasts!A98=\"\",\"\",INDEX(allGymnasts!$A$4:$A$103,MATCH(SMALL(allGymnasts!$S$4:$S$103,A98),allGymnasts!$S$4:$S$103,0))),\"\")","v":""},{"$f":"IFERROR(IF(allGymnasts!B98=\"\",\"\",INDEX(allGymnasts!$B$4:$B$103,MATCH(SMALL(allGymnasts!$S$4:$S$103,A98),allGymnasts!$S$4:$S$103,0))),\"\")","v":""},{"$f":"IFERROR(IF(allGymnasts!C98=\"\",\"\",INDEX(allGymnasts!$C$4:$C$103,MATCH(SMALL(allGymnasts!$S$4:$S$103,A98),allGymnasts!$S$4:$S$103,0))),\"\")","v":""},{"$f":"IFERROR(IF(allGymnasts!D98=\"\",\"\",INDEX(allGymnasts!$D$4:$D$103,MATCH(SMALL(allGymnasts!$S$4:$S$103,A98),allGymnasts!$S$4:$S$103,0))),\"\")","v":""},{"$f":"IFERROR(IF(allGymnasts!B98=\"\",\"\",INDEX(allGymnasts!$O$4:$O$103,MATCH(SMALL(allGymnasts!$S$4:$S$103,A98),allGymnasts!$S$4:$S$103,0))),\"\")","v":""},{"$f":"IFERROR(IF(allGymnasts!B98=\"\",\"\",INDEX(allGymnasts!$P$4:$P$103,MATCH(SMALL(allGymnasts!$S$4:$S$103,A98),allGymnasts!$S$4:$S$103,0))),\"\")","v":""},{"$f":"IFERROR(IF(allGymnasts!B98=\"\",\"\",INDEX(allGymnasts!$Q$4:$Q$103,MATCH(SMALL(allGymnasts!$S$4:$S$103,A98),allGymnasts!$S$4:$S$103,0))),\"\")","v":""},{"$f":"IFERROR(IF(allGymnasts!B98=\"\",\"\",INDEX(allGymnasts!$R$4:$R$103,MATCH(SMALL(allGymnasts!$S$4:$S$103,A98),allGymnasts!$S$4:$S$103,0))),\"\")","v":""}]
[96,{"$f":"IFERROR(_xlfn.FLOOR.MATH(IF(allGymnasts!A99=\"\",\"\",INDEX(allGymnasts!$S$4:$S$103,MATCH(SMALL(allGymnasts!$S$4:$S$103,A99),allGymnasts!$S$4:$S$103,0)))),\"\")","v":""},{"$f":"IFERROR(IF(allGymnasts!A99=\"\",\"\",INDEX(allGymnasts!$A$4:$A$103,MATCH(SMALL(allGymnasts!$S$4:$S$103,A99),allGymnasts!$S$4:$S$103,0))),\"\")","v":""},{"$f":"IFERROR(IF(allGymnasts!B99=\"\",\"\",INDEX(allGymnasts!$B$4:$B$103,MATCH(SMALL(allGymnasts!$S$4:$S$103,A99),allGymnasts!$S$4:$S$103,0))),\"\")","v":""},{"$f":"IFERROR(IF(allGymnasts!C99=\"\",\"\",INDEX(allGymnasts!$C$4:$C$103,MATCH(SMALL(allGymnasts!$S$4:$S$103,A99),allGymnasts!$S$4:$S$103,0))),\"\")","v":""},{"$f":"IFERROR(IF(allGymnasts!D99=\"\",\"\",INDEX(allGymnasts!$D$4:$D$103,MATCH(SMALL(allGymnasts!$S$4:$S$103,A99),allGymnasts!$S$4:$S$103,0))),\"\")","v":""},{"$f":"IFERROR(IF(allGymnasts!B99=\"\",\"\",INDEX(allGymnasts!$O$4:$O$103,MATCH(SMALL(allGymnasts!$S$4:$S$103,A99),allGymnasts!$S$4:$S$103,0))),\"\")","v":""},{"$f":"IFERROR(IF(allGymnasts!B99=\"\",\"\",INDEX(allGymnasts!$P$4:$P$103,MATCH(SMALL(allGymnasts!$S$4:$S$103,A99),allGymnasts!$S$4:$S$103,0))),\"\")","v":""},{"$f":"IFERROR(IF(allGymnasts!B99=\"\",\"\",INDEX(allGymnasts!$Q$4:$Q$103,MATCH(SMALL(allGymnasts!$S$4:$S$103,A99),allGymnasts!$S$4:$S$103,0))),\"\")","v":""},{"$f":"IFERROR(IF(allGymnasts!B99=\"\",\"\",INDEX(allGymnasts!$R$4:$R$103,MATCH(SMALL(allGymnasts!$S$4:$S$103,A99),allGymnasts!$S$4:$S$103,0))),\"\")","v":""}]
[97,{"$f":"IFERROR(_xlfn.FLOOR.MATH(IF(allGymnasts!A100=\"\",\"\",INDEX(allGymnasts!$S$4:$S$103,MATCH(SMALL(allGymnasts!$S$4:$S$103,A100),allGymnasts!$S$4:$S$103,0)))),\"\")","v":""},{"$f":"IFERROR(IF(allGymnasts!A100=\"\",\"\",INDEX(allGymnasts!$A$4:$A$103,MATCH(SMALL(allGymnasts!$S$4:$S$103,A100),allGymnasts!$S$4:$S$103,0))),\"\")","v":""},{"$f":"IFERROR(IF(allGymnasts!B100=\"\",\"\",INDEX(allGymnasts!$B$4:$B$103,MATCH(SMALL(allGymnasts!$S$4:$S$103,A100),allGymnasts!$S$4:$S$103,0))),\"\")","v":""},{"$f":"IFERROR(IF(allGymnasts!C100=\"\",\"\",INDEX(allGymnasts!$C$4:$C$103,MATCH(SMALL(allGymnasts!$S$4:$S$103,A100),allGymnasts!$S$4:$S$103,0))),\"\")","v":""},{"$f":"IFERROR(IF(allGymnasts!D100=\"\",\"\",INDEX(allGymnasts!$D$4:$D$103,MATCH(SMALL(allGymnasts!$S$4:$S$103,A100),allGymnasts!$S$4:$S$103,0))),\"\")","v":""},{"$f":"IFERROR(IF(allGymnasts!B100=\"\",\"\",INDEX(allGymnasts!$O$4:$O$103,MATCH(SMALL(allGymnasts!$S$4:$S$103,A100),allGymnasts!$S$4:$S$103,0))),\"\")","v":""},{"$f":"IFERROR(IF(allGymnasts!B100=\"\",\"\",INDEX(allGymnasts!$P$4:$P$103,MATCH(SMALL(allGymnasts!$S$4:$S$103,A100),allGymnasts!$S$4:$S$103,0))),\"\")","v":""},{"$f":"IFERROR(IF(allGymnasts!B100=\"\",\"\",INDEX(allGymnasts!$Q$4:$Q$103,MATCH(SMALL(allGymnasts!$S$4:$S$103,A100),allGymnasts!$S$4:$S$103,0))),\"\")","v":""},{"$f":"IFERROR(IF(allGymnasts!B100=\"\",\"\",INDEX(allGymnasts!$R$4:$R$103,MATCH(SMALL(allGymnasts!$S$4:$S$103,A100),allGymnasts!$S$4:$S$103,0))),\"\")","v":""}]
[98,{"$f":"IFERROR(_xlfn.FLOOR.MATH(IF(allGymnasts!A101=\"\",\"\",INDEX(allGymnasts!$S$4:$S$103,MATCH(SMALL(allGymnasts!$S$4:$S$103,A101),allGymnasts!$S$4:$S$103,0)))),\"\")","v":""},{"$f":"IFERROR(IF(allGymnasts!A101=\"\",\"\",INDEX(allGymnasts!$A$4:$A$103,MATCH(SMALL(allGymnasts!$S$4:$S$103,A101),allGymnasts!$S$4:$S$103,0))),\"\")","v":""},{"$f":"IFERROR(IF(allGymnasts!B101=\"\",\"\",INDEX(allGymnasts!$B$4:$B$103,MATCH(SMALL(allGymnasts!$S$4:$S$103,A101),allGymnasts!$S$4:$S$103,0))),\"\")","v":""},{"$f":"IFERROR(IF(allGymnasts!C101=\"\",\"\",INDEX(allGymnasts!$C$4:$C$103,MATCH(SMALL(allGymnasts!$S$4:$S$103,A101),allGymnasts!$S$4:$S$103,0))),\"\")","v":""},{"$f":"IFERROR(IF(allGymnasts!D101=\"\",\"\",INDEX(allGymnasts!$D$4:$D$103,MATCH(SMALL(allGymnasts!$S$4:$S$103,A101),allGymnasts!$S$4:$S$103,0))),\"\")","v":""},{"$f":"IFERROR(IF(allGymnasts!B101=\"\",\"\",INDEX(allGymnasts!$O$4:$O$103,MATCH(SMALL(allGymnasts!$S$4:$S$103,A101),allGymnasts!$S$4:$S$103,0))),\"\")","v":""},{"$f":"IFERROR(IF(allGymnasts!B101=\"\",\"\",INDEX(allGymnasts!$P$4:$P$103,MATCH(SMALL(allGymnasts!$S$4:$S$103,A101),allGymnasts!$S$4:$S$103,0))),\"\")","v":""},{"$f":"IFERROR(IF(allGymnasts!B101=\"\",\"\",INDEX(allGymnasts!$Q$4:$Q$103,MATCH(SMALL(allGymnasts!$S$4:$S$103,A101),allGymnasts!$S$4:$S$103,0))),\"\")","v":""},{"$f":"IFERROR(IF(allGymnasts!B101=\"\",\"\",INDEX(allGymnasts!$R$4:$R$103,MATCH(SMALL(allGymnasts!$S$4:$S$103,A101),allGymnasts!$S$4:$S$103,0))),\"\")","v":""}]
[99,{"$f":"IFERROR(_xlfn.FLOOR.MATH(IF(allGymnasts!A102=\"\",\"\",INDEX(allGymnasts!$S$4:$S$103,MATCH(SMALL(allGymnasts!$S$4:$S$103,A102),allGymnasts!$S$4:$S$103,0)))),\"\")","v":""},{"$f":"IFERROR(IF(allGymnasts!A102=\"\",\"\",INDEX(allGymnasts!$A$4:$A$103,MATCH(SMALL(allGymnasts!$S$4:$S$103,A102),allGymnasts!$S$4:$S$103,0))),\"\")","v":""},{"$f":"IFERROR(IF(allGymnasts!B102=\"\",\"\",INDEX(allGymnasts!$B$4:$B$103,MATCH(SMALL(allGymnasts!$S$4:$S$103,A102),allGymnasts!$S$4:$S$103,0))),\"\")","v":""},{"$f":"IFERROR(IF(allGymnasts!C102=\"\",\"\",INDEX(allGymnasts!$C$4:$C$103,MATCH(SMALL(allGymnasts!$S$4:$S$103,A102),allGymnasts!$S$4:$S$103,0))),\"\")","v":""},{"$f":"IFERROR(IF(allGymnasts!D102=\"\",\"\",INDEX(allGymnasts!$D$4:$D$103,MATCH(SMALL(allGymnasts!$S$4:$S$103,A102),allGymnasts!$S$4:$S$103,0))),\"\")","v":""},{"$f":"IFERROR(IF(allGymnasts!B102=\"\",\"\",INDEX(allGymnasts!$O$4:$O$103,MATCH(SMALL(allGymnasts!$S$4:$S$103,A102),allGymnasts!$S$4:$S$103,0))),\"\")","v":""},{"$f":"IFERROR(IF(allGymnasts!B102=\"\",\"\",INDEX(allGymnasts!$P$4:$P$103,MATCH(SMALL(allGymnasts!$S$4:$S$103,A102),allGymnasts!$S$4:$S$103,0))),\"\")","v":""},{"$f":"IFERROR(IF(allGymnasts!B102=\"\",\"\",INDEX(allGymnasts!$Q$4:$Q$103,MATCH(SMALL(allGymnasts!$S$4:$S$103,A102),allGymnasts!$S$4:$S$103,0))),\"\")","v":""},{"$f":"IFERROR(IF(allGymnasts!B102=\"\",\"\",INDEX(allGymnasts!$R$4:$R$103,MATCH(SMALL(allGymnasts!$S$4:$S$103,A102),allGymnasts!$S$4:$S$103,0))),\"\")","v":""}]
[100,{"$f":"IFERROR(_xlfn.FLOOR.MATH(IF(allGymnasts!A103=\"\",\"\",INDEX(allGymnasts!$S$4:$S$103,MATCH(SMALL(allGymnasts!$S$4:$S$103,A103),allGymnasts!$S$4:$S$103,0)))),\"\")","v":""},{"$f":"IFERROR(IF(allGymnasts!A103=\"\",\"\",INDEX(allGymnasts!$A$4:$A$103,MATCH(SMALL(allGymnasts!$S$4:$S$103,A103),allGymnasts!$S$4:$S$103,0))),\"\")","v":""},{"$f":"IFERROR(IF(allGymnasts!B103=\"\",\"\",INDEX(allGymnasts!$B$4:$B$103,MATCH(SMALL(allGymnasts!$S$4:$S$103,A103),allGymnasts!$S$4:$S$103,0))),\"\")","v":""},{"$f":"IFERROR(IF(allGymnasts!C103=\"\",\"\",INDEX(allGymnasts!$C$4:$C$103,MATCH(SMALL(allGymnasts!$S$4:$S$103,A103),allGymnasts!$S$4:$S$103,0))),\"\")","v":""},{"$f":"IFERROR(IF(allGymnasts!D103=\"\",\"\",INDEX(allGymnasts!$D$4:$D$103,MATCH(SMALL(allGymnasts!$S$4:$S$103,A103),allGymnasts!$S$4:$S$103,0))),\"\")","v":""},{"$f":"IFERROR(IF(allGymnasts!B103=\"\",\"\",INDEX(allGymnasts!$O$4:$O$103,MATCH(SMALL(allGymnasts!$S$4:$S$103,A103),allGymnasts!$S$4:$S$103,0))),\"\")","v":""},{"$f":"IFERROR(IF(allGymnasts!B103=\"\",\"\",INDEX(allGymnasts!$P$4:$P$103,MATCH(SMALL(allGymnasts!$S$4:$S$103,A103),allGymnasts!$S$4:$S$103,0))),\"\")","v":""},{"$f":"IFERROR(IF(allGymnasts!B103=\"\",\"\",INDEX(allGymnasts!$Q$4:$Q$103,MATCH(SMALL(allGymnasts!$S$4:$S$103,A103),allGymnasts!$S$4:$S$103,0))),\"\")","v":""},{"$f":"IFERROR(IF(allGymnasts!B103=\"\",\"\",INDEX(allGymnasts!$R$4:$R$103,MATCH(SMALL(allGymnasts!$S$4:$S$103,A103),allGymnasts!$S$4:$S$103,0))),\"\")","v":""}]

{"sheet":"Floor","index":5,"n_rows":103,"n_cols":10,"rows_kept":103,"cut":false,"hidden":false,"merged":[[0,1,0,2],[0,6,0,9]]}
[null,"Varsity",null,{"$f":"TODAY()","v":"2024-09-01"},null,null,"Event Results - Floor"]
[]
["Rank","Rank","Grade","First","Last","School","Judge 1","Judge 2","Penalty","Score"]
[1,{"$f":"IFERROR(_xlfn.FLOOR.MATH(IF(allGymnasts!A4=\"\",\"\",INDEX(allGymnasts!$X$4:$X$103,MATCH(SMALL(allGymnasts!$X$4:$X$103,A4),allGymnasts!$X$4:$X$103,0)))),\"\")","v":""},{"$f":"IFERROR(IF(allGymnasts!A4=\"\",\"\",INDEX(allGymnasts!$A$4:$A$103,MATCH(SMALL(allGymnasts!$X$4:$X$103,A4),allGymnasts!$X$4:$X$103,0))),\"\")","v":""},{"$f":"IFERROR(IF(allGymnasts!B4=\"\",\"\",INDEX(allGymnasts!$B$4:$B$103,MATCH(SMALL(allGymnasts!$X$4:$X$103,A4),allGymnasts!$X$4:$X$103,0))),\"\")","v":""},{"$f":"IFERROR(IF(allGymnasts!C4=\"\",\"\",INDEX(allGymnasts!$C$4:$C$103,MATCH(SMALL(allGymnasts!$X$4:$X$103,A4),allGymnasts!$X$4:$X$103,0))),\"\")","v":""},{"$f":"IFERROR(IF(allGymnasts!D4=\"\",\"\",INDEX(allGymnasts!$D$4:$D$103,MATCH(SMALL(allGymnasts!$X$4:$X$103,A4),allGymnasts!$X$4:$X$103,0))),\"\")","v":""},{"$f":"IFERROR(IF(allGymnasts!B4=\"\",\"\",INDEX(allGymnasts!$T$4:$T$103,MATCH(SMALL(allGymnasts!$X$4:$X$103,A4),allGymnasts!$X$4:$X$103,0))),\"\")","v":""},{"$f":"IFERROR(IF(allGymnasts!B4=\"\",\"\",INDEX(allGymnasts!$U$4:$U$103,MATCH(SMALL(allGymnasts!$X$4:$X$103,A4),allGymnasts!$X$4:$X$103,0))),\"\")","v":""},{"$f":"IFERROR(IF(allGymnasts!B4=\"\",\"\",INDEX(allGymnasts!$V$4:$V$103,MATCH(SMALL(allGymnasts!$X$4:$X$103,A4),allGymnasts!$X$4:$X$103,0))),\"\")","v":""},{"$f":"IFERROR(IF(allGymnasts!B4=\"\",\"\",INDEX(allGymnasts!$W$4:$W$103,MATCH(SMALL(allGymnasts!$X$4:$X$103,A4),allGymnasts!$X$4:$X$103,0))),\"\")","v":""}]
[2,{"$f":"IFERROR(_xlfn.FLOOR.MATH(IF(allGymnasts!A5=\"\",\"\",INDEX(allGymnasts!$X$4:$X$103,MATCH(SMALL(allGymnasts!$X$4:$X$103,A5),allGymnasts!$X$4:$X$103,0)))),\"\")","v":""},{"$f":"IFERROR(IF(allGymnasts!A5=\"\",\"\",INDEX(allGymnasts!$A$4:$A$103,MATCH(SMALL(allGymnasts!$X$4:$X$103,A5),allGymnasts!$X$4:$X$103,0))),\"\")","v":""},{"$f":"IFERROR(IF(allGymnasts!B5=\"\",\"\",INDEX(allGymnasts!$B$4:$B$103,MATCH(SMALL(allGymnasts!$X$4:$X$103,A5),allGymnasts!$X$4:$X$103,0))),\"\")","v":""},{"$f":"IFERROR(IF(allGymnasts!C5=\"\",\"\",INDEX(allGymnasts!$C$4:$C$103,MATCH(SMALL(allGymnasts!$X$4:$X$103,A5),allGymnasts!$X$4:$X$103,0))),\"\")","v":""},{"$f":"IFERROR(IF(allGymnasts!D5=\"\",\"\",INDEX(allGymnasts!$D$4:$D$103,MATCH(SMALL(allGymnasts!$X$4:$X$103,A5),allGymnasts!$X$4:$X$103,0))),\"\")","v":""},{"$f":"IFERROR(IF(allGymnasts!B5=\"\",\"\",INDEX(allGymnasts!$T$4:$T$103,MATCH(SMALL(allGymnasts!$X$4:$X$103,A5),allGymnasts!$X$4:$X$103,0))),\"\")","v":""},{"$f":"IFERROR(IF(allGymnasts!B5=\"\",\"\",INDEX(allGymnasts!$U$4:$U$103,MATCH(SMALL(allGymnasts!$X$4:$X$103,A5),allGymnasts!$X$4:$X$103,0))),\"\")","v":""},{"$f":"IFERROR(IF(allGymnasts!B5=\"\",\"\",INDEX(allGymnasts!$V$4:$V$103,MATCH(SMALL(allGymnasts!$X$4:$X$103,A5),allGymnasts!$X$4:$X$103,0))),\"\")","v":""},{"$f":"IFERROR(IF(allGymnasts!B5=\"\",\"\",INDEX(allGymnasts!$W$4:$W$103,MATCH(SMALL(allGymnasts!$X$4:$X$103,A5),allGymnasts!$X$4:$X$103,0))),\"\")","v":""}]
[3,{"$f":"IFERROR(_xlfn.FLOOR.MATH(IF(allGymnasts!A6=\"\",\"\",INDEX(allGymnasts!$X$4:$X$103,MATCH(SMALL(allGymnasts!$X$4:$X$103,A6),allGymnasts!$X$4:$X$103,0)))),\"\")","v":""},{"$f":"IFERROR(IF(allGymnasts!A6=\"\",\"\",INDEX(allGymnasts!$A$4:$A$103,MATCH(SMALL(allGymnasts!$X$4:$X$103,A6),allGymnasts!$X$4:$X$103,0))),\"\")","v":""},{"$f":"IFERROR(IF(allGymnasts!B6=\"\",\"\",INDEX(allGymnasts!$B$4:$B$103,MATCH(SMALL(allGymnasts!$X$4:$X$103,A6),allGymnasts!$X$4:$X$103,0))),\"\")","v":""},{"$f":"IFERROR(IF(allGymnasts!C6=\"\",\"\",INDEX(allGymnasts!$C$4:$C$103,MATCH(SMALL(allGymnasts!$X$4:$X$103,A6),allGymnasts!$X$4:$X$103,0))),\"\")","v":""},{"$f":"IFERROR(IF(allGymnasts!D6=\"\",\"\",INDEX(allGymnasts!$D$4:$D$103,MATCH(SMALL(allGymnasts!$X$4:$X$103,A6),allGymnasts!$X$4:$X$103,0))),\"\")","v":""},{"$f":"IFERROR(IF(allGymnasts!B6=\"\",\"\",INDEX(allGymnasts!$T$4:$T$103,MATCH(SMALL(allGymnasts!$X$4:$X$103,A6),allGymnasts!$X$4:$X$103,0))),\"\")","v":""},{"$f":"IFERROR(IF(allGymnasts!B6=\"\",\"\",INDEX(allGymnasts!$U$4:$U$103,MATCH(SMALL(allGymnasts!$X$4:$X$103,A6),allGymnasts!$X$4:$X$103,0))),\"\")","v":""},{"$f":"IFERROR(IF(allGymnasts!B6=\"\",\"\",INDEX(allGymnasts!$V$4:$V$103,MATCH(SMALL(allGymnasts!$X$4:$X$103,A6),allGymnasts!$X$4:$X$103,0))),\"\")","v":""},{"$f":"IFERROR(IF(allGymnasts!B6=\"\",\"\",INDEX(allGymnasts!$W$4:$W$103,MATCH(SMALL(allGymnasts!$X$4:$X$103,A6),allGymnasts!$X$4:$X$103,0))),\"\")","v":""}]
[4,{"$f":"IFERROR(_xlfn.FLOOR.MATH(IF(allGymnasts!A7=\"\",\"\",INDEX(allGymnasts!$X$4:$X$103,MATCH(SMALL(allGymnasts!$X$4:$X$103,A7),allGymnasts!$X$4:$X$103,0)))),\"\")","v":""},{"$f":"IFERROR(IF(allGymnasts!A7=\"\",\"\",INDEX(allGymnasts!$A$4:$A$103,MATCH(SMALL(allGymnasts!$X$4:$X$103,A7),allGymnasts!$X$4:$X$103,0))),\"\")","v":""},{"$f":"IFERROR(IF(allGymnasts!B7=\"\",\"\",INDEX(allGymnasts!$B$4:$B$103,MATCH(SMALL(allGymnasts!$X$4:$X$103,A7),allGymnasts!$X$4:$X$103,0))),\"\")","v":""},{"$f":"IFERROR(IF(allGymnasts!C7=\"\",\"\",INDEX(allGymnasts!$C$4:$C$103,MATCH(SMALL(allGymnasts!$X$4:$X$103,A7),allGymnasts!$X$4:$X$103,0))),\"\")","v":""},{"$f":"IFERROR(IF(allGymnasts!D7=\"\",\"\",INDEX(allGymnasts!$D$4:$D$103,MATCH(SMALL(allGymnasts!$X$4:$X$103,A7),allGymnasts!$X$4:$X$103,0))),\"\")","v":""},{"$f":"IFERROR(IF(allGymnasts!B7=\"\",\"\",INDEX(allGymnasts!$T$4:$T$103,MATCH(SMALL(allGymnasts!$X$4:$X$103,A7),allGymnasts!$X$4:$X$103,0))),\"\")","v":""},{"$f":"IFERROR(IF(allGymnasts!B7=\"\",\"\",INDEX(allGymnasts!$U$4:$U$103,MATCH(SMALL(allGymnasts!$X$4:$X$103,A7),allGymnasts!$X$4:$X$103,0))),\"\")","v":""},{"$f":"IFERROR(IF(allGymnasts!B7=\"\",\"\",INDEX(allGymnasts!$V$4:$V$103,MATCH(SMALL(allGymnasts!$X$4:$X$103,A7),allGymnasts!$X$4:$X$103,0))),\"\")","v":""},{"$f":"IFERROR(IF(allGymnasts!B7=\"\",\"\",INDEX(allGymnasts!$W$4:$W$103,MATCH(SMALL(allGymnasts!$X$4:$X$103,A7),allGymnasts!$X$4:$X$103,0))),\"\")","v":""}]
[5,{"$f":"IFERROR(_xlfn.FLOOR.MATH(IF(allGymnasts!A8=\"\",\"\",INDEX(allGymnasts!$X$4:$X$103,MATCH(SMALL(allGymnasts!$X$4:$X$103,A8),allGymnasts!$X$4:$X$103,0)))),\"\")","v":""},{"$f":"IFERROR(IF(allGymnasts!A8=\"\",\"\",INDEX(allGymnasts!$A$4:$A$103,MATCH(SMALL(allGymnasts!$X$4:$X$103,A8),allGymnasts!$X$4:$X$103,0))),\"\")","v":""},{"$f":"IFERROR(IF(allGymnasts!B8=\"\",\"\",INDEX(allGymnasts!$B$4:$B$103,MATCH(SMALL(allGymnasts!$X$4:$X$103,A8),allGymnasts!$X$4:$X$103,0))),\"\")","v":""},{"$f":"IFERROR(IF(allGymnasts!C8=\"\",\"\",INDEX(allGymnasts!$C$4:$C$103,MATCH(SMALL(allGymnasts!$X$4:$X$103,A8),allGymnasts!$X$4:$X$103,0))),\"\")","v":""},{"$f":"IFERROR(IF(allGymnasts!D8=\"\",\"\",INDEX(allGymnasts!$D$4:$D$103,MATCH(SMALL(allGymnasts!$X$4:$X$103,A8),allGymnasts!$X$4:$X$103,0))),\"\")","v":""},{"$f":"IFERROR(IF(allGymnasts!B8=\"\",\"\",INDEX(allGymnasts!$T$4:$T$103,MATCH(SMALL(allGymnasts!$X$4:$X$103,A8),allGymnasts!$X$4:$X$103,0))),\"\")","v":""},{"$f":"IFERROR(IF(allGymnasts!B8=\"\",\"\",INDEX(allGymnasts!$U$4:$U$103,MATCH(SMALL(allGymnasts!$X$4:$X$103,A8),allGymnasts!$X$4:$X$103,0))),\"\")","v":""},{"$f":"IFERROR(IF(allGymnasts!B8=\"\",\"\",INDEX(allGymnasts!$V$4:$V$103,MATCH(SMALL(allGymnasts!$X$4:$X$103,A8),allGymnasts!$X$4:$X$103,0))),\"\")","v":""},{"$f":"IFERROR(IF(allGymnasts!B8=\"\",\"\",INDEX(allGymnasts!$W$4:$W$103,MATCH(SMALL(allGymnasts!$X$4:$X$103,A8),allGymnasts!$X$4:$X$103,0))),\"\")","v":""}]
[6,{"$f":"IFERROR(_xlfn.FLOOR.MATH(IF(allGymnasts!A9=\"\",\"\",INDEX(allGymnasts!$X$4:$X$103,MATCH(SMALL(allGymnasts!$X$4:$X$103,A9),allGymnasts!$X$4:$X$103,0)))),\"\")","v":""},{"$f":"IFERROR(IF(allGymnasts!A9=\"\",\"\",INDEX(allGymnasts!$A$4:$A$103,MATCH(SMALL(allGymnasts!$X$4:$X$103,A9),allGymnasts!$X$4:$X$103,0))),\"\")","v":""},{"$f":"IFERROR(IF(allGymnasts!B9=\"\",\"\",INDEX(allGymnasts!$B$4:$B$103,MATCH(SMALL(allGymnasts!$X$4:$X$103,A9),allGymnasts!$X$4:$X$103,0))),\"\")","v":""},{"$f":"IFERROR(IF(allGymnasts!C9=\"\",\"\",INDEX(allGymnasts!$C$4:$C$103,MATCH(SMALL(allGymnasts!$X$4:$X$103,A9),allGymnasts!$X$4:$X$103,0))),\"\")","v":""},{"$f":"IFERROR(IF(allGymnasts!D9=\"\",\"\",INDEX(allGymnasts!$D$4:$D$103,MATCH(SMALL(allGymnasts!$X$4:$X$103,A9),allGymnasts!$X$4:$X$103,0))),\"\")","v":""},{"$f":"IFERROR(IF(allGymnasts!B9=\"\",\"\",INDEX(allGymnasts!$T$4:$T$103,MATCH(SMALL(allGymnasts!$X$4:$X$103,A9),allGymnasts!$X$4:$X$103,0))),\"\")","v":""},{"$f":"IFERROR(IF(allGymnasts!B9=\"\",\"\",INDEX(allGymnasts!$U$4:$U$103,MATCH(SMALL(allGymnasts!$X$4:$X$103,A9),allGymnasts!$X$4:$X$103,0))),\"\")","v":""},{"$f":"IFERROR(IF(allGymnasts!B9=\"\",\"\",INDEX(allGymnasts!$V$4:$V$103,MATCH(SMALL(allGymnasts!$X$4:$X$103,A9),allGymnasts!$X$4:$X$103,0))),\"\")","v":""},{"$f":"IFERROR(IF(allGymnasts!B9=\"\",\"\",INDEX(allGymnasts!$W$4:$W$103,MATCH(SMALL(allGymnasts!$X$4:$X$103,A9),allGymnasts!$X$4:$X$103,0))),\"\")","v":""}]
[7,{"$f":"IFERROR(_xlfn.FLOOR.MATH(IF(allGymnasts!A10=\"\",\"\",INDEX(allGymnasts!$X$4:$X$103,MATCH(SMALL(allGymnasts!$X$4:$X$103,A10),allGymnasts!$X$4:$X$103,0)))),\"\")","v":""},{"$f":"IFERROR(IF(allGymnasts!A10=\"\",\"\",INDEX(allGymnasts!$A$4:$A$103,MATCH(SMALL(allGymnasts!$X$4:$X$103,A10),allGymnasts!$X$4:$X$103,0))),\"\")","v":""},{"$f":"IFERROR(IF(allGymnasts!B10=\"\",\"\",INDEX(allGymnasts!$B$4:$B$103,MATCH(SMALL(allGymnasts!$X$4:$X$103,A10),allGymnasts!$X$4:$X$103,0))),\"\")","v":""},{"$f":"IFERROR(IF(allGymnasts!C10=\"\",\"\",INDEX(allGymnasts!$C$4:$C$103,MATCH(SMALL(allGymnasts!$X$4:$X$103,A10),allGymnasts!$X$4:$X$103,0))),\"\")","v":""},{"$f":"IFERROR(IF(allGymnasts!D10=\"\",\"\",INDEX(allGymnasts!$D$4:$D$103,MATCH(SMALL(allGymnasts!$X$4:$X$103,A10),allGymnasts!$X$4:$X$103,0))),\"\")","v":""},{"$f":"IFERROR(IF(allGymnasts!B10=\"\",\"\",INDEX(allGymnasts!$T$4:$T$103,MATCH(SMALL(allGymnasts!$X$4:$X$103,A10),allGymnasts!$X$4:$X$103,0))),\"\")","v":""},{"$f":"IFERROR(IF(allGymnasts!B10=\"\",\"\",INDEX(allGymnasts!$U$4:$U$103,MATCH(SMALL(allGymnasts!$X$4:$X$103,A10),allGymnasts!$X$4:$X$103,0))),\"\")","v":""},{"$f":"IFERROR(IF(allGymnasts!B10=\"\",\"\",INDEX(allGymnasts!$V$4:$V$103,MATCH(SMALL(allGymnasts!$X$4:$X$103,A10),allGymnasts!$X$4:$X$103,0))),\"\")","v":""},{"$f":"IFERROR(IF(allGymnasts!B10=\"\",\"\",INDEX(allGymnasts!$W$4:$W$103,MATCH(SMALL(allGymnasts!$X$4:$X$103,A10),allGymnasts!$X$4:$X$103,0))),\"\")","v":""}]
[8,{"$f":"IFERROR(_xlfn.FLOOR.MATH(IF(allGymnasts!A11=\"\",\"\",INDEX(allGymnasts!$X$4:$X$103,MATCH(SMALL(allGymnasts!$X$4:$X$103,A11),allGymnasts!$X$4:$X$103,0)))),\"\")","v":""},{"$f":"IFERROR(IF(allGymnasts!A11=\"\",\"\",INDEX(allGymnasts!$A$4:$A$103,MATCH(SMALL(allGymnasts!$X$4:$X$103,A11),allGymnasts!$X$4:$X$103,0))),\"\")","v":""},{"$f":"IFERROR(IF(allGymnasts!B11=\"\",\"\",INDEX(allGymnasts!$B$4:$B$103,MATCH(SMALL(allGymnasts!$X$4:$X$103,A11),allGymnasts!$X$4:$X$103,0))),\"\")","v":""},{"$f":"IFERROR(IF(allGymnasts!C11=\"\",\"\",INDEX(allGymnasts!$C$4:$C$103,MATCH(SMALL(allGymnasts!$X$4:$X$103,A11),allGymnasts!$X$4:$X$103,0))),\"\")","v":""},{"$f":"IFERROR(IF(allGymnasts!D11=\"\",\"\",INDEX(allGymnasts!$D$4:$D$103,MATCH(SMALL(allGymnasts!$X$4:$X$103,A11),allGymnasts!$X$4:$X$103,0))),\"\")","v":""},{"$f":"IFERROR(IF(allGymnasts!B11=\"\",\"\",INDEX(allGymnasts!$T$4:$T$103,MATCH(SMALL(allGymnasts!$X$4:$X$103,A11),allGymnasts!$X$4:$X$103,0))),\"\")","v":""},{"$f":"IFERROR(IF(allGymnasts!B11=\"\",\"\",INDEX(allGymnasts!$U$4:$U$103,MATCH(SMALL(allGymnasts!$X$4:$X$103,A11),allGymnasts!$X$4:$X$103,0))),\"\")","v":""},{"$f":"IFERROR(IF(allGymnasts!B11=\"\",\"\",INDEX(allGymnasts!$V$4:$V$103,MATCH(SMALL(allGymnasts!$X$4:$X$103,A11),allGymnasts!$X$4:$X$103,0))),\"\")","v":""},{"$f":"IFERROR(IF(allGymnasts!B11=\"\",\"\",INDEX(allGymnasts!$W$4:$W$103,MATCH(SMALL(allGymnasts!$X$4:$X$103,A11),allGymnasts!$X$4:$X$103,0))),\"\")","v":""}]
[9,{"$f":"IFERROR(_xlfn.FLOOR.MATH(IF(allGymnasts!A12=\"\",\"\",INDEX(allGymnasts!$X$4:$X$103,MATCH(SMALL(allGymnasts!$X$4:$X$103,A12),allGymnasts!$X$4:$X$103,0)))),\"\")","v":""},{"$f":"IFERROR(IF(allGymnasts!A12=\"\",\"\",INDEX(allGymnasts!$A$4:$A$103,MATCH(SMALL(allGymnasts!$X$4:$X$103,A12),allGymnasts!$X$4:$X$103,0))),\"\")","v":""},{"$f":"IFERROR(IF(allGymnasts!B12=\"\",\"\",INDEX(allGymnasts!$B$4:$B$103,MATCH(SMALL(allGymnasts!$X$4:$X$103,A12),allGymnasts!$X$4:$X$103,0))),\"\")","v":""},{"$f":"IFERROR(IF(allGymnasts!C12=\"\",\"\",INDEX(allGymnasts!$C$4:$C$103,MATCH(SMALL(allGymnasts!$X$4:$X$103,A12),allGymnasts!$X$4:$X$103,0))),\"\")","v":""},{"$f":"IFERROR(IF(allGymnasts!D12=\"\",\"\",INDEX(allGymnasts!$D$4:$D$103,MATCH(SMALL(allGymnasts!$X$4:$X$103,A12),allGymnasts!$X$4:$X$103,0))),\"\")","v":""},{"$f":"IFERROR(IF(allGymnasts!B12=\"\",\"\",INDEX(allGymnasts!$T$4:$T$103,MATCH(SMALL(allGymnasts!$X$4:$X$103,A12),allGymnasts!$X$4:$X$103,0))),\"\")","v":""},{"$f":"IFERROR(IF(allGymnasts!B12=\"\",\"\",INDEX(allGymnasts!$U$4:$U$103,MATCH(SMALL(allGymnasts!$X$4:$X$103,A12),allGymnasts!$X$4:$X$103,0))),\"\")","v":""},{"$f":"IFERROR(IF(allGymnasts!B12=\"\",\"\",INDEX(allGymnasts!$V$4:$V$103,MATCH(SMALL(allGymnasts!$X$4:$X$103,A12),allGymnasts!$X$4:$X$103,0))),\"\")","v":""},{"$f":"IFERROR(IF(allGymnasts!B12=\"\",\"\",INDEX(allGymnasts!$W$4:$W$103,MATCH(SMALL(allGymnasts!$X$4:$X$103,A12),allGymnasts!$X$4:$X$103,0))),\"\")","v":""}]
[10,{"$f":"IFERROR(_xlfn.FLOOR.MATH(IF(allGymnasts!A13=\"\",\"\",INDEX(allGymnasts!$X$4:$X$103,MATCH(SMALL(allGymnasts!$X$4:$X$103,A13),allGymnasts!$X$4:$X$103,0)))),\"\")","v":""},{"$f":"IFERROR(IF(allGymnasts!A13=\"\",\"\",INDEX(allGymnasts!$A$4:$A$103,MATCH(SMALL(allGymnasts!$X$4:$X$103,A13),allGymnasts!$X$4:$X$103,0))),\"\")","v":""},{"$f":"IFERROR(IF(allGymnasts!B13=\"\",\"\",INDEX(allGymnasts!$B$4:$B$103,MATCH(SMALL(allGymnasts!$X$4:$X$103,A13),allGymnasts!$X$4:$X$103,0))),\"\")","v":""},{"$f":"IFERROR(IF(allGymnasts!C13=\"\",\"\",INDEX(allGymnasts!$C$4:$C$103,MATCH(SMALL(allGymnasts!$X$4:$X$103,A13),allGymnasts!$X$4:$X$103,0))),\"\")","v":""},{"$f":"IFERROR(IF(allGymnasts!D13=\"\",\"\",INDEX(allGymnasts!$D$4:$D$103,MATCH(SMALL(allGymnasts!$X$4:$X$103,A13),allGymnasts!$X$4:$X$103,0))),\"\")","v":""},{"$f":"IFERROR(IF(allGymnasts!B13=\"\",\"\",INDEX(allGymnasts!$T$4:$T$103,MATCH(SMALL(allGymnasts!$X$4:$X$103,A13),allGymnasts!$X$4:$X$103,0))),\"\")","v":""},{"$f":"IFERROR(IF(allGymnasts!B13=\"\",\"\",INDEX(allGymnasts!$U$4:$U$103,MATCH(SMALL(allGymnasts!$X$4:$X$103,A13),allGymnasts!$X$4:$X$103,0))),\"\")","v":""},{"$f":"IFERROR(IF(allGymnasts!B13=\"\",\"\",INDEX(allGymnasts!$V$4:$V$103,MATCH(SMALL(allGymnasts!$X$4:$X$103,A13),allGymnasts!$X$4:$X$103,0))),\"\")","v":""},{"$f":"IFERROR(IF(allGymnasts!B13=\"\",\"\",INDEX(allGymnasts!$W$4:$W$103,MATCH(SMALL(allGymnasts!$X$4:$X$103,A13),allGymnasts!$X$4:$X$103,0))),\"\")","v":""}]
[11,{"$f":"IFERROR(_xlfn.FLOOR.MATH(IF(allGymnasts!A14=\"\",\"\",INDEX(allGymnasts!$X$4:$X$103,MATCH(SMALL(allGymnasts!$X$4:$X$103,A14),allGymnasts!$X$4:$X$103,0)))),\"\")","v":""},{"$f":"IFERROR(IF(allGymnasts!A14=\"\",\"\",INDEX(allGymnasts!$A$4:$A$103,MATCH(SMALL(allGymnasts!$X$4:$X$103,A14),allGymnasts!$X$4:$X$103,0))),\"\")","v":""},{"$f":"IFERROR(IF(allGymnasts!B14=\"\",\"\",INDEX(allGymnasts!$B$4:$B$103,MATCH(SMALL(allGymnasts!$X$4:$X$103,A14),allGymnasts!$X$4:$X$103,0))),\"\")","v":""},{"$f":"IFERROR(IF(allGymnasts!C14=\"\",\"\",INDEX(allGymnasts!$C$4:$C$103,MATCH(SMALL(allGymnasts!$X$4:$X$103,A14),allGymnasts!$X$4:$X$103,0))),\"\")","v":""},{"$f":"IFERROR(IF(allGymnasts!D14=\"\",\"\",INDEX(allGymnasts!$D$4:$D$103,MATCH(SMALL(allGymnasts!$X$4:$X$103,A14),allGymnasts!$X$4:$X$103,0))),\"\")","v":""},{"$f":"IFERROR(IF(allGymnasts!B14=\"\",\"\",INDEX(allGymnasts!$T$4:$T$103,MATCH(SMALL(allGymnasts!$X$4:$X$103,A14),allGymnasts!$X$4:$X$103,0))),\"\")","v":""},{"$f":"IFERROR(IF(allGymnasts!B14=\"\",\"\",INDEX(allGymnasts!$U$4:$U$103,MATCH(SMALL(allGymnasts!$X$4:$X$103,A14),allGymnasts!$X$4:$X$103,0))),\"\")","v":""},{"$f":"IFERROR(IF(allGymnasts!B14=\"\",\"\",INDEX(allGymnasts!$V$4:$V$103,MATCH(SMALL(allGymnasts!$X$4:$X$103,A14),allGymnasts!$X$4:$X$103,0))),\"\")","v":""},{"$f":"IFERROR(IF(allGymnasts!B14=\"\",\"\",INDEX(allGymnasts!$W$4:$W$103,MATCH(SMALL(allGymnasts!$X$4:$X$103,A14),allGymnasts!$X$4:$X$103,0))),\"\")","v":""}]
[12,{"$f":"IFERROR(_xlfn.FLOOR.MATH(IF(allGymnasts!A15=\"\",\"\",INDEX(allGymnasts!$X$4:$X$103,MATCH(SMALL(allGymnasts!$X$4:$X$103,A15),allGymnasts!$X$4:$X$103,0)))),\"\")","v":""},{"$f":"IFERROR(IF(allGymnasts!A15=\"\",\"\",INDEX(allGymnasts!$A$4:$A$103,MATCH(SMALL(allGymnasts!$X$4:$X$103,A15),allGymnasts!$X$4:$X$103,0))),\"\")","v":""},{"$f":"IFERROR(IF(allGymnasts!B15=\"\",\"\",INDEX(allGymnasts!$B$4:$B$103,MATCH(SMALL(allGymnasts!$X$4:$X$103,A15),allGymnasts!$X$4:$X$103,0))),\"\")","v":""},{"$f":"IFERROR(IF(allGymnasts!C15=\"\",\"\",INDEX(allGymnasts!$C$4:$C$103,MATCH(SMALL(allGymnasts!$X$4:$X$103,A15),allGymnasts!$X$4:$X$103,0))),\"\")","v":""},{"$f":"IFERROR(IF(allGymnasts!D15=\"\",\"\",INDEX(allGymnasts!$D$4:$D$103,MATCH(SMALL(allGymnasts!$X$4:$X$103,A15),allGymnasts!$X$4:$X$103,0))),\"\")","v":""},{"$f":"IFERROR(IF(allGymnasts!B15=\"\",\"\",INDEX(allGymnasts!$T$4:$T$103,MATCH(SMALL(allGymnasts!$X$4:$X$103,A15),allGymnasts!$X$4:$X$103,0))),\"\")","v":""},{"$f":"IFERROR(IF(allGymnasts!B15=\"\",\"\",INDEX(allGymnasts!$U$4:$U$103,MATCH(SMALL(allGymnasts!$X$4:$X$103,A15),allGymnasts!$X$4:$X$103,0))),\"\")","v":""},{"$f":"IFERROR(IF(allGymnasts!B15=\"\",\"\",INDEX(allGymnasts!$V$4:$V$103,MATCH(SMALL(allGymnasts!$X$4:$X$103,A15),allGymnasts!$X$4:$X$103,0))),\"\")","v":""},{"$f":"IFERROR(IF(allGymnasts!B15=\"\",\"\",INDEX(allGymnasts!$W$4:$W$103,MATCH(SMALL(allGymnasts!$X$4:$X$103,A15),allGymnasts!$X$4:$X$103,0))),\"\")","v":""}]
[13,{"$f":"IFERROR(_xlfn.FLOOR.MATH(IF(allGymnasts!A16=\"\",\"\",INDEX(allGymnasts!$X$4:$X$103,MATCH(SMALL(allGymnasts!$X$4:$X$103,A16),allGymnasts!$X$4:$X$103,0)))),\"\")","v":""},{"$f":"IFERROR(IF(allGymnasts!A16=\"\",\"\",INDEX(allGymnasts!$A$4:$A$103,MATCH(SMALL(allGymnasts!$X$4:$X$103,A16),allGymnasts!$X$4:$X$103,0))),\"\")","v":""},{"$f":"IFERROR(IF(allGymnasts!B16=\"\",\"\",INDEX(allGymnasts!$B$4:$B$103,MATCH(SMALL(allGymnasts!$X$4:$X$103,A16),allGymnasts!$X$4:$X$103,0))),\"\")","v":""},{"$f":"IFERROR(IF(allGymnasts!C16=\"\",\"\",INDEX(allGymnasts!$C$4:$C$103,MATCH(SMALL(allGymnasts!$X$4:$X$103,A16),allGymnasts!$X$4:$X$103,0))),\"\")","v":""},{"$f":"IFERROR(IF(allGymnasts!D16=\"\",\"\",INDEX(allGymnasts!$D$4:$D$103,MATCH(SMALL(allGymnasts!$X$4:$X$103,A16),allGymnasts!$X$4:$X$103,0))),\"\")","v":""},{"$f":"IFERROR(IF(allGymnasts!B16=\"\",\"\",INDEX(allGymnasts!$T$4:$T$103,MATCH(SMALL(allGymnasts!$X$4:$X$103,A16),allGymnasts!$X$4:$X$103,0))),\"\")","v":""},{"$f":"IFERROR(IF(allGymnasts!B16=\"\",\"\",INDEX(allGymnasts!$U$4:$U$103,MATCH(SMALL(allGymnasts!$X$4:$X$103,A16),allGymnasts!$X$4:$X$103,0))),\"\")","v":""},{"$f":"IFERROR(IF(allGymnasts!B16=\"\",\"\",INDEX(allGymnasts!$V$4:$V$103,MATCH(SMALL(allGymnasts!$X$4:$X$103,A16),allGymnasts!$X$4:$X$103,0))),\"\")","v":""},{"$f":"IFERROR(IF(allGymnasts!B16=\"\",\"\",INDEX(allGymnasts!$W$4:$W$103,MATCH(SMALL(allGymnasts!$X$4:$X$103,A16),allGymnasts!$X$4:$X$103,0))),\"\")","v":""}]
[14,{"$f":"IFERROR(_xlfn.FLOOR.MATH(IF(allGymnasts!A17=\"\",\"\",INDEX(allGymnasts!$X$4:$X$103,MATCH(SMALL(allGymnasts!$X$4:$X$103,A17),allGymnasts!$X$4:$X$103,0)))),\"\")","v":""},{"$f":"IFERROR(IF(allGymnasts!A17=\"\",\"\",INDEX(allGymnasts!$A$4:$A$103,MATCH(SMALL(allGymnasts!$X$4:$X$103,A17),allGymnasts!$X$4:$X$103,0))),\"\")","v":""},{"$f":"IFERROR(IF(allGymnasts!B17=\"\",\"\",INDEX(allGymnasts!$B$4:$B$103,MATCH(SMALL(allGymnasts!$X$4:$X$103,A17),allGymnasts!$X$4:$X$103,0))),\"\")","v":""},{"$f":"IFERROR(IF(allGymnasts!C17=\"\",\"\",INDEX(allGymnasts!$C$4:$C$103,MATCH(SMALL(allGymnasts!$X$4:$X$103,A17),allGymnasts!$X$4:$X$103,0))),\"\")","v":""},{"$f":"IFERROR(IF(allGymnasts!D17=\"\",\"\",INDEX(allGymnasts!$D$4:$D$103,MATCH(SMALL(allGymnasts!$X$4:$X$103,A17),allGymnasts!$X$4:$X$103,0))),\"\")","v":""},{"$f":"IFERROR(IF(allGymnasts!B17=\"\",\"\",INDEX(allGymnasts!$T$4:$T$103,MATCH(SMALL(allGymnasts!$X$4:$X$103,A17),allGymnasts!$X$4:$X$103,0))),\"\")","v":""},{"$f":"IFERROR(IF(allGymnasts!B17=\"\",\"\",INDEX(allGymnasts!$U$4:$U$103,MATCH(SMALL(allGymnasts!$X$4:$X$103,A17),allGymnasts!$X$4:$X$103,0))),\"\")","v":""},{"$f":"IFERROR(IF(allGymnasts!B17=\"\",\"\",INDEX(allGymnasts!$V$4:$V$103,MATCH(SMALL(allGymnasts!$X$4:$X$103,A17),allGymnasts!$X$4:$X$103,0))),\"\")","v":""},{"$f":"IFERROR(IF(allGymnasts!B17=\"\",\"\",INDEX(allGymnasts!$W$4:$W$103,MATCH(SMALL(allGymnasts!$X$4:$X$103,A17),allGymnasts!$X$4:$X$103,0))),\"\")","v":""}]
[15,{"$f":"IFERROR(_xlfn.FLOOR.MATH(IF(allGymnasts!A18=\"\",\"\",INDEX(allGymnasts!$X$4:$X$103,MATCH(SMALL(allGymnasts!$X$4:$X$103,A18),allGymnasts!$X$4:$X$103,0)))),\"\")","v":""},{"$f":"IFERROR(IF(allGymnasts!A18=\"\",\"\",INDEX(allGymnasts!$A$4:$A$103,MATCH(SMALL(allGymnasts!$X$4:$X$103,A18),allGymnasts!$X$4:$X$103,0))),\"\")","v":""},{"$f":"IFERROR(IF(allGymnasts!B18=\"\",\"\",INDEX(allGymnasts!$B$4:$B$103,MATCH(SMALL(allGymnasts!$X$4:$X$103,A18),allGymnasts!$X$4:$X$103,0))),\"\")","v":""},{"$f":"IFERROR(IF(allGymnasts!C18=\"\",\"\",INDEX(allGymnasts!$C$4:$C$103,MATCH(SMALL(allGymnasts!$X$4:$X$103,A18),allGymnasts!$X$4:$X$103,0))),\"\")","v":""},{"$f":"IFERROR(IF(allGymnasts!D18=\"\",\"\",INDEX(allGymnasts!$D$4:$D$103,MATCH(SMALL(allGymnasts!$X$4:$X$103,A18),allGymnasts!$X$4:$X$103,0))),\"\")","v":""},{"$f":"IFERROR(IF(allGymnasts!B18=\"\",\"\",INDEX(allGymnasts!$T$4:$T$103,MATCH(SMALL(allGymnasts!$X$4:$X$103,A18),allGymnasts!$X$4:$X$103,0))),\"\")","v":""},{"$f":"IFERROR(IF(allGymnasts!B18=\"\",\"\",INDEX(allGymnasts!$U$4:$U$103,MATCH(SMALL(allGymnasts!$X$4:$X$103,A18),allGymnasts!$X$4:$X$103,0))),\"\")","v":""},{"$f":"IFERROR(IF(allGymnasts!B18=\"\",\"\",INDEX(allGymnasts!$V$4:$V$103,MATCH(SMALL(allGymnasts!$X$4:$X$103,A18),allGymnasts!$X$4:$X$103,0))),\"\")","v":""},{"$f":"IFERROR(IF(allGymnasts!B18=\"\",\"\",INDEX(allGymnasts!$W$4:$W$103,MATCH(SMALL(allGymnasts!$X$4:$X$103,A18),allGymnasts!$X$4:$X$103,0))),\"\")","v":""}]
[16,{"$f":"IFERROR(_xlfn.FLOOR.MATH(IF(allGymnasts!A19=\"\",\"\",INDEX(allGymnasts!$X$4:$X$103,MATCH(SMALL(allGymnasts!$X$4:$X$103,A19),allGymnasts!$X$4:$X$103,0)))),\"\")","v":""},{"$f":"IFERROR(IF(allGymnasts!A19=\"\",\"\",INDEX(allGymnasts!$A$4:$A$103,MATCH(SMALL(allGymnasts!$X$4:$X$103,A19),allGymnasts!$X$4:$X$103,0))),\"\")","v":""},{"$f":"IFERROR(IF(allGymnasts!B19=\"\",\"\",INDEX(allGymnasts!$B$4:$B$103,MATCH(SMALL(allGymnasts!$X$4:$X$103,A19),allGymnasts!$X$4:$X$103,0))),\"\")","v":""},{"$f":"IFERROR(IF(allGymnasts!C19=\"\",\"\",INDEX(allGymnasts!$C$4:$C$103,MATCH(SMALL(allGymnasts!$X$4:$X$103,A19),allGymnasts!$X$4:$X$103,0))),\"\")","v":""},{"$f":"IFERROR(IF(allGymnasts!D19=\"\",\"\",INDEX(allGymnasts!$D$4:$D$103,MATCH(SMALL(allGymnasts!$X$4:$X$103,A19),allGymnasts!$X$4:$X$103,0))),\"\")","v":""},{"$f":"IFERROR(IF(allGymnasts!B19=\"\",\"\",INDEX(allGymnasts!$T$4:$T$103,MATCH(SMALL(allGymnasts!$X$4:$X$103,A19),allGymnasts!$X$4:$X$103,0))),\"\")","v":""},{"$f":"IFERROR(IF(allGymnasts!B19=\"\",\"\",INDEX(allGymnasts!$U$4:$U$103,MATCH(SMALL(allGymnasts!$X$4:$X$103,A19),allGymnasts!$X$4:$X$103,0))),\"\")","v":""},{"$f":"IFERROR(IF(allGymnasts!B19=\"\",\"\",INDEX(allGymnasts!$V$4:$V$103,MATCH(SMALL(allGymnasts!$X$4:$X$103,A19),allGymnasts!$X$4:$X$103,0))),\"\")","v":""},{"$f":"IFERROR(IF(allGymnasts!B19=\"\",\"\",INDEX(allGymnasts!$W$4:$W$103,MATCH(SMALL(allGymnasts!$X$4:$X$103,A19),allGymnasts!$X$4:$X$103,0))),\"\")","v":""}]
[17,{"$f":"IFERROR(_xlfn.FLOOR.MATH(IF(allGymnasts!A20=\"\",\"\",INDEX(allGymnasts!$X$4:$X$103,MATCH(SMALL(allGymnasts!$X$4:$X$103,A20),allGymnasts!$X$4:$X$103,0)))),\"\")","v":""},{"$f":"IFERROR(IF(allGymnasts!A20=\"\",\"\",INDEX(allGymnasts!$A$4:$A$103,MATCH(SMALL(allGymnasts!$X$4:$X$103,A20),allGymnasts!$X$4:$X$103,0))),\"\")","v":""},{"$f":"IFERROR(IF(allGymnasts!B20=\"\",\"\",INDEX(allGymnasts!$B$4:$B$103,MATCH(SMALL(allGymnasts!$X$4:$X$103,A20),allGymnasts!$X$4:$X$103,0))),\"\")","v":""},{"$f":"IFERROR(IF(allGymnasts!C20=\"\",\"\",INDEX(allGymnasts!$C$4:$C$103,MATCH(SMALL(allGymnasts!$X$4:$X$103,A20),allGymnasts!$X$4:$X$103,0))),\"\")","v":""},{"$f":"IFERROR(IF(allGymnasts!D20=\"\",\"\",INDEX(allGymnasts!$D$4:$D$103,MATCH(SMALL(allGymnasts!$X$4:$X$103,A20),allGymnasts!$X$4:$X$103,0))),\"\")","v":""},{"$f":"IFERROR(IF(allGymnasts!B20=\"\",\"\",INDEX(allGymnasts!$T$4:$T$103,MATCH(SMALL(allGymnasts!$X$4:$X$103,A20),allGymnasts!$X$4:$X$103,0))),\"\")","v":""},{"$f":"IFERROR(IF(allGymnasts!B20=\"\",\"\",INDEX(allGymnasts!$U$4:$U$103,MATCH(SMALL(allGymnasts!$X$4:$X$103,A20),allGymnasts!$X$4:$X$103,0))),\"\")","v":""},{"$f":"IFERROR(IF(allGymnasts!B20=\"\",\"\",INDEX(allGymnasts!$V$4:$V$103,MATCH(SMALL(allGymnasts!$X$4:$X$103,A20),allGymnasts!$X$4:$X$103,0))),\"\")","v":""},{"$f":"IFERROR(IF(allGymnasts!B20=\"\",\"\",INDEX(allGymnasts!$W$4:$W$103,MATCH(SMALL(allGymnasts!$X$4:$X$103,A20),allGymnasts!$X$4:$X$103,0))),\"\")","v":""}]
[18,{"$f":"IFERROR(_xlfn.FLOOR.MATH(IF(allGymnasts!A21=\"\",\"\",INDEX(allGymnasts!$X$4:$X$103,MATCH(SMALL(allGymnasts!$X$4:$X$103,A21),allGymnasts!$X$4:$X$103,0)))),\"\")","v":""},{"$f":"IFERROR(IF(allGymnasts!A21=\"\",\"\",INDEX(allGymnasts!$A$4:$A$103,MATCH(SMALL(allGymnasts!$X$4:$X$103,A21),allGymnasts!$X$4:$X$103,0))),\"\")","v":""},{"$f":"IFERROR(IF(allGymnasts!B21=\"\",\"\",INDEX(allGymnasts!$B$4:$B$103,MATCH(SMALL(allGymnasts!$X$4:$X$103,A21),allGymnasts!$X$4:$X$103,0))),\"\")","v":""},{"$f":"IFERROR(IF(allGymnasts!C21=\"\",\"\",INDEX(allGymnasts!$C$4:$C$103,MATCH(SMALL(allGymnasts!$X$4:$X$103,A21),allGymnasts!$X$4:$X$103,0))),\"\")","v":""},{"$f":"IFERROR(IF(allGymnasts!D21=\"\",\"\",INDEX(allGymnasts!$D$4:$D$103,MATCH(SMALL(allGymnasts!$X$4:$X$103,A21),allGymnasts!$X$4:$X$103,0))),\"\")","v":""},{"$f":"IFERROR(IF(allGymnasts!B21=\"\",\"\",INDEX(allGymnasts!$T$4:$T$103,MATCH(SMALL(allGymnasts!$X$4:$X$103,A21),allGymnasts!$X$4:$X$103,0))),\"\")","v":""},{"$f":"IFERROR(IF(allGymnasts!B21=\"\",\"\",INDEX(allGymnasts!$U$4:$U$103,MATCH(SMALL(allGymnasts!$X$4:$X$103,A21),allGymnasts!$X$4:$X$103,0))),\"\")","v":""},{"$f":"IFERROR(IF(allGymnasts!B21=\"\",\"\",INDEX(allGymnasts!$V$4:$V$103,MATCH(SMALL(allGymnasts!$X$4:$X$103,A21),allGymnasts!$X$4:$X$103,0))),\"\")","v":""},{"$f":"IFERROR(IF(allGymnasts!B21=\"\",\"\",INDEX(allGymnasts!$W$4:$W$103,MATCH(SMALL(allGymnasts!$X$4:$X$103,A21),allGymnasts!$X$4:$X$103,0))),\"\")","v":""}]
[19,{"$f":"IFERROR(_xlfn.FLOOR.MATH(IF(allGymnasts!A22=\"\",\"\",INDEX(allGymnasts!$X$4:$X$103,MATCH(SMALL(allGymnasts!$X$4:$X$103,A22),allGymnasts!$X$4:$X$103,0)))),\"\")","v":""},{"$f":"IFERROR(IF(allGymnasts!A22=\"\",\"\",INDEX(allGymnasts!$A$4:$A$103,MATCH(SMALL(allGymnasts!$X$4:$X$103,A22),allGymnasts!$X$4:$X$103,0))),\"\")","v":""},{"$f":"IFERROR(IF(allGymnasts!B22=\"\",\"\",INDEX(allGymnasts!$B$4:$B$103,MATCH(SMALL(allGymnasts!$X$4:$X$103,A22),allGymnasts!$X$4:$X$103,0))),\"\")","v":""},{"$f":"IFERROR(IF(allGymnasts!C22=\"\",\"\",INDEX(allGymnasts!$C$4:$C$103,MATCH(SMALL(allGymnasts!$X$4:$X$103,A22),allGymnasts!$X$4:$X$103,0))),\"\")","v":""},{"$f":"IFERROR(IF(allGymnasts!D22=\"\",\"\",INDEX(allGymnasts!$D$4:$D$103,MATCH(SMALL(allGymnasts!$X$4:$X$103,A22),allGymnasts!$X$4:$X$103,0))),\"\")","v":""},{"$f":"IFERROR(IF(allGymnasts!B22=\"\",\"\",INDEX(allGymnasts!$T$4:$T$103,MATCH(SMALL(allGymnasts!$X$4:$X$103,A22),allGymnasts!$X$4:$X$103,0))),\"\")","v":""},{"$f":"IFERROR(IF(allGymnasts!B22=\"\",\"\",INDEX(allGymnasts!$U$4:$U$103,MATCH(SMALL(allGymnasts!$X$4:$X$103,A22),allGymnasts!$X$4:$X$103,0))),\"\")","v":""},{"$f":"IFERROR(IF(allGymnasts!B22=\"\",\"\",INDEX(allGymnasts!$V$4:$V$103,MATCH(SMALL(allGymnasts!$X$4:$X$103,A22),allGymnasts!$X$4:$X$103,0))),\"\")","v":""},{"$f":"IFERROR(IF(allGymnasts!B22=\"\",\"\",INDEX(allGymnasts!$W$4:$W$103,MATCH(SMALL(allGymnasts!$X$4:$X$103,A22),allGymnasts!$X$4:$X$103,0))),\"\")","v":""}]
[20,{"$f":"IFERROR(_xlfn.FLOOR.MATH(IF(allGymnasts!A23=\"\",\"\",INDEX(allGymnasts!$X$4:$X$103,MATCH(SMALL(allGymnasts!$X$4:$X$103,A23),allGymnasts!$X$4:$X$103,0)))),\"\")","v":""},{"$f":"IFERROR(IF(allGymnasts!A23=\"\",\"\",INDEX(allGymnasts!$A$4:$A$103,MATCH(SMALL(allGymnasts!$X$4:$X$103,A23),allGymnasts!$X$4:$X$103,0))),\"\")","v":""},{"$f":"IFERROR(IF(allGymnasts!B23=\"\",\"\",INDEX(allGymnasts!$B$4:$B$103,MATCH(SMALL(allGymnasts!$X$4:$X$103,A23),allGymnasts!$X$4:$X$103,0))),\"\")","v":""},{"$f":"IFERROR(IF(allGymnasts!C23=\"\",\"\",INDEX(allGymnasts!$C$4:$C$103,MATCH(SMALL(allGymnasts!$X$4:$X$103,A23),allGymnasts!$X$4:$X$103,0))),\"\")","v":""},{"$f":"IFERROR(IF(allGymnasts!D23=\"\",\"\",INDEX(allGymnasts!$D$4:$D$103,MATCH(SMALL(allGymnasts!$X$4:$X$103,A23),allGymnasts!$X$4:$X$103,0))),\"\")","v":""},{"$f":"IFERROR(IF(allGymnasts!B23=\"\",\"\",INDEX(allGymnasts!$T$4:$T$103,MATCH(SMALL(allGymnasts!$X$4:$X$103,A23),allGymnasts!$X$4:$X$103,0))),\"\")","v":""},{"$f":"IFERROR(IF(allGymnasts!B23=\"\",\"\",INDEX(allGymnasts!$U$4:$U$103,MATCH(SMALL(allGymnasts!$X$4:$X$103,A23),allGymnasts!$X$4:$X$103,0))),\"\")","v":""},{"$f":"IFERROR(IF(allGymnasts!B23=\"\",\"\",INDEX(allGymnasts!$V$4:$V$103,MATCH(SMALL(allGymnasts!$X$4:$X$103,A23),allGymnasts!$X$4:$X$103,0))),\"\")","v":""},{"$f":"IFERROR(IF(allGymnasts!B23=\"\",\"\",INDEX(allGymnasts!$W$4:$W$103,MATCH(SMALL(allGymnasts!$X$4:$X$103,A23),allGymnasts!$X$4:$X$103,0))),\"\")","v":""}]
[21,{"$f":"IFERROR(_xlfn.FLOOR.MATH(IF(allGymnasts!A24=\"\",\"\",INDEX(allGymnasts!$X$4:$X$103,MATCH(SMALL(allGymnasts!$X$4:$X$103,A24),allGymnasts!$X$4:$X$103,0)))),\"\")","v":""},{"$f":"IFERROR(IF(allGymnasts!A24=\"\",\"\",INDEX(allGymnasts!$A$4:$A$103,MATCH(SMALL(allGymnasts!$X$4:$X$103,A24),allGymnasts!$X$4:$X$103,0))),\"\")","v":""},{"$f":"IFERROR(IF(allGymnasts!B24=\"\",\"\",INDEX(allGymnasts!$B$4:$B$103,MATCH(SMALL(allGymnasts!$X$4:$X$103,A24),allGymnasts!$X$4:$X$103,0))),\"\")","v":""},{"$f":"IFERROR(IF(allGymnasts!C24=\"\",\"\",INDEX(allGymnasts!$C$4:$C$103,MATCH(SMALL(allGymnasts!$X$4:$X$103,A24),allGymnasts!$X$4:$X$103,0))),\"\")","v":""},{"$f":"IFERROR(IF(allGymnasts!D24=\"\",\"\",INDEX(allGymnasts!$D$4:$D$103,MATCH(SMALL(allGymnasts!$X$4:$X$103,A24),allGymnasts!$X$4:$X$103,0))),\"\")","v":""},{"$f":"IFERROR(IF(allGymnasts!B24=\"\",\"\",INDEX(allGymnasts!$T$4:$T$103,MATCH(SMALL(allGymnasts!$X$4:$X$103,A24),allGymnasts!$X$4:$X$103,0))),\"\")","v":""},{"$f":"IFERROR(IF(allGymnasts!B24=\"\",\"\",INDEX(allGymnasts!$U$4:$U$103,MATCH(SMALL(allGymnasts!$X$4:$X$103,A24),allGymnasts!$X$4:$X$103,0))),\"\")","v":""},{"$f":"IFERROR(IF(allGymnasts!B24=\"\",\"\",INDEX(allGymnasts!$V$4:$V$103,MATCH(SMALL(allGymnasts!$X$4:$X$103,A24),allGymnasts!$X$4:$X$103,0))),\"\")","v":""},{"$f":"IFERROR(IF(allGymnasts!B24=\"\",\"\",INDEX(allGymnasts!$W$4:$W$103,MATCH(SMALL(allGymnasts!$X$4:$X$103,A24),allGymnasts!$X$4:$X$103,0))),\"\")","v":""}]
[22,{"$f":"IFERROR(_xlfn.FLOOR.MATH(IF(allGymnasts!A25=\"\",\"\",INDEX(allGymnasts!$X$4:$X$103,MATCH(SMALL(allGymnasts!$X$4:$X$103,A25),allGymnasts!$X$4:$X$103,0)))),\"\")","v":""},{"$f":"IFERROR(IF(allGymnasts!A25=\"\",\"\",INDEX(allGymnasts!$A$4:$A$103,MATCH(SMALL(allGymnasts!$X$4:$X$103,A25),allGymnasts!$X$4:$X$103,0))),\"\")","v":""},{"$f":"IFERROR(IF(allGymnasts!B25=\"\",\"\",INDEX(allGymnasts!$B$4:$B$103,MATCH(SMALL(allGymnasts!$X$4:$X$103,A25),allGymnasts!$X$4:$X$103,0))),\"\")","v":""},{"$f":"IFERROR(IF(allGymnasts!C25=\"\",\"\",INDEX(allGymnasts!$C$4:$C$103,MATCH(SMALL(allGymnasts!$X$4:$X$103,A25),allGymnasts!$X$4:$X$103,0))),\"\")","v":""},{"$f":"IFERROR(IF(allGymnasts!D25=\"\",\"\",INDEX(allGymnasts!$D$4:$D$103,MATCH(SMALL(allGymnasts!$X$4:$X$103,A25),allGymnasts!$X$4:$X$103,0))),\"\")","v":""},{"$f":"IFERROR(IF(allGymnasts!B25=\"\",\"\",INDEX(allGymnasts!$T$4:$T$103,MATCH(SMALL(allGymnasts!$X$4:$X$103,A25),allGymnasts!$X$4:$X$103,0))),\"\")","v":""},{"$f":"IFERROR(IF(allGymnasts!B25=\"\",\"\",INDEX(allGymnasts!$U$4:$U$103,MATCH(SMALL(allGymnasts!$X$4:$X$103,A25),allGymnasts!$X$4:$X$103,0))),\"\")","v":""},{"$f":"IFERROR(IF(allGymnasts!B25=\"\",\"\",INDEX(allGymnasts!$V$4:$V$103,MATCH(SMALL(allGymnasts!$X$4:$X$103,A25),allGymnasts!$X$4:$X$103,0))),\"\")","v":""},{"$f":"IFERROR(IF(allGymnasts!B25=\"\",\"\",INDEX(allGymnasts!$W$4:$W$103,MATCH(SMALL(allGymnasts!$X$4:$X$103,A25),allGymnasts!$X$4:$X$103,0))),\"\")","v":""}]
[23,{"$f":"IFERROR(_xlfn.FLOOR.MATH(IF(allGymnasts!A26=\"\",\"\",INDEX(allGymnasts!$X$4:$X$103,MATCH(SMALL(allGymnasts!$X$4:$X$103,A26),allGymnasts!$X$4:$X$103,0)))),\"\")","v":""},{"$f":"IFERROR(IF(allGymnasts!A26=\"\",\"\",INDEX(allGymnasts!$A$4:$A$103,MATCH(SMALL(allGymnasts!$X$4:$X$103,A26),allGymnasts!$X$4:$X$103,0))),\"\")","v":""},{"$f":"IFERROR(IF(allGymnasts!B26=\"\",\"\",INDEX(allGymnasts!$B$4:$B$103,MATCH(SMALL(allGymnasts!$X$4:$X$103,A26),allGymnasts!$X$4:$X$103,0))),\"\")","v":""},{"$f":"IFERROR(IF(allGymnasts!C26=\"\",\"\",INDEX(allGymnasts!$C$4:$C$103,MATCH(SMALL(allGymnasts!$X$4:$X$103,A26),allGymnasts!$X$4:$X$103,0))),\"\")","v":""},{"$f":"IFERROR(IF(allGymnasts!D26=\"\",\"\",INDEX(allGymnasts!$D$4:$D$103,MATCH(SMALL(allGymnasts!$X$4:$X$103,A26),allGymnasts!$X$4:$X$103,0))),\"\")","v":""},{"$f":"IFERROR(IF(allGymnasts!B26=\"\",\"\",INDEX(allGymnasts!$T$4:$T$103,MATCH(SMALL(allGymnasts!$X$4:$X$103,A26),allGymnasts!$X$4:$X$103,0))),\"\")","v":""},{"$f":"IFERROR(IF(allGymnasts!B26=\"\",\"\",INDEX(allGymnasts!$U$4:$U$103,MATCH(SMALL(allGymnasts!$X$4:$X$103,A26),allGymnasts!$X$4:$X$103,0))),\"\")","v":""},{"$f":"IFERROR(IF(allGymnasts!B26=\"\",\"\",INDEX(allGymnasts!$V$4:$V$103,MATCH(SMALL(allGymnasts!$X$4:$X$103,A26),allGymnasts!$X$4:$X$103,0))),\"\")","v":""},{"$f":"IFERROR(IF(allGymnasts!B26=\"\",\"\",INDEX(allGymnasts!$W$4:$W$103,MATCH(SMALL(allGymnasts!$X$4:$X$103,A26),allGymnasts!$X$4:$X$103,0))),\"\")","v":""}]
[24,{"$f":"IFERROR(_xlfn.FLOOR.MATH(IF(allGymnasts!A27=\"\",\"\",INDEX(allGymnasts!$X$4:$X$103,MATCH(SMALL(allGymnasts!$X$4:$X$103,A27),allGymnasts!$X$4:$X$103,0)))),\"\")","v":""},{"$f":"IFERROR(IF(allGymnasts!A27=\"\",\"\",INDEX(allGymnasts!$A$4:$A$103,MATCH(SMALL(allGymnasts!$X$4:$X$103,A27),allGymnasts!$X$4:$X$103,0))),\"\")","v":""},{"$f":"IFERROR(IF(allGymnasts!B27=\"\",\"\",INDEX(allGymnasts!$B$4:$B$103,MATCH(SMALL(allGymnasts!$X$4:$X$103,A27),allGymnasts!$X$4:$X$103,0))),\"\")","v":""},{"$f":"IFERROR(IF(allGymnasts!C27=\"\",\"\",INDEX(allGymnasts!$C$4:$C$103,MATCH(SMALL(allGymnasts!$X$4:$X$103,A27),allGymnasts!$X$4:$X$103,0))),\"\")","v":""},{"$f":"IFERROR(IF(allGymnasts!D27=\"\",\"\",INDEX(allGymnasts!$D$4:$D$103,MATCH(SMALL(allGymnasts!$X$4:$X$103,A27),allGymnasts!$X$4:$X$103,0))),\"\")","v":""},{"$f":"IFERROR(IF(allGymnasts!B27=\"\",\"\",INDEX(allGymnasts!$T$4:$T$103,MATCH(SMALL(allGymnasts!$X$4:$X$103,A27),allGymnasts!$X$4:$X$103,0))),\"\")","v":""},{"$f":"IFERROR(IF(allGymnasts!B27=\"\",\"\",INDEX(allGymnasts!$U$4:$U$103,MATCH(SMALL(allGymnasts!$X$4:$X$103,A27),allGymnasts!$X$4:$X$103,0))),\"\")","v":""},{"$f":"IFERROR(IF(allGymnasts!B27=\"\",\"\",INDEX(allGymnasts!$V$4:$V$103,MATCH(SMALL(allGymnasts!$X$4:$X$103,A27),allGymnasts!$X$4:$X$103,0))),\"\")","v":""},{"$f":"IFERROR(IF(allGymnasts!B27=\"\",\"\",INDEX(allGymnasts!$W$4:$W$103,MATCH(SMALL(allGymnasts!$X$4:$X$103,A27),allGymnasts!$X$4:$X$103,0))),\"\")","v":""}]
[25,{"$f":"IFERROR(_xlfn.FLOOR.MATH(IF(allGymnasts!A28=\"\",\"\",INDEX(allGymnasts!$X$4:$X$103,MATCH(SMALL(allGymnasts!$X$4:$X$103,A28),allGymnasts!$X$4:$X$103,0)))),\"\")","v":""},{"$f":"IFERROR(IF(allGymnasts!A28=\"\",\"\",INDEX(allGymnasts!$A$4:$A$103,MATCH(SMALL(allGymnasts!$X$4:$X$103,A28),allGymnasts!$X$4:$X$103,0))),\"\")","v":""},{"$f":"IFERROR(IF(allGymnasts!B28=\"\",\"\",INDEX(allGymnasts!$B$4:$B$103,MATCH(SMALL(allGymnasts!$X$4:$X$103,A28),allGymnasts!$X$4:$X$103,0))),\"\")","v":""},{"$f":"IFERROR(IF(allGymnasts!C28=\"\",\"\",INDEX(allGymnasts!$C$4:$C$103,MATCH(SMALL(allGymnasts!$X$4:$X$103,A28),allGymnasts!$X$4:$X$103,0))),\"\")","v":""},{"$f":"IFERROR(IF(allGymnasts!D28=\"\",\"\",INDEX(allGymnasts!$D$4:$D$103,MATCH(SMALL(allGymnasts!$X$4:$X$103,A28),allGymnasts!$X$4:$X$103,0))),\"\")","v":""},{"$f":"IFERROR(IF(allGymnasts!B28=\"\",\"\",INDEX(allGymnasts!$T$4:$T$103,MATCH(SMALL(allGymnasts!$X$4:$X$103,A28),allGymnasts!$X$4:$X$103,0))),\"\")","v":""},{"$f":"IFERROR(IF(allGymnasts!B28=\"\",\"\",INDEX(allGymnasts!$U$4:$U$103,MATCH(SMALL(allGymnasts!$X$4:$X$103,A28),allGymnasts!$X$4:$X$103,0))),\"\")","v":""},{"$f":"IFERROR(IF(allGymnasts!B28=\"\",\"\",INDEX(allGymnasts!$V$4:$V$103,MATCH(SMALL(allGymnasts!$X$4:$X$103,A28),allGymnasts!$X$4:$X$103,0))),\"\")","v":""},{"$f":"IFERROR(IF(allGymnasts!B28=\"\",\"\",INDEX(allGymnasts!$W$4:$W$103,MATCH(SMALL(allGymnasts!$X$4:$X$103,A28),allGymnasts!$X$4:$X$103,0))),\"\")","v":""}]
[26,{"$f":"IFERROR(_xlfn.FLOOR.MATH(IF(allGymnasts!A29=\"\",\"\",INDEX(allGymnasts!$X$4:$X$103,MATCH(SMALL(allGymnasts!$X$4:$X$103,A29),allGymnasts!$X$4:$X$103,0)))),\"\")","v":""},{"$f":"IFERROR(IF(allGymnasts!A29=\"\",\"\",INDEX(allGymnasts!$A$4:$A$103,MATCH(SMALL(allGymnasts!$X$4:$X$103,A29),allGymnasts!$X$4:$X$103,0))),\"\")","v":""},{"$f":"IFERROR(IF(allGymnasts!B29=\"\",\"\",INDEX(allGymnasts!$B$4:$B$103,MATCH(SMALL(allGymnasts!$X$4:$X$103,A29),allGymnasts!$X$4:$X$103,0))),\"\")","v":""},{"$f":"IFERROR(IF(allGymnasts!C29=\"\",\"\",INDEX(allGymnasts!$C$4:$C$103,MATCH(SMALL(allGymnasts!$X$4:$X$103,A29),allGymnasts!$X$4:$X$103,0))),\"\")","v":""},{"$f":"IFERROR(IF(allGymnasts!D29=\"\",\"\",INDEX(allGymnasts!$D$4:$D$103,MATCH(SMALL(allGymnasts!$X$4:$X$103,A29),allGymnasts!$X$4:$X$103,0))),\"\")","v":""},{"$f":"IFERROR(IF(allGymnasts!B29=\"\",\"\",INDEX(allGymnasts!$T$4:$T$103,MATCH(SMALL(allGymnasts!$X$4:$X$103,A29),allGymnasts!$X$4:$X$103,0))),\"\")","v":""},{"$f":"IFERROR(IF(allGymnasts!B29=\"\",\"\",INDEX(allGymnasts!$U$4:$U$103,MATCH(SMALL(allGymnasts!$X$4:$X$103,A29),allGymnasts!$X$4:$X$103,0))),\"\")","v":""},{"$f":"IFERROR(IF(allGymnasts!B29=\"\",\"\",INDEX(allGymnasts!$V$4:$V$103,MATCH(SMALL(allGymnasts!$X$4:$X$103,A29),allGymnasts!$X$4:$X$103,0))),\"\")","v":""},{"$f":"IFERROR(IF(allGymnasts!B29=\"\",\"\",INDEX(allGymnasts!$W$4:$W$103,MATCH(SMALL(allGymnasts!$X$4:$X$103,A29),allGymnasts!$X$4:$X$103,0))),\"\")","v":""}]
[27,{"$f":"IFERROR(_xlfn.FLOOR.MATH(IF(allGymnasts!A30=\"\",\"\",INDEX(allGymnasts!$X$4:$X$103,MATCH(SMALL(allGymnasts!$X$4:$X$103,A30),allGymnasts!$X$4:$X$103,0)))),\"\")","v":""},{"$f":"IFERROR(IF(allGymnasts!A30=\"\",\"\",INDEX(allGymnasts!$A$4:$A$103,MATCH(SMALL(allGymnasts!$X$4:$X$103,A30),allGymnasts!$X$4:$X$103,0))),\"\")","v":""},{"$f":"IFERROR(IF(allGymnasts!B30=\"\",\"\",INDEX(allGymnasts!$B$4:$B$103,MATCH(SMALL(allGymnasts!$X$4:$X$103,A30),allGymnasts!$X$4:$X$103,0))),\"\")","v":""},{"$f":"IFERROR(IF(allGymnasts!C30=\"\",\"\",INDEX(allGymnasts!$C$4:$C$103,MATCH(SMALL(allGymnasts!$X$4:$X$103,A30),allGymnasts!$X$4:$X$103,0))),\"\")","v":""},{"$f":"IFERROR(IF(allGymnasts!D30=\"\",\"\",INDEX(allGymnasts!$D$4:$D$103,MATCH(SMALL(allGymnasts!$X$4:$X$103,A30),allGymnasts!$X$4:$X$103,0))),\"\")","v":""},{"$f":"IFERROR(IF(allGymnasts!B30=\"\",\"\",INDEX(allGymnasts!$T$4:$T$103,MATCH(SMALL(allGymnasts!$X$4:$X$103,A30),allGymnasts!$X$4:$X$103,0))),\"\")","v":""},{"$f":"IFERROR(IF(allGymnasts!B30=\"\",\"\",INDEX(allGymnasts!$U$4:$U$103,MATCH(SMALL(allGymnasts!$X$4:$X$103,A30),allGymnasts!$X$4:$X$103,0))),\"\")","v":""},{"$f":"IFERROR(IF(allGymnasts!B30=\"\",\"\",INDEX(allGymnasts!$V$4:$V$103,MATCH(SMALL(allGymnasts!$X$4:$X$103,A30),allGymnasts!$X$4:$X$103,0))),\"\")","v":""},{"$f":"IFERROR(IF(allGymnasts!B30=\"\",\"\",INDEX(allGymnasts!$W$4:$W$103,MATCH(SMALL(allGymnasts!$X$4:$X$103,A30),allGymnasts!$X$4:$X$103,0))),\"\")","v":""}]
[28,{"$f":"IFERROR(_xlfn.FLOOR.MATH(IF(allGymnasts!A31=\"\",\"\",INDEX(allGymnasts!$X$4:$X$103,MATCH(SMALL(allGymnasts!$X$4:$X$103,A31),allGymnasts!$X$4:$X$103,0)))),\"\")","v":""},{"$f":"IFERROR(IF(allGymnasts!A31=\"\",\"\",INDEX(allGymnasts!$A$4:$A$103,MATCH(SMALL(allGymnasts!$X$4:$X$103,A31),allGymnasts!$X$4:$X$103,0))),\"\")","v":""},{"$f":"IFERROR(IF(allGymnasts!B31=\"\",\"\",INDEX(allGymnasts!$B$4:$B$103,MATCH(SMALL(allGymnasts!$X$4:$X$103,A31),allGymnasts!$X$4:$X$103,0))),\"\")","v":""},{"$f":"IFERROR(IF(allGymnasts!C31=\"\",\"\",INDEX(allGymnasts!$C$4:$C$103,MATCH(SMALL(allGymnasts!$X$4:$X$103,A31),allGymnasts!$X$4:$X$103,0))),\"\")","v":""},{"$f":"IFERROR(IF(allGymnasts!D31=\"\",\"\",INDEX(allGymnasts!$D$4:$D$103,MATCH(SMALL(allGymnasts!$X$4:$X$103,A31),allGymnasts!$X$4:$X$103,0))),\"\")","v":""},{"$f":"IFERROR(IF(allGymnasts!B31=\"\",\"\",INDEX(allGymnasts!$T$4:$T$103,MATCH(SMALL(allGymnasts!$X$4:$X$103,A31),allGymnasts!$X$4:$X$103,0))),\"\")","v":""},{"$f":"IFERROR(IF(allGymnasts!B31=\"\",\"\",INDEX(allGymnasts!$U$4:$U$103,MATCH(SMALL(allGymnasts!$X$4:$X$103,A31),allGymnasts!$X$4:$X$103,0))),\"\")","v":""},{"$f":"IFERROR(IF(allGymnasts!B31=\"\",\"\",INDEX(allGymnasts!$V$4:$V$103,MATCH(SMALL(allGymnasts!$X$4:$X$103,A31),allGymnasts!$X$4:$X$103,0))),\"\")","v":""},{"$f":"IFERROR(IF(allGymnasts!B31=\"\",\"\",INDEX(allGymnasts!$W$4:$W$103,MATCH(SMALL(allGymnasts!$X$4:$X$103,A31),allGymnasts!$X$4:$X$103,0))),\"\")","v":""}]
[29,{"$f":"IFERROR(_xlfn.FLOOR.MATH(IF(allGymnasts!A32=\"\",\"\",INDEX(allGymnasts!$X$4:$X$103,MATCH(SMALL(allGymnasts!$X$4:$X$103,A32),allGymnasts!$X$4:$X$103,0)))),\"\")","v":""},{"$f":"IFERROR(IF(allGymnasts!A32=\"\",\"\",INDEX(allGymnasts!$A$4:$A$103,MATCH(SMALL(allGymnasts!$X$4:$X$103,A32),allGymnasts!$X$4:$X$103,0))),\"\")","v":""},{"$f":"IFERROR(IF(allGymnasts!B32=\"\",\"\",INDEX(allGymnasts!$B$4:$B$103,MATCH(SMALL(allGymnasts!$X$4:$X$103,A32),allGymnasts!$X$4:$X$103,0))),\"\")","v":""},{"$f":"IFERROR(IF(allGymnasts!C32=\"\",\"\",INDEX(allGymnasts!$C$4:$C$103,MATCH(SMALL(allGymnasts!$X$4:$X$103,A32),allGymnasts!$X$4:$X$103,0))),\"\")","v":""},{"$f":"IFERROR(IF(allGymnasts!D32=\"\",\"\",INDEX(allGymnasts!$D$4:$D$103,MATCH(SMALL(allGymnasts!$X$4:$X$103,A32),allGymnasts!$X$4:$X$103,0))),\"\")","v":""},{"$f":"IFERROR(IF(allGymnasts!B32=\"\",\"\",INDEX(allGymnasts!$T$4:$T$103,MATCH(SMALL(allGymnasts!$X$4:$X$103,A32),allGymnasts!$X$4:$X$103,0))),\"\")","v":""},{"$f":"IFERROR(IF(allGymnasts!B32=\"\",\"\",INDEX(allGymnasts!$U$4:$U$103,MATCH(SMALL(allGymnasts!$X$4:$X$103,A32),allGymnasts!$X$4:$X$103,0))),\"\")","v":""},{"$f":"IFERROR(IF(allGymnasts!B32=\"\",\"\",INDEX(allGymnasts!$V$4:$V$103,MATCH(SMALL(allGymnasts!$X$4:$X$103,A32),allGymnasts!$X$4:$X$103,0))),\"\")","v":""},{"$f":"IFERROR(IF(allGymnasts!B32=\"\",\"\",INDEX(allGymnasts!$W$4:$W$103,MATCH(SMALL(allGymnasts!$X$4:$X$103,A32),allGymnasts!$X$4:$X$103,0))),\"\")","v":""}]
[30,{"$f":"IFERROR(_xlfn.FLOOR.MATH(IF(allGymnasts!A33=\"\",\"\",INDEX(allGymnasts!$X$4:$X$103,MATCH(SMALL(allGymnasts!$X$4:$X$103,A33),allGymnasts!$X$4:$X$103,0)))),\"\")","v":""},{"$f":"IFERROR(IF(allGymnasts!A33=\"\",\"\",INDEX(allGymnasts!$A$4:$A$103,MATCH(SMALL(allGymnasts!$X$4:$X$103,A33),allGymnasts!$X$4:$X$103,0))),\"\")","v":""},{"$f":"IFERROR(IF(allGymnasts!B33=\"\",\"\",INDEX(allGymnasts!$B$4:$B$103,MATCH(SMALL(allGymnasts!$X$4:$X$103,A33),allGymnasts!$X$4:$X$103,0))),\"\")","v":""},{"$f":"IFERROR(IF(allGymnasts!C33=\"\",\"\",INDEX(allGymnasts!$C$4:$C$103,MATCH(SMALL(allGymnasts!$X$4:$X$103,A33),allGymnasts!$X$4:$X$103,0))),\"\")","v":""},{"$f":"IFERROR(IF(allGymnasts!D33=\"\",\"\",INDEX(allGymnasts!$D$4:$D$103,MATCH(SMALL(allGymnasts!$X$4:$X$103,A33),allGymnasts!$X$4:$X$103,0))),\"\")","v":""},{"$f":"IFERROR(IF(allGymnasts!B33=\"\",\"\",INDEX(allGymnasts!$T$4:$T$103,MATCH(SMALL(allGymnasts!$X$4:$X$103,A33),allGymnasts!$X$4:$X$103,0))),\"\")","v":""},{"$f":"IFERROR(IF(allGymnasts!B33=\"\",\"\",INDEX(allGymnasts!$U$4:$U$103,MATCH(SMALL(allGymnasts!$X$4:$X$103,A33),allGymnasts!$X$4:$X$103,0))),\"\")","v":""},{"$f":"IFERROR(IF(allGymnasts!B33=\"\",\"\",INDEX(allGymnasts!$V$4:$V$103,MATCH(SMALL(allGymnasts!$X$4:$X$103,A33),allGymnasts!$X$4:$X$103,0))),\"\")","v":""},{"$f":"IFERROR(IF(allGymnasts!B33=\"\",\"\",INDEX(allGymnasts!$W$4:$W$103,MATCH(SMALL(allGymnasts!$X$4:$X$103,A33),allGymnasts!$X$4:$X$103,0))),\"\")","v":""}]
[31,{"$f":"IFERROR(_xlfn.FLOOR.MATH(IF(allGymnasts!A34=\"\",\"\",INDEX(allGymnasts!$X$4:$X$103,MATCH(SMALL(allGymnasts!$X$4:$X$103,A34),allGymnasts!$X$4:$X$103,0)))),\"\")","v":""},{"$f":"IFERROR(IF(allGymnasts!A34=\"\",\"\",INDEX(allGymnasts!$A$4:$A$103,MATCH(SMALL(allGymnasts!$X$4:$X$103,A34),allGymnasts!$X$4:$X$103,0))),\"\")","v":""},{"$f":"IFERROR(IF(allGymnasts!B34=\"\",\"\",INDEX(allGymnasts!$B$4:$B$103,MATCH(SMALL(allGymnasts!$X$4:$X$103,A34),allGymnasts!$X$4:$X$103,0))),\"\")","v":""},{"$f":"IFERROR(IF(allGymnasts!C34=\"\",\"\",INDEX(allGymnasts!$C$4:$C$103,MATCH(SMALL(allGymnasts!$X$4:$X$103,A34),allGymnasts!$X$4:$X$103,0))),\"\")","v":""},{"$f":"IFERROR(IF(allGymnasts!D34=\"\",\"\",INDEX(allGymnasts!$D$4:$D$103,MATCH(SMALL(allGymnasts!$X$4:$X$103,A34),allGymnasts!$X$4:$X$103,0))),\"\")","v":""},{"$f":"IFERROR(IF(allGymnasts!B34=\"\",\"\",INDEX(allGymnasts!$T$4:$T$103,MATCH(SMALL(allGymnasts!$X$4:$X$103,A34),allGymnasts!$X$4:$X$103,0))),\"\")","v":""},{"$f":"IFERROR(IF(allGymnasts!B34=\"\",\"\",INDEX(allGymnasts!$U$4:$U$103,MATCH(SMALL(allGymnasts!$X$4:$X$103,A34),allGymnasts!$X$4:$X$103,0))),\"\")","v":""},{"$f":"IFERROR(IF(allGymnasts!B34=\"\",\"\",INDEX(allGymnasts!$V$4:$V$103,MATCH(SMALL(allGymnasts!$X$4:$X$103,A34),allGymnasts!$X$4:$X$103,0))),\"\")","v":""},{"$f":"IFERROR(IF(allGymnasts!B34=\"\",\"\",INDEX(allGymnasts!$W$4:$W$103,MATCH(SMALL(allGymnasts!$X$4:$X$103,A34),allGymnasts!$X$4:$X$103,0))),\"\")","v":""}]
[32,{"$f":"IFERROR(_xlfn.FLOOR.MATH(IF(allGymnasts!A35=\"\",\"\",INDEX(allGymnasts!$X$4:$X$103,MATCH(SMALL(allGymnasts!$X$4:$X$103,A35),allGymnasts!$X$4:$X$103,0)))),\"\")","v":""},{"$f":"IFERROR(IF(allGymnasts!A35=\"\",\"\",INDEX(allGymnasts!$A$4:$A$103,MATCH(SMALL(allGymnasts!$X$4:$X$103,A35),allGymnasts!$X$4:$X$103,0))),\"\")","v":""},{"$f":"IFERROR(IF(allGymnasts!B35=\"\",\"\",INDEX(allGymnasts!$B$4:$B$103,MATCH(SMALL(allGymnasts!$X$4:$X$103,A35),allGymnasts!$X$4:$X$103,0))),\"\")","v":""},{"$f":"IFERROR(IF(allGymnasts!C35=\"\",\"\",INDEX(allGymnasts!$C$4:$C$103,MATCH(SMALL(allGymnasts!$X$4:$X$103,A35),allGymnasts!$X$4:$X$103,0))),\"\")","v":""},{"$f":"IFERROR(IF(allGymnasts!D35=\"\",\"\",INDEX(allGymnasts!$D$4:$D$103,MATCH(SMALL(allGymnasts!$X$4:$X$103,A35),allGymnasts!$X$4:$X$103,0))),\"\")","v":""},{"$f":"IFERROR(IF(allGymnasts!B35=\"\",\"\",INDEX(allGymnasts!$T$4:$T$103,MATCH(SMALL(allGymnasts!$X$4:$X$103,A35),allGymnasts!$X$4:$X$103,0))),\"\")","v":""},{"$f":"IFERROR(IF(allGymnasts!B35=\"\",\"\",INDEX(allGymnasts!$U$4:$U$103,MATCH(SMALL(allGymnasts!$X$4:$X$103,A35),allGymnasts!$X$4:$X$103,0))),\"\")","v":""},{"$f":"IFERROR(IF(allGymnasts!B35=\"\",\"\",INDEX(allGymnasts!$V$4:$V$103,MATCH(SMALL(allGymnasts!$X$4:$X$103,A35),allGymnasts!$X$4:$X$103,0))),\"\")","v":""},{"$f":"IFERROR(IF(allGymnasts!B35=\"\",\"\",INDEX(allGymnasts!$W$4:$W$103,MATCH(SMALL(allGymnasts!$X$4:$X$103,A35),allGymnasts!$X$4:$X$103,0))),\"\")","v":""}]
[33,{"$f":"IFERROR(_xlfn.FLOOR.MATH(IF(allGymnasts!A36=\"\",\"\",INDEX(allGymnasts!$X$4:$X$103,MATCH(SMALL(allGymnasts!$X$4:$X$103,A36),allGymnasts!$X$4:$X$103,0)))),\"\")","v":""},{"$f":"IFERROR(IF(allGymnasts!A36=\"\",\"\",INDEX(allGymnasts!$A$4:$A$103,MATCH(SMALL(allGymnasts!$X$4:$X$103,A36),allGymnasts!$X$4:$X$103,0))),\"\")","v":""},{"$f":"IFERROR(IF(allGymnasts!B36=\"\",\"\",INDEX(allGymnasts!$B$4:$B$103,MATCH(SMALL(allGymnasts!$X$4:$X$103,A36),allGymnasts!$X$4:$X$103,0))),\"\")","v":""},{"$f":"IFERROR(IF(allGymnasts!C36=\"\",\"\",INDEX(allGymnasts!$C$4:$C$103,MATCH(SMALL(allGymnasts!$X$4:$X$103,A36),allGymnasts!$X$4:$X$103,0))),\"\")","v":""},{"$f":"IFERROR(IF(allGymnasts!D36=\"\",\"\",INDEX(allGymnasts!$D$4:$D$103,MATCH(SMALL(allGymnasts!$X$4:$X$103,A36),allGymnasts!$X$4:$X$103,0))),\"\")","v":""},{"$f":"IFERROR(IF(allGymnasts!B36=\"\",\"\",INDEX(allGymnasts!$T$4:$T$103,MATCH(SMALL(allGymnasts!$X$4:$X$103,A36),allGymnasts!$X$4:$X$103,0))),\"\")","v":""},{"$f":"IFERROR(IF(allGymnasts!B36=\"\",\"\",INDEX(allGymnasts!$U$4:$U$103,MATCH(SMALL(allGymnasts!$X$4:$X$103,A36),allGymnasts!$X$4:$X$103,0))),\"\")","v":""},{"$f":"IFERROR(IF(allGymnasts!B36=\"\",\"\",INDEX(allGymnasts!$V$4:$V$103,MATCH(SMALL(allGymnasts!$X$4:$X$103,A36),allGymnasts!$X$4:$X$103,0))),\"\")","v":""},{"$f":"IFERROR(IF(allGymnasts!B36=\"\",\"\",INDEX(allGymnasts!$W$4:$W$103,MATCH(SMALL(allGymnasts!$X$4:$X$103,A36),allGymnasts!$X$4:$X$103,0))),\"\")","v":""}]
[34,{"$f":"IFERROR(_xlfn.FLOOR.MATH(IF(allGymnasts!A37=\"\",\"\",INDEX(allGymnasts!$X$4:$X$103,MATCH(SMALL(allGymnasts!$X$4:$X$103,A37),allGymnasts!$X$4:$X$103,0)))),\"\")","v":""},{"$f":"IFERROR(IF(allGymnasts!A37=\"\",\"\",INDEX(allGymnasts!$A$4:$A$103,MATCH(SMALL(allGymnasts!$X$4:$X$103,A37),allGymnasts!$X$4:$X$103,0))),\"\")","v":""},{"$f":"IFERROR(IF(allGymnasts!B37=\"\",\"\",INDEX(allGymnasts!$B$4:$B$103,MATCH(SMALL(allGymnasts!$X$4:$X$103,A37),allGymnasts!$X$4:$X$103,0))),\"\")","v":""},{"$f":"IFERROR(IF(allGymnasts!C37=\"\",\"\",INDEX(allGymnasts!$C$4:$C$103,MATCH(SMALL(allGymnasts!$X$4:$X$103,A37),allGymnasts!$X$4:$X$103,0))),\"\")","v":""},{"$f":"IFERROR(IF(allGymnasts!D37=\"\",\"\",INDEX(allGymnasts!$D$4:$D$103,MATCH(SMALL(allGymnasts!$X$4:$X$103,A37),allGymnasts!$X$4:$X$103,0))),\"\")","v":""},{"$f":"IFERROR(IF(allGymnasts!B37=\"\",\"\",INDEX(allGymnasts!$T$4:$T$103,MATCH(SMALL(allGymnasts!$X$4:$X$103,A37),allGymnasts!$X$4:$X$103,0))),\"\")","v":""},{"$f":"IFERROR(IF(allGymnasts!B37=\"\",\"\",INDEX(allGymnasts!$U$4:$U$103,MATCH(SMALL(allGymnasts!$X$4:$X$103,A37),allGymnasts!$X$4:$X$103,0))),\"\")","v":""},{"$f":"IFERROR(IF(allGymnasts!B37=\"\",\"\",INDEX(allGymnasts!$V$4:$V$103,MATCH(SMALL(allGymnasts!$X$4:$X$103,A37),allGymnasts!$X$4:$X$103,0))),\"\")","v":""},{"$f":"IFERROR(IF(allGymnasts!B37=\"\",\"\",INDEX(allGymnasts!$W$4:$W$103,MATCH(SMALL(allGymnasts!$X$4:$X$103,A37),allGymnasts!$X$4:$X$103,0))),\"\")","v":""}]
[35,{"$f":"IFERROR(_xlfn.FLOOR.MATH(IF(allGymnasts!A38=\"\",\"\",INDEX(allGymnasts!$X$4:$X$103,MATCH(SMALL(allGymnasts!$X$4:$X$103,A38),allGymnasts!$X$4:$X$103,0)))),\"\")","v":""},{"$f":"IFERROR(IF(allGymnasts!A38=\"\",\"\",INDEX(allGymnasts!$A$4:$A$103,MATCH(SMALL(allGymnasts!$X$4:$X$103,A38),allGymnasts!$X$4:$X$103,0))),\"\")","v":""},{"$f":"IFERROR(IF(allGymnasts!B38=\"\",\"\",INDEX(allGymnasts!$B$4:$B$103,MATCH(SMALL(allGymnasts!$X$4:$X$103,A38),allGymnasts!$X$4:$X$103,0))),\"\")","v":""},{"$f":"IFERROR(IF(allGymnasts!C38=\"\",\"\",INDEX(allGymnasts!$C$4:$C$103,MATCH(SMALL(allGymnasts!$X$4:$X$103,A38),allGymnasts!$X$4:$X$103,0))),\"\")","v":""},{"$f":"IFERROR(IF(allGymnasts!D38=\"\",\"\",INDEX(allGymnasts!$D$4:$D$103,MATCH(SMALL(allGymnasts!$X$4:$X$103,A38),allGymnasts!$X$4:$X$103,0))),\"\")","v":""},{"$f":"IFERROR(IF(allGymnasts!B38=\"\",\"\",INDEX(allGymnasts!$T$4:$T$103,MATCH(SMALL(allGymnasts!$X$4:$X$103,A38),allGymnasts!$X$4:$X$103,0))),\"\")","v":""},{"$f":"IFERROR(IF(allGymnasts!B38=\"\",\"\",INDEX(allGymnasts!$U$4:$U$103,MATCH(SMALL(allGymnasts!$X$4:$X$103,A38),allGymnasts!$X$4:$X$103,0))),\"\")","v":""},{"$f":"IFERROR(IF(allGymnasts!B38=\"\",\"\",INDEX(allGymnasts!$V$4:$V$103,MATCH(SMALL(allGymnasts!$X$4:$X$103,A38),allGymnasts!$X$4:$X$103,0))),\"\")","v":""},{"$f":"IFERROR(IF(allGymnasts!B38=\"\",\"\",INDEX(allGymnasts!$W$4:$W$103,MATCH(SMALL(allGymnasts!$X$4:$X$103,A38),allGymnasts!$X$4:$X$103,0))),\"\")","v":""}]
[36,{"$f":"IFERROR(_xlfn.FLOOR.MATH(IF(allGymnasts!A39=\"\",\"\",INDEX(allGymnasts!$X$4:$X$103,MATCH(SMALL(allGymnasts!$X$4:$X$103,A39),allGymnasts!$X$4:$X$103,0)))),\"\")","v":""},{"$f":"IFERROR(IF(allGymnasts!A39=\"\",\"\",INDEX(allGymnasts!$A$4:$A$103,MATCH(SMALL(allGymnasts!$X$4:$X$103,A39),allGymnasts!$X$4:$X$103,0))),\"\")","v":""},{"$f":"IFERROR(IF(allGymnasts!B39=\"\",\"\",INDEX(allGymnasts!$B$4:$B$103,MATCH(SMALL(allGymnasts!$X$4:$X$103,A39),allGymnasts!$X$4:$X$103,0))),\"\")","v":""},{"$f":"IFERROR(IF(allGymnasts!C39=\"\",\"\",INDEX(allGymnasts!$C$4:$C$103,MATCH(SMALL(allGymnasts!$X$4:$X$103,A39),allGymnasts!$X$4:$X$103,0))),\"\")","v":""},{"$f":"IFERROR(IF(allGymnasts!D39=\"\",\"\",INDEX(allGymnasts!$D$4:$D$103,MATCH(SMALL(allGymnasts!$X$4:$X$103,A39),allGymnasts!$X$4:$X$103,0))),\"\")","v":""},{"$f":"IFERROR(IF(allGymnasts!B39=\"\",\"\",INDEX(allGymnasts!$T$4:$T$103,MATCH(SMALL(allGymnasts!$X$4:$X$103,A39),allGymnasts!$X$4:$X$103,0))),\"\")","v":""},{"$f":"IFERROR(IF(allGymnasts!B39=\"\",\"\",INDEX(allGymnasts!$U$4:$U$103,MATCH(SMALL(allGymnasts!$X$4:$X$103,A39),allGymnasts!$X$4:$X$103,0))),\"\")","v":""},{"$f":"IFERROR(IF(allGymnasts!B39=\"\",\"\",INDEX(allGymnasts!$V$4:$V$103,MATCH(SMALL(allGymnasts!$X$4:$X$103,A39),allGymnasts!$X$4:$X$103,0))),\"\")","v":""},{"$f":"IFERROR(IF(allGymnasts!B39=\"\",\"\",INDEX(allGymnasts!$W$4:$W$103,MATCH(SMALL(allGymnasts!$X$4:$X$103,A39),allGymnasts!$X$4:$X$103,0))),\"\")","v":""}]
[37,{"$f":"IFERROR(_xlfn.FLOOR.MATH(IF(allGymnasts!A40=\"\",\"\",INDEX(allGymnasts!$X$4:$X$103,MATCH(SMALL(allGymnasts!$X$4:$X$103,A40),allGymnasts!$X$4:$X$103,0)))),\"\")","v":""},{"$f":"IFERROR(IF(allGymnasts!A40=\"\",\"\",INDEX(allGymnasts!$A$4:$A$103,MATCH(SMALL(allGymnasts!$X$4:$X$103,A40),allGymnasts!$X$4:$X$103,0))),\"\")","v":""},{"$f":"IFERROR(IF(allGymnasts!B40=\"\",\"\",INDEX(allGymnasts!$B$4:$B$103,MATCH(SMALL(allGymnasts!$X$4:$X$103,A40),allGymnasts!$X$4:$X$103,0))),\"\")","v":""},{"$f":"IFERROR(IF(allGymnasts!C40=\"\",\"\",INDEX(allGymnasts!$C$4:$C$103,MATCH(SMALL(allGymnasts!$X$4:$X$103,A40),allGymnasts!$X$4:$X$103,0))),\"\")","v":""},{"$f":"IFERROR(IF(allGymnasts!D40=\"\",\"\",INDEX(allGymnasts!$D$4:$D$103,MATCH(SMALL(allGymnasts!$X$4:$X$103,A40),allGymnasts!$X$4:$X$103,0))),\"\")","v":""},{"$f":"IFERROR(IF(allGymnasts!B40=\"\",\"\",INDEX(allGymnasts!$T$4:$T$103,MATCH(SMALL(allGymnasts!$X$4:$X$103,A40),allGymnasts!$X$4:$X$103,0))),\"\")","v":""},{"$f":"IFERROR(IF(allGymnasts!B40=\"\",\"\",INDEX(allGymnasts!$U$4:$U$103,MATCH(SMALL(allGymnasts!$X$4:$X$103,A40),allGymnasts!$X$4:$X$103,0))),\"\")","v":""},{"$f":"IFERROR(IF(allGymnasts!B40=\"\",\"\",INDEX(allGymnasts!$V$4:$V$103,MATCH(SMALL(allGymnasts!$X$4:$X$103,A40),allGymnasts!$X$4:$X$103,0))),\"\")","v":""},{"$f":"IFERROR(IF(allGymnasts!B40=\"\",\"\",INDEX(allGymnasts!$W$4:$W$103,MATCH(SMALL(allGymnasts!$X$4:$X$103,A40),allGymnasts!$X$4:$X$103,0))),\"\")","v":""}]
[38,{"$f":"IFERROR(_xlfn.FLOOR.MATH(IF(allGymnasts!A41=\"\",\"\",INDEX(allGymnasts!$X$4:$X$103,MATCH(SMALL(allGymnasts!$X$4:$X$103,A41),allGymnasts!$X$4:$X$103,0)))),\"\")","v":""},{"$f":"IFERROR(IF(allGymnasts!A41=\"\",\"\",INDEX(allGymnasts!$A$4:$A$103,MATCH(SMALL(allGymnasts!$X$4:$X$103,A41),allGymnasts!$X$4:$X$103,0))),\"\")","v":""},{"$f":"IFERROR(IF(allGymnasts!B41=\"\",\"\",INDEX(allGymnasts!$B$4:$B$103,MATCH(SMALL(allGymnasts!$X$4:$X$103,A41),allGymnasts!$X$4:$X$103,0))),\"\")","v":""},{"$f":"IFERROR(IF(allGymnasts!C41=\"\",\"\",INDEX(allGymnasts!$C$4:$C$103,MATCH(SMALL(allGymnasts!$X$4:$X$103,A41),allGymnasts!$X$4:$X$103,0))),\"\")","v":""},{"$f":"IFERROR(IF(allGymnasts!D41=\"\",\"\",INDEX(allGymnasts!$D$4:$D$103,MATCH(SMALL(allGymnasts!$X$4:$X$103,A41),allGymnasts!$X$4:$X$103,0))),\"\")","v":""},{"$f":"IFERROR(IF(allGymnasts!B41=\"\",\"\",INDEX(allGymnasts!$T$4:$T$103,MATCH(SMALL(allGymnasts!$X$4:$X$103,A41),allGymnasts!$X$4:$X$103,0))),\"\")","v":""},{"$f":"IFERROR(IF(allGymnasts!B41=\"\",\"\",INDEX(allGymnasts!$U$4:$U$103,MATCH(SMALL(allGymnasts!$X$4:$X$103,A41),allGymnasts!$X$4:$X$103,0))),\"\")","v":""},{"$f":"IFERROR(IF(allGymnasts!B41=\"\",\"\",INDEX(allGymnasts!$V$4:$V$103,MATCH(SMALL(allGymnasts!$X$4:$X$103,A41),allGymnasts!$X$4:$X$103,0))),\"\")","v":""},{"$f":"IFERROR(IF(allGymnasts!B41=\"\",\"\",INDEX(allGymnasts!$W$4:$W$103,MATCH(SMALL(allGymnasts!$X$4:$X$103,A41),allGymnasts!$X$4:$X$103,0))),\"\")","v":""}]
[39,{"$f":"IFERROR(_xlfn.FLOOR.MATH(IF(allGymnasts!A42=\"\",\"\",INDEX(allGymnasts!$X$4:$X$103,MATCH(SMALL(allGymnasts!$X$4:$X$103,A42),allGymnasts!$X$4:$X$103,0)))),\"\")","v":""},{"$f":"IFERROR(IF(allGymnasts!A42=\"\",\"\",INDEX(allGymnasts!$A$4:$A$103,MATCH(SMALL(allGymnasts!$X$4:$X$103,A42),allGymnasts!$X$4:$X$103,0))),\"\")","v":""},{"$f":"IFERROR(IF(allGymnasts!B42=\"\",\"\",INDEX(allGymnasts!$B$4:$B$103,MATCH(SMALL(allGymnasts!$X$4:$X$103,A42),allGymnasts!$X$4:$X$103,0))),\"\")","v":""},{"$f":"IFERROR(IF(allGymnasts!C42=\"\",\"\",INDEX(allGymnasts!$C$4:$C$103,MATCH(SMALL(allGymnasts!$X$4:$X$103,A42),allGymnasts!$X$4:$X$103,0))),\"\")","v":""},{"$f":"IFERROR(IF(allGymnasts!D42=\"\",\"\",INDEX(allGymnasts!$D$4:$D$103,MATCH(SMALL(allGymnasts!$X$4:$X$103,A42),allGymnasts!$X$4:$X$103,0))),\"\")","v":""},{"$f":"IFERROR(IF(allGymnasts!B42=\"\",\"\",INDEX(allGymnasts!$T$4:$T$103,MATCH(SMALL(allGymnasts!$X$4:$X$103,A42),allGymnasts!$X$4:$X$103,0))),\"\")","v":""},{"$f":"IFERROR(IF(allGymnasts!B42=\"\",\"\",INDEX(allGymnasts!$U$4:$U$103,MATCH(SMALL(allGymnasts!$X$4:$X$103,A42),allGymnasts!$X$4:$X$103,0))),\"\")","v":""},{"$f":"IFERROR(IF(allGymnasts!B42=\"\",\"\",INDEX(allGymnasts!$V$4:$V$103,MATCH(SMALL(allGymnasts!$X$4:$X$103,A42),allGymnasts!$X$4:$X$103,0))),\"\")","v":""},{"$f":"IFERROR(IF(allGymnasts!B42=\"\",\"\",INDEX(allGymnasts!$W$4:$W$103,MATCH(SMALL(allGymnasts!$X$4:$X$103,A42),allGymnasts!$X$4:$X$103,0))),\"\")","v":""}]
[40,{"$f":"IFERROR(_xlfn.FLOOR.MATH(IF(allGymnasts!A43=\"\",\"\",INDEX(allGymnasts!$X$4:$X$103,MATCH(SMALL(allGymnasts!$X$4:$X$103,A43),allGymnasts!$X$4:$X$103,0)))),\"\")","v":""},{"$f":"IFERROR(IF(allGymnasts!A43=\"\",\"\",INDEX(allGymnasts!$A$4:$A$103,MATCH(SMALL(allGymnasts!$X$4:$X$103,A43),allGymnasts!$X$4:$X$103,0))),\"\")","v":""},{"$f":"IFERROR(IF(allGymnasts!B43=\"\",\"\",INDEX(allGymnasts!$B$4:$B$103,MATCH(SMALL(allGymnasts!$X$4:$X$103,A43),allGymnasts!$X$4:$X$103,0))),\"\")","v":""},{"$f":"IFERROR(IF(allGymnasts!C43=\"\",\"\",INDEX(allGymnasts!$C$4:$C$103,MATCH(SMALL(allGymnasts!$X$4:$X$103,A43),allGymnasts!$X$4:$X$103,0))),\"\")","v":""},{"$f":"IFERROR(IF(allGymnasts!D43=\"\",\"\",INDEX(allGymnasts!$D$4:$D$103,MATCH(SMALL(allGymnasts!$X$4:$X$103,A43),allGymnasts!$X$4:$X$103,0))),\"\")","v":""},{"$f":"IFERROR(IF(allGymnasts!B43=\"\",\"\",INDEX(allGymnasts!$T$4:$T$103,MATCH(SMALL(allGymnasts!$X$4:$X$103,A43),allGymnasts!$X$4:$X$103,0))),\"\")","v":""},{"$f":"IFERROR(IF(allGymnasts!B43=\"\",\"\",INDEX(allGymnasts!$U$4:$U$103,MATCH(SMALL(allGymnasts!$X$4:$X$103,A43),allGymnasts!$X$4:$X$103,0))),\"\")","v":""},{"$f":"IFERROR(IF(allGymnasts!B43=\"\",\"\",INDEX(allGymnasts!$V$4:$V$103,MATCH(SMALL(allGymnasts!$X$4:$X$103,A43),allGymnasts!$X$4:$X$103,0))),\"\")","v":""},{"$f":"IFERROR(IF(allGymnasts!B43=\"\",\"\",INDEX(allGymnasts!$W$4:$W$103,MATCH(SMALL(allGymnasts!$X$4:$X$103,A43),allGymnasts!$X$4:$X$103,0))),\"\")","v":""}]
[41,{"$f":"IFERROR(_xlfn.FLOOR.MATH(IF(allGymnasts!A44=\"\",\"\",INDEX(allGymnasts!$X$4:$X$103,MATCH(SMALL(allGymnasts!$X$4:$X$103,A44),allGymnasts!$X$4:$X$103,0)))),\"\")","v":""},{"$f":"IFERROR(IF(allGymnasts!A44=\"\",\"\",INDEX(allGymnasts!$A$4:$A$103,MATCH(SMALL(allGymnasts!$X$4:$X$103,A44),allGymnasts!$X$4:$X$103,0))),\"\")","v":""},{"$f":"IFERROR(IF(allGymnasts!B44=\"\",\"\",INDEX(allGymnasts!$B$4:$B$103,MATCH(SMALL(allGymnasts!$X$4:$X$103,A44),allGymnasts!$X$4:$X$103,0))),\"\")","v":""},{"$f":"IFERROR(IF(allGymnasts!C44=\"\",\"\",INDEX(allGymnasts!$C$4:$C$103,MATCH(SMALL(allGymnasts!$X$4:$X$103,A44),allGymnasts!$X$4:$X$103,0))),\"\")","v":""},{"$f":"IFERROR(IF(allGymnasts!D44=\"\",\"\",INDEX(allGymnasts!$D$4:$D$103,MATCH(SMALL(allGymnasts!$X$4:$X$103,A44),allGymnasts!$X$4:$X$103,0))),\"\")","v":""},{"$f":"IFERROR(IF(allGymnasts!B44=\"\",\"\",INDEX(allGymnasts!$T$4:$T$103,MATCH(SMALL(allGymnasts!$X$4:$X$103,A44),allGymnasts!$X$4:$X$103,0))),\"\")","v":""},{"$f":"IFERROR(IF(allGymnasts!B44=\"\",\"\",INDEX(allGymnasts!$U$4:$U$103,MATCH(SMALL(allGymnasts!$X$4:$X$103,A44),allGymnasts!$X$4:$X$103,0))),\"\")","v":""},{"$f":"IFERROR(IF(allGymnasts!B44=\"\",\"\",INDEX(allGymnasts!$V$4:$V$103,MATCH(SMALL(allGymnasts!$X$4:$X$103,A44),allGymnasts!$X$4:$X$103,0))),\"\")","v":""},{"$f":"IFERROR(IF(allGymnasts!B44=\"\",\"\",INDEX(allGymnasts!$W$4:$W$103,MATCH(SMALL(allGymnasts!$X$4:$X$103,A44),allGymnasts!$X$4:$X$103,0))),\"\")","v":""}]
[42,{"$f":"IFERROR(_xlfn.FLOOR.MATH(IF(allGymnasts!A45=\"\",\"\",INDEX(allGymnasts!$X$4:$X$103,MATCH(SMALL(allGymnasts!$X$4:$X$103,A45),allGymnasts!$X$4:$X$103,0)))),\"\")","v":""},{"$f":"IFERROR(IF(allGymnasts!A45=\"\",\"\",INDEX(allGymnasts!$A$4:$A$103,MATCH(SMALL(allGymnasts!$X$4:$X$103,A45),allGymnasts!$X$4:$X$103,0))),\"\")","v":""},{"$f":"IFERROR(IF(allGymnasts!B45=\"\",\"\",INDEX(allGymnasts!$B$4:$B$103,MATCH(SMALL(allGymnasts!$X$4:$X$103,A45),allGymnasts!$X$4:$X$103,0))),\"\")","v":""},{"$f":"IFERROR(IF(allGymnasts!C45=\"\",\"\",INDEX(allGymnasts!$C$4:$C$103,MATCH(SMALL(allGymnasts!$X$4:$X$103,A45),allGymnasts!$X$4:$X$103,0))),\"\")","v":""},{"$f":"IFERROR(IF(allGymnasts!D45=\"\",\"\",INDEX(allGymnasts!$D$4:$D$103,MATCH(SMALL(allGymnasts!$X$4:$X$103,A45),allGymnasts!$X$4:$X$103,0))),\"\")","v":""},{"$f":"IFERROR(IF(allGymnasts!B45=\"\",\"\",INDEX(allGymnasts!$T$4:$T$103,MATCH(SMALL(allGymnasts!$X$4:$X$103,A45),allGymnasts!$X$4:$X$103,0))),\"\")","v":""},{"$f":"IFERROR(IF(allGymnasts!B45=\"\",\"\",INDEX(allGymnasts!$U$4:$U$103,MATCH(SMALL(allGymnasts!$X$4:$X$103,A45),allGymnasts!$X$4:$X$103,0))),\"\")","v":""},{"$f":"IFERROR(IF(allGymnasts!B45=\"\",\"\",INDEX(allGymnasts!$V$4:$V$103,MATCH(SMALL(allGymnasts!$X$4:$X$103,A45),allGymnasts!$X$4:$X$103,0))),\"\")","v":""},{"$f":"IFERROR(IF(allGymnasts!B45=\"\",\"\",INDEX(allGymnasts!$W$4:$W$103,MATCH(SMALL(allGymnasts!$X$4:$X$103,A45),allGymnasts!$X$4:$X$103,0))),\"\")","v":""}]
[43,{"$f":"IFERROR(_xlfn.FLOOR.MATH(IF(allGymnasts!A46=\"\",\"\",INDEX(allGymnasts!$X$4:$X$103,MATCH(SMALL(allGymnasts!$X$4:$X$103,A46),allGymnasts!$X$4:$X$103,0)))),\"\")","v":""},{"$f":"IFERROR(IF(allGymnasts!A46=\"\",\"\",INDEX(allGymnasts!$A$4:$A$103,MATCH(SMALL(allGymnasts!$X$4:$X$103,A46),allGymnasts!$X$4:$X$103,0))),\"\")","v":""},{"$f":"IFERROR(IF(allGymnasts!B46=\"\",\"\",INDEX(allGymnasts!$B$4:$B$103,MATCH(SMALL(allGymnasts!$X$4:$X$103,A46),allGymnasts!$X$4:$X$103,0))),\"\")","v":""},{"$f":"IFERROR(IF(allGymnasts!C46=\"\",\"\",INDEX(allGymnasts!$C$4:$C$103,MATCH(SMALL(allGymnasts!$X$4:$X$103,A46),allGymnasts!$X$4:$X$103,0))),\"\")","v":""},{"$f":"IFERROR(IF(allGymnasts!D46=\"\",\"\",INDEX(allGymnasts!$D$4:$D$103,MATCH(SMALL(allGymnasts!$X$4:$X$103,A46),allGymnasts!$X$4:$X$103,0))),\"\")","v":""},{"$f":"IFERROR(IF(allGymnasts!B46=\"\",\"\",INDEX(allGymnasts!$T$4:$T$103,MATCH(SMALL(allGymnasts!$X$4:$X$103,A46),allGymnasts!$X$4:$X$103,0))),\"\")","v":""},{"$f":"IFERROR(IF(allGymnasts!B46=\"\",\"\",INDEX(allGymnasts!$U$4:$U$103,MATCH(SMALL(allGymnasts!$X$4:$X$103,A46),allGymnasts!$X$4:$X$103,0))),\"\")","v":""},{"$f":"IFERROR(IF(allGymnasts!B46=\"\",\"\",INDEX(allGymnasts!$V$4:$V$103,MATCH(SMALL(allGymnasts!$X$4:$X$103,A46),allGymnasts!$X$4:$X$103,0))),\"\")","v":""},{"$f":"IFERROR(IF(allGymnasts!B46=\"\",\"\",INDEX(allGymnasts!$W$4:$W$103,MATCH(SMALL(allGymnasts!$X$4:$X$103,A46),allGymnasts!$X$4:$X$103,0))),\"\")","v":""}]
[44,{"$f":"IFERROR(_xlfn.FLOOR.MATH(IF(allGymnasts!A47=\"\",\"\",INDEX(allGymnasts!$X$4:$X$103,MATCH(SMALL(allGymnasts!$X$4:$X$103,A47),allGymnasts!$X$4:$X$103,0)))),\"\")","v":""},{"$f":"IFERROR(IF(allGymnasts!A47=\"\",\"\",INDEX(allGymnasts!$A$4:$A$103,MATCH(SMALL(allGymnasts!$X$4:$X$103,A47),allGymnasts!$X$4:$X$103,0))),\"\")","v":""},{"$f":"IFERROR(IF(allGymnasts!B47=\"\",\"\",INDEX(allGymnasts!$B$4:$B$103,MATCH(SMALL(allGymnasts!$X$4:$X$103,A47),allGymnasts!$X$4:$X$103,0))),\"\")","v":""},{"$f":"IFERROR(IF(allGymnasts!C47=\"\",\"\",INDEX(allGymnasts!$C$4:$C$103,MATCH(SMALL(allGymnasts!$X$4:$X$103,A47),allGymnasts!$X$4:$X$103,0))),\"\")","v":""},{"$f":"IFERROR(IF(allGymnasts!D47=\"\",\"\",INDEX(allGymnasts!$D$4:$D$103,MATCH(SMALL(allGymnasts!$X$4:$X$103,A47),allGymnasts!$X$4:$X$103,0))),\"\")","v":""},{"$f":"IFERROR(IF(allGymnasts!B47=\"\",\"\",INDEX(allGymnasts!$T$4:$T$103,MATCH(SMALL(allGymnasts!$X$4:$X$103,A47),allGymnasts!$X$4:$X$103,0))),\"\")","v":""},{"$f":"IFERROR(IF(allGymnasts!B47=\"\",\"\",INDEX(allGymnasts!$U$4:$U$103,MATCH(SMALL(allGymnasts!$X$4:$X$103,A47),allGymnasts!$X$4:$X$103,0))),\"\")","v":""},{"$f":"IFERROR(IF(allGymnasts!B47=\"\",\"\",INDEX(allGymnasts!$V$4:$V$103,MATCH(SMALL(allGymnasts!$X$4:$X$103,A47),allGymnasts!$X$4:$X$103,0))),\"\")","v":""},{"$f":"IFERROR(IF(allGymnasts!B47=\"\",\"\",INDEX(allGymnasts!$W$4:$W$103,MATCH(SMALL(allGymnasts!$X$4:$X$103,A47),allGymnasts!$X$4:$X$103,0))),\"\")","v":""}]
[45,{"$f":"IFERROR(_xlfn.FLOOR.MATH(IF(allGymnasts!A48=\"\",\"\",INDEX(allGymnasts!$X$4:$X$103,MATCH(SMALL(allGymnasts!$X$4:$X$103,A48),allGymnasts!$X$4:$X$103,0)))),\"\")","v":""},{"$f":"IFERROR(IF(allGymnasts!A48=\"\",\"\",INDEX(allGymnasts!$A$4:$A$103,MATCH(SMALL(allGymnasts!$X$4:$X$103,A48),allGymnasts!$X$4:$X$103,0))),\"\")","v":""},{"$f":"IFERROR(IF(allGymnasts!B48=\"\",\"\",INDEX(allGymnasts!$B$4:$B$103,MATCH(SMALL(allGymnasts!$X$4:$X$103,A48),allGymnasts!$X$4:$X$103,0))),\"\")","v":""},{"$f":"IFERROR(IF(allGymnasts!C48=\"\",\"\",INDEX(allGymnasts!$C$4:$C$103,MATCH(SMALL(allGymnasts!$X$4:$X$103,A48),allGymnasts!$X$4:$X$103,0))),\"\")","v":""},{"$f":"IFERROR(IF(allGymnasts!D48=\"\",\"\",INDEX(allGymnasts!$D$4:$D$103,MATCH(SMALL(allGymnasts!$X$4:$X$103,A48),allGymnasts!$X$4:$X$103,0))),\"\")","v":""},{"$f":"IFERROR(IF(allGymnasts!B48=\"\",\"\",INDEX(allGymnasts!$T$4:$T$103,MATCH(SMALL(allGymnasts!$X$4:$X$103,A48),allGymnasts!$X$4:$X$103,0))),\"\")","v":""},{"$f":"IFERROR(IF(allGymnasts!B48=\"\",\"\",INDEX(allGymnasts!$U$4:$U$103,MATCH(SMALL(allGymnasts!$X$4:$X$103,A48),allGymnasts!$X$4:$X$103,0))),\"\")","v":""},{"$f":"IFERROR(IF(allGymnasts!B48=\"\",\"\",INDEX(allGymnasts!$V$4:$V$103,MATCH(SMALL(allGymnasts!$X$4:$X$103,A48),allGymnasts!$X$4:$X$103,0))),\"\")","v":""},{"$f":"IFERROR(IF(allGymnasts!B48=\"\",\"\",INDEX(allGymnasts!$W$4:$W$103,MATCH(SMALL(allGymnasts!$X$4:$X$103,A48),allGymnasts!$X$4:$X$103,0))),\"\")","v":""}]
[46,{"$f":"IFERROR(_xlfn.FLOOR.MATH(IF(allGymnasts!A49=\"\",\"\",INDEX(allGymnasts!$X$4:$X$103,MATCH(SMALL(allGymnasts!$X$4:$X$103,A49),allGymnasts!$X$4:$X$103,0)))),\"\")","v":""},{"$f":"IFERROR(IF(allGymnasts!A49=\"\",\"\",INDEX(allGymnasts!$A$4:$A$103,MATCH(SMALL(allGymnasts!$X$4:$X$103,A49),allGymnasts!$X$4:$X$103,0))),\"\")","v":""},{"$f":"IFERROR(IF(allGymnasts!B49=\"\",\"\",INDEX(allGymnasts!$B$4:$B$103,MATCH(SMALL(allGymnasts!$X$4:$X$103,A49),allGymnasts!$X$4:$X$103,0))),\"\")","v":""},{"$f":"IFERROR(IF(allGymnasts!C49=\"\",\"\",INDEX(allGymnasts!$C$4:$C$103,MATCH(SMALL(allGymnasts!$X$4:$X$103,A49),allGymnasts!$X$4:$X$103,0))),\"\")","v":""},{"$f":"IFERROR(IF(allGymnasts!D49=\"\",\"\",INDEX(allGymnasts!$D$4:$D$103,MATCH(SMALL(allGymnasts!$X$4:$X$103,A49),allGymnasts!$X$4:$X$103,0))),\"\")","v":""},{"$f":"IFERROR(IF(allGymnasts!B49=\"\",\"\",INDEX(allGymnasts!$T$4:$T$103,MATCH(SMALL(allGymnasts!$X$4:$X$103,A49),allGymnasts!$X$4:$X$103,0))),\"\")","v":""},{"$f":"IFERROR(IF(allGymnasts!B49=\"\",\"\",INDEX(allGymnasts!$U$4:$U$103,MATCH(SMALL(allGymnasts!$X$4:$X$103,A49),allGymnasts!$X$4:$X$103,0))),\"\")","v":""},{"$f":"IFERROR(IF(allGymnasts!B49=\"\",\"\",INDEX(allGymnasts!$V$4:$V$103,MATCH(SMALL(allGymnasts!$X$4:$X$103,A49),allGymnasts!$X$4:$X$103,0))),\"\")","v":""},{"$f":"IFERROR(IF(allGymnasts!B49=\"\",\"\",INDEX(allGymnasts!$W$4:$W$103,MATCH(SMALL(allGymnasts!$X$4:$X$103,A49),allGymnasts!$X$4:$X$103,0))),\"\")","v":""}]
[47,{"$f":"IFERROR(_xlfn.FLOOR.MATH(IF(allGymnasts!A50=\"\",\"\",INDEX(allGymnasts!$X$4:$X$103,MATCH(SMALL(allGymnasts!$X$4:$X$103,A50),allGymnasts!$X$4:$X$103,0)))),\"\")","v":""},{"$f":"IFERROR(IF(allGymnasts!A50=\"\",\"\",INDEX(allGymnasts!$A$4:$A$103,MATCH(SMALL(allGymnasts!$X$4:$X$103,A50),allGymnasts!$X$4:$X$103,0))),\"\")","v":""},{"$f":"IFERROR(IF(allGymnasts!B50=\"\",\"\",INDEX(allGymnasts!$B$4:$B$103,MATCH(SMALL(allGymnasts!$X$4:$X$103,A50),allGymnasts!$X$4:$X$103,0))),\"\")","v":""},{"$f":"IFERROR(IF(allGymnasts!C50=\"\",\"\",INDEX(allGymnasts!$C$4:$C$103,MATCH(SMALL(allGymnasts!$X$4:$X$103,A50),allGymnasts!$X$4:$X$103,0))),\"\")","v":""},{"$f":"IFERROR(IF(allGymnasts!D50=\"\",\"\",INDEX(allGymnasts!$D$4:$D$103,MATCH(SMALL(allGymnasts!$X$4:$X$103,A50),allGymnasts!$X$4:$X$103,0))),\"\")","v":""},{"$f":"IFERROR(IF(allGymnasts!B50=\"\",\"\",INDEX(allGymnasts!$T$4:$T$103,MATCH(SMALL(allGymnasts!$X$4:$X$103,A50),allGymnasts!$X$4:$X$103,0))),\"\")","v":""},{"$f":"IFERROR(IF(allGymnasts!B50=\"\",\"\",INDEX(allGymnasts!$U$4:$U$103,MATCH(SMALL(allGymnasts!$X$4:$X$103,A50),allGymnasts!$X$4:$X$103,0))),\"\")","v":""},{"$f":"IFERROR(IF(allGymnasts!B50=\"\",\"\",INDEX(allGymnasts!$V$4:$V$103,MATCH(SMALL(allGymnasts!$X$4:$X$103,A50),allGymnasts!$X$4:$X$103,0))),\"\")","v":""},{"$f":"IFERROR(IF(allGymnasts!B50=\"\",\"\",INDEX(allGymnasts!$W$4:$W$103,MATCH(SMALL(allGymnasts!$X$4:$X$103,A50),allGymnasts!$X$4:$X$103,0))),\"\")","v":""}]
[48,{"$f":"IFERROR(_xlfn.FLOOR.MATH(IF(allGymnasts!A51=\"\",\"\",INDEX(allGymnasts!$X$4:$X$103,MATCH(SMALL(allGymnasts!$X$4:$X$103,A51),allGymnasts!$X$4:$X$103,0)))),\"\")","v":""},{"$f":"IFERROR(IF(allGymnasts!A51=\"\",\"\",INDEX(allGymnasts!$A$4:$A$103,MATCH(SMALL(allGymnasts!$X$4:$X$103,A51),allGymnasts!$X$4:$X$103,0))),\"\")","v":""},{"$f":"IFERROR(IF(allGymnasts!B51=\"\",\"\",INDEX(allGymnasts!$B$4:$B$103,MATCH(SMALL(allGymnasts!$X$4:$X$103,A51),allGymnasts!$X$4:$X$103,0))),\"\")","v":""},{"$f":"IFERROR(IF(allGymnasts!C51=\"\",\"\",INDEX(allGymnasts!$C$4:$C$103,MATCH(SMALL(allGymnasts!$X$4:$X$103,A51),allGymnasts!$X$4:$X$103,0))),\"\")","v":""},{"$f":"IFERROR(IF(allGymnasts!D51=\"\",\"\",INDEX(allGymnasts!$D$4:$D$103,MATCH(SMALL(allGymnasts!$X$4:$X$103,A51),allGymnasts!$X$4:$X$103,0))),\"\")","v":""},{"$f":"IFERROR(IF(allGymnasts!B51=\"\",\"\",INDEX(allGymnasts!$T$4:$T$103,MATCH(SMALL(allGymnasts!$X$4:$X$103,A51),allGymnasts!$X$4:$X$103,0))),\"\")","v":""},{"$f":"IFERROR(IF(allGymnasts!B51=\"\",\"\",INDEX(allGymnasts!$U$4:$U$103,MATCH(SMALL(allGymnasts!$X$4:$X$103,A51),allGymnasts!$X$4:$X$103,0))),\"\")","v":""},{"$f":"IFERROR(IF(allGymnasts!B51=\"\",\"\",INDEX(allGymnasts!$V$4:$V$103,MATCH(SMALL(allGymnasts!$X$4:$X$103,A51),allGymnasts!$X$4:$X$103,0))),\"\")","v":""},{"$f":"IFERROR(IF(allGymnasts!B51=\"\",\"\",INDEX(allGymnasts!$W$4:$W$103,MATCH(SMALL(allGymnasts!$X$4:$X$103,A51),allGymnasts!$X$4:$X$103,0))),\"\")","v":""}]
[49,{"$f":"IFERROR(_xlfn.FLOOR.MATH(IF(allGymnasts!A52=\"\",\"\",INDEX(allGymnasts!$X$4:$X$103,MATCH(SMALL(allGymnasts!$X$4:$X$103,A52),allGymnasts!$X$4:$X$103,0)))),\"\")","v":""},{"$f":"IFERROR(IF(allGymnasts!A52=\"\",\"\",INDEX(allGymnasts!$A$4:$A$103,MATCH(SMALL(allGymnasts!$X$4:$X$103,A52),allGymnasts!$X$4:$X$103,0))),\"\")","v":""},{"$f":"IFERROR(IF(allGymnasts!B52=\"\",\"\",INDEX(allGymnasts!$B$4:$B$103,MATCH(SMALL(allGymnasts!$X$4:$X$103,A52),allGymnasts!$X$4:$X$103,0))),\"\")","v":""},{"$f":"IFERROR(IF(allGymnasts!C52=\"\",\"\",INDEX(allGymnasts!$C$4:$C$103,MATCH(SMALL(allGymnasts!$X$4:$X$103,A52),allGymnasts!$X$4:$X$103,0))),\"\")","v":""},{"$f":"IFERROR(IF(allGymnasts!D52=\"\",\"\",INDEX(allGymnasts!$D$4:$D$103,MATCH(SMALL(allGymnasts!$X$4:$X$103,A52),allGymnasts!$X$4:$X$103,0))),\"\")","v":""},{"$f":"IFERROR(IF(allGymnasts!B52=\"\",\"\",INDEX(allGymnasts!$T$4:$T$103,MATCH(SMALL(allGymnasts!$X$4:$X$103,A52),allGymnasts!$X$4:$X$103,0))),\"\")","v":""},{"$f":"IFERROR(IF(allGymnasts!B52=\"\",\"\",INDEX(allGymnasts!$U$4:$U$103,MATCH(SMALL(allGymnasts!$X$4:$X$103,A52),allGymnasts!$X$4:$X$103,0))),\"\")","v":""},{"$f":"IFERROR(IF(allGymnasts!B52=\"\",\"\",INDEX(allGymnasts!$V$4:$V$103,MATCH(SMALL(allGymnasts!$X$4:$X$103,A52),allGymnasts!$X$4:$X$103,0))),\"\")","v":""},{"$f":"IFERROR(IF(allGymnasts!B52=\"\",\"\",INDEX(allGymnasts!$W$4:$W$103,MATCH(SMALL(allGymnasts!$X$4:$X$103,A52),allGymnasts!$X$4:$X$103,0))),\"\")","v":""}]
[50,{"$f":"IFERROR(_xlfn.FLOOR.MATH(IF(allGymnasts!A53=\"\",\"\",INDEX(allGymnasts!$X$4:$X$103,MATCH(SMALL(allGymnasts!$X$4:$X$103,A53),allGymnasts!$X$4:$X$103,0)))),\"\")","v":""},{"$f":"IFERROR(IF(allGymnasts!A53=\"\",\"\",INDEX(allGymnasts!$A$4:$A$103,MATCH(SMALL(allGymnasts!$X$4:$X$103,A53),allGymnasts!$X$4:$X$103,0))),\"\")","v":""},{"$f":"IFERROR(IF(allGymnasts!B53=\"\",\"\",INDEX(allGymnasts!$B$4:$B$103,MATCH(SMALL(allGymnasts!$X$4:$X$103,A53),allGymnasts!$X$4:$X$103,0))),\"\")","v":""},{"$f":"IFERROR(IF(allGymnasts!C53=\"\",\"\",INDEX(allGymnasts!$C$4:$C$103,MATCH(SMALL(allGymnasts!$X$4:$X$103,A53),allGymnasts!$X$4:$X$103,0))),\"\")","v":""},{"$f":"IFERROR(IF(allGymnasts!D53=\"\",\"\",INDEX(allGymnasts!$D$4:$D$103,MATCH(SMALL(allGymnasts!$X$4:$X$103,A53),allGymnasts!$X$4:$X$103,0))),\"\")","v":""},{"$f":"IFERROR(IF(allGymnasts!B53=\"\",\"\",INDEX(allGymnasts!$T$4:$T$103,MATCH(SMALL(allGymnasts!$X$4:$X$103,A53),allGymnasts!$X$4:$X$103,0))),\"\")","v":""},{"$f":"IFERROR(IF(allGymnasts!B53=\"\",\"\",INDEX(allGymnasts!$U$4:$U$103,MATCH(SMALL(allGymnasts!$X$4:$X$103,A53),allGymnasts!$X$4:$X$103,0))),\"\")","v":""},{"$f":"IFERROR(IF(allGymnasts!B53=\"\",\"\",INDEX(allGymnasts!$V$4:$V$103,MATCH(SMALL(allGymnasts!$X$4:$X$103,A53),allGymnasts!$X$4:$X$103,0))),\"\")","v":""},{"$f":"IFERROR(IF(allGymnasts!B53=\"\",\"\",INDEX(allGymnasts!$W$4:$W$103,MATCH(SMALL(allGymnasts!$X$4:$X$103,A53),allGymnasts!$X$4:$X$103,0))),\"\")","v":""}]
[51,{"$f":"IFERROR(_xlfn.FLOOR.MATH(IF(allGymnasts!A54=\"\",\"\",INDEX(allGymnasts!$X$4:$X$103,MATCH(SMALL(allGymnasts!$X$4:$X$103,A54),allGymnasts!$X$4:$X$103,0)))),\"\")","v":""},{"$f":"IFERROR(IF(allGymnasts!A54=\"\",\"\",INDEX(allGymnasts!$A$4:$A$103,MATCH(SMALL(allGymnasts!$X$4:$X$103,A54),allGymnasts!$X$4:$X$103,0))),\"\")","v":""},{"$f":"IFERROR(IF(allGymnasts!B54=\"\",\"\",INDEX(allGymnasts!$B$4:$B$103,MATCH(SMALL(allGymnasts!$X$4:$X$103,A54),allGymnasts!$X$4:$X$103,0))),\"\")","v":""},{"$f":"IFERROR(IF(allGymnasts!C54=\"\",\"\",INDEX(allGymnasts!$C$4:$C$103,MATCH(SMALL(allGymnasts!$X$4:$X$103,A54),allGymnasts!$X$4:$X$103,0))),\"\")","v":""},{"$f":"IFERROR(IF(allGymnasts!D54=\"\",\"\",INDEX(allGymnasts!$D$4:$D$103,MATCH(SMALL(allGymnasts!$X$4:$X$103,A54),allGymnasts!$X$4:$X$103,0))),\"\")","v":""},{"$f":"IFERROR(IF(allGymnasts!B54=\"\",\"\",INDEX(allGymnasts!$T$4:$T$103,MATCH(SMALL(allGymnasts!$X$4:$X$103,A54),allGymnasts!$X$4:$X$103,0))),\"\")","v":""},{"$f":"IFERROR(IF(allGymnasts!B54=\"\",\"\",INDEX(allGymnasts!$U$4:$U$103,MATCH(SMALL(allGymnasts!$X$4:$X$103,A54),allGymnasts!$X$4:$X$103,0))),\"\")","v":""},{"$f":"IFERROR(IF(allGymnasts!B54=\"\",\"\",INDEX(allGymnasts!$V$4:$V$103,MATCH(SMALL(allGymnasts!$X$4:$X$103,A54),allGymnasts!$X$4:$X$103,0))),\"\")","v":""},{"$f":"IFERROR(IF(allGymnasts!B54=\"\",\"\",INDEX(allGymnasts!$W$4:$W$103,MATCH(SMALL(allGymnasts!$X$4:$X$103,A54),allGymnasts!$X$4:$X$103,0))),\"\")","v":""}]
[52,{"$f":"IFERROR(_xlfn.FLOOR.MATH(IF(allGymnasts!A55=\"\",\"\",INDEX(allGymnasts!$X$4:$X$103,MATCH(SMALL(allGymnasts!$X$4:$X$103,A55),allGymnasts!$X$4:$X$103,0)))),\"\")","v":""},{"$f":"IFERROR(IF(allGymnasts!A55=\"\",\"\",INDEX(allGymnasts!$A$4:$A$103,MATCH(SMALL(allGymnasts!$X$4:$X$103,A55),allGymnasts!$X$4:$X$103,0))),\"\")","v":""},{"$f":"IFERROR(IF(allGymnasts!B55=\"\",\"\",INDEX(allGymnasts!$B$4:$B$103,MATCH(SMALL(allGymnasts!$X$4:$X$103,A55),allGymnasts!$X$4:$X$103,0))),\"\")","v":""},{"$f":"IFERROR(IF(allGymnasts!C55=\"\",\"\",INDEX(allGymnasts!$C$4:$C$103,MATCH(SMALL(allGymnasts!$X$4:$X$103,A55),allGymnasts!$X$4:$X$103,0))),\"\")","v":""},{"$f":"IFERROR(IF(allGymnasts!D55=\"\",\"\",INDEX(allGymnasts!$D$4:$D$103,MATCH(SMALL(allGymnasts!$X$4:$X$103,A55),allGymnasts!$X$4:$X$103,0))),\"\")","v":""},{"$f":"IFERROR(IF(allGymnasts!B55=\"\",\"\",INDEX(allGymnasts!$T$4:$T$103,MATCH(SMALL(allGymnasts!$X$4:$X$103,A55),allGymnasts!$X$4:$X$103,0))),\"\")","v":""},{"$f":"IFERROR(IF(allGymnasts!B55=\"\",\"\",INDEX(allGymnasts!$U$4:$U$103,MATCH(SMALL(allGymnasts!$X$4:$X$103,A55),allGymnasts!$X$4:$X$103,0))),\"\")","v":""},{"$f":"IFERROR(IF(allGymnasts!B55=\"\",\"\",INDEX(allGymnasts!$V$4:$V$103,MATCH(SMALL(allGymnasts!$X$4:$X$103,A55),allGymnasts!$X$4:$X$103,0))),\"\")","v":""},{"$f":"IFERROR(IF(allGymnasts!B55=\"\",\"\",INDEX(allGymnasts!$W$4:$W$103,MATCH(SMALL(allGymnasts!$X$4:$X$103,A55),allGymnasts!$X$4:$X$103,0))),\"\")","v":""}]
[53,{"$f":"IFERROR(_xlfn.FLOOR.MATH(IF(allGymnasts!A56=\"\",\"\",INDEX(allGymnasts!$X$4:$X$103,MATCH(SMALL(allGymnasts!$X$4:$X$103,A56),allGymnasts!$X$4:$X$103,0)))),\"\")","v":""},{"$f":"IFERROR(IF(allGymnasts!A56=\"\",\"\",INDEX(allGymnasts!$A$4:$A$103,MATCH(SMALL(allGymnasts!$X$4:$X$103,A56),allGymnasts!$X$4:$X$103,0))),\"\")","v":""},{"$f":"IFERROR(IF(allGymnasts!B56=\"\",\"\",INDEX(allGymnasts!$B$4:$B$103,MATCH(SMALL(allGymnasts!$X$4:$X$103,A56),allGymnasts!$X$4:$X$103,0))),\"\")","v":""},{"$f":"IFERROR(IF(allGymnasts!C56=\"\",\"\",INDEX(allGymnasts!$C$4:$C$103,MATCH(SMALL(allGymnasts!$X$4:$X$103,A56),allGymnasts!$X$4:$X$103,0))),\"\")","v":""},{"$f":"IFERROR(IF(allGymnasts!D56=\"\",\"\",INDEX(allGymnasts!$D$4:$D$103,MATCH(SMALL(allGymnasts!$X$4:$X$103,A56),allGymnasts!$X$4:$X$103,0))),\"\")","v":""},{"$f":"IFERROR(IF(allGymnasts!B56=\"\",\"\",INDEX(allGymnasts!$T$4:$T$103,MATCH(SMALL(allGymnasts!$X$4:$X$103,A56),allGymnasts!$X$4:$X$103,0))),\"\")","v":""},{"$f":"IFERROR(IF(allGymnasts!B56=\"\",\"\",INDEX(allGymnasts!$U$4:$U$103,MATCH(SMALL(allGymnasts!$X$4:$X$103,A56),allGymnasts!$X$4:$X$103,0))),\"\")","v":""},{"$f":"IFERROR(IF(allGymnasts!B56=\"\",\"\",INDEX(allGymnasts!$V$4:$V$103,MATCH(SMALL(allGymnasts!$X$4:$X$103,A56),allGymnasts!$X$4:$X$103,0))),\"\")","v":""},{"$f":"IFERROR(IF(allGymnasts!B56=\"\",\"\",INDEX(allGymnasts!$W$4:$W$103,MATCH(SMALL(allGymnasts!$X$4:$X$103,A56),allGymnasts!$X$4:$X$103,0))),\"\")","v":""}]
[54,{"$f":"IFERROR(_xlfn.FLOOR.MATH(IF(allGymnasts!A57=\"\",\"\",INDEX(allGymnasts!$X$4:$X$103,MATCH(SMALL(allGymnasts!$X$4:$X$103,A57),allGymnasts!$X$4:$X$103,0)))),\"\")","v":""},{"$f":"IFERROR(IF(allGymnasts!A57=\"\",\"\",INDEX(allGymnasts!$A$4:$A$103,MATCH(SMALL(allGymnasts!$X$4:$X$103,A57),allGymnasts!$X$4:$X$103,0))),\"\")","v":""},{"$f":"IFERROR(IF(allGymnasts!B57=\"\",\"\",INDEX(allGymnasts!$B$4:$B$103,MATCH(SMALL(allGymnasts!$X$4:$X$103,A57),allGymnasts!$X$4:$X$103,0))),\"\")","v":""},{"$f":"IFERROR(IF(allGymnasts!C57=\"\",\"\",INDEX(allGymnasts!$C$4:$C$103,MATCH(SMALL(allGymnasts!$X$4:$X$103,A57),allGymnasts!$X$4:$X$103,0))),\"\")","v":""},{"$f":"IFERROR(IF(allGymnasts!D57=\"\",\"\",INDEX(allGymnasts!$D$4:$D$103,MATCH(SMALL(allGymnasts!$X$4:$X$103,A57),allGymnasts!$X$4:$X$103,0))),\"\")","v":""},{"$f":"IFERROR(IF(allGymnasts!B57=\"\",\"\",INDEX(allGymnasts!$T$4:$T$103,MATCH(SMALL(allGymnasts!$X$4:$X$103,A57),allGymnasts!$X$4:$X$103,0))),\"\")","v":""},{"$f":"IFERROR(IF(allGymnasts!B57=\"\",\"\",INDEX(allGymnasts!$U$4:$U$103,MATCH(SMALL(allGymnasts!$X$4:$X$103,A57),allGymnasts!$X$4:$X$103,0))),\"\")","v":""},{"$f":"IFERROR(IF(allGymnasts!B57=\"\",\"\",INDEX(allGymnasts!$V$4:$V$103,MATCH(SMALL(allGymnasts!$X$4:$X$103,A57),allGymnasts!$X$4:$X$103,0))),\"\")","v":""},{"$f":"IFERROR(IF(allGymnasts!B57=\"\",\"\",INDEX(allGymnasts!$W$4:$W$103,MATCH(SMALL(allGymnasts!$X$4:$X$103,A57),allGymnasts!$X$4:$X$103,0))),\"\")","v":""}]
[55,{"$f":"IFERROR(_xlfn.FLOOR.MATH(IF(allGymnasts!A58=\"\",\"\",INDEX(allGymnasts!$X$4:$X$103,MATCH(SMALL(allGymnasts!$X$4:$X$103,A58),allGymnasts!$X$4:$X$103,0)))),\"\")","v":""},{"$f":"IFERROR(IF(allGymnasts!A58=\"\",\"\",INDEX(allGymnasts!$A$4:$A$103,MATCH(SMALL(allGymnasts!$X$4:$X$103,A58),allGymnasts!$X$4:$X$103,0))),\"\")","v":""},{"$f":"IFERROR(IF(allGymnasts!B58=\"\",\"\",INDEX(allGymnasts!$B$4:$B$103,MATCH(SMALL(allGymnasts!$X$4:$X$103,A58),allGymnasts!$X$4:$X$103,0))),\"\")","v":""},{"$f":"IFERROR(IF(allGymnasts!C58=\"\",\"\",INDEX(allGymnasts!$C$4:$C$103,MATCH(SMALL(allGymnasts!$X$4:$X$103,A58),allGymnasts!$X$4:$X$103,0))),\"\")","v":""},{"$f":"IFERROR(IF(allGymnasts!D58=\"\",\"\",INDEX(allGymnasts!$D$4:$D$103,MATCH(SMALL(allGymnasts!$X$4:$X$103,A58),allGymnasts!$X$4:$X$103,0))),\"\")","v":""},{"$f":"IFERROR(IF(allGymnasts!B58=\"\",\"\",INDEX(allGymnasts!$T$4:$T$103,MATCH(SMALL(allGymnasts!$X$4:$X$103,A58),allGymnasts!$X$4:$X$103,0))),\"\")","v":""},{"$f":"IFERROR(IF(allGymnasts!B58=\"\",\"\",INDEX(allGymnasts!$U$4:$U$103,MATCH(SMALL(allGymnasts!$X$4:$X$103,A58),allGymnasts!$X$4:$X$103,0))),\"\")","v":""},{"$f":"IFERROR(IF(allGymnasts!B58=\"\",\"\",INDEX(allGymnasts!$V$4:$V$103,MATCH(SMALL(allGymnasts!$X$4:$X$103,A58),allGymnasts!$X$4:$X$103,0))),\"\")","v":""},{"$f":"IFERROR(IF(allGymnasts!B58=\"\",\"\",INDEX(allGymnasts!$W$4:$W$103,MATCH(SMALL(allGymnasts!$X$4:$X$103,A58),allGymnasts!$X$4:$X$103,0))),\"\")","v":""}]
[56,{"$f":"IFERROR(_xlfn.FLOOR.MATH(IF(allGymnasts!A59=\"\",\"\",INDEX(allGymnasts!$X$4:$X$103,MATCH(SMALL(allGymnasts!$X$4:$X$103,A59),allGymnasts!$X$4:$X$103,0)))),\"\")","v":""},{"$f":"IFERROR(IF(allGymnasts!A59=\"\",\"\",INDEX(allGymnasts!$A$4:$A$103,MATCH(SMALL(allGymnasts!$X$4:$X$103,A59),allGymnasts!$X$4:$X$103,0))),\"\")","v":""},{"$f":"IFERROR(IF(allGymnasts!B59=\"\",\"\",INDEX(allGymnasts!$B$4:$B$103,MATCH(SMALL(allGymnasts!$X$4:$X$103,A59),allGymnasts!$X$4:$X$103,0))),\"\")","v":""},{"$f":"IFERROR(IF(allGymnasts!C59=\"\",\"\",INDEX(allGymnasts!$C$4:$C$103,MATCH(SMALL(allGymnasts!$X$4:$X$103,A59),allGymnasts!$X$4:$X$103,0))),\"\")","v":""},{"$f":"IFERROR(IF(allGymnasts!D59=\"\",\"\",INDEX(allGymnasts!$D$4:$D$103,MATCH(SMALL(allGymnasts!$X$4:$X$103,A59),allGymnasts!$X$4:$X$103,0))),\"\")","v":""},{"$f":"IFERROR(IF(allGymnasts!B59=\"\",\"\",INDEX(allGymnasts!$T$4:$T$103,MATCH(SMALL(allGymnasts!$X$4:$X$103,A59),allGymnasts!$X$4:$X$103,0))),\"\")","v":""},{"$f":"IFERROR(IF(allGymnasts!B59=\"\",\"\",INDEX(allGymnasts!$U$4:$U$103,MATCH(SMALL(allGymnasts!$X$4:$X$103,A59),allGymnasts!$X$4:$X$103,0))),\"\")","v":""},{"$f":"IFERROR(IF(allGymnasts!B59=\"\",\"\",INDEX(allGymnasts!$V$4:$V$103,MATCH(SMALL(allGymnasts!$X$4:$X$103,A59),allGymnasts!$X$4:$X$103,0))),\"\")","v":""},{"$f":"IFERROR(IF(allGymnasts!B59=\"\",\"\",INDEX(allGymnasts!$W$4:$W$103,MATCH(SMALL(allGymnasts!$X$4:$X$103,A59),allGymnasts!$X$4:$X$103,0))),\"\")","v":""}]
[57,{"$f":"IFERROR(_xlfn.FLOOR.MATH(IF(allGymnasts!A60=\"\",\"\",INDEX(allGymnasts!$X$4:$X$103,MATCH(SMALL(allGymnasts!$X$4:$X$103,A60),allGymnasts!$X$4:$X$103,0)))),\"\")","v":""},{"$f":"IFERROR(IF(allGymnasts!A60=\"\",\"\",INDEX(allGymnasts!$A$4:$A$103,MATCH(SMALL(allGymnasts!$X$4:$X$103,A60),allGymnasts!$X$4:$X$103,0))),\"\")","v":""},{"$f":"IFERROR(IF(allGymnasts!B60=\"\",\"\",INDEX(allGymnasts!$B$4:$B$103,MATCH(SMALL(allGymnasts!$X$4:$X$103,A60),allGymnasts!$X$4:$X$103,0))),\"\")","v":""},{"$f":"IFERROR(IF(allGymnasts!C60=\"\",\"\",INDEX(allGymnasts!$C$4:$C$103,MATCH(SMALL(allGymnasts!$X$4:$X$103,A60),allGymnasts!$X$4:$X$103,0))),\"\")","v":""},{"$f":"IFERROR(IF(allGymnasts!D60=\"\",\"\",INDEX(allGymnasts!$D$4:$D$103,MATCH(SMALL(allGymnasts!$X$4:$X$103,A60),allGymnasts!$X$4:$X$103,0))),\"\")","v":""},{"$f":"IFERROR(IF(allGymnasts!B60=\"\",\"\",INDEX(allGymnasts!$T$4:$T$103,MATCH(SMALL(allGymnasts!$X$4:$X$103,A60),allGymnasts!$X$4:$X$103,0))),\"\")","v":""},{"$f":"IFERROR(IF(allGymnasts!B60=\"\",\"\",INDEX(allGymnasts!$U$4:$U$103,MATCH(SMALL(allGymnasts!$X$4:$X$103,A60),allGymnasts!$X$4:$X$103,0))),\"\")","v":""},{"$f":"IFERROR(IF(allGymnasts!B60=\"\",\"\",INDEX(allGymnasts!$V$4:$V$103,MATCH(SMALL(allGymnasts!$X$4:$X$103,A60),allGymnasts!$X$4:$X$103,0))),\"\")","v":""},{"$f":"IFERROR(IF(allGymnasts!B60=\"\",\"\",INDEX(allGymnasts!$W$4:$W$103,MATCH(SMALL(allGymnasts!$X$4:$X$103,A60),allGymnasts!$X$4:$X$103,0))),\"\")","v":""}]
[58,{"$f":"IFERROR(_xlfn.FLOOR.MATH(IF(allGymnasts!A61=\"\",\"\",INDEX(allGymnasts!$X$4:$X$103,MATCH(SMALL(allGymnasts!$X$4:$X$103,A61),allGymnasts!$X$4:$X$103,0)))),\"\")","v":""},{"$f":"IFERROR(IF(allGymnasts!A61=\"\",\"\",INDEX(allGymnasts!$A$4:$A$103,MATCH(SMALL(allGymnasts!$X$4:$X$103,A61),allGymnasts!$X$4:$X$103,0))),\"\")","v":""},{"$f":"IFERROR(IF(allGymnasts!B61=\"\",\"\",INDEX(allGymnasts!$B$4:$B$103,MATCH(SMALL(allGymnasts!$X$4:$X$103,A61),allGymnasts!$X$4:$X$103,0))),\"\")","v":""},{"$f":"IFERROR(IF(allGymnasts!C61=\"\",\"\",INDEX(allGymnasts!$C$4:$C$103,MATCH(SMALL(allGymnasts!$X$4:$X$103,A61),allGymnasts!$X$4:$X$103,0))),\"\")","v":""},{"$f":"IFERROR(IF(allGymnasts!D61=\"\",\"\",INDEX(allGymnasts!$D$4:$D$103,MATCH(SMALL(allGymnasts!$X$4:$X$103,A61),allGymnasts!$X$4:$X$103,0))),\"\")","v":""},{"$f":"IFERROR(IF(allGymnasts!B61=\"\",\"\",INDEX(allGymnasts!$T$4:$T$103,MATCH(SMALL(allGymnasts!$X$4:$X$103,A61),allGymnasts!$X$4:$X$103,0))),\"\")","v":""},{"$f":"IFERROR(IF(allGymnasts!B61=\"\",\"\",INDEX(allGymnasts!$U$4:$U$103,MATCH(SMALL(allGymnasts!$X$4:$X$103,A61),allGymnasts!$X$4:$X$103,0))),\"\")","v":""},{"$f":"IFERROR(IF(allGymnasts!B61=\"\",\"\",INDEX(allGymnasts!$V$4:$V$103,MATCH(SMALL(allGymnasts!$X$4:$X$103,A61),allGymnasts!$X$4:$X$103,0))),\"\")","v":""},{"$f":"IFERROR(IF(allGymnasts!B61=\"\",\"\",INDEX(allGymnasts!$W$4:$W$103,MATCH(SMALL(allGymnasts!$X$4:$X$103,A61),allGymnasts!$X$4:$X$103,0))),\"\")","v":""}]
[59,{"$f":"IFERROR(_xlfn.FLOOR.MATH(IF(allGymnasts!A62=\"\",\"\",INDEX(allGymnasts!$X$4:$X$103,MATCH(SMALL(allGymnasts!$X$4:$X$103,A62),allGymnasts!$X$4:$X$103,0)))),\"\")","v":""},{"$f":"IFERROR(IF(allGymnasts!A62=\"\",\"\",INDEX(allGymnasts!$A$4:$A$103,MATCH(SMALL(allGymnasts!$X$4:$X$103,A62),allGymnasts!$X$4:$X$103,0))),\"\")","v":""},{"$f":"IFERROR(IF(allGymnasts!B62=\"\",\"\",INDEX(allGymnasts!$B$4:$B$103,MATCH(SMALL(allGymnasts!$X$4:$X$103,A62),allGymnasts!$X$4:$X$103,0))),\"\")","v":""},{"$f":"IFERROR(IF(allGymnasts!C62=\"\",\"\",INDEX(allGymnasts!$C$4:$C$103,MATCH(SMALL(allGymnasts!$X$4:$X$103,A62),allGymnasts!$X$4:$X$103,0))),\"\")","v":""},{"$f":"IFERROR(IF(allGymnasts!D62=\"\",\"\",INDEX(allGymnasts!$D$4:$D$103,MATCH(SMALL(allGymnasts!$X$4:$X$103,A62),allGymnasts!$X$4:$X$103,0))),\"\")","v":""},{"$f":"IFERROR(IF(allGymnasts!B62=\"\",\"\",INDEX(allGymnasts!$T$4:$T$103,MATCH(SMALL(allGymnasts!$X$4:$X$103,A62),allGymnasts!$X$4:$X$103,0))),\"\")","v":""},{"$f":"IFERROR(IF(allGymnasts!B62=\"\",\"\",INDEX(allGymnasts!$U$4:$U$103,MATCH(SMALL(allGymnasts!$X$4:$X$103,A62),allGymnasts!$X$4:$X$103,0))),\"\")","v":""},{"$f":"IFERROR(IF(allGymnasts!B62=\"\",\"\",INDEX(allGymnasts!$V$4:$V$103,MATCH(SMALL(allGymnasts!$X$4:$X$103,A62),allGymnasts!$X$4:$X$103,0))),\"\")","v":""},{"$f":"IFERROR(IF(allGymnasts!B62=\"\",\"\",INDEX(allGymnasts!$W$4:$W$103,MATCH(SMALL(allGymnasts!$X$4:$X$103,A62),allGymnasts!$X$4:$X$103,0))),\"\")","v":""}]
[60,{"$f":"IFERROR(_xlfn.FLOOR.MATH(IF(allGymnasts!A63=\"\",\"\",INDEX(allGymnasts!$X$4:$X$103,MATCH(SMALL(allGymnasts!$X$4:$X$103,A63),allGymnasts!$X$4:$X$103,0)))),\"\")","v":""},{"$f":"IFERROR(IF(allGymnasts!A63=\"\",\"\",INDEX(allGymnasts!$A$4:$A$103,MATCH(SMALL(allGymnasts!$X$4:$X$103,A63),allGymnasts!$X$4:$X$103,0))),\"\")","v":""},{"$f":"IFERROR(IF(allGymnasts!B63=\"\",\"\",INDEX(allGymnasts!$B$4:$B$103,MATCH(SMALL(allGymnasts!$X$4:$X$103,A63),allGymnasts!$X$4:$X$103,0))),\"\")","v":""},{"$f":"IFERROR(IF(allGymnasts!C63=\"\",\"\",INDEX(allGymnasts!$C$4:$C$103,MATCH(SMALL(allGymnasts!$X$4:$X$103,A63),allGymnasts!$X$4:$X$103,0))),\"\")","v":""},{"$f":"IFERROR(IF(allGymnasts!D63=\"\",\"\",INDEX(allGymnasts!$D$4:$D$103,MATCH(SMALL(allGymnasts!$X$4:$X$103,A63),allGymnasts!$X$4:$X$103,0))),\"\")","v":""},{"$f":"IFERROR(IF(allGymnasts!B63=\"\",\"\",INDEX(allGymnasts!$T$4:$T$103,MATCH(SMALL(allGymnasts!$X$4:$X$103,A63),allGymnasts!$X$4:$X$103,0))),\"\")","v":""},{"$f":"IFERROR(IF(allGymnasts!B63=\"\",\"\",INDEX(allGymnasts!$U$4:$U$103,MATCH(SMALL(allGymnasts!$X$4:$X$103,A63),allGymnasts!$X$4:$X$103,0))),\"\")","v":""},{"$f":"IFERROR(IF(allGymnasts!B63=\"\",\"\",INDEX(allGymnasts!$V$4:$V$103,MATCH(SMALL(allGymnasts!$X$4:$X$103,A63),allGymnasts!$X$4:$X$103,0))),\"\")","v":""},{"$f":"IFERROR(IF(allGymnasts!B63=\"\",\"\",INDEX(allGymnasts!$W$4:$W$103,MATCH(SMALL(allGymnasts!$X$4:$X$103,A63),allGymnasts!$X$4:$X$103,0))),\"\")","v":""}]
[61,{"$f":"IFERROR(_xlfn.FLOOR.MATH(IF(allGymnasts!A64=\"\",\"\",INDEX(allGymnasts!$X$4:$X$103,MATCH(SMALL(allGymnasts!$X$4:$X$103,A64),allGymnasts!$X$4:$X$103,0)))),\"\")","v":""},{"$f":"IFERROR(IF(allGymnasts!A64=\"\",\"\",INDEX(allGymnasts!$A$4:$A$103,MATCH(SMALL(allGymnasts!$X$4:$X$103,A64),allGymnasts!$X$4:$X$103,0))),\"\")","v":""},{"$f":"IFERROR(IF(allGymnasts!B64=\"\",\"\",INDEX(allGymnasts!$B$4:$B$103,MATCH(SMALL(allGymnasts!$X$4:$X$103,A64),allGymnasts!$X$4:$X$103,0))),\"\")","v":""},{"$f":"IFERROR(IF(allGymnasts!C64=\"\",\"\",INDEX(allGymnasts!$C$4:$C$103,MATCH(SMALL(allGymnasts!$X$4:$X$103,A64),allGymnasts!$X$4:$X$103,0))),\"\")","v":""},{"$f":"IFERROR(IF(allGymnasts!D64=\"\",\"\",INDEX(allGymnasts!$D$4:$D$103,MATCH(SMALL(allGymnasts!$X$4:$X$103,A64),allGymnasts!$X$4:$X$103,0))),\"\")","v":""},{"$f":"IFERROR(IF(allGymnasts!B64=\"\",\"\",INDEX(allGymnasts!$T$4:$T$103,MATCH(SMALL(allGymnasts!$X$4:$X$103,A64),allGymnasts!$X$4:$X$103,0))),\"\")","v":""},{"$f":"IFERROR(IF(allGymnasts!B64=\"\",\"\",INDEX(allGymnasts!$U$4:$U$103,MATCH(SMALL(allGymnasts!$X$4:$X$103,A64),allGymnasts!$X$4:$X$103,0))),\"\")","v":""},{"$f":"IFERROR(IF(allGymnasts!B64=\"\",\"\",INDEX(allGymnasts!$V$4:$V$103,MATCH(SMALL(allGymnasts!$X$4:$X$103,A64),allGymnasts!$X$4:$X$103,0))),\"\")","v":""},{"$f":"IFERROR(IF(allGymnasts!B64=\"\",\"\",INDEX(allGymnasts!$W$4:$W$103,MATCH(SMALL(allGymnasts!$X$4:$X$103,A64),allGymnasts!$X$4:$X$103,0))),\"\")","v":""}]
[62,{"$f":"IFERROR(_xlfn.FLOOR.MATH(IF(allGymnasts!A65=\"\",\"\",INDEX(allGymnasts!$X$4:$X$103,MATCH(SMALL(allGymnasts!$X$4:$X$103,A65),allGymnasts!$X$4:$X$103,0)))),\"\")","v":""},{"$f":"IFERROR(IF(allGymnasts!A65=\"\",\"\",INDEX(allGymnasts!$A$4:$A$103,MATCH(SMALL(allGymnasts!$X$4:$X$103,A65),allGymnasts!$X$4:$X$103,0))),\"\")","v":""},{"$f":"IFERROR(IF(allGymnasts!B65=\"\",\"\",INDEX(allGymnasts!$B$4:$B$103,MATCH(SMALL(allGymnasts!$X$4:$X$103,A65),allGymnasts!$X$4:$X$103,0))),\"\")","v":""},{"$f":"IFERROR(IF(allGymnasts!C65=\"\",\"\",INDEX(allGymnasts!$C$4:$C$103,MATCH(SMALL(allGymnasts!$X$4:$X$103,A65),allGymnasts!$X$4:$X$103,0))),\"\")","v":""},{"$f":"IFERROR(IF(allGymnasts!D65=\"\",\"\",INDEX(allGymnasts!$D$4:$D$103,MATCH(SMALL(allGymnasts!$X$4:$X$103,A65),allGymnasts!$X$4:$X$103,0))),\"\")","v":""},{"$f":"IFERROR(IF(allGymnasts!B65=\"\",\"\",INDEX(allGymnasts!$T$4:$T$103,MATCH(SMALL(allGymnasts!$X$4:$X$103,A65),allGymnasts!$X$4:$X$103,0))),\"\")","v":""},{"$f":"IFERROR(IF(allGymnasts!B65=\"\",\"\",INDEX(allGymnasts!$U$4:$U$103,MATCH(SMALL(allGymnasts!$X$4:$X$103,A65),allGymnasts!$X$4:$X$103,0))),\"\")","v":""},{"$f":"IFERROR(IF(allGymnasts!B65=\"\",\"\",INDEX(allGymnasts!$V$4:$V$103,MATCH(SMALL(allGymnasts!$X$4:$X$103,A65),allGymnasts!$X$4:$X$103,0))),\"\")","v":""},{"$f":"IFERROR(IF(allGymnasts!B65=\"\",\"\",INDEX(allGymnasts!$W$4:$W$103,MATCH(SMALL(allGymnasts!$X$4:$X$103,A65),allGymnasts!$X$4:$X$103,0))),\"\")","v":""}]
[63,{"$f":"IFERROR(_xlfn.FLOOR.MATH(IF(allGymnasts!A66=\"\",\"\",INDEX(allGymnasts!$X$4:$X$103,MATCH(SMALL(allGymnasts!$X$4:$X$103,A66),allGymnasts!$X$4:$X$103,0)))),\"\")","v":""},{"$f":"IFERROR(IF(allGymnasts!A66=\"\",\"\",INDEX(allGymnasts!$A$4:$A$103,MATCH(SMALL(allGymnasts!$X$4:$X$103,A66),allGymnasts!$X$4:$X$103,0))),\"\")","v":""},{"$f":"IFERROR(IF(allGymnasts!B66=\"\",\"\",INDEX(allGymnasts!$B$4:$B$103,MATCH(SMALL(allGymnasts!$X$4:$X$103,A66),allGymnasts!$X$4:$X$103,0))),\"\")","v":""},{"$f":"IFERROR(IF(allGymnasts!C66=\"\",\"\",INDEX(allGymnasts!$C$4:$C$103,MATCH(SMALL(allGymnasts!$X$4:$X$103,A66),allGymnasts!$X$4:$X$103,0))),\"\")","v":""},{"$f":"IFERROR(IF(allGymnasts!D66=\"\",\"\",INDEX(allGymnasts!$D$4:$D$103,MATCH(SMALL(allGymnasts!$X$4:$X$103,A66),allGymnasts!$X$4:$X$103,0))),\"\")","v":""},{"$f":"IFERROR(IF(allGymnasts!B66=\"\",\"\",INDEX(allGymnasts!$T$4:$T$103,MATCH(SMALL(allGymnasts!$X$4:$X$103,A66),allGymnasts!$X$4:$X$103,0))),\"\")","v":""},{"$f":"IFERROR(IF(allGymnasts!B66=\"\",\"\",INDEX(allGymnasts!$U$4:$U$103,MATCH(SMALL(allGymnasts!$X$4:$X$103,A66),allGymnasts!$X$4:$X$103,0))),\"\")","v":""},{"$f":"IFERROR(IF(allGymnasts!B66=\"\",\"\",INDEX(allGymnasts!$V$4:$V$103,MATCH(SMALL(allGymnasts!$X$4:$X$103,A66),allGymnasts!$X$4:$X$103,0))),\"\")","v":""},{"$f":"IFERROR(IF(allGymnasts!B66=\"\",\"\",INDEX(allGymnasts!$W$4:$W$103,MATCH(SMALL(allGymnasts!$X$4:$X$103,A66),allGymnasts!$X$4:$X$103,0))),\"\")","v":""}]
[64,{"$f":"IFERROR(_xlfn.FLOOR.MATH(IF(allGymnasts!A67=\"\",\"\",INDEX(allGymnasts!$X$4:$X$103,MATCH(SMALL(allGymnasts!$X$4:$X$103,A67),allGymnasts!$X$4:$X$103,0)))),\"\")","v":""},{"$f":"IFERROR(IF(allGymnasts!A67=\"\",\"\",INDEX(allGymnasts!$A$4:$A$103,MATCH(SMALL(allGymnasts!$X$4:$X$103,A67),allGymnasts!$X$4:$X$103,0))),\"\")","v":""},{"$f":"IFERROR(IF(allGymnasts!B67=\"\",\"\",INDEX(allGymnasts!$B$4:$B$103,MATCH(SMALL(allGymnasts!$X$4:$X$103,A67),allGymnasts!$X$4:$X$103,0))),\"\")","v":""},{"$f":"IFERROR(IF(allGymnasts!C67=\"\",\"\",INDEX(allGymnasts!$C$4:$C$103,MATCH(SMALL(allGymnasts!$X$4:$X$103,A67),allGymnasts!$X$4:$X$103,0))),\"\")","v":""},{"$f":"IFERROR(IF(allGymnasts!D67=\"\",\"\",INDEX(allGymnasts!$D$4:$D$103,MATCH(SMALL(allGymnasts!$X$4:$X$103,A67),allGymnasts!$X$4:$X$103,0))),\"\")","v":""},{"$f":"IFERROR(IF(allGymnasts!B67=\"\",\"\",INDEX(allGymnasts!$T$4:$T$103,MATCH(SMALL(allGymnasts!$X$4:$X$103,A67),allGymnasts!$X$4:$X$103,0))),\"\")","v":""},{"$f":"IFERROR(IF(allGymnasts!B67=\"\",\"\",INDEX(allGymnasts!$U$4:$U$103,MATCH(SMALL(allGymnasts!$X$4:$X$103,A67),allGymnasts!$X$4:$X$103,0))),\"\")","v":""},{"$f":"IFERROR(IF(allGymnasts!B67=\"\",\"\",INDEX(allGymnasts!$V$4:$V$103,MATCH(SMALL(allGymnasts!$X$4:$X$103,A67),allGymnasts!$X$4:$X$103,0))),\"\")","v":""},{"$f":"IFERROR(IF(allGymnasts!B67=\"\",\"\",INDEX(allGymnasts!$W$4:$W$103,MATCH(SMALL(allGymnasts!$X$4:$X$103,A67),allGymnasts!$X$4:$X$103,0))),\"\")","v":""}]
[65,{"$f":"IFERROR(_xlfn.FLOOR.MATH(IF(allGymnasts!A68=\"\",\"\",INDEX(allGymnasts!$X$4:$X$103,MATCH(SMALL(allGymnasts!$X$4:$X$103,A68),allGymnasts!$X$4:$X$103,0)))),\"\")","v":""},{"$f":"IFERROR(IF(allGymnasts!A68=\"\",\"\",INDEX(allGymnasts!$A$4:$A$103,MATCH(SMALL(allGymnasts!$X$4:$X$103,A68),allGymnasts!$X$4:$X$103,0))),\"\")","v":""},{"$f":"IFERROR(IF(allGymnasts!B68=\"\",\"\",INDEX(allGymnasts!$B$4:$B$103,MATCH(SMALL(allGymnasts!$X$4:$X$103,A68),allGymnasts!$X$4:$X$103,0))),\"\")","v":""},{"$f":"IFERROR(IF(allGymnasts!C68=\"\",\"\",INDEX(allGymnasts!$C$4:$C$103,MATCH(SMALL(allGymnasts!$X$4:$X$103,A68),allGymnasts!$X$4:$X$103,0))),\"\")","v":""},{"$f":"IFERROR(IF(allGymnasts!D68=\"\",\"\",INDEX(allGymnasts!$D$4:$D$103,MATCH(SMALL(allGymnasts!$X$4:$X$103,A68),allGymnasts!$X$4:$X$103,0))),\"\")","v":""},{"$f":"IFERROR(IF(allGymnasts!B68=\"\",\"\",INDEX(allGymnasts!$T$4:$T$103,MATCH(SMALL(allGymnasts!$X$4:$X$103,A68),allGymnasts!$X$4:$X$103,0))),\"\")","v":""},{"$f":"IFERROR(IF(allGymnasts!B68=\"\",\"\",INDEX(allGymnasts!$U$4:$U$103,MATCH(SMALL(allGymnasts!$X$4:$X$103,A68),allGymnasts!$X$4:$X$103,0))),\"\")","v":""},{"$f":"IFERROR(IF(allGymnasts!B68=\"\",\"\",INDEX(allGymnasts!$V$4:$V$103,MATCH(SMALL(allGymnasts!$X$4:$X$103,A68),allGymnasts!$X$4:$X$103,0))),\"\")","v":""},{"$f":"IFERROR(IF(allGymnasts!B68=\"\",\"\",INDEX(allGymnasts!$W$4:$W$103,MATCH(SMALL(allGymnasts!$X$4:$X$103,A68),allGymnasts!$X$4:$X$103,0))),\"\")","v":""}]
[66,{"$f":"IFERROR(_xlfn.FLOOR.MATH(IF(allGymnasts!A69=\"\",\"\",INDEX(allGymnasts!$X$4:$X$103,MATCH(SMALL(allGymnasts!$X$4:$X$103,A69),allGymnasts!$X$4:$X$103,0)))),\"\")","v":""},{"$f":"IFERROR(IF(allGymnasts!A69=\"\",\"\",INDEX(allGymnasts!$A$4:$A$103,MATCH(SMALL(allGymnasts!$X$4:$X$103,A69),allGymnasts!$X$4:$X$103,0))),\"\")","v":""},{"$f":"IFERROR(IF(allGymnasts!B69=\"\",\"\",INDEX(allGymnasts!$B$4:$B$103,MATCH(SMALL(allGymnasts!$X$4:$X$103,A69),allGymnasts!$X$4:$X$103,0))),\"\")","v":""},{"$f":"IFERROR(IF(allGymnasts!C69=\"\",\"\",INDEX(allGymnasts!$C$4:$C$103,MATCH(SMALL(allGymnasts!$X$4:$X$103,A69),allGymnasts!$X$4:$X$103,0))),\"\")","v":""},{"$f":"IFERROR(IF(allGymnasts!D69=\"\",\"\",INDEX(allGymnasts!$D$4:$D$103,MATCH(SMALL(allGymnasts!$X$4:$X$103,A69),allGymnasts!$X$4:$X$103,0))),\"\")","v":""},{"$f":"IFERROR(IF(allGymnasts!B69=\"\",\"\",INDEX(allGymnasts!$T$4:$T$103,MATCH(SMALL(allGymnasts!$X$4:$X$103,A69),allGymnasts!$X$4:$X$103,0))),\"\")","v":""},{"$f":"IFERROR(IF(allGymnasts!B69=\"\",\"\",INDEX(allGymnasts!$U$4:$U$103,MATCH(SMALL(allGymnasts!$X$4:$X$103,A69),allGymnasts!$X$4:$X$103,0))),\"\")","v":""},{"$f":"IFERROR(IF(allGymnasts!B69=\"\",\"\",INDEX(allGymnasts!$V$4:$V$103,MATCH(SMALL(allGymnasts!$X$4:$X$103,A69),allGymnasts!$X$4:$X$103,0))),\"\")","v":""},{"$f":"IFERROR(IF(allGymnasts!B69=\"\",\"\",INDEX(allGymnasts!$W$4:$W$103,MATCH(SMALL(allGymnasts!$X$4:$X$103,A69),allGymnasts!$X$4:$X$103,0))),\"\")","v":""}]
[67,{"$f":"IFERROR(_xlfn.FLOOR.MATH(IF(allGymnasts!A70=\"\",\"\",INDEX(allGymnasts!$X$4:$X$103,MATCH(SMALL(allGymnasts!$X$4:$X$103,A70),allGymnasts!$X$4:$X$103,0)))),\"\")","v":""},{"$f":"IFERROR(IF(allGymnasts!A70=\"\",\"\",INDEX(allGymnasts!$A$4:$A$103,MATCH(SMALL(allGymnasts!$X$4:$X$103,A70),allGymnasts!$X$4:$X$103,0))),\"\")","v":""},{"$f":"IFERROR(IF(allGymnasts!B70=\"\",\"\",INDEX(allGymnasts!$B$4:$B$103,MATCH(SMALL(allGymnasts!$X$4:$X$103,A70),allGymnasts!$X$4:$X$103,0))),\"\")","v":""},{"$f":"IFERROR(IF(allGymnasts!C70=\"\",\"\",INDEX(allGymnasts!$C$4:$C$103,MATCH(SMALL(allGymnasts!$X$4:$X$103,A70),allGymnasts!$X$4:$X$103,0))),\"\")","v":""},{"$f":"IFERROR(IF(allGymnasts!D70=\"\",\"\",INDEX(allGymnasts!$D$4:$D$103,MATCH(SMALL(allGymnasts!$X$4:$X$103,A70),allGymnasts!$X$4:$X$103,0))),\"\")","v":""},{"$f":"IFERROR(IF(allGymnasts!B70=\"\",\"\",INDEX(allGymnasts!$T$4:$T$103,MATCH(SMALL(allGymnasts!$X$4:$X$103,A70),allGymnasts!$X$4:$X$103,0))),\"\")","v":""},{"$f":"IFERROR(IF(allGymnasts!B70=\"\",\"\",INDEX(allGymnasts!$U$4:$U$103,MATCH(SMALL(allGymnasts!$X$4:$X$103,A70),allGymnasts!$X$4:$X$103,0))),\"\")","v":""},{"$f":"IFERROR(IF(allGymnasts!B70=\"\",\"\",INDEX(allGymnasts!$V$4:$V$103,MATCH(SMALL(allGymnasts!$X$4:$X$103,A70),allGymnasts!$X$4:$X$103,0))),\"\")","v":""},{"$f":"IFERROR(IF(allGymnasts!B70=\"\",\"\",INDEX(allGymnasts!$W$4:$W$103,MATCH(SMALL(allGymnasts!$X$4:$X$103,A70),allGymnasts!$X$4:$X$103,0))),\"\")","v":""}]
[68,{"$f":"IFERROR(_xlfn.FLOOR.MATH(IF(allGymnasts!A71=\"\",\"\",INDEX(allGymnasts!$X$4:$X$103,MATCH(SMALL(allGymnasts!$X$4:$X$103,A71),allGymnasts!$X$4:$X$103,0)))),\"\")","v":""},{"$f":"IFERROR(IF(allGymnasts!A71=\"\",\"\",INDEX(allGymnasts!$A$4:$A$103,MATCH(SMALL(allGymnasts!$X$4:$X$103,A71),allGymnasts!$X$4:$X$103,0))),\"\")","v":""},{"$f":"IFERROR(IF(allGymnasts!B71=\"\",\"\",INDEX(allGymnasts!$B$4:$B$103,MATCH(SMALL(allGymnasts!$X$4:$X$103,A71),allGymnasts!$X$4:$X$103,0))),\"\")","v":""},{"$f":"IFERROR(IF(allGymnasts!C71=\"\",\"\",INDEX(allGymnasts!$C$4:$C$103,MATCH(SMALL(allGymnasts!$X$4:$X$103,A71),allGymnasts!$X$4:$X$103,0))),\"\")","v":""},{"$f":"IFERROR(IF(allGymnasts!D71=\"\",\"\",INDEX(allGymnasts!$D$4:$D$103,MATCH(SMALL(allGymnasts!$X$4:$X$103,A71),allGymnasts!$X$4:$X$103,0))),\"\")","v":""},{"$f":"IFERROR(IF(allGymnasts!B71=\"\",\"\",INDEX(allGymnasts!$T$4:$T$103,MATCH(SMALL(allGymnasts!$X$4:$X$103,A71),allGymnasts!$X$4:$X$103,0))),\"\")","v":""},{"$f":"IFERROR(IF(allGymnasts!B71=\"\",\"\",INDEX(allGymnasts!$U$4:$U$103,MATCH(SMALL(allGymnasts!$X$4:$X$103,A71),allGymnasts!$X$4:$X$103,0))),\"\")","v":""},{"$f":"IFERROR(IF(allGymnasts!B71=\"\",\"\",INDEX(allGymnasts!$V$4:$V$103,MATCH(SMALL(allGymnasts!$X$4:$X$103,A71),allGymnasts!$X$4:$X$103,0))),\"\")","v":""},{"$f":"IFERROR(IF(allGymnasts!B71=\"\",\"\",INDEX(allGymnasts!$W$4:$W$103,MATCH(SMALL(allGymnasts!$X$4:$X$103,A71),allGymnasts!$X$4:$X$103,0))),\"\")","v":""}]
[69,{"$f":"IFERROR(_xlfn.FLOOR.MATH(IF(allGymnasts!A72=\"\",\"\",INDEX(allGymnasts!$X$4:$X$103,MATCH(SMALL(allGymnasts!$X$4:$X$103,A72),allGymnasts!$X$4:$X$103,0)))),\"\")","v":""},{"$f":"IFERROR(IF(allGymnasts!A72=\"\",\"\",INDEX(allGymnasts!$A$4:$A$103,MATCH(SMALL(allGymnasts!$X$4:$X$103,A72),allGymnasts!$X$4:$X$103,0))),\"\")","v":""},{"$f":"IFERROR(IF(allGymnasts!B72=\"\",\"\",INDEX(allGymnasts!$B$4:$B$103,MATCH(SMALL(allGymnasts!$X$4:$X$103,A72),allGymnasts!$X$4:$X$103,0))),\"\")","v":""},{"$f":"IFERROR(IF(allGymnasts!C72=\"\",\"\",INDEX(allGymnasts!$C$4:$C$103,MATCH(SMALL(allGymnasts!$X$4:$X$103,A72),allGymnasts!$X$4:$X$103,0))),\"\")","v":""},{"$f":"IFERROR(IF(allGymnasts!D72=\"\",\"\",INDEX(allGymnasts!$D$4:$D$103,MATCH(SMALL(allGymnasts!$X$4:$X$103,A72),allGymnasts!$X$4:$X$103,0))),\"\")","v":""},{"$f":"IFERROR(IF(allGymnasts!B72=\"\",\"\",INDEX(allGymnasts!$T$4:$T$103,MATCH(SMALL(allGymnasts!$X$4:$X$103,A72),allGymnasts!$X$4:$X$103,0))),\"\")","v":""},{"$f":"IFERROR(IF(allGymnasts!B72=\"\",\"\",INDEX(allGymnasts!$U$4:$U$103,MATCH(SMALL(allGymnasts!$X$4:$X$103,A72),allGymnasts!$X$4:$X$103,0))),\"\")","v":""},{"$f":"IFERROR(IF(allGymnasts!B72=\"\",\"\",INDEX(allGymnasts!$V$4:$V$103,MATCH(SMALL(allGymnasts!$X$4:$X$103,A72),allGymnasts!$X$4:$X$103,0))),\"\")","v":""},{"$f":"IFERROR(IF(allGymnasts!B72=\"\",\"\",INDEX(allGymnasts!$W$4:$W$103,MATCH(SMALL(allGymnasts!$X$4:$X$103,A72),allGymnasts!$X$4:$X$103,0))),\"\")","v":""}]
[70,{"$f":"IFERROR(_xlfn.FLOOR.MATH(IF(allGymnasts!A73=\"\",\"\",INDEX(allGymnasts!$X$4:$X$103,MATCH(SMALL(allGymnasts!$X$4:$X$103,A73),allGymnasts!$X$4:$X$103,0)))),\"\")","v":""},{"$f":"IFERROR(IF(allGymnasts!A73=\"\",\"\",INDEX(allGymnasts!$A$4:$A$103,MATCH(SMALL(allGymnasts!$X$4:$X$103,A73),allGymnasts!$X$4:$X$103,0))),\"\")","v":""},{"$f":"IFERROR(IF(allGymnasts!B73=\"\",\"\",INDEX(allGymnasts!$B$4:$B$103,MATCH(SMALL(allGymnasts!$X$4:$X$103,A73),allGymnasts!$X$4:$X$103,0))),\"\")","v":""},{"$f":"IFERROR(IF(allGymnasts!C73=\"\",\"\",INDEX(allGymnasts!$C$4:$C$103,MATCH(SMALL(allGymnasts!$X$4:$X$103,A73),allGymnasts!$X$4:$X$103,0))),\"\")","v":""},{"$f":"IFERROR(IF(allGymnasts!D73=\"\",\"\",INDEX(allGymnasts!$D$4:$D$103,MATCH(SMALL(allGymnasts!$X$4:$X$103,A73),allGymnasts!$X$4:$X$103,0))),\"\")","v":""},{"$f":"IFERROR(IF(allGymnasts!B73=\"\",\"\",INDEX(allGymnasts!$T$4:$T$103,MATCH(SMALL(allGymnasts!$X$4:$X$103,A73),allGymnasts!$X$4:$X$103,0))),\"\")","v":""},{"$f":"IFERROR(IF(allGymnasts!B73=\"\",\"\",INDEX(allGymnasts!$U$4:$U$103,MATCH(SMALL(allGymnasts!$X$4:$X$103,A73),allGymnasts!$X$4:$X$103,0))),\"\")","v":""},{"$f":"IFERROR(IF(allGymnasts!B73=\"\",\"\",INDEX(allGymnasts!$V$4:$V$103,MATCH(SMALL(allGymnasts!$X$4:$X$103,A73),allGymnasts!$X$4:$X$103,0))),\"\")","v":""},{"$f":"IFERROR(IF(allGymnasts!B73=\"\",\"\",INDEX(allGymnasts!$W$4:$W$103,MATCH(SMALL(allGymnasts!$X$4:$X$103,A73),allGymnasts!$X$4:$X$103,0))),\"\")","v":""}]
[71,{"$f":"IFERROR(_xlfn.FLOOR.MATH(IF(allGymnasts!A74=\"\",\"\",INDEX(allGymnasts!$X$4:$X$103,MATCH(SMALL(allGymnasts!$X$4:$X$103,A74),allGymnasts!$X$4:$X$103,0)))),\"\")","v":""},{"$f":"IFERROR(IF(allGymnasts!A74=\"\",\"\",INDEX(allGymnasts!$A$4:$A$103,MATCH(SMALL(allGymnasts!$X$4:$X$103,A74),allGymnasts!$X$4:$X$103,0))),\"\")","v":""},{"$f":"IFERROR(IF(allGymnasts!B74=\"\",\"\",INDEX(allGymnasts!$B$4:$B$103,MATCH(SMALL(allGymnasts!$X$4:$X$103,A74),allGymnasts!$X$4:$X$103,0))),\"\")","v":""},{"$f":"IFERROR(IF(allGymnasts!C74=\"\",\"\",INDEX(allGymnasts!$C$4:$C$103,MATCH(SMALL(allGymnasts!$X$4:$X$103,A74),allGymnasts!$X$4:$X$103,0))),\"\")","v":""},{"$f":"IFERROR(IF(allGymnasts!D74=\"\",\"\",INDEX(allGymnasts!$D$4:$D$103,MATCH(SMALL(allGymnasts!$X$4:$X$103,A74),allGymnasts!$X$4:$X$103,0))),\"\")","v":""},{"$f":"IFERROR(IF(allGymnasts!B74=\"\",\"\",INDEX(allGymnasts!$T$4:$T$103,MATCH(SMALL(allGymnasts!$X$4:$X$103,A74),allGymnasts!$X$4:$X$103,0))),\"\")","v":""},{"$f":"IFERROR(IF(allGymnasts!B74=\"\",\"\",INDEX(allGymnasts!$U$4:$U$103,MATCH(SMALL(allGymnasts!$X$4:$X$103,A74),allGymnasts!$X$4:$X$103,0))),\"\")","v":""},{"$f":"IFERROR(IF(allGymnasts!B74=\"\",\"\",INDEX(allGymnasts!$V$4:$V$103,MATCH(SMALL(allGymnasts!$X$4:$X$103,A74),allGymnasts!$X$4:$X$103,0))),\"\")","v":""},{"$f":"IFERROR(IF(allGymnasts!B74=\"\",\"\",INDEX(allGymnasts!$W$4:$W$103,MATCH(SMALL(allGymnasts!$X$4:$X$103,A74),allGymnasts!$X$4:$X$103,0))),\"\")","v":""}]
[72,{"$f":"IFERROR(_xlfn.FLOOR.MATH(IF(allGymnasts!A75=\"\",\"\",INDEX(allGymnasts!$X$4:$X$103,MATCH(SMALL(allGymnasts!$X$4:$X$103,A75),allGymnasts!$X$4:$X$103,0)))),\"\")","v":""},{"$f":"IFERROR(IF(allGymnasts!A75=\"\",\"\",INDEX(allGymnasts!$A$4:$A$103,MATCH(SMALL(allGymnasts!$X$4:$X$103,A75),allGymnasts!$X$4:$X$103,0))),\"\")","v":""},{"$f":"IFERROR(IF(allGymnasts!B75=\"\",\"\",INDEX(allGymnasts!$B$4:$B$103,MATCH(SMALL(allGymnasts!$X$4:$X$103,A75),allGymnasts!$X$4:$X$103,0))),\"\")","v":""},{"$f":"IFERROR(IF(allGymnasts!C75=\"\",\"\",INDEX(allGymnasts!$C$4:$C$103,MATCH(SMALL(allGymnasts!$X$4:$X$103,A75),allGymnasts!$X$4:$X$103,0))),\"\")","v":""},{"$f":"IFERROR(IF(allGymnasts!D75=\"\",\"\",INDEX(allGymnasts!$D$4:$D$103,MATCH(SMALL(allGymnasts!$X$4:$X$103,A75),allGymnasts!$X$4:$X$103,0))),\"\")","v":""},{"$f":"IFERROR(IF(allGymnasts!B75=\"\",\"\",INDEX(allGymnasts!$T$4:$T$103,MATCH(SMALL(allGymnasts!$X$4:$X$103,A75),allGymnasts!$X$4:$X$103,0))),\"\")","v":""},{"$f":"IFERROR(IF(allGymnasts!B75=\"\",\"\",INDEX(allGymnasts!$U$4:$U$103,MATCH(SMALL(allGymnasts!$X$4:$X$103,A75),allGymnasts!$X$4:$X$103,0))),\"\")","v":""},{"$f":"IFERROR(IF(allGymnasts!B75=\"\",\"\",INDEX(allGymnasts!$V$4:$V$103,MATCH(SMALL(allGymnasts!$X$4:$X$103,A75),allGymnasts!$X$4:$X$103,0))),\"\")","v":""},{"$f":"IFERROR(IF(allGymnasts!B75=\"\",\"\",INDEX(allGymnasts!$W$4:$W$103,MATCH(SMALL(allGymnasts!$X$4:$X$103,A75),allGymnasts!$X$4:$X$103,0))),\"\")","v":""}]
[73,{"$f":"IFERROR(_xlfn.FLOOR.MATH(IF(allGymnasts!A76=\"\",\"\",INDEX(allGymnasts!$X$4:$X$103,MATCH(SMALL(allGymnasts!$X$4:$X$103,A76),allGymnasts!$X$4:$X$103,0)))),\"\")","v":""},{"$f":"IFERROR(IF(allGymnasts!A76=\"\",\"\",INDEX(allGymnasts!$A$4:$A$103,MATCH(SMALL(allGymnasts!$X$4:$X$103,A76),allGymnasts!$X$4:$X$103,0))),\"\")","v":""},{"$f":"IFERROR(IF(allGymnasts!B76=\"\",\"\",INDEX(allGymnasts!$B$4:$B$103,MATCH(SMALL(allGymnasts!$X$4:$X$103,A76),allGymnasts!$X$4:$X$103,0))),\"\")","v":""},{"$f":"IFERROR(IF(allGymnasts!C76=\"\",\"\",INDEX(allGymnasts!$C$4:$C$103,MATCH(SMALL(allGymnasts!$X$4:$X$103,A76),allGymnasts!$X$4:$X$103,0))),\"\")","v":""},{"$f":"IFERROR(IF(allGymnasts!D76=\"\",\"\",INDEX(allGymnasts!$D$4:$D$103,MATCH(SMALL(allGymnasts!$X$4:$X$103,A76),allGymnasts!$X$4:$X$103,0))),\"\")","v":""},{"$f":"IFERROR(IF(allGymnasts!B76=\"\",\"\",INDEX(allGymnasts!$T$4:$T$103,MATCH(SMALL(allGymnasts!$X$4:$X$103,A76),allGymnasts!$X$4:$X$103,0))),\"\")","v":""},{"$f":"IFERROR(IF(allGymnasts!B76=\"\",\"\",INDEX(allGymnasts!$U$4:$U$103,MATCH(SMALL(allGymnasts!$X$4:$X$103,A76),allGymnasts!$X$4:$X$103,0))),\"\")","v":""},{"$f":"IFERROR(IF(allGymnasts!B76=\"\",\"\",INDEX(allGymnasts!$V$4:$V$103,MATCH(SMALL(allGymnasts!$X$4:$X$103,A76),allGymnasts!$X$4:$X$103,0))),\"\")","v":""},{"$f":"IFERROR(IF(allGymnasts!B76=\"\",\"\",INDEX(allGymnasts!$W$4:$W$103,MATCH(SMALL(allGymnasts!$X$4:$X$103,A76),allGymnasts!$X$4:$X$103,0))),\"\")","v":""}]
[74,{"$f":"IFERROR(_xlfn.FLOOR.MATH(IF(allGymnasts!A77=\"\",\"\",INDEX(allGymnasts!$X$4:$X$103,MATCH(SMALL(allGymnasts!$X$4:$X$103,A77),allGymnasts!$X$4:$X$103,0)))),\"\")","v":""},{"$f":"IFERROR(IF(allGymnasts!A77=\"\",\"\",INDEX(allGymnasts!$A$4:$A$103,MATCH(SMALL(allGymnasts!$X$4:$X$103,A77),allGymnasts!$X$4:$X$103,0))),\"\")","v":""},{"$f":"IFERROR(IF(allGymnasts!B77=\"\",\"\",INDEX(allGymnasts!$B$4:$B$103,MATCH(SMALL(allGymnasts!$X$4:$X$103,A77),allGymnasts!$X$4:$X$103,0))),\"\")","v":""},{"$f":"IFERROR(IF(allGymnasts!C77=\"\",\"\",INDEX(allGymnasts!$C$4:$C$103,MATCH(SMALL(allGymnasts!$X$4:$X$103,A77),allGymnasts!$X$4:$X$103,0))),\"\")","v":""},{"$f":"IFERROR(IF(allGymnasts!D77=\"\",\"\",INDEX(allGymnasts!$D$4:$D$103,MATCH(SMALL(allGymnasts!$X$4:$X$103,A77),allGymnasts!$X$4:$X$103,0))),\"\")","v":""},{"$f":"IFERROR(IF(allGymnasts!B77=\"\",\"\",INDEX(allGymnasts!$T$4:$T$103,MATCH(SMALL(allGymnasts!$X$4:$X$103,A77),allGymnasts!$X$4:$X$103,0))),\"\")","v":""},{"$f":"IFERROR(IF(allGymnasts!B77=\"\",\"\",INDEX(allGymnasts!$U$4:$U$103,MATCH(SMALL(allGymnasts!$X$4:$X$103,A77),allGymnasts!$X$4:$X$103,0))),\"\")","v":""},{"$f":"IFERROR(IF(allGymnasts!B77=\"\",\"\",INDEX(allGymnasts!$V$4:$V$103,MATCH(SMALL(allGymnasts!$X$4:$X$103,A77),allGymnasts!$X$4:$X$103,0))),\"\")","v":""},{"$f":"IFERROR(IF(allGymnasts!B77=\"\",\"\",INDEX(allGymnasts!$W$4:$W$103,MATCH(SMALL(allGymnasts!$X$4:$X$103,A77),allGymnasts!$X$4:$X$103,0))),\"\")","v":""}]
[75,{"$f":"IFERROR(_xlfn.FLOOR.MATH(IF(allGymnasts!A78=\"\",\"\",INDEX(allGymnasts!$X$4:$X$103,MATCH(SMALL(allGymnasts!$X$4:$X$103,A78),allGymnasts!$X$4:$X$103,0)))),\"\")","v":""},{"$f":"IFERROR(IF(allGymnasts!A78=\"\",\"\",INDEX(allGymnasts!$A$4:$A$103,MATCH(SMALL(allGymnasts!$X$4:$X$103,A78),allGymnasts!$X$4:$X$103,0))),\"\")","v":""},{"$f":"IFERROR(IF(allGymnasts!B78=\"\",\"\",INDEX(allGymnasts!$B$4:$B$103,MATCH(SMALL(allGymnasts!$X$4:$X$103,A78),allGymnasts!$X$4:$X$103,0))),\"\")","v":""},{"$f":"IFERROR(IF(allGymnasts!C78=\"\",\"\",INDEX(allGymnasts!$C$4:$C$103,MATCH(SMALL(allGymnasts!$X$4:$X$103,A78),allGymnasts!$X$4:$X$103,0))),\"\")","v":""},{"$f":"IFERROR(IF(allGymnasts!D78=\"\",\"\",INDEX(allGymnasts!$D$4:$D$103,MATCH(SMALL(allGymnasts!$X$4:$X$103,A78),allGymnasts!$X$4:$X$103,0))),\"\")","v":""},{"$f":"IFERROR(IF(allGymnasts!B78=\"\",\"\",INDEX(allGymnasts!$T$4:$T$103,MATCH(SMALL(allGymnasts!$X$4:$X$103,A78),allGymnasts!$X$4:$X$103,0))),\"\")","v":""},{"$f":"IFERROR(IF(allGymnasts!B78=\"\",\"\",INDEX(allGymnasts!$U$4:$U$103,MATCH(SMALL(allGymnasts!$X$4:$X$103,A78),allGymnasts!$X$4:$X$103,0))),\"\")","v":""},{"$f":"IFERROR(IF(allGymnasts!B78=\"\",\"\",INDEX(allGymnasts!$V$4:$V$103,MATCH(SMALL(allGymnasts!$X$4:$X$103,A78),allGymnasts!$X$4:$X$103,0))),\"\")","v":""},{"$f":"IFERROR(IF(allGymnasts!B78=\"\",\"\",INDEX(allGymnasts!$W$4:$W$103,MATCH(SMALL(allGymnasts!$X$4:$X$103,A78),allGymnasts!$X$4:$X$103,0))),\"\")","v":""}]
[76,{"$f":"IFERROR(_xlfn.FLOOR.MATH(IF(allGymnasts!A79=\"\",\"\",INDEX(allGymnasts!$X$4:$X$103,MATCH(SMALL(allGymnasts!$X$4:$X$103,A79),allGymnasts!$X$4:$X$103,0)))),\"\")","v":""},{"$f":"IFERROR(IF(allGymnasts!A79=\"\",\"\",INDEX(allGymnasts!$A$4:$A$103,MATCH(SMALL(allGymnasts!$X$4:$X$103,A79),allGymnasts!$X$4:$X$103,0))),\"\")","v":""},{"$f":"IFERROR(IF(allGymnasts!B79=\"\",\"\",INDEX(allGymnasts!$B$4:$B$103,MATCH(SMALL(allGymnasts!$X$4:$X$103,A79),allGymnasts!$X$4:$X$103,0))),\"\")","v":""},{"$f":"IFERROR(IF(allGymnasts!C79=\"\",\"\",INDEX(allGymnasts!$C$4:$C$103,MATCH(SMALL(allGymnasts!$X$4:$X$103,A79),allGymnasts!$X$4:$X$103,0))),\"\")","v":""},{"$f":"IFERROR(IF(allGymnasts!D79=\"\",\"\",INDEX(allGymnasts!$D$4:$D$103,MATCH(SMALL(allGymnasts!$X$4:$X$103,A79),allGymnasts!$X$4:$X$103,0))),\"\")","v":""},{"$f":"IFERROR(IF(allGymnasts!B79=\"\",\"\",INDEX(allGymnasts!$T$4:$T$103,MATCH(SMALL(allGymnasts!$X$4:$X$103,A79),allGymnasts!$X$4:$X$103,0))),\"\")","v":""},{"$f":"IFERROR(IF(allGymnasts!B79=\"\",\"\",INDEX(allGymnasts!$U$4:$U$103,MATCH(SMALL(allGymnasts!$X$4:$X$103,A79),allGymnasts!$X$4:$X$103,0))),\"\")","v":""},{"$f":"IFERROR(IF(allGymnasts!B79=\"\",\"\",INDEX(allGymnasts!$V$4:$V$103,MATCH(SMALL(allGymnasts!$X$4:$X$103,A79),allGymnasts!$X$4:$X$103,0))),\"\")","v":""},{"$f":"IFERROR(IF(allGymnasts!B79=\"\",\"\",INDEX(allGymnasts!$W$4:$W$103,MATCH(SMALL(allGymnasts!$X$4:$X$103,A79),allGymnasts!$X$4:$X$103,0))),\"\")","v":""}]
[77,{"$f":"IFERROR(_xlfn.FLOOR.MATH(IF(allGymnasts!A80=\"\",\"\",INDEX(allGymnasts!$X$4:$X$103,MATCH(SMALL(allGymnasts!$X$4:$X$103,A80),allGymnasts!$X$4:$X$103,0)))),\"\")","v":""},{"$f":"IFERROR(IF(allGymnasts!A80=\"\",\"\",INDEX(allGymnasts!$A$4:$A$103,MATCH(SMALL(allGymnasts!$X$4:$X$103,A80),allGymnasts!$X$4:$X$103,0))),\"\")","v":""},{"$f":"IFERROR(IF(allGymnasts!B80=\"\",\"\",INDEX(allGymnasts!$B$4:$B$103,MATCH(SMALL(allGymnasts!$X$4:$X$103,A80),allGymnasts!$X$4:$X$103,0))),\"\")","v":""},{"$f":"IFERROR(IF(allGymnasts!C80=\"\",\"\",INDEX(allGymnasts!$C$4:$C$103,MATCH(SMALL(allGymnasts!$X$4:$X$103,A80),allGymnasts!$X$4:$X$103,0))),\"\")","v":""},{"$f":"IFERROR(IF(allGymnasts!D80=\"\",\"\",INDEX(allGymnasts!$D$4:$D$103,MATCH(SMALL(allGymnasts!$X$4:$X$103,A80),allGymnasts!$X$4:$X$103,0))),\"\")","v":""},{"$f":"IFERROR(IF(allGymnasts!B80=\"\",\"\",INDEX(allGymnasts!$T$4:$T$103,MATCH(SMALL(allGymnasts!$X$4:$X$103,A80),allGymnasts!$X$4:$X$103,0))),\"\")","v":""},{"$f":"IFERROR(IF(allGymnasts!B80=\"\",\"\",INDEX(allGymnasts!$U$4:$U$103,MATCH(SMALL(allGymnasts!$X$4:$X$103,A80),allGymnasts!$X$4:$X$103,0))),\"\")","v":""},{"$f":"IFERROR(IF(allGymnasts!B80=\"\",\"\",INDEX(allGymnasts!$V$4:$V$103,MATCH(SMALL(allGymnasts!$X$4:$X$103,A80),allGymnasts!$X$4:$X$103,0))),\"\")","v":""},{"$f":"IFERROR(IF(allGymnasts!B80=\"\",\"\",INDEX(allGymnasts!$W$4:$W$103,MATCH(SMALL(allGymnasts!$X$4:$X$103,A80),allGymnasts!$X$4:$X$103,0))),\"\")","v":""}]
[78,{"$f":"IFERROR(_xlfn.FLOOR.MATH(IF(allGymnasts!A81=\"\",\"\",INDEX(allGymnasts!$X$4:$X$103,MATCH(SMALL(allGymnasts!$X$4:$X$103,A81),allGymnasts!$X$4:$X$103,0)))),\"\")","v":""},{"$f":"IFERROR(IF(allGymnasts!A81=\"\",\"\",INDEX(allGymnasts!$A$4:$A$103,MATCH(SMALL(allGymnasts!$X$4:$X$103,A81),allGymnasts!$X$4:$X$103,0))),\"\")","v":""},{"$f":"IFERROR(IF(allGymnasts!B81=\"\",\"\",INDEX(allGymnasts!$B$4:$B$103,MATCH(SMALL(allGymnasts!$X$4:$X$103,A81),allGymnasts!$X$4:$X$103,0))),\"\")","v":""},{"$f":"IFERROR(IF(allGymnasts!C81=\"\",\"\",INDEX(allGymnasts!$C$4:$C$103,MATCH(SMALL(allGymnasts!$X$4:$X$103,A81),allGymnasts!$X$4:$X$103,0))),\"\")","v":""},{"$f":"IFERROR(IF(allGymnasts!D81=\"\",\"\",INDEX(allGymnasts!$D$4:$D$103,MATCH(SMALL(allGymnasts!$X$4:$X$103,A81),allGymnasts!$X$4:$X$103,0))),\"\")","v":""},{"$f":"IFERROR(IF(allGymnasts!B81=\"\",\"\",INDEX(allGymnasts!$T$4:$T$103,MATCH(SMALL(allGymnasts!$X$4:$X$103,A81),allGymnasts!$X$4:$X$103,0))),\"\")","v":""},{"$f":"IFERROR(IF(allGymnasts!B81=\"\",\"\",INDEX(allGymnasts!$U$4:$U$103,MATCH(SMALL(allGymnasts!$X$4:$X$103,A81),allGymnasts!$X$4:$X$103,0))),\"\")","v":""},{"$f":"IFERROR(IF(allGymnasts!B81=\"\",\"\",INDEX(allGymnasts!$V$4:$V$103,MATCH(SMALL(allGymnasts!$X$4:$X$103,A81),allGymnasts!$X$4:$X$103,0))),\"\")","v":""},{"$f":"IFERROR(IF(allGymnasts!B81=\"\",\"\",INDEX(allGymnasts!$W$4:$W$103,MATCH(SMALL(allGymnasts!$X$4:$X$103,A81),allGymnasts!$X$4:$X$103,0))),\"\")","v":""}]
[79,{"$f":"IFERROR(_xlfn.FLOOR.MATH(IF(allGymnasts!A82=\"\",\"\",INDEX(allGymnasts!$X$4:$X$103,MATCH(SMALL(allGymnasts!$X$4:$X$103,A82),allGymnasts!$X$4:$X$103,0)))),\"\")","v":""},{"$f":"IFERROR(IF(allGymnasts!A82=\"\",\"\",INDEX(allGymnasts!$A$4:$A$103,MATCH(SMALL(allGymnasts!$X$4:$X$103,A82),allGymnasts!$X$4:$X$103,0))),\"\")","v":""},{"$f":"IFERROR(IF(allGymnasts!B82=\"\",\"\",INDEX(allGymnasts!$B$4:$B$103,MATCH(SMALL(allGymnasts!$X$4:$X$103,A82),allGymnasts!$X$4:$X$103,0))),\"\")","v":""},{"$f":"IFERROR(IF(allGymnasts!C82=\"\",\"\",INDEX(allGymnasts!$C$4:$C$103,MATCH(SMALL(allGymnasts!$X$4:$X$103,A82),allGymnasts!$X$4:$X$103,0))),\"\")","v":""},{"$f":"IFERROR(IF(allGymnasts!D82=\"\",\"\",INDEX(allGymnasts!$D$4:$D$103,MATCH(SMALL(allGymnasts!$X$4:$X$103,A82),allGymnasts!$X$4:$X$103,0))),\"\")","v":""},{"$f":"IFERROR(IF(allGymnasts!B82=\"\",\"\",INDEX(allGymnasts!$T$4:$T$103,MATCH(SMALL(allGymnasts!$X$4:$X$103,A82),allGymnasts!$X$4:$X$103,0))),\"\")","v":""},{"$f":"IFERROR(IF(allGymnasts!B82=\"\",\"\",INDEX(allGymnasts!$U$4:$U$103,MATCH(SMALL(allGymnasts!$X$4:$X$103,A82),allGymnasts!$X$4:$X$103,0))),\"\")","v":""},{"$f":"IFERROR(IF(allGymnasts!B82=\"\",\"\",INDEX(allGymnasts!$V$4:$V$103,MATCH(SMALL(allGymnasts!$X$4:$X$103,A82),allGymnasts!$X$4:$X$103,0))),\"\")","v":""},{"$f":"IFERROR(IF(allGymnasts!B82=\"\",\"\",INDEX(allGymnasts!$W$4:$W$103,MATCH(SMALL(allGymnasts!$X$4:$X$103,A82),allGymnasts!$X$4:$X$103,0))),\"\")","v":""}]
[80,{"$f":"IFERROR(_xlfn.FLOOR.MATH(IF(allGymnasts!A83=\"\",\"\",INDEX(allGymnasts!$X$4:$X$103,MATCH(SMALL(allGymnasts!$X$4:$X$103,A83),allGymnasts!$X$4:$X$103,0)))),\"\")","v":""},{"$f":"IFERROR(IF(allGymnasts!A83=\"\",\"\",INDEX(allGymnasts!$A$4:$A$103,MATCH(SMALL(allGymnasts!$X$4:$X$103,A83),allGymnasts!$X$4:$X$103,0))),\"\")","v":""},{"$f":"IFERROR(IF(allGymnasts!B83=\"\",\"\",INDEX(allGymnasts!$B$4:$B$103,MATCH(SMALL(allGymnasts!$X$4:$X$103,A83),allGymnasts!$X$4:$X$103,0))),\"\")","v":""},{"$f":"IFERROR(IF(allGymnasts!C83=\"\",\"\",INDEX(allGymnasts!$C$4:$C$103,MATCH(SMALL(allGymnasts!$X$4:$X$103,A83),allGymnasts!$X$4:$X$103,0))),\"\")","v":""},{"$f":"IFERROR(IF(allGymnasts!D83=\"\",\"\",INDEX(allGymnasts!$D$4:$D$103,MATCH(SMALL(allGymnasts!$X$4:$X$103,A83),allGymnasts!$X$4:$X$103,0))),\"\")","v":""},{"$f":"IFERROR(IF(allGymnasts!B83=\"\",\"\",INDEX(allGymnasts!$T$4:$T$103,MATCH(SMALL(allGymnasts!$X$4:$X$103,A83),allGymnasts!$X$4:$X$103,0))),\"\")","v":""},{"$f":"IFERROR(IF(allGymnasts!B83=\"\",\"\",INDEX(allGymnasts!$U$4:$U$103,MATCH(SMALL(allGymnasts!$X$4:$X$103,A83),allGymnasts!$X$4:$X$103,0))),\"\")","v":""},{"$f":"IFERROR(IF(allGymnasts!B83=\"\",\"\",INDEX(allGymnasts!$V$4:$V$103,MATCH(SMALL(allGymnasts!$X$4:$X$103,A83),allGymnasts!$X$4:$X$103,0))),\"\")","v":""},{"$f":"IFERROR(IF(allGymnasts!B83=\"\",\"\",INDEX(allGymnasts!$W$4:$W$103,MATCH(SMALL(allGymnasts!$X$4:$X$103,A83),allGymnasts!$X$4:$X$103,0))),\"\")","v":""}]
[81,{"$f":"IFERROR(_xlfn.FLOOR.MATH(IF(allGymnasts!A84=\"\",\"\",INDEX(allGymnasts!$X$4:$X$103,MATCH(SMALL(allGymnasts!$X$4:$X$103,A84),allGymnasts!$X$4:$X$103,0)))),\"\")","v":""},{"$f":"IFERROR(IF(allGymnasts!A84=\"\",\"\",INDEX(allGymnasts!$A$4:$A$103,MATCH(SMALL(allGymnasts!$X$4:$X$103,A84),allGymnasts!$X$4:$X$103,0))),\"\")","v":""},{"$f":"IFERROR(IF(allGymnasts!B84=\"\",\"\",INDEX(allGymnasts!$B$4:$B$103,MATCH(SMALL(allGymnasts!$X$4:$X$103,A84),allGymnasts!$X$4:$X$103,0))),\"\")","v":""},{"$f":"IFERROR(IF(allGymnasts!C84=\"\",\"\",INDEX(allGymnasts!$C$4:$C$103,MATCH(SMALL(allGymnasts!$X$4:$X$103,A84),allGymnasts!$X$4:$X$103,0))),\"\")","v":""},{"$f":"IFERROR(IF(allGymnasts!D84=\"\",\"\",INDEX(allGymnasts!$D$4:$D$103,MATCH(SMALL(allGymnasts!$X$4:$X$103,A84),allGymnasts!$X$4:$X$103,0))),\"\")","v":""},{"$f":"IFERROR(IF(allGymnasts!B84=\"\",\"\",INDEX(allGymnasts!$T$4:$T$103,MATCH(SMALL(allGymnasts!$X$4:$X$103,A84),allGymnasts!$X$4:$X$103,0))),\"\")","v":""},{"$f":"IFERROR(IF(allGymnasts!B84=\"\",\"\",INDEX(allGymnasts!$U$4:$U$103,MATCH(SMALL(allGymnasts!$X$4:$X$103,A84),allGymnasts!$X$4:$X$103,0))),\"\")","v":""},{"$f":"IFERROR(IF(allGymnasts!B84=\"\",\"\",INDEX(allGymnasts!$V$4:$V$103,MATCH(SMALL(allGymnasts!$X$4:$X$103,A84),allGymnasts!$X$4:$X$103,0))),\"\")","v":""},{"$f":"IFERROR(IF(allGymnasts!B84=\"\",\"\",INDEX(allGymnasts!$W$4:$W$103,MATCH(SMALL(allGymnasts!$X$4:$X$103,A84),allGymnasts!$X$4:$X$103,0))),\"\")","v":""}]
[82,{"$f":"IFERROR(_xlfn.FLOOR.MATH(IF(allGymnasts!A85=\"\",\"\",INDEX(allGymnasts!$X$4:$X$103,MATCH(SMALL(allGymnasts!$X$4:$X$103,A85),allGymnasts!$X$4:$X$103,0)))),\"\")","v":""},{"$f":"IFERROR(IF(allGymnasts!A85=\"\",\"\",INDEX(allGymnasts!$A$4:$A$103,MATCH(SMALL(allGymnasts!$X$4:$X$103,A85),allGymnasts!$X$4:$X$103,0))),\"\")","v":""},{"$f":"IFERROR(IF(allGymnasts!B85=\"\",\"\",INDEX(allGymnasts!$B$4:$B$103,MATCH(SMALL(allGymnasts!$X$4:$X$103,A85),allGymnasts!$X$4:$X$103,0))),\"\")","v":""},{"$f":"IFERROR(IF(allGymnasts!C85=\"\",\"\",INDEX(allGymnasts!$C$4:$C$103,MATCH(SMALL(allGymnasts!$X$4:$X$103,A85),allGymnasts!$X$4:$X$103,0))),\"\")","v":""},{"$f":"IFERROR(IF(allGymnasts!D85=\"\",\"\",INDEX(allGymnasts!$D$4:$D$103,MATCH(SMALL(allGymnasts!$X$4:$X$103,A85),allGymnasts!$X$4:$X$103,0))),\"\")","v":""},{"$f":"IFERROR(IF(allGymnasts!B85=\"\",\"\",INDEX(allGymnasts!$T$4:$T$103,MATCH(SMALL(allGymnasts!$X$4:$X$103,A85),allGymnasts!$X$4:$X$103,0))),\"\")","v":""},{"$f":"IFERROR(IF(allGymnasts!B85=\"\",\"\",INDEX(allGymnasts!$U$4:$U$103,MATCH(SMALL(allGymnasts!$X$4:$X$103,A85),allGymnasts!$X$4:$X$103,0))),\"\")","v":""},{"$f":"IFERROR(IF(allGymnasts!B85=\"\",\"\",INDEX(allGymnasts!$V$4:$V$103,MATCH(SMALL(allGymnasts!$X$4:$X$103,A85),allGymnasts!$X$4:$X$103,0))),\"\")","v":""},{"$f":"IFERROR(IF(allGymnasts!B85=\"\",\"\",INDEX(allGymnasts!$W$4:$W$103,MATCH(SMALL(allGymnasts!$X$4:$X$103,A85),allGymnasts!$X$4:$X$103,0))),\"\")","v":""}]
[83,{"$f":"IFERROR(_xlfn.FLOOR.MATH(IF(allGymnasts!A86=\"\",\"\",INDEX(allGymnasts!$X$4:$X$103,MATCH(SMALL(allGymnasts!$X$4:$X$103,A86),allGymnasts!$X$4:$X$103,0)))),\"\")","v":""},{"$f":"IFERROR(IF(allGymnasts!A86=\"\",\"\",INDEX(allGymnasts!$A$4:$A$103,MATCH(SMALL(allGymnasts!$X$4:$X$103,A86),allGymnasts!$X$4:$X$103,0))),\"\")","v":""},{"$f":"IFERROR(IF(allGymnasts!B86=\"\",\"\",INDEX(allGymnasts!$B$4:$B$103,MATCH(SMALL(allGymnasts!$X$4:$X$103,A86),allGymnasts!$X$4:$X$103,0))),\"\")","v":""},{"$f":"IFERROR(IF(allGymnasts!C86=\"\",\"\",INDEX(allGymnasts!$C$4:$C$103,MATCH(SMALL(allGymnasts!$X$4:$X$103,A86),allGymnasts!$X$4:$X$103,0))),\"\")","v":""},{"$f":"IFERROR(IF(allGymnasts!D86=\"\",\"\",INDEX(allGymnasts!$D$4:$D$103,MATCH(SMALL(allGymnasts!$X$4:$X$103,A86),allGymnasts!$X$4:$X$103,0))),\"\")","v":""},{"$f":"IFERROR(IF(allGymnasts!B86=\"\",\"\",INDEX(allGymnasts!$T$4:$T$103,MATCH(SMALL(allGymnasts!$X$4:$X$103,A86),allGymnasts!$X$4:$X$103,0))),\"\")","v":""},{"$f":"IFERROR(IF(allGymnasts!B86=\"\",\"\",INDEX(allGymnasts!$U$4:$U$103,MATCH(SMALL(allGymnasts!$X$4:$X$103,A86),allGymnasts!$X$4:$X$103,0))),\"\")","v":""},{"$f":"IFERROR(IF(allGymnasts!B86=\"\",\"\",INDEX(allGymnasts!$V$4:$V$103,MATCH(SMALL(allGymnasts!$X$4:$X$103,A86),allGymnasts!$X$4:$X$103,0))),\"\")","v":""},{"$f":"IFERROR(IF(allGymnasts!B86=\"\",\"\",INDEX(allGymnasts!$W$4:$W$103,MATCH(SMALL(allGymnasts!$X$4:$X$103,A86),allGymnasts!$X$4:$X$103,0))),\"\")","v":""}]
[84,{"$f":"IFERROR(_xlfn.FLOOR.MATH(IF(allGymnasts!A87=\"\",\"\",INDEX(allGymnasts!$X$4:$X$103,MATCH(SMALL(allGymnasts!$X$4:$X$103,A87),allGymnasts!$X$4:$X$103,0)))),\"\")","v":""},{"$f":"IFERROR(IF(allGymnasts!A87=\"\",\"\",INDEX(allGymnasts!$A$4:$A$103,MATCH(SMALL(allGymnasts!$X$4:$X$103,A87),allGymnasts!$X$4:$X$103,0))),\"\")","v":""},{"$f":"IFERROR(IF(allGymnasts!B87=\"\",\"\",INDEX(allGymnasts!$B$4:$B$103,MATCH(SMALL(allGymnasts!$X$4:$X$103,A87),allGymnasts!$X$4:$X$103,0))),\"\")","v":""},{"$f":"IFERROR(IF(allGymnasts!C87=\"\",\"\",INDEX(allGymnasts!$C$4:$C$103,MATCH(SMALL(allGymnasts!$X$4:$X$103,A87),allGymnasts!$X$4:$X$103,0))),\"\")","v":""},{"$f":"IFERROR(IF(allGymnasts!D87=\"\",\"\",INDEX(allGymnasts!$D$4:$D$103,MATCH(SMALL(allGymnasts!$X$4:$X$103,A87),allGymnasts!$X$4:$X$103,0))),\"\")","v":""},{"$f":"IFERROR(IF(allGymnasts!B87=\"\",\"\",INDEX(allGymnasts!$T$4:$T$103,MATCH(SMALL(allGymnasts!$X$4:$X$103,A87),allGymnasts!$X$4:$X$103,0))),\"\")","v":""},{"$f":"IFERROR(IF(allGymnasts!B87=\"\",\"\",INDEX(allGymnasts!$U$4:$U$103,MATCH(SMALL(allGymnasts!$X$4:$X$103,A87),allGymnasts!$X$4:$X$103,0))),\"\")","v":""},{"$f":"IFERROR(IF(allGymnasts!B87=\"\",\"\",INDEX(allGymnasts!$V$4:$V$103,MATCH(SMALL(allGymnasts!$X$4:$X$103,A87),allGymnasts!$X$4:$X$103,0))),\"\")","v":""},{"$f":"IFERROR(IF(allGymnasts!B87=\"\",\"\",INDEX(allGymnasts!$W$4:$W$103,MATCH(SMALL(allGymnasts!$X$4:$X$103,A87),allGymnasts!$X$4:$X$103,0))),\"\")","v":""}]
[85,{"$f":"IFERROR(_xlfn.FLOOR.MATH(IF(allGymnasts!A88=\"\",\"\",INDEX(allGymnasts!$X$4:$X$103,MATCH(SMALL(allGymnasts!$X$4:$X$103,A88),allGymnasts!$X$4:$X$103,0)))),\"\")","v":""},{"$f":"IFERROR(IF(allGymnasts!A88=\"\",\"\",INDEX(allGymnasts!$A$4:$A$103,MATCH(SMALL(allGymnasts!$X$4:$X$103,A88),allGymnasts!$X$4:$X$103,0))),\"\")","v":""},{"$f":"IFERROR(IF(allGymnasts!B88=\"\",\"\",INDEX(allGymnasts!$B$4:$B$103,MATCH(SMALL(allGymnasts!$X$4:$X$103,A88),allGymnasts!$X$4:$X$103,0))),\"\")","v":""},{"$f":"IFERROR(IF(allGymnasts!C88=\"\",\"\",INDEX(allGymnasts!$C$4:$C$103,MATCH(SMALL(allGymnasts!$X$4:$X$103,A88),allGymnasts!$X$4:$X$103,0))),\"\")","v":""},{"$f":"IFERROR(IF(allGymnasts!D88=\"\",\"\",INDEX(allGymnasts!$D$4:$D$103,MATCH(SMALL(allGymnasts!$X$4:$X$103,A88),allGymnasts!$X$4:$X$103,0))),\"\")","v":""},{"$f":"IFERROR(IF(allGymnasts!B88=\"\",\"\",INDEX(allGymnasts!$T$4:$T$103,MATCH(SMALL(allGymnasts!$X$4:$X$103,A88),allGymnasts!$X$4:$X$103,0))),\"\")","v":""},{"$f":"IFERROR(IF(allGymnasts!B88=\"\",\"\",INDEX(allGymnasts!$U$4:$U$103,MATCH(SMALL(allGymnasts!$X$4:$X$103,A88),allGymnasts!$X$4:$X$103,0))),\"\")","v":""},{"$f":"IFERROR(IF(allGymnasts!B88=\"\",\"\",INDEX(allGymnasts!$V$4:$V$103,MATCH(SMALL(allGymnasts!$X$4:$X$103,A88),allGymnasts!$X$4:$X$103,0))),\"\")","v":""},{"$f":"IFERROR(IF(allGymnasts!B88=\"\",\"\",INDEX(allGymnasts!$W$4:$W$103,MATCH(SMALL(allGymnasts!$X$4:$X$103,A88),allGymnasts!$X$4:$X$103,0))),\"\")","v":""}]
[86,{"$f":"IFERROR(_xlfn.FLOOR.MATH(IF(allGymnasts!A89=\"\",\"\",INDEX(allGymnasts!$X$4:$X$103,MATCH(SMALL(allGymnasts!$X$4:$X$103,A89),allGymnasts!$X$4:$X$103,0)))),\"\")","v":""},{"$f":"IFERROR(IF(allGymnasts!A89=\"\",\"\",INDEX(allGymnasts!$A$4:$A$103,MATCH(SMALL(allGymnasts!$X$4:$X$103,A89),allGymnasts!$X$4:$X$103,0))),\"\")","v":""},{"$f":"IFERROR(IF(allGymnasts!B89=\"\",\"\",INDEX(allGymnasts!$B$4:$B$103,MATCH(SMALL(allGymnasts!$X$4:$X$103,A89),allGymnasts!$X$4:$X$103,0))),\"\")","v":""},{"$f":"IFERROR(IF(allGymnasts!C89=\"\",\"\",INDEX(allGymnasts!$C$4:$C$103,MATCH(SMALL(allGymnasts!$X$4:$X$103,A89),allGymnasts!$X$4:$X$103,0))),\"\")","v":""},{"$f":"IFERROR(IF(allGymnasts!D89=\"\",\"\",INDEX(allGymnasts!$D$4:$D$103,MATCH(SMALL(allGymnasts!$X$4:$X$103,A89),allGymnasts!$X$4:$X$103,0))),\"\")","v":""},{"$f":"IFERROR(IF(allGymnasts!B89=\"\",\"\",INDEX(allGymnasts!$T$4:$T$103,MATCH(SMALL(allGymnasts!$X$4:$X$103,A89),allGymnasts!$X$4:$X$103,0))),\"\")","v":""},{"$f":"IFERROR(IF(allGymnasts!B89=\"\",\"\",INDEX(allGymnasts!$U$4:$U$103,MATCH(SMALL(allGymnasts!$X$4:$X$103,A89),allGymnasts!$X$4:$X$103,0))),\"\")","v":""},{"$f":"IFERROR(IF(allGymnasts!B89=\"\",\"\",INDEX(allGymnasts!$V$4:$V$103,MATCH(SMALL(allGymnasts!$X$4:$X$103,A89),allGymnasts!$X$4:$X$103,0))),\"\")","v":""},{"$f":"IFERROR(IF(allGymnasts!B89=\"\",\"\",INDEX(allGymnasts!$W$4:$W$103,MATCH(SMALL(allGymnasts!$X$4:$X$103,A89),allGymnasts!$X$4:$X$103,0))),\"\")","v":""}]
[87,{"$f":"IFERROR(_xlfn.FLOOR.MATH(IF(allGymnasts!A90=\"\",\"\",INDEX(allGymnasts!$X$4:$X$103,MATCH(SMALL(allGymnasts!$X$4:$X$103,A90),allGymnasts!$X$4:$X$103,0)))),\"\")","v":""},{"$f":"IFERROR(IF(allGymnasts!A90=\"\",\"\",INDEX(allGymnasts!$A$4:$A$103,MATCH(SMALL(allGymnasts!$X$4:$X$103,A90),allGymnasts!$X$4:$X$103,0))),\"\")","v":""},{"$f":"IFERROR(IF(allGymnasts!B90=\"\",\"\",INDEX(allGymnasts!$B$4:$B$103,MATCH(SMALL(allGymnasts!$X$4:$X$103,A90),allGymnasts!$X$4:$X$103,0))),\"\")","v":""},{"$f":"IFERROR(IF(allGymnasts!C90=\"\",\"\",INDEX(allGymnasts!$C$4:$C$103,MATCH(SMALL(allGymnasts!$X$4:$X$103,A90),allGymnasts!$X$4:$X$103,0))),\"\")","v":""},{"$f":"IFERROR(IF(allGymnasts!D90=\"\",\"\",INDEX(allGymnasts!$D$4:$D$103,MATCH(SMALL(allGymnasts!$X$4:$X$103,A90),allGymnasts!$X$4:$X$103,0))),\"\")","v":""},{"$f":"IFERROR(IF(allGymnasts!B90=\"\",\"\",INDEX(allGymnasts!$T$4:$T$103,MATCH(SMALL(allGymnasts!$X$4:$X$103,A90),allGymnasts!$X$4:$X$103,0))),\"\")","v":""},{"$f":"IFERROR(IF(allGymnasts!B90=\"\",\"\",INDEX(allGymnasts!$U$4:$U$103,MATCH(SMALL(allGymnasts!$X$4:$X$103,A90),allGymnasts!$X$4:$X$103,0))),\"\")","v":""},{"$f":"IFERROR(IF(allGymnasts!B90=\"\",\"\",INDEX(allGymnasts!$V$4:$V$103,MATCH(SMALL(allGymnasts!$X$4:$X$103,A90),allGymnasts!$X$4:$X$103,0))),\"\")","v":""},{"$f":"IFERROR(IF(allGymnasts!B90=\"\",\"\",INDEX(allGymnasts!$W$4:$W$103,MATCH(SMALL(allGymnasts!$X$4:$X$103,A90),allGymnasts!$X$4:$X$103,0))),\"\")","v":""}]
[88,{"$f":"IFERROR(_xlfn.FLOOR.MATH(IF(allGymnasts!A91=\"\",\"\",INDEX(allGymnasts!$X$4:$X$103,MATCH(SMALL(allGymnasts!$X$4:$X$103,A91),allGymnasts!$X$4:$X$103,0)))),\"\")","v":""},{"$f":"IFERROR(IF(allGymnasts!A91=\"\",\"\",INDEX(allGymnasts!$A$4:$A$103,MATCH(SMALL(allGymnasts!$X$4:$X$103,A91),allGymnasts!$X$4:$X$103,0))),\"\")","v":""},{"$f":"IFERROR(IF(allGymnasts!B91=\"\",\"\",INDEX(allGymnasts!$B$4:$B$103,MATCH(SMALL(allGymnasts!$X$4:$X$103,A91),allGymnasts!$X$4:$X$103,0))),\"\")","v":""},{"$f":"IFERROR(IF(allGymnasts!C91=\"\",\"\",INDEX(allGymnasts!$C$4:$C$103,MATCH(SMALL(allGymnasts!$X$4:$X$103,A91),allGymnasts!$X$4:$X$103,0))),\"\")","v":""},{"$f":"IFERROR(IF(allGymnasts!D91=\"\",\"\",INDEX(allGymnasts!$D$4:$D$103,MATCH(SMALL(allGymnasts!$X$4:$X$103,A91),allGymnasts!$X$4:$X$103,0))),\"\")","v":""},{"$f":"IFERROR(IF(allGymnasts!B91=\"\",\"\",INDEX(allGymnasts!$T$4:$T$103,MATCH(SMALL(allGymnasts!$X$4:$X$103,A91),allGymnasts!$X$4:$X$103,0))),\"\")","v":""},{"$f":"IFERROR(IF(allGymnasts!B91=\"\",\"\",INDEX(allGymnasts!$U$4:$U$103,MATCH(SMALL(allGymnasts!$X$4:$X$103,A91),allGymnasts!$X$4:$X$103,0))),\"\")","v":""},{"$f":"IFERROR(IF(allGymnasts!B91=\"\",\"\",INDEX(allGymnasts!$V$4:$V$103,MATCH(SMALL(allGymnasts!$X$4:$X$103,A91),allGymnasts!$X$4:$X$103,0))),\"\")","v":""},{"$f":"IFERROR(IF(allGymnasts!B91=\"\",\"\",INDEX(allGymnasts!$W$4:$W$103,MATCH(SMALL(allGymnasts!$X$4:$X$103,A91),allGymnasts!$X$4:$X$103,0))),\"\")","v":""}]
[89,{"$f":"IFERROR(_xlfn.FLOOR.MATH(IF(allGymnasts!A92=\"\",\"\",INDEX(allGymnasts!$X$4:$X$103,MATCH(SMALL(allGymnasts!$X$4:$X$103,A92),allGymnasts!$X$4:$X$103,0)))),\"\")","v":""},{"$f":"IFERROR(IF(allGymnasts!A92=\"\",\"\",INDEX(allGymnasts!$A$4:$A$103,MATCH(SMALL(allGymnasts!$X$4:$X$103,A92),allGymnasts!$X$4:$X$103,0))),\"\")","v":""},{"$f":"IFERROR(IF(allGymnasts!B92=\"\",\"\",INDEX(allGymnasts!$B$4:$B$103,MATCH(SMALL(allGymnasts!$X$4:$X$103,A92),allGymnasts!$X$4:$X$103,0))),\"\")","v":""},{"$f":"IFERROR(IF(allGymnasts!C92=\"\",\"\",INDEX(allGymnasts!$C$4:$C$103,MATCH(SMALL(allGymnasts!$X$4:$X$103,A92),allGymnasts!$X$4:$X$103,0))),\"\")","v":""},{"$f":"IFERROR(IF(allGymnasts!D92=\"\",\"\",INDEX(allGymnasts!$D$4:$D$103,MATCH(SMALL(allGymnasts!$X$4:$X$103,A92),allGymnasts!$X$4:$X$103,0))),\"\")","v":""},{"$f":"IFERROR(IF(allGymnasts!B92=\"\",\"\",INDEX(allGymnasts!$T$4:$T$103,MATCH(SMALL(allGymnasts!$X$4:$X$103,A92),allGymnasts!$X$4:$X$103,0))),\"\")","v":""},{"$f":"IFERROR(IF(allGymnasts!B92=\"\",\"\",INDEX(allGymnasts!$U$4:$U$103,MATCH(SMALL(allGymnasts!$X$4:$X$103,A92),allGymnasts!$X$4:$X$103,0))),\"\")","v":""},{"$f":"IFERROR(IF(allGymnasts!B92=\"\",\"\",INDEX(allGymnasts!$V$4:$V$103,MATCH(SMALL(allGymnasts!$X$4:$X$103,A92),allGymnasts!$X$4:$X$103,0))),\"\")","v":""},{"$f":"IFERROR(IF(allGymnasts!B92=\"\",\"\",INDEX(allGymnasts!$W$4:$W$103,MATCH(SMALL(allGymnasts!$X$4:$X$103,A92),allGymnasts!$X$4:$X$103,0))),\"\")","v":""}]
[90,{"$f":"IFERROR(_xlfn.FLOOR.MATH(IF(allGymnasts!A93=\"\",\"\",INDEX(allGymnasts!$X$4:$X$103,MATCH(SMALL(allGymnasts!$X$4:$X$103,A93),allGymnasts!$X$4:$X$103,0)))),\"\")","v":""},{"$f":"IFERROR(IF(allGymnasts!A93=\"\",\"\",INDEX(allGymnasts!$A$4:$A$103,MATCH(SMALL(allGymnasts!$X$4:$X$103,A93),allGymnasts!$X$4:$X$103,0))),\"\")","v":""},{"$f":"IFERROR(IF(allGymnasts!B93=\"\",\"\",INDEX(allGymnasts!$B$4:$B$103,MATCH(SMALL(allGymnasts!$X$4:$X$103,A93),allGymnasts!$X$4:$X$103,0))),\"\")","v":""},{"$f":"IFERROR(IF(allGymnasts!C93=\"\",\"\",INDEX(allGymnasts!$C$4:$C$103,MATCH(SMALL(allGymnasts!$X$4:$X$103,A93),allGymnasts!$X$4:$X$103,0))),\"\")","v":""},{"$f":"IFERROR(IF(allGymnasts!D93=\"\",\"\",INDEX(allGymnasts!$D$4:$D$103,MATCH(SMALL(allGymnasts!$X$4:$X$103,A93),allGymnasts!$X$4:$X$103,0))),\"\")","v":""},{"$f":"IFERROR(IF(allGymnasts!B93=\"\",\"\",INDEX(allGymnasts!$T$4:$T$103,MATCH(SMALL(allGymnasts!$X$4:$X$103,A93),allGymnasts!$X$4:$X$103,0))),\"\")","v":""},{"$f":"IFERROR(IF(allGymnasts!B93=\"\",\"\",INDEX(allGymnasts!$U$4:$U$103,MATCH(SMALL(allGymnasts!$X$4:$X$103,A93),allGymnasts!$X$4:$X$103,0))),\"\")","v":""},{"$f":"IFERROR(IF(allGymnasts!B93=\"\",\"\",INDEX(allGymnasts!$V$4:$V$103,MATCH(SMALL(allGymnasts!$X$4:$X$103,A93),allGymnasts!$X$4:$X$103,0))),\"\")","v":""},{"$f":"IFERROR(IF(allGymnasts!B93=\"\",\"\",INDEX(allGymnasts!$W$4:$W$103,MATCH(SMALL(allGymnasts!$X$4:$X$103,A93),allGymnasts!$X$4:$X$103,0))),\"\")","v":""}]
[91,{"$f":"IFERROR(_xlfn.FLOOR.MATH(IF(allGymnasts!A94=\"\",\"\",INDEX(allGymnasts!$X$4:$X$103,MATCH(SMALL(allGymnasts!$X$4:$X$103,A94),allGymnasts!$X$4:$X$103,0)))),\"\")","v":""},{"$f":"IFERROR(IF(allGymnasts!A94=\"\",\"\",INDEX(allGymnasts!$A$4:$A$103,MATCH(SMALL(allGymnasts!$X$4:$X$103,A94),allGymnasts!$X$4:$X$103,0))),\"\")","v":""},{"$f":"IFERROR(IF(allGymnasts!B94=\"\",\"\",INDEX(allGymnasts!$B$4:$B$103,MATCH(SMALL(allGymnasts!$X$4:$X$103,A94),allGymnasts!$X$4:$X$103,0))),\"\")","v":""},{"$f":"IFERROR(IF(allGymnasts!C94=\"\",\"\",INDEX(allGymnasts!$C$4:$C$103,MATCH(SMALL(allGymnasts!$X$4:$X$103,A94),allGymnasts!$X$4:$X$103,0))),\"\")","v":""},{"$f":"IFERROR(IF(allGymnasts!D94=\"\",\"\",INDEX(allGymnasts!$D$4:$D$103,MATCH(SMALL(allGymnasts!$X$4:$X$103,A94),allGymnasts!$X$4:$X$103,0))),\"\")","v":""},{"$f":"IFERROR(IF(allGymnasts!B94=\"\",\"\",INDEX(allGymnasts!$T$4:$T$103,MATCH(SMALL(allGymnasts!$X$4:$X$103,A94),allGymnasts!$X$4:$X$103,0))),\"\")","v":""},{"$f":"IFERROR(IF(allGymnasts!B94=\"\",\"\",INDEX(allGymnasts!$U$4:$U$103,MATCH(SMALL(allGymnasts!$X$4:$X$103,A94),allGymnasts!$X$4:$X$103,0))),\"\")","v":""},{"$f":"IFERROR(IF(allGymnasts!B94=\"\",\"\",INDEX(allGymnasts!$V$4:$V$103,MATCH(SMALL(allGymnasts!$X$4:$X$103,A94),allGymnasts!$X$4:$X$103,0))),\"\")","v":""},{"$f":"IFERROR(IF(allGymnasts!B94=\"\",\"\",INDEX(allGymnasts!$W$4:$W$103,MATCH(SMALL(allGymnasts!$X$4:$X$103,A94),allGymnasts!$X$4:$X$103,0))),\"\")","v":""}]
[92,{"$f":"IFERROR(_xlfn.FLOOR.MATH(IF(allGymnasts!A95=\"\",\"\",INDEX(allGymnasts!$X$4:$X$103,MATCH(SMALL(allGymnasts!$X$4:$X$103,A95),allGymnasts!$X$4:$X$103,0)))),\"\")","v":""},{"$f":"IFERROR(IF(allGymnasts!A95=\"\",\"\",INDEX(allGymnasts!$A$4:$A$103,MATCH(SMALL(allGymnasts!$X$4:$X$103,A95),allGymnasts!$X$4:$X$103,0))),\"\")","v":""},{"$f":"IFERROR(IF(allGymnasts!B95=\"\",\"\",INDEX(allGymnasts!$B$4:$B$103,MATCH(SMALL(allGymnasts!$X$4:$X$103,A95),allGymnasts!$X$4:$X$103,0))),\"\")","v":""},{"$f":"IFERROR(IF(allGymnasts!C95=\"\",\"\",INDEX(allGymnasts!$C$4:$C$103,MATCH(SMALL(allGymnasts!$X$4:$X$103,A95),allGymnasts!$X$4:$X$103,0))),\"\")","v":""},{"$f":"IFERROR(IF(allGymnasts!D95=\"\",\"\",INDEX(allGymnasts!$D$4:$D$103,MATCH(SMALL(allGymnasts!$X$4:$X$103,A95),allGymnasts!$X$4:$X$103,0))),\"\")","v":""},{"$f":"IFERROR(IF(allGymnasts!B95=\"\",\"\",INDEX(allGymnasts!$T$4:$T$103,MATCH(SMALL(allGymnasts!$X$4:$X$103,A95),allGymnasts!$X$4:$X$103,0))),\"\")","v":""},{"$f":"IFERROR(IF(allGymnasts!B95=\"\",\"\",INDEX(allGymnasts!$U$4:$U$103,MATCH(SMALL(allGymnasts!$X$4:$X$103,A95),allGymnasts!$X$4:$X$103,0))),\"\")","v":""},{"$f":"IFERROR(IF(allGymnasts!B95=\"\",\"\",INDEX(allGymnasts!$V$4:$V$103,MATCH(SMALL(allGymnasts!$X$4:$X$103,A95),allGymnasts!$X$4:$X$103,0))),\"\")","v":""},{"$f":"IFERROR(IF(allGymnasts!B95=\"\",\"\",INDEX(allGymnasts!$W$4:$W$103,MATCH(SMALL(allGymnasts!$X$4:$X$103,A95),allGymnasts!$X$4:$X$103,0))),\"\")","v":""}]
[93,{"$f":"IFERROR(_xlfn.FLOOR.MATH(IF(allGymnasts!A96=\"\",\"\",INDEX(allGymnasts!$X$4:$X$103,MATCH(SMALL(allGymnasts!$X$4:$X$103,A96),allGymnasts!$X$4:$X$103,0)))),\"\")","v":""},{"$f":"IFERROR(IF(allGymnasts!A96=\"\",\"\",INDEX(allGymnasts!$A$4:$A$103,MATCH(SMALL(allGymnasts!$X$4:$X$103,A96),allGymnasts!$X$4:$X$103,0))),\"\")","v":""},{"$f":"IFERROR(IF(allGymnasts!B96=\"\",\"\",INDEX(allGymnasts!$B$4:$B$103,MATCH(SMALL(allGymnasts!$X$4:$X$103,A96),allGymnasts!$X$4:$X$103,0))),\"\")","v":""},{"$f":"IFERROR(IF(allGymnasts!C96=\"\",\"\",INDEX(allGymnasts!$C$4:$C$103,MATCH(SMALL(allGymnasts!$X$4:$X$103,A96),allGymnasts!$X$4:$X$103,0))),\"\")","v":""},{"$f":"IFERROR(IF(allGymnasts!D96=\"\",\"\",INDEX(allGymnasts!$D$4:$D$103,MATCH(SMALL(allGymnasts!$X$4:$X$103,A96),allGymnasts!$X$4:$X$103,0))),\"\")","v":""},{"$f":"IFERROR(IF(allGymnasts!B96=\"\",\"\",INDEX(allGymnasts!$T$4:$T$103,MATCH(SMALL(allGymnasts!$X$4:$X$103,A96),allGymnasts!$X$4:$X$103,0))),\"\")","v":""},{"$f":"IFERROR(IF(allGymnasts!B96=\"\",\"\",INDEX(allGymnasts!$U$4:$U$103,MATCH(SMALL(allGymnasts!$X$4:$X$103,A96),allGymnasts!$X$4:$X$103,0))),\"\")","v":""},{"$f":"IFERROR(IF(allGymnasts!B96=\"\",\"\",INDEX(allGymnasts!$V$4:$V$103,MATCH(SMALL(allGymnasts!$X$4:$X$103,A96),allGymnasts!$X$4:$X$103,0))),\"\")","v":""},{"$f":"IFERROR(IF(allGymnasts!B96=\"\",\"\",INDEX(allGymnasts!$W$4:$W$103,MATCH(SMALL(allGymnasts!$X$4:$X$103,A96),allGymnasts!$X$4:$X$103,0))),\"\")","v":""}]
[94,{"$f":"IFERROR(_xlfn.FLOOR.MATH(IF(allGymnasts!A97=\"\",\"\",INDEX(allGymnasts!$X$4:$X$103,MATCH(SMALL(allGymnasts!$X$4:$X$103,A97),allGymnasts!$X$4:$X$103,0)))),\"\")","v":""},{"$f":"IFERROR(IF(allGymnasts!A97=\"\",\"\",INDEX(allGymnasts!$A$4:$A$103,MATCH(SMALL(allGymnasts!$X$4:$X$103,A97),allGymnasts!$X$4:$X$103,0))),\"\")","v":""},{"$f":"IFERROR(IF(allGymnasts!B97=\"\",\"\",INDEX(allGymnasts!$B$4:$B$103,MATCH(SMALL(allGymnasts!$X$4:$X$103,A97),allGymnasts!$X$4:$X$103,0))),\"\")","v":""},{"$f":"IFERROR(IF(allGymnasts!C97=\"\",\"\",INDEX(allGymnasts!$C$4:$C$103,MATCH(SMALL(allGymnasts!$X$4:$X$103,A97),allGymnasts!$X$4:$X$103,0))),\"\")","v":""},{"$f":"IFERROR(IF(allGymnasts!D97=\"\",\"\",INDEX(allGymnasts!$D$4:$D$103,MATCH(SMALL(allGymnasts!$X$4:$X$103,A97),allGymnasts!$X$4:$X$103,0))),\"\")","v":""},{"$f":"IFERROR(IF(allGymnasts!B97=\"\",\"\",INDEX(allGymnasts!$T$4:$T$103,MATCH(SMALL(allGymnasts!$X$4:$X$103,A97),allGymnasts!$X$4:$X$103,0))),\"\")","v":""},{"$f":"IFERROR(IF(allGymnasts!B97=\"\",\"\",INDEX(allGymnasts!$U$4:$U$103,MATCH(SMALL(allGymnasts!$X$4:$X$103,A97),allGymnasts!$X$4:$X$103,0))),\"\")","v":""},{"$f":"IFERROR(IF(allGymnasts!B97=\"\",\"\",INDEX(allGymnasts!$V$4:$V$103,MATCH(SMALL(allGymnasts!$X$4:$X$103,A97),allGymnasts!$X$4:$X$103,0))),\"\")","v":""},{"$f":"IFERROR(IF(allGymnasts!B97=\"\",\"\",INDEX(allGymnasts!$W$4:$W$103,MATCH(SMALL(allGymnasts!$X$4:$X$103,A97),allGymnasts!$X$4:$X$103,0))),\"\")","v":""}]
[95,{"$f":"IFERROR(_xlfn.FLOOR.MATH(IF(allGymnasts!A98=\"\",\"\",INDEX(allGymnasts!$X$4:$X$103,MATCH(SMALL(allGymnasts!$X$4:$X$103,A98),allGymnasts!$X$4:$X$103,0)))),\"\")","v":""},{"$f":"IFERROR(IF(allGymnasts!A98=\"\",\"\",INDEX(allGymnasts!$A$4:$A$103,MATCH(SMALL(allGymnasts!$X$4:$X$103,A98),allGymnasts!$X$4:$X$103,0))),\"\")","v":""},{"$f":"IFERROR(IF(allGymnasts!B98=\"\",\"\",INDEX(allGymnasts!$B$4:$B$103,MATCH(SMALL(allGymnasts!$X$4:$X$103,A98),allGymnasts!$X$4:$X$103,0))),\"\")","v":""},{"$f":"IFERROR(IF(allGymnasts!C98=\"\",\"\",INDEX(allGymnasts!$C$4:$C$103,MATCH(SMALL(allGymnasts!$X$4:$X$103,A98),allGymnasts!$X$4:$X$103,0))),\"\")","v":""},{"$f":"IFERROR(IF(allGymnasts!D98=\"\",\"\",INDEX(allGymnasts!$D$4:$D$103,MATCH(SMALL(allGymnasts!$X$4:$X$103,A98),allGymnasts!$X$4:$X$103,0))),\"\")","v":""},{"$f":"IFERROR(IF(allGymnasts!B98=\"\",\"\",INDEX(allGymnasts!$T$4:$T$103,MATCH(SMALL(allGymnasts!$X$4:$X$103,A98),allGymnasts!$X$4:$X$103,0))),\"\")","v":""},{"$f":"IFERROR(IF(allGymnasts!B98=\"\",\"\",INDEX(allGymnasts!$U$4:$U$103,MATCH(SMALL(allGymnasts!$X$4:$X$103,A98),allGymnasts!$X$4:$X$103,0))),\"\")","v":""},{"$f":"IFERROR(IF(allGymnasts!B98=\"\",\"\",INDEX(allGymnasts!$V$4:$V$103,MATCH(SMALL(allGymnasts!$X$4:$X$103,A98),allGymnasts!$X$4:$X$103,0))),\"\")","v":""},{"$f":"IFERROR(IF(allGymnasts!B98=\"\",\"\",INDEX(allGymnasts!$W$4:$W$103,MATCH(SMALL(allGymnasts!$X$4:$X$103,A98),allGymnasts!$X$4:$X$103,0))),\"\")","v":""}]
[96,{"$f":"IFERROR(_xlfn.FLOOR.MATH(IF(allGymnasts!A99=\"\",\"\",INDEX(allGymnasts!$X$4:$X$103,MATCH(SMALL(allGymnasts!$X$4:$X$103,A99),allGymnasts!$X$4:$X$103,0)))),\"\")","v":""},{"$f":"IFERROR(IF(allGymnasts!A99=\"\",\"\",INDEX(allGymnasts!$A$4:$A$103,MATCH(SMALL(allGymnasts!$X$4:$X$103,A99),allGymnasts!$X$4:$X$103,0))),\"\")","v":""},{"$f":"IFERROR(IF(allGymnasts!B99=\"\",\"\",INDEX(allGymnasts!$B$4:$B$103,MATCH(SMALL(allGymnasts!$X$4:$X$103,A99),allGymnasts!$X$4:$X$103,0))),\"\")","v":""},{"$f":"IFERROR(IF(allGymnasts!C99=\"\",\"\",INDEX(allGymnasts!$C$4:$C$103,MATCH(SMALL(allGymnasts!$X$4:$X$103,A99),allGymnasts!$X$4:$X$103,0))),\"\")","v":""},{"$f":"IFERROR(IF(allGymnasts!D99=\"\",\"\",INDEX(allGymnasts!$D$4:$D$103,MATCH(SMALL(allGymnasts!$X$4:$X$103,A99),allGymnasts!$X$4:$X$103,0))),\"\")","v":""},{"$f":"IFERROR(IF(allGymnasts!B99=\"\",\"\",INDEX(allGymnasts!$T$4:$T$103,MATCH(SMALL(allGymnasts!$X$4:$X$103,A99),allGymnasts!$X$4:$X$103,0))),\"\")","v":""},{"$f":"IFERROR(IF(allGymnasts!B99=\"\",\"\",INDEX(allGymnasts!$U$4:$U$103,MATCH(SMALL(allGymnasts!$X$4:$X$103,A99),allGymnasts!$X$4:$X$103,0))),\"\")","v":""},{"$f":"IFERROR(IF(allGymnasts!B99=\"\",\"\",INDEX(allGymnasts!$V$4:$V$103,MATCH(SMALL(allGymnasts!$X$4:$X$103,A99),allGymnasts!$X$4:$X$103,0))),\"\")","v":""},{"$f":"IFERROR(IF(allGymnasts!B99=\"\",\"\",INDEX(allGymnasts!$W$4:$W$103,MATCH(SMALL(allGymnasts!$X$4:$X$103,A99),allGymnasts!$X$4:$X$103,0))),\"\")","v":""}]
[97,{"$f":"IFERROR(_xlfn.FLOOR.MATH(IF(allGymnasts!A100=\"\",\"\",INDEX(allGymnasts!$X$4:$X$103,MATCH(SMALL(allGymnasts!$X$4:$X$103,A100),allGymnasts!$X$4:$X$103,0)))),\"\")","v":""},{"$f":"IFERROR(IF(allGymnasts!A100=\"\",\"\",INDEX(allGymnasts!$A$4:$A$103,MATCH(SMALL(allGymnasts!$X$4:$X$103,A100),allGymnasts!$X$4:$X$103,0))),\"\")","v":""},{"$f":"IFERROR(IF(allGymnasts!B100=\"\",\"\",INDEX(allGymnasts!$B$4:$B$103,MATCH(SMALL(allGymnasts!$X$4:$X$103,A100),allGymnasts!$X$4:$X$103,0))),\"\")","v":""},{"$f":"IFERROR(IF(allGymnasts!C100=\"\",\"\",INDEX(allGymnasts!$C$4:$C$103,MATCH(SMALL(allGymnasts!$X$4:$X$103,A100),allGymnasts!$X$4:$X$103,0))),\"\")","v":""},{"$f":"IFERROR(IF(allGymnasts!D100=\"\",\"\",INDEX(allGymnasts!$D$4:$D$103,MATCH(SMALL(allGymnasts!$X$4:$X$103,A100),allGymnasts!$X$4:$X$103,0))),\"\")","v":""},{"$f":"IFERROR(IF(allGymnasts!B100=\"\",\"\",INDEX(allGymnasts!$T$4:$T$103,MATCH(SMALL(allGymnasts!$X$4:$X$103,A100),allGymnasts!$X$4:$X$103,0))),\"\")","v":""},{"$f":"IFERROR(IF(allGymnasts!B100=\"\",\"\",INDEX(allGymnasts!$U$4:$U$103,MATCH(SMALL(allGymnasts!$X$4:$X$103,A100),allGymnasts!$X$4:$X$103,0))),\"\")","v":""},{"$f":"IFERROR(IF(allGymnasts!B100=\"\",\"\",INDEX(allGymnasts!$V$4:$V$103,MATCH(SMALL(allGymnasts!$X$4:$X$103,A100),allGymnasts!$X$4:$X$103,0))),\"\")","v":""},{"$f":"IFERROR(IF(allGymnasts!B100=\"\",\"\",INDEX(allGymnasts!$W$4:$W$103,MATCH(SMALL(allGymnasts!$X$4:$X$103,A100),allGymnasts!$X$4:$X$103,0))),\"\")","v":""}]
[98,{"$f":"IFERROR(_xlfn.FLOOR.MATH(IF(allGymnasts!A101=\"\",\"\",INDEX(allGymnasts!$X$4:$X$103,MATCH(SMALL(allGymnasts!$X$4:$X$103,A101),allGymnasts!$X$4:$X$103,0)))),\"\")","v":""},{"$f":"IFERROR(IF(allGymnasts!A101=\"\",\"\",INDEX(allGymnasts!$A$4:$A$103,MATCH(SMALL(allGymnasts!$X$4:$X$103,A101),allGymnasts!$X$4:$X$103,0))),\"\")","v":""},{"$f":"IFERROR(IF(allGymnasts!B101=\"\",\"\",INDEX(allGymnasts!$B$4:$B$103,MATCH(SMALL(allGymnasts!$X$4:$X$103,A101),allGymnasts!$X$4:$X$103,0))),\"\")","v":""},{"$f":"IFERROR(IF(allGymnasts!C101=\"\",\"\",INDEX(allGymnasts!$C$4:$C$103,MATCH(SMALL(allGymnasts!$X$4:$X$103,A101),allGymnasts!$X$4:$X$103,0))),\"\")","v":""},{"$f":"IFERROR(IF(allGymnasts!D101=\"\",\"\",INDEX(allGymnasts!$D$4:$D$103,MATCH(SMALL(allGymnasts!$X$4:$X$103,A101),allGymnasts!$X$4:$X$103,0))),\"\")","v":""},{"$f":"IFERROR(IF(allGymnasts!B101=\"\",\"\",INDEX(allGymnasts!$T$4:$T$103,MATCH(SMALL(allGymnasts!$X$4:$X$103,A101),allGymnasts!$X$4:$X$103,0))),\"\")","v":""},{"$f":"IFERROR(IF(allGymnasts!B101=\"\",\"\",INDEX(allGymnasts!$U$4:$U$103,MATCH(SMALL(allGymnasts!$X$4:$X$103,A101),allGymnasts!$X$4:$X$103,0))),\"\")","v":""},{"$f":"IFERROR(IF(allGymnasts!B101=\"\",\"\",INDEX(allGymnasts!$V$4:$V$103,MATCH(SMALL(allGymnasts!$X$4:$X$103,A101),allGymnasts!$X$4:$X$103,0))),\"\")","v":""},{"$f":"IFERROR(IF(allGymnasts!B101=\"\",\"\",INDEX(allGymnasts!$W$4:$W$103,MATCH(SMALL(allGymnasts!$X$4:$X$103,A101),allGymnasts!$X$4:$X$103,0))),\"\")","v":""}]
[99,{"$f":"IFERROR(_xlfn.FLOOR.MATH(IF(allGymnasts!A102=\"\",\"\",INDEX(allGymnasts!$X$4:$X$103,MATCH(SMALL(allGymnasts!$X$4:$X$103,A102),allGymnasts!$X$4:$X$103,0)))),\"\")","v":""},{"$f":"IFERROR(IF(allGymnasts!A102=\"\",\"\",INDEX(allGymnasts!$A$4:$A$103,MATCH(SMALL(allGymnasts!$X$4:$X$103,A102),allGymnasts!$X$4:$X$103,0))),\"\")","v":""},{"$f":"IFERROR(IF(allGymnasts!B102=\"\",\"\",INDEX(allGymnasts!$B$4:$B$103,MATCH(SMALL(allGymnasts!$X$4:$X$103,A102),allGymnasts!$X$4:$X$103,0))),\"\")","v":""},{"$f":"IFERROR(IF(allGymnasts!C102=\"\",\"\",INDEX(allGymnasts!$C$4:$C$103,MATCH(SMALL(allGymnasts!$X$4:$X$103,A102),allGymnasts!$X$4:$X$103,0))),\"\")","v":""},{"$f":"IFERROR(IF(allGymnasts!D102=\"\",\"\",INDEX(allGymnasts!$D$4:$D$103,MATCH(SMALL(allGymnasts!$X$4:$X$103,A102),allGymnasts!$X$4:$X$103,0))),\"\")","v":""},{"$f":"IFERROR(IF(allGymnasts!B102=\"\",\"\",INDEX(allGymnasts!$T$4:$T$103,MATCH(SMALL(allGymnasts!$X$4:$X$103,A102),allGymnasts!$X$4:$X$103,0))),\"\")","v":""},{"$f":"IFERROR(IF(allGymnasts!B102=\"\",\"\",INDEX(allGymnasts!$U$4:$U$103,MATCH(SMALL(allGymnasts!$X$4:$X$103,A102),allGymnasts!$X$4:$X$103,0))),\"\")","v":""},{"$f":"IFERROR(IF(allGymnasts!B102=\"\",\"\",INDEX(allGymnasts!$V$4:$V$103,MATCH(SMALL(allGymnasts!$X$4:$X$103,A102),allGymnasts!$X$4:$X$103,0))),\"\")","v":""},{"$f":"IFERROR(IF(allGymnasts!B102=\"\",\"\",INDEX(allGymnasts!$W$4:$W$103,MATCH(SMALL(allGymnasts!$X$4:$X$103,A102),allGymnasts!$X$4:$X$103,0))),\"\")","v":""}]
[100,{"$f":"IFERROR(_xlfn.FLOOR.MATH(IF(allGymnasts!A103=\"\",\"\",INDEX(allGymnasts!$X$4:$X$103,MATCH(SMALL(allGymnasts!$X$4:$X$103,A103),allGymnasts!$X$4:$X$103,0)))),\"\")","v":""},{"$f":"IFERROR(IF(allGymnasts!A103=\"\",\"\",INDEX(allGymnasts!$A$4:$A$103,MATCH(SMALL(allGymnasts!$X$4:$X$103,A103),allGymnasts!$X$4:$X$103,0))),\"\")","v":""},{"$f":"IFERROR(IF(allGymnasts!B103=\"\",\"\",INDEX(allGymnasts!$B$4:$B$103,MATCH(SMALL(allGymnasts!$X$4:$X$103,A103),allGymnasts!$X$4:$X$103,0))),\"\")","v":""},{"$f":"IFERROR(IF(allGymnasts!C103=\"\",\"\",INDEX(allGymnasts!$C$4:$C$103,MATCH(SMALL(allGymnasts!$X$4:$X$103,A103),allGymnasts!$X$4:$X$103,0))),\"\")","v":""},{"$f":"IFERROR(IF(allGymnasts!D103=\"\",\"\",INDEX(allGymnasts!$D$4:$D$103,MATCH(SMALL(allGymnasts!$X$4:$X$103,A103),allGymnasts!$X$4:$X$103,0))),\"\")","v":""},{"$f":"IFERROR(IF(allGymnasts!B103=\"\",\"\",INDEX(allGymnasts!$T$4:$T$103,MATCH(SMALL(allGymnasts!$X$4:$X$103,A103),allGymnasts!$X$4:$X$103,0))),\"\")","v":""},{"$f":"IFERROR(IF(allGymnasts!B103=\"\",\"\",INDEX(allGymnasts!$U$4:$U$103,MATCH(SMALL(allGymnasts!$X$4:$X$103,A103),allGymnasts!$X$4:$X$103,0))),\"\")","v":""},{"$f":"IFERROR(IF(allGymnasts!B103=\"\",\"\",INDEX(allGymnasts!$V$4:$V$103,MATCH(SMALL(allGymnasts!$X$4:$X$103,A103),allGymnasts!$X$4:$X$103,0))),\"\")","v":""},{"$f":"IFERROR(IF(allGymnasts!B103=\"\",\"\",INDEX(allGymnasts!$W$4:$W$103,MATCH(SMALL(allGymnasts!$X$4:$X$103,A103),allGymnasts!$X$4:$X$103,0))),\"\")","v":""}]

{"sheet":"All-Around","index":6,"n_rows":103,"n_cols":10,"rows_kept":103,"cut":false,"hidden":false,"merged":[[0,1,0,2],[0,6,0,9]]}
[null,"Varsity",null,{"$f":"TODAY()","v":"2024-09-01"},null,null,"All-Around"]
[]
["Rank","Rank","Grade","First","Last","School","Judge 1",null,null,"Score"]
[1,{"$f":"IFERROR(_xlfn.FLOOR.MATH(IF(allGymnasts!A4=\"\",\"\",INDEX(allGymnasts!$Z$4:$Z$103,MATCH(SMALL(allGymnasts!$Z$4:$Z$103,A4),allGymnasts!$Z$4:$Z$103,0)))),\"\")","v":""},{"$f":"IFERROR(IF(allGymnasts!A4=\"\",\"\",INDEX(allGymnasts!$A$4:$A$103,MATCH(SMALL(allGymnasts!$Z$4:$Z$103,A4),allGymnasts!$Z$4:$Z$103,0))),\"\")","v":""},{"$f":"IFERROR(IF(allGymnasts!A4=\"\",\"\",INDEX(allGymnasts!$B$4:$B$103,MATCH(SMALL(allGymnasts!$Z$4:$Z$103,A4),allGymnasts!$Z$4:$Z$103,0))),\"\")","v":""},{"$f":"IFERROR(IF(allGymnasts!A4=\"\",\"\",INDEX(allGymnasts!$C$4:$C$103,MATCH(SMALL(allGymnasts!$Z$4:$Z$103,A4),allGymnasts!$Z$4:$Z$103,0))),\"\")","v":""},{"$f":"IFERROR(IF(allGymnasts!A4=\"\",\"\",INDEX(allGymnasts!$D$4:$D$103,MATCH(SMALL(allGymnasts!$Z$4:$Z$103,A4),allGymnasts!$Z$4:$Z$103,0))),\"\")","v":""},{"$f":"IF(allGymnasts!E4=\"\",\"\",INDEX(allGymnasts!$T$4:$T$33,MATCH(SMALL(allGymnasts!$X$4:$X$33,A4),allGymnasts!$X$4:$X$33,0)))","v":""},null,null,{"$f":"IFERROR(IF(allGymnasts!A4=\"\",\"\",INDEX(allGymnasts!$Y$4:$Y$103,MATCH(SMALL(allGymnasts!$Z$4:$Z$103,A4),allGymnasts!$Z$4:$Z$103,0))),\"\")","v":""}]
[2,{"$f":"IFERROR(_xlfn.FLOOR.MATH(IF(allGymnasts!A5=\"\",\"\",INDEX(allGymnasts!$Z$4:$Z$103,MATCH(SMALL(allGymnasts!$Z$4:$Z$103,A5),allGymnasts!$Z$4:$Z$103,0)))),\"\")","v":""},{"$f":"IFERROR(IF(allGymnasts!A5=\"\",\"\",INDEX(allGymnasts!$A$4:$A$103,MATCH(SMALL(allGymnasts!$Z$4:$Z$103,A5),allGymnasts!$Z$4:$Z$103,0))),\"\")","v":""},{"$f":"IFERROR(IF(allGymnasts!A5=\"\",\"\",INDEX(allGymnasts!$B$4:$B$103,MATCH(SMALL(allGymnasts!$Z$4:$Z$103,A5),allGymnasts!$Z$4:$Z$103,0))),\"\")","v":""},{"$f":"IFERROR(IF(allGymnasts!A5=\"\",\"\",INDEX(allGymnasts!$C$4:$C$103,MATCH(SMALL(allGymnasts!$Z$4:$Z$103,A5),allGymnasts!$Z$4:$Z$103,0))),\"\")","v":""},{"$f":"IFERROR(IF(allGymnasts!A5=\"\",\"\",INDEX(allGymnasts!$D$4:$D$103,MATCH(SMALL(allGymnasts!$Z$4:$Z$103,A5),allGymnasts!$Z$4:$Z$103,0))),\"\")","v":""},{"$f":"IF(allGymnasts!E5=\"\",\"\",INDEX(allGymnasts!$T$4:$T$33,MATCH(SMALL(allGymnasts!$X$4:$X$33,A5),allGymnasts!$X$4:$X$33,0)))","v":""},null,null,{"$f":"IFERROR(IF(allGymnasts!A5=\"\",\"\",INDEX(allGymnasts!$Y$4:$Y$103,MATCH(SMALL(allGymnasts!$Z$4:$Z$103,A5),allGymnasts!$Z$4:$Z$103,0))),\"\")","v":""}]
[3,{"$f":"IFERROR(_xlfn.FLOOR.MATH(IF(allGymnasts!A6=\"\",\"\",INDEX(allGymnasts!$Z$4:$Z$103,MATCH(SMALL(allGymnasts!$Z$4:$Z$103,A6),allGymnasts!$Z$4:$Z$103,0)))),\"\")","v":""},{"$f":"IFERROR(IF(allGymnasts!A6=\"\",\"\",INDEX(allGymnasts!$A$4:$A$103,MATCH(SMALL(allGymnasts!$Z$4:$Z$103,A6),allGymnasts!$Z$4:$Z$103,0))),\"\")","v":""},{"$f":"IFERROR(IF(allGymnasts!A6=\"\",\"\",INDEX(allGymnasts!$B$4:$B$103,MATCH(SMALL(allGymnasts!$Z$4:$Z$103,A6),allGymnasts!$Z$4:$Z$103,0))),\"\")","v":""},{"$f":"IFERROR(IF(allGymnasts!A6=\"\",\"\",INDEX(allGymnasts!$C$4:$C$103,MATCH(SMALL(allGymnasts!$Z$4:$Z$103,A6),allGymnasts!$Z$4:$Z$103,0))),\"\")","v":""},{"$f":"IFERROR(IF(allGymnasts!A6=\"\",\"\",INDEX(allGymnasts!$D$4:$D$103,MATCH(SMALL(allGymnasts!$Z$4:$Z$103,A6),allGymnasts!$Z$4:$Z$103,0))),\"\")","v":""},{"$f":"IF(allGymnasts!E6=\"\",\"\",INDEX(allGymnasts!$T$4:$T$33,MATCH(SMALL(allGymnasts!$X$4:$X$33,A6),allGymnasts!$X$4:$X$33,0)))","v":""},null,null,{"$f":"IFERROR(IF(allGymnasts!A6=\"\",\"\",INDEX(allGymnasts!$Y$4:$Y$103,MATCH(SMALL(allGymnasts!$Z$4:$Z$103,A6),allGymnasts!$Z$4:$Z$103,0))),\"\")","v":""}]
[4,{"$f":"IFERROR(_xlfn.FLOOR.MATH(IF(allGymnasts!A7=\"\",\"\",INDEX(allGymnasts!$Z$4:$Z$103,MATCH(SMALL(allGymnasts!$Z$4:$Z$103,A7),allGymnasts!$Z$4:$Z$103,0)))),\"\")","v":""},{"$f":"IFERROR(IF(allGymnasts!A7=\"\",\"\",INDEX(allGymnasts!$A$4:$A$103,MATCH(SMALL(allGymnasts!$Z$4:$Z$103,A7),allGymnasts!$Z$4:$Z$103,0))),\"\")","v":""},{"$f":"IFERROR(IF(allGymnasts!A7=\"\",\"\",INDEX(allGymnasts!$B$4:$B$103,MATCH(SMALL(allGymnasts!$Z$4:$Z$103,A7),allGymnasts!$Z$4:$Z$103,0))),\"\")","v":""},{"$f":"IFERROR(IF(allGymnasts!A7=\"\",\"\",INDEX(allGymnasts!$C$4:$C$103,MATCH(SMALL(allGymnasts!$Z$4:$Z$103,A7),allGymnasts!$Z$4:$Z$103,0))),\"\")","v":""},{"$f":"IFERROR(IF(allGymnasts!A7=\"\",\"\",INDEX(allGymnasts!$D$4:$D$103,MATCH(SMALL(allGymnasts!$Z$4:$Z$103,A7),allGymnasts!$Z$4:$Z$103,0))),\"\")","v":""},{"$f":"IF(allGymnasts!E7=\"\",\"\",INDEX(allGymnasts!$T$4:$T$33,MATCH(SMALL(allGymnasts!$X$4:$X$33,A7),allGymnasts!$X$4:$X$33,0)))","v":""},null,null,{"$f":"IFERROR(IF(allGymnasts!A7=\"\",\"\",INDEX(allGymnasts!$Y$4:$Y$103,MATCH(SMALL(allGymnasts!$Z$4:$Z$103,A7),allGymnasts!$Z$4:$Z$103,0))),\"\")","v":""}]
[5,{"$f":"IFERROR(_xlfn.FLOOR.MATH(IF(allGymnasts!A8=\"\",\"\",INDEX(allGymnasts!$Z$4:$Z$103,MATCH(SMALL(allGymnasts!$Z$4:$Z$103,A8),allGymnasts!$Z$4:$Z$103,0)))),\"\")","v":""},{"$f":"IFERROR(IF(allGymnasts!A8=\"\",\"\",INDEX(allGymnasts!$A$4:$A$103,MATCH(SMALL(allGymnasts!$Z$4:$Z$103,A8),allGymnasts!$Z$4:$Z$103,0))),\"\")","v":""},{"$f":"IFERROR(IF(allGymnasts!A8=\"\",\"\",INDEX(allGymnasts!$B$4:$B$103,MATCH(SMALL(allGymnasts!$Z$4:$Z$103,A8),allGymnasts!$Z$4:$Z$103,0))),\"\")","v":""},{"$f":"IFERROR(IF(allGymnasts!A8=\"\",\"\",INDEX(allGymnasts!$C$4:$C$103,MATCH(SMALL(allGymnasts!$Z$4:$Z$103,A8),allGymnasts!$Z$4:$Z$103,0))),\"\")","v":""},{"$f":"IFERROR(IF(allGymnasts!A8=\"\",\"\",INDEX(allGymnasts!$D$4:$D$103,MATCH(SMALL(allGymnasts!$Z$4:$Z$103,A8),allGymnasts!$Z$4:$Z$103,0))),\"\")","v":""},{"$f":"IF(allGymnasts!E8=\"\",\"\",INDEX(allGymnasts!$T$4:$T$33,MATCH(SMALL(allGymnasts!$X$4:$X$33,A8),allGymnasts!$X$4:$X$33,0)))","v":""},null,null,{"$f":"IFERROR(IF(allGymnasts!A8=\"\",\"\",INDEX(allGymnasts!$Y$4:$Y$103,MATCH(SMALL(allGymnasts!$Z$4:$Z$103,A8),allGymnasts!$Z$4:$Z$103,0))),\"\")","v":""}]
[6,{"$f":"IFERROR(_xlfn.FLOOR.MATH(IF(allGymnasts!A9=\"\",\"\",INDEX(allGymnasts!$Z$4:$Z$103,MATCH(SMALL(allGymnasts!$Z$4:$Z$103,A9),allGymnasts!$Z$4:$Z$103,0)))),\"\")","v":""},{"$f":"IFERROR(IF(allGymnasts!A9=\"\",\"\",INDEX(allGymnasts!$A$4:$A$103,MATCH(SMALL(allGymnasts!$Z$4:$Z$103,A9),allGymnasts!$Z$4:$Z$103,0))),\"\")","v":""},{"$f":"IFERROR(IF(allGymnasts!A9=\"\",\"\",INDEX(allGymnasts!$B$4:$B$103,MATCH(SMALL(allGymnasts!$Z$4:$Z$103,A9),allGymnasts!$Z$4:$Z$103,0))),\"\")","v":""},{"$f":"IFERROR(IF(allGymnasts!A9=\"\",\"\",INDEX(allGymnasts!$C$4:$C$103,MATCH(SMALL(allGymnasts!$Z$4:$Z$103,A9),allGymnasts!$Z$4:$Z$103,0))),\"\")","v":""},{"$f":"IFERROR(IF(allGymnasts!A9=\"\",\"\",INDEX(allGymnasts!$D$4:$D$103,MATCH(SMALL(allGymnasts!$Z$4:$Z$103,A9),allGymnasts!$Z$4:$Z$103,0))),\"\")","v":""},{"$f":"IF(allGymnasts!E9=\"\",\"\",INDEX(allGymnasts!$T$4:$T$33,MATCH(SMALL(allGymnasts!$X$4:$X$33,A9),allGymnasts!$X$4:$X$33,0)))","v":""},null,null,{"$f":"IFERROR(IF(allGymnasts!A9=\"\",\"\",INDEX(allGymnasts!$Y$4:$Y$103,MATCH(SMALL(allGymnasts!$Z$4:$Z$103,A9),allGymnasts!$Z$4:$Z$103,0))),\"\")","v":""}]
[7,{"$f":"IFERROR(_xlfn.FLOOR.MATH(IF(allGymnasts!A10=\"\",\"\",INDEX(allGymnasts!$Z$4:$Z$103,MATCH(SMALL(allGymnasts!$Z$4:$Z$103,A10),allGymnasts!$Z$4:$Z$103,0)))),\"\")","v":""},{"$f":"IFERROR(IF(allGymnasts!A10=\"\",\"\",INDEX(allGymnasts!$A$4:$A$103,MATCH(SMALL(allGymnasts!$Z$4:$Z$103,A10),allGymnasts!$Z$4:$Z$103,0))),\"\")","v":""},{"$f":"IFERROR(IF(allGymnasts!A10=\"\",\"\",INDEX(allGymnasts!$B$4:$B$103,MATCH(SMALL(allGymnasts!$Z$4:$Z$103,A10),allGymnasts!$Z$4:$Z$103,0))),\"\")","v":""},{"$f":"IFERROR(IF(allGymnasts!A10=\"\",\"\",INDEX(allGymnasts!$C$4:$C$103,MATCH(SMALL(allGymnasts!$Z$4:$Z$103,A10),allGymnasts!$Z$4:$Z$103,0))),\"\")","v":""},{"$f":"IFERROR(IF(allGymnasts!A10=\"\",\"\",INDEX(allGymnasts!$D$4:$D$103,MATCH(SMALL(allGymnasts!$Z$4:$Z$103,A10),allGymnasts!$Z$4:$Z$103,0))),\"\")","v":""},{"$f":"IF(allGymnasts!E10=\"\",\"\",INDEX(allGymnasts!$T$4:$T$33,MATCH(SMALL(allGymnasts!$X$4:$X$33,A10),allGymnasts!$X$4:$X$33,0)))","v":""},null,null,{"$f":"IFERROR(IF(allGymnasts!A10=\"\",\"\",INDEX(allGymnasts!$Y$4:$Y$103,MATCH(SMALL(allGymnasts!$Z$4:$Z$103,A10),allGymnasts!$Z$4:$Z$103,0))),\"\")","v":""}]
[8,{"$f":"IFERROR(_xlfn.FLOOR.MATH(IF(allGymnasts!A11=\"\",\"\",INDEX(allGymnasts!$Z$4:$Z$103,MATCH(SMALL(allGymnasts!$Z$4:$Z$103,A11),allGymnasts!$Z$4:$Z$103,0)))),\"\")","v":""},{"$f":"IFERROR(IF(allGymnasts!A11=\"\",\"\",INDEX(allGymnasts!$A$4:$A$103,MATCH(SMALL(allGymnasts!$Z$4:$Z$103,A11),allGymnasts!$Z$4:$Z$103,0))),\"\")","v":""},{"$f":"IFERROR(IF(allGymnasts!A11=\"\",\"\",INDEX(allGymnasts!$B$4:$B$103,MATCH(SMALL(allGymnasts!$Z$4:$Z$103,A11),allGymnasts!$Z$4:$Z$103,0))),\"\")","v":""},{"$f":"IFERROR(IF(allGymnasts!A11=\"\",\"\",INDEX(allGymnasts!$C$4:$C$103,MATCH(SMALL(allGymnasts!$Z$4:$Z$103,A11),allGymnasts!$Z$4:$Z$103,0))),\"\")","v":""},{"$f":"IFERROR(IF(allGymnasts!A11=\"\",\"\",INDEX(allGymnasts!$D$4:$D$103,MATCH(SMALL(allGymnasts!$Z$4:$Z$103,A11),allGymnasts!$Z$4:$Z$103,0))),\"\")","v":""},{"$f":"IF(allGymnasts!E11=\"\",\"\",INDEX(allGymnasts!$T$4:$T$33,MATCH(SMALL(allGymnasts!$X$4:$X$33,A11),allGymnasts!$X$4:$X$33,0)))","v":""},null,null,{"$f":"IFERROR(IF(allGymnasts!A11=\"\",\"\",INDEX(allGymnasts!$Y$4:$Y$103,MATCH(SMALL(allGymnasts!$Z$4:$Z$103,A11),allGymnasts!$Z$4:$Z$103,0))),\"\")","v":""}]
[9,{"$f":"IFERROR(_xlfn.FLOOR.MATH(IF(allGymnasts!A12=\"\",\"\",INDEX(allGymnasts!$Z$4:$Z$103,MATCH(SMALL(allGymnasts!$Z$4:$Z$103,A12),allGymnasts!$Z$4:$Z$103,0)))),\"\")","v":""},{"$f":"IFERROR(IF(allGymnasts!A12=\"\",\"\",INDEX(allGymnasts!$A$4:$A$103,MATCH(SMALL(allGymnasts!$Z$4:$Z$103,A12),allGymnasts!$Z$4:$Z$103,0))),\"\")","v":""},{"$f":"IFERROR(IF(allGymnasts!A12=\"\",\"\",INDEX(allGymnasts!$B$4:$B$103,MATCH(SMALL(allGymnasts!$Z$4:$Z$103,A12),allGymnasts!$Z$4:$Z$103,0))),\"\")","v":""},{"$f":"IFERROR(IF(allGymnasts!A12=\"\",\"\",INDEX(allGymnasts!$C$4:$C$103,MATCH(SMALL(allGymnasts!$Z$4:$Z$103,A12),allGymnasts!$Z$4:$Z$103,0))),\"\")","v":""},{"$f":"IFERROR(IF(allGymnasts!A12=\"\",\"\",INDEX(allGymnasts!$D$4:$D$103,MATCH(SMALL(allGymnasts!$Z$4:$Z$103,A12),allGymnasts!$Z$4:$Z$103,0))),\"\")","v":""},{"$f":"IF(allGymnasts!E12=\"\",\"\",INDEX(allGymnasts!$T$4:$T$33,MATCH(SMALL(allGymnasts!$X$4:$X$33,A12),allGymnasts!$X$4:$X$33,0)))","v":""},null,null,{"$f":"IFERROR(IF(allGymnasts!A12=\"\",\"\",INDEX(allGymnasts!$Y$4:$Y$103,MATCH(SMALL(allGymnasts!$Z$4:$Z$103,A12),allGymnasts!$Z$4:$Z$103,0))),\"\")","v":""}]
[10,{"$f":"IFERROR(_xlfn.FLOOR.MATH(IF(allGymnasts!A13=\"\",\"\",INDEX(allGymnasts!$Z$4:$Z$103,MATCH(SMALL(allGymnasts!$Z$4:$Z$103,A13),allGymnasts!$Z$4:$Z$103,0)))),\"\")","v":""},{"$f":"IFERROR(IF(allGymnasts!A13=\"\",\"\",INDEX(allGymnasts!$A$4:$A$103,MATCH(SMALL(allGymnasts!$Z$4:$Z$103,A13),allGymnasts!$Z$4:$Z$103,0))),\"\")","v":""},{"$f":"IFERROR(IF(allGymnasts!A13=\"\",\"\",INDEX(allGymnasts!$B$4:$B$103,MATCH(SMALL(allGymnasts!$Z$4:$Z$103,A13),allGymnasts!$Z$4:$Z$103,0))),\"\")","v":""},{"$f":"IFERROR(IF(allGymnasts!A13=\"\",\"\",INDEX(allGymnasts!$C$4:$C$103,MATCH(SMALL(allGymnasts!$Z$4:$Z$103,A13),allGymnasts!$Z$4:$Z$103,0))),\"\")","v":""},{"$f":"IFERROR(IF(allGymnasts!A13=\"\",\"\",INDEX(allGymnasts!$D$4:$D$103,MATCH(SMALL(allGymnasts!$Z$4:$Z$103,A13),allGymnasts!$Z$4:$Z$103,0))),\"\")","v":""},{"$f":"IF(allGymnasts!E13=\"\",\"\",INDEX(allGymnasts!$T$4:$T$33,MATCH(SMALL(allGymnasts!$X$4:$X$33,A13),allGymnasts!$X$4:$X$33,0)))","v":""},null,null,{"$f":"IFERROR(IF(allGymnasts!A13=\"\",\"\",INDEX(allGymnasts!$Y$4:$Y$103,MATCH(SMALL(allGymnasts!$Z$4:$Z$103,A13),allGymnasts!$Z$4:$Z$103,0))),\"\")","v":""}]
[11,{"$f":"IFERROR(_xlfn.FLOOR.MATH(IF(allGymnasts!A14=\"\",\"\",INDEX(allGymnasts!$Z$4:$Z$103,MATCH(SMALL(allGymnasts!$Z$4:$Z$103,A14),allGymnasts!$Z$4:$Z$103,0)))),\"\")","v":""},{"$f":"IFERROR(IF(allGymnasts!A14=\"\",\"\",INDEX(allGymnasts!$A$4:$A$103,MATCH(SMALL(allGymnasts!$Z$4:$Z$103,A14),allGymnasts!$Z$4:$Z$103,0))),\"\")","v":""},{"$f":"IFERROR(IF(allGymnasts!A14=\"\",\"\",INDEX(allGymnasts!$B$4:$B$103,MATCH(SMALL(allGymnasts!$Z$4:$Z$103,A14),allGymnasts!$Z$4:$Z$103,0))),\"\")","v":""},{"$f":"IFERROR(IF(allGymnasts!A14=\"\",\"\",INDEX(allGymnasts!$C$4:$C$103,MATCH(SMALL(allGymnasts!$Z$4:$Z$103,A14),allGymnasts!$Z$4:$Z$103,0))),\"\")","v":""},{"$f":"IFERROR(IF(allGymnasts!A14=\"\",\"\",INDEX(allGymnasts!$D$4:$D$103,MATCH(SMALL(allGymnasts!$Z$4:$Z$103,A14),allGymnasts!$Z$4:$Z$103,0))),\"\")","v":""},{"$f":"IF(allGymnasts!E14=\"\",\"\",INDEX(allGymnasts!$T$4:$T$33,MATCH(SMALL(allGymnasts!$X$4:$X$33,A14),allGymnasts!$X$4:$X$33,0)))","v":""},null,null,{"$f":"IFERROR(IF(allGymnasts!A14=\"\",\"\",INDEX(allGymnasts!$Y$4:$Y$103,MATCH(SMALL(allGymnasts!$Z$4:$Z$103,A14),allGymnasts!$Z$4:$Z$103,0))),\"\")","v":""}]
[12,{"$f":"IFERROR(_xlfn.FLOOR.MATH(IF(allGymnasts!A15=\"\",\"\",INDEX(allGymnasts!$Z$4:$Z$103,MATCH(SMALL(allGymnasts!$Z$4:$Z$103,A15),allGymnasts!$Z$4:$Z$103,0)))),\"\")","v":""},{"$f":"IFERROR(IF(allGymnasts!A15=\"\",\"\",INDEX(allGymnasts!$A$4:$A$103,MATCH(SMALL(allGymnasts!$Z$4:$Z$103,A15),allGymnasts!$Z$4:$Z$103,0))),\"\")","v":""},{"$f":"IFERROR(IF(allGymnasts!A15=\"\",\"\",INDEX(allGymnasts!$B$4:$B$103,MATCH(SMALL(allGymnasts!$Z$4:$Z$103,A15),allGymnasts!$Z$4:$Z$103,0))),\"\")","v":""},{"$f":"IFERROR(IF(allGymnasts!A15=\"\",\"\",INDEX(allGymnasts!$C$4:$C$103,MATCH(SMALL(allGymnasts!$Z$4:$Z$103,A15),allGymnasts!$Z$4:$Z$103,0))),\"\")","v":""},{"$f":"IFERROR(IF(allGymnasts!A15=\"\",\"\",INDEX(allGymnasts!$D$4:$D$103,MATCH(SMALL(allGymnasts!$Z$4:$Z$103,A15),allGymnasts!$Z$4:$Z$103,0))),\"\")","v":""},{"$f":"IF(allGymnasts!E15=\"\",\"\",INDEX(allGymnasts!$T$4:$T$33,MATCH(SMALL(allGymnasts!$X$4:$X$33,A15),allGymnasts!$X$4:$X$33,0)))","v":""},null,null,{"$f":"IFERROR(IF(allGymnasts!A15=\"\",\"\",INDEX(allGymnasts!$Y$4:$Y$103,MATCH(SMALL(allGymnasts!$Z$4:$Z$103,A15),allGymnasts!$Z$4:$Z$103,0))),\"\")","v":""}]
[13,{"$f":"IFERROR(_xlfn.FLOOR.MATH(IF(allGymnasts!A16=\"\",\"\",INDEX(allGymnasts!$Z$4:$Z$103,MATCH(SMALL(allGymnasts!$Z$4:$Z$103,A16),allGymnasts!$Z$4:$Z$103,0)))),\"\")","v":""},{"$f":"IFERROR(IF(allGymnasts!A16=\"\",\"\",INDEX(allGymnasts!$A$4:$A$103,MATCH(SMALL(allGymnasts!$Z$4:$Z$103,A16),allGymnasts!$Z$4:$Z$103,0))),\"\")","v":""},{"$f":"IFERROR(IF(allGymnasts!A16=\"\",\"\",INDEX(allGymnasts!$B$4:$B$103,MATCH(SMALL(allGymnasts!$Z$4:$Z$103,A16),allGymnasts!$Z$4:$Z$103,0))),\"\")","v":""},{"$f":"IFERROR(IF(allGymnasts!A16=\"\",\"\",INDEX(allGymnasts!$C$4:$C$103,MATCH(SMALL(allGymnasts!$Z$4:$Z$103,A16),allGymnasts!$Z$4:$Z$103,0))),\"\")","v":""},{"$f":"IFERROR(IF(allGymnasts!A16=\"\",\"\",INDEX(allGymnasts!$D$4:$D$103,MATCH(SMALL(allGymnasts!$Z$4:$Z$103,A16),allGymnasts!$Z$4:$Z$103,0))),\"\")","v":""},{"$f":"IF(allGymnasts!E16=\"\",\"\",INDEX(allGymnasts!$T$4:$T$33,MATCH(SMALL(allGymnasts!$X$4:$X$33,A16),allGymnasts!$X$4:$X$33,0)))","v":""},null,null,{"$f":"IFERROR(IF(allGymnasts!A16=\"\",\"\",INDEX(allGymnasts!$Y$4:$Y$103,MATCH(SMALL(allGymnasts!$Z$4:$Z$103,A16),allGymnasts!$Z$4:$Z$103,0))),\"\")","v":""}]
[14,{"$f":"IFERROR(_xlfn.FLOOR.MATH(IF(allGymnasts!A17=\"\",\"\",INDEX(allGymnasts!$Z$4:$Z$103,MATCH(SMALL(allGymnasts!$Z$4:$Z$103,A17),allGymnasts!$Z$4:$Z$103,0)))),\"\")","v":""},{"$f":"IFERROR(IF(allGymnasts!A17=\"\",\"\",INDEX(allGymnasts!$A$4:$A$103,MATCH(SMALL(allGymnasts!$Z$4:$Z$103,A17),allGymnasts!$Z$4:$Z$103,0))),\"\")","v":""},{"$f":"IFERROR(IF(allGymnasts!A17=\"\",\"\",INDEX(allGymnasts!$B$4:$B$103,MATCH(SMALL(allGymnasts!$Z$4:$Z$103,A17),allGymnasts!$Z$4:$Z$103,0))),\"\")","v":""},{"$f":"IFERROR(IF(allGymnasts!A17=\"\",\"\",INDEX(allGymnasts!$C$4:$C$103,MATCH(SMALL(allGymnasts!$Z$4:$Z$103,A17),allGymnasts!$Z$4:$Z$103,0))),\"\")","v":""},{"$f":"IFERROR(IF(allGymnasts!A17=\"\",\"\",INDEX(allGymnasts!$D$4:$D$103,MATCH(SMALL(allGymnasts!$Z$4:$Z$103,A17),allGymnasts!$Z$4:$Z$103,0))),\"\")","v":""},{"$f":"IF(allGymnasts!E17=\"\",\"\",INDEX(allGymnasts!$T$4:$T$33,MATCH(SMALL(allGymnasts!$X$4:$X$33,A17),allGymnasts!$X$4:$X$33,0)))","v":""},null,null,{"$f":"IFERROR(IF(allGymnasts!A17=\"\",\"\",INDEX(allGymnasts!$Y$4:$Y$103,MATCH(SMALL(allGymnasts!$Z$4:$Z$103,A17),allGymnasts!$Z$4:$Z$103,0))),\"\")","v":""}]
[15,{"$f":"IFERROR(_xlfn.FLOOR.MATH(IF(allGymnasts!A18=\"\",\"\",INDEX(allGymnasts!$Z$4:$Z$103,MATCH(SMALL(allGymnasts!$Z$4:$Z$103,A18),allGymnasts!$Z$4:$Z$103,0)))),\"\")","v":""},{"$f":"IFERROR(IF(allGymnasts!A18=\"\",\"\",INDEX(allGymnasts!$A$4:$A$103,MATCH(SMALL(allGymnasts!$Z$4:$Z$103,A18),allGymnasts!$Z$4:$Z$103,0))),\"\")","v":""},{"$f":"IFERROR(IF(allGymnasts!A18=\"\",\"\",INDEX(allGymnasts!$B$4:$B$103,MATCH(SMALL(allGymnasts!$Z$4:$Z$103,A18),allGymnasts!$Z$4:$Z$103,0))),\"\")","v":""},{"$f":"IFERROR(IF(allGymnasts!A18=\"\",\"\",INDEX(allGymnasts!$C$4:$C$103,MATCH(SMALL(allGymnasts!$Z$4:$Z$103,A18),allGymnasts!$Z$4:$Z$103,0))),\"\")","v":""},{"$f":"IFERROR(IF(allGymnasts!A18=\"\",\"\",INDEX(allGymnasts!$D$4:$D$103,MATCH(SMALL(allGymnasts!$Z$4:$Z$103,A18),allGymnasts!$Z$4:$Z$103,0))),\"\")","v":""},{"$f":"IF(allGymnasts!E18=\"\",\"\",INDEX(allGymnasts!$T$4:$T$33,MATCH(SMALL(allGymnasts!$X$4:$X$33,A18),allGymnasts!$X$4:$X$33,0)))","v":""},null,null,{"$f":"IFERROR(IF(allGymnasts!A18=\"\",\"\",INDEX(allGymnasts!$Y$4:$Y$103,MATCH(SMALL(allGymnasts!$Z$4:$Z$103,A18),allGymnasts!$Z$4:$Z$103,0))),\"\")","v":""}]
[16,{"$f":"IFERROR(_xlfn.FLOOR.MATH(IF(allGymnasts!A19=\"\",\"\",INDEX(allGymnasts!$Z$4:$Z$103,MATCH(SMALL(allGymnasts!$Z$4:$Z$103,A19),allGymnasts!$Z$4:$Z$103,0)))),\"\")","v":""},{"$f":"IFERROR(IF(allGymnasts!A19=\"\",\"\",INDEX(allGymnasts!$A$4:$A$103,MATCH(SMALL(allGymnasts!$Z$4:$Z$103,A19),allGymnasts!$Z$4:$Z$103,0))),\"\")","v":""},{"$f":"IFERROR(IF(allGymnasts!A19=\"\",\"\",INDEX(allGymnasts!$B$4:$B$103,MATCH(SMALL(allGymnasts!$Z$4:$Z$103,A19),allGymnasts!$Z$4:$Z$103,0))),\"\")","v":""},{"$f":"IFERROR(IF(allGymnasts!A19=\"\",\"\",INDEX(allGymnasts!$C$4:$C$103,MATCH(SMALL(allGymnasts!$Z$4:$Z$103,A19),allGymnasts!$Z$4:$Z$103,0))),\"\")","v":""},{"$f":"IFERROR(IF(allGymnasts!A19=\"\",\"\",INDEX(allGymnasts!$D$4:$D$103,MATCH(SMALL(allGymnasts!$Z$4:$Z$103,A19),allGymnasts!$Z$4:$Z$103,0))),\"\")","v":""},{"$f":"IF(allGymnasts!E19=\"\",\"\",INDEX(allGymnasts!$T$4:$T$33,MATCH(SMALL(allGymnasts!$X$4:$X$33,A19),allGymnasts!$X$4:$X$33,0)))","v":""},null,null,{"$f":"IFERROR(IF(allGymnasts!A19=\"\",\"\",INDEX(allGymnasts!$Y$4:$Y$103,MATCH(SMALL(allGymnasts!$Z$4:$Z$103,A19),allGymnasts!$Z$4:$Z$103,0))),\"\")","v":""}]
[17,{"$f":"IFERROR(_xlfn.FLOOR.MATH(IF(allGymnasts!A20=\"\",\"\",INDEX(allGymnasts!$Z$4:$Z$103,MATCH(SMALL(allGymnasts!$Z$4:$Z$103,A20),allGymnasts!$Z$4:$Z$103,0)))),\"\")","v":""},{"$f":"IFERROR(IF(allGymnasts!A20=\"\",\"\",INDEX(allGymnasts!$A$4:$A$103,MATCH(SMALL(allGymnasts!$Z$4:$Z$103,A20),allGymnasts!$Z$4:$Z$103,0))),\"\")","v":""},{"$f":"IFERROR(IF(allGymnasts!A20=\"\",\"\",INDEX(allGymnasts!$B$4:$B$103,MATCH(SMALL(allGymnasts!$Z$4:$Z$103,A20),allGymnasts!$Z$4:$Z$103,0))),\"\")","v":""},{"$f":"IFERROR(IF(allGymnasts!A20=\"\",\"\",INDEX(allGymnasts!$C$4:$C$103,MATCH(SMALL(allGymnasts!$Z$4:$Z$103,A20),allGymnasts!$Z$4:$Z$103,0))),\"\")","v":""},{"$f":"IFERROR(IF(allGymnasts!A20=\"\",\"\",INDEX(allGymnasts!$D$4:$D$103,MATCH(SMALL(allGymnasts!$Z$4:$Z$103,A20),allGymnasts!$Z$4:$Z$103,0))),\"\")","v":""},{"$f":"IF(allGymnasts!E20=\"\",\"\",INDEX(allGymnasts!$T$4:$T$33,MATCH(SMALL(allGymnasts!$X$4:$X$33,A20),allGymnasts!$X$4:$X$33,0)))","v":""},null,null,{"$f":"IFERROR(IF(allGymnasts!A20=\"\",\"\",INDEX(allGymnasts!$Y$4:$Y$103,MATCH(SMALL(allGymnasts!$Z$4:$Z$103,A20),allGymnasts!$Z$4:$Z$103,0))),\"\")","v":""}]
[18,{"$f":"IFERROR(_xlfn.FLOOR.MATH(IF(allGymnasts!A21=\"\",\"\",INDEX(allGymnasts!$Z$4:$Z$103,MATCH(SMALL(allGymnasts!$Z$4:$Z$103,A21),allGymnasts!$Z$4:$Z$103,0)))),\"\")","v":""},{"$f":"IFERROR(IF(allGymnasts!A21=\"\",\"\",INDEX(allGymnasts!$A$4:$A$103,MATCH(SMALL(allGymnasts!$Z$4:$Z$103,A21),allGymnasts!$Z$4:$Z$103,0))),\"\")","v":""},{"$f":"IFERROR(IF(allGymnasts!A21=\"\",\"\",INDEX(allGymnasts!$B$4:$B$103,MATCH(SMALL(allGymnasts!$Z$4:$Z$103,A21),allGymnasts!$Z$4:$Z$103,0))),\"\")","v":""},{"$f":"IFERROR(IF(allGymnasts!A21=\"\",\"\",INDEX(allGymnasts!$C$4:$C$103,MATCH(SMALL(allGymnasts!$Z$4:$Z$103,A21),allGymnasts!$Z$4:$Z$103,0))),\"\")","v":""},{"$f":"IFERROR(IF(allGymnasts!A21=\"\",\"\",INDEX(allGymnasts!$D$4:$D$103,MATCH(SMALL(allGymnasts!$Z$4:$Z$103,A21),allGymnasts!$Z$4:$Z$103,0))),\"\")","v":""},{"$f":"IF(allGymnasts!E21=\"\",\"\",INDEX(allGymnasts!$T$4:$T$33,MATCH(SMALL(allGymnasts!$X$4:$X$33,A21),allGymnasts!$X$4:$X$33,0)))","v":""},null,null,{"$f":"IFERROR(IF(allGymnasts!A21=\"\",\"\",INDEX(allGymnasts!$Y$4:$Y$103,MATCH(SMALL(allGymnasts!$Z$4:$Z$103,A21),allGymnasts!$Z$4:$Z$103,0))),\"\")","v":""}]
[19,{"$f":"IFERROR(_xlfn.FLOOR.MATH(IF(allGymnasts!A22=\"\",\"\",INDEX(allGymnasts!$Z$4:$Z$103,MATCH(SMALL(allGymnasts!$Z$4:$Z$103,A22),allGymnasts!$Z$4:$Z$103,0)))),\"\")","v":""},{"$f":"IFERROR(IF(allGymnasts!A22=\"\",\"\",INDEX(allGymnasts!$A$4:$A$103,MATCH(SMALL(allGymnasts!$Z$4:$Z$103,A22),allGymnasts!$Z$4:$Z$103,0))),\"\")","v":""},{"$f":"IFERROR(IF(allGymnasts!A22=\"\",\"\",INDEX(allGymnasts!$B$4:$B$103,MATCH(SMALL(allGymnasts!$Z$4:$Z$103,A22),allGymnasts!$Z$4:$Z$103,0))),\"\")","v":""},{"$f":"IFERROR(IF(allGymnasts!A22=\"\",\"\",INDEX(allGymnasts!$C$4:$C$103,MATCH(SMALL(allGymnasts!$Z$4:$Z$103,A22),allGymnasts!$Z$4:$Z$103,0))),\"\")","v":""},{"$f":"IFERROR(IF(allGymnasts!A22=\"\",\"\",INDEX(allGymnasts!$D$4:$D$103,MATCH(SMALL(allGymnasts!$Z$4:$Z$103,A22),allGymnasts!$Z$4:$Z$103,0))),\"\")","v":""},{"$f":"IF(allGymnasts!E22=\"\",\"\",INDEX(allGymnasts!$T$4:$T$33,MATCH(SMALL(allGymnasts!$X$4:$X$33,A22),allGymnasts!$X$4:$X$33,0)))","v":""},null,null,{"$f":"IFERROR(IF(allGymnasts!A22=\"\",\"\",INDEX(allGymnasts!$Y$4:$Y$103,MATCH(SMALL(allGymnasts!$Z$4:$Z$103,A22),allGymnasts!$Z$4:$Z$103,0))),\"\")","v":""}]
[20,{"$f":"IFERROR(_xlfn.FLOOR.MATH(IF(allGymnasts!A23=\"\",\"\",INDEX(allGymnasts!$Z$4:$Z$103,MATCH(SMALL(allGymnasts!$Z$4:$Z$103,A23),allGymnasts!$Z$4:$Z$103,0)))),\"\")","v":""},{"$f":"IFERROR(IF(allGymnasts!A23=\"\",\"\",INDEX(allGymnasts!$A$4:$A$103,MATCH(SMALL(allGymnasts!$Z$4:$Z$103,A23),allGymnasts!$Z$4:$Z$103,0))),\"\")","v":""},{"$f":"IFERROR(IF(allGymnasts!A23=\"\",\"\",INDEX(allGymnasts!$B$4:$B$103,MATCH(SMALL(allGymnasts!$Z$4:$Z$103,A23),allGymnasts!$Z$4:$Z$103,0))),\"\")","v":""},{"$f":"IFERROR(IF(allGymnasts!A23=\"\",\"\",INDEX(allGymnasts!$C$4:$C$103,MATCH(SMALL(allGymnasts!$Z$4:$Z$103,A23),allGymnasts!$Z$4:$Z$103,0))),\"\")","v":""},{"$f":"IFERROR(IF(allGymnasts!A23=\"\",\"\",INDEX(allGymnasts!$D$4:$D$103,MATCH(SMALL(allGymnasts!$Z$4:$Z$103,A23),allGymnasts!$Z$4:$Z$103,0))),\"\")","v":""},{"$f":"IF(allGymnasts!E23=\"\",\"\",INDEX(allGymnasts!$T$4:$T$33,MATCH(SMALL(allGymnasts!$X$4:$X$33,A23),allGymnasts!$X$4:$X$33,0)))","v":""},null,null,{"$f":"IFERROR(IF(allGymnasts!A23=\"\",\"\",INDEX(allGymnasts!$Y$4:$Y$103,MATCH(SMALL(allGymnasts!$Z$4:$Z$103,A23),allGymnasts!$Z$4:$Z$103,0))),\"\")","v":""}]
[21,{"$f":"IFERROR(_xlfn.FLOOR.MATH(IF(allGymnasts!A24=\"\",\"\",INDEX(allGymnasts!$Z$4:$Z$103,MATCH(SMALL(allGymnasts!$Z$4:$Z$103,A24),allGymnasts!$Z$4:$Z$103,0)))),\"\")","v":""},{"$f":"IFERROR(IF(allGymnasts!A24=\"\",\"\",INDEX(allGymnasts!$A$4:$A$103,MATCH(SMALL(allGymnasts!$Z$4:$Z$103,A24),allGymnasts!$Z$4:$Z$103,0))),\"\")","v":""},{"$f":"IFERROR(IF(allGymnasts!A24=\"\",\"\",INDEX(allGymnasts!$B$4:$B$103,MATCH(SMALL(allGymnasts!$Z$4:$Z$103,A24),allGymnasts!$Z$4:$Z$103,0))),\"\")","v":""},{"$f":"IFERROR(IF(allGymnasts!A24=\"\",\"\",INDEX(allGymnasts!$C$4:$C$103,MATCH(SMALL(allGymnasts!$Z$4:$Z$103,A24),allGymnasts!$Z$4:$Z$103,0))),\"\")","v":""},{"$f":"IFERROR(IF(allGymnasts!A24=\"\",\"\",INDEX(allGymnasts!$D$4:$D$103,MATCH(SMALL(allGymnasts!$Z$4:$Z$103,A24),allGymnasts!$Z$4:$Z$103,0))),\"\")","v":""},{"$f":"IF(allGymnasts!E24=\"\",\"\",INDEX(allGymnasts!$T$4:$T$33,MATCH(SMALL(allGymnasts!$X$4:$X$33,A24),allGymnasts!$X$4:$X$33,0)))","v":""},null,null,{"$f":"IFERROR(IF(allGymnasts!A24=\"\",\"\",INDEX(allGymnasts!$Y$4:$Y$103,MATCH(SMALL(allGymnasts!$Z$4:$Z$103,A24),allGymnasts!$Z$4:$Z$103,0))),\"\")","v":""}]
[22,{"$f":"IFERROR(_xlfn.FLOOR.MATH(IF(allGymnasts!A25=\"\",\"\",INDEX(allGymnasts!$Z$4:$Z$103,MATCH(SMALL(allGymnasts!$Z$4:$Z$103,A25),allGymnasts!$Z$4:$Z$103,0)))),\"\")","v":""},{"$f":"IFERROR(IF(allGymnasts!A25=\"\",\"\",INDEX(allGymnasts!$A$4:$A$103,MATCH(SMALL(allGymnasts!$Z$4:$Z$103,A25),allGymnasts!$Z$4:$Z$103,0))),\"\")","v":""},{"$f":"IFERROR(IF(allGymnasts!A25=\"\",\"\",INDEX(allGymnasts!$B$4:$B$103,MATCH(SMALL(allGymnasts!$Z$4:$Z$103,A25),allGymnasts!$Z$4:$Z$103,0))),\"\")","v":""},{"$f":"IFERROR(IF(allGymnasts!A25=\"\",\"\",INDEX(allGymnasts!$C$4:$C$103,MATCH(SMALL(allGymnasts!$Z$4:$Z$103,A25),allGymnasts!$Z$4:$Z$103,0))),\"\")","v":""},{"$f":"IFERROR(IF(allGymnasts!A25=\"\",\"\",INDEX(allGymnasts!$D$4:$D$103,MATCH(SMALL(allGymnasts!$Z$4:$Z$103,A25),allGymnasts!$Z$4:$Z$103,0))),\"\")","v":""},{"$f":"IF(allGymnasts!E25=\"\",\"\",INDEX(allGymnasts!$T$4:$T$33,MATCH(SMALL(allGymnasts!$X$4:$X$33,A25),allGymnasts!$X$4:$X$33,0)))","v":""},null,null,{"$f":"IFERROR(IF(allGymnasts!A25=\"\",\"\",INDEX(allGymnasts!$Y$4:$Y$103,MATCH(SMALL(allGymnasts!$Z$4:$Z$103,A25),allGymnasts!$Z$4:$Z$103,0))),\"\")","v":""}]
[23,{"$f":"IFERROR(_xlfn.FLOOR.MATH(IF(allGymnasts!A26=\"\",\"\",INDEX(allGymnasts!$Z$4:$Z$103,MATCH(SMALL(allGymnasts!$Z$4:$Z$103,A26),allGymnasts!$Z$4:$Z$103,0)))),\"\")","v":""},{"$f":"IFERROR(IF(allGymnasts!A26=\"\",\"\",INDEX(allGymnasts!$A$4:$A$103,MATCH(SMALL(allGymnasts!$Z$4:$Z$103,A26),allGymnasts!$Z$4:$Z$103,0))),\"\")","v":""},{"$f":"IFERROR(IF(allGymnasts!A26=\"\",\"\",INDEX(allGymnasts!$B$4:$B$103,MATCH(SMALL(allGymnasts!$Z$4:$Z$103,A26),allGymnasts!$Z$4:$Z$103,0))),\"\")","v":""},{"$f":"IFERROR(IF(allGymnasts!A26=\"\",\"\",INDEX(allGymnasts!$C$4:$C$103,MATCH(SMALL(allGymnasts!$Z$4:$Z$103,A26),allGymnasts!$Z$4:$Z$103,0))),\"\")","v":""},{"$f":"IFERROR(IF(allGymnasts!A26=\"\",\"\",INDEX(allGymnasts!$D$4:$D$103,MATCH(SMALL(allGymnasts!$Z$4:$Z$103,A26),allGymnasts!$Z$4:$Z$103,0))),\"\")","v":""},{"$f":"IF(allGymnasts!E26=\"\",\"\",INDEX(allGymnasts!$T$4:$T$33,MATCH(SMALL(allGymnasts!$X$4:$X$33,A26),allGymnasts!$X$4:$X$33,0)))","v":""},null,null,{"$f":"IFERROR(IF(allGymnasts!A26=\"\",\"\",INDEX(allGymnasts!$Y$4:$Y$103,MATCH(SMALL(allGymnasts!$Z$4:$Z$103,A26),allGymnasts!$Z$4:$Z$103,0))),\"\")","v":""}]
[24,{"$f":"IFERROR(_xlfn.FLOOR.MATH(IF(allGymnasts!A27=\"\",\"\",INDEX(allGymnasts!$Z$4:$Z$103,MATCH(SMALL(allGymnasts!$Z$4:$Z$103,A27),allGymnasts!$Z$4:$Z$103,0)))),\"\")","v":""},{"$f":"IFERROR(IF(allGymnasts!A27=\"\",\"\",INDEX(allGymnasts!$A$4:$A$103,MATCH(SMALL(allGymnasts!$Z$4:$Z$103,A27),allGymnasts!$Z$4:$Z$103,0))),\"\")","v":""},{"$f":"IFERROR(IF(allGymnasts!A27=\"\",\"\",INDEX(allGymnasts!$B$4:$B$103,MATCH(SMALL(allGymnasts!$Z$4:$Z$103,A27),allGymnasts!$Z$4:$Z$103,0))),\"\")","v":""},{"$f":"IFERROR(IF(allGymnasts!A27=\"\",\"\",INDEX(allGymnasts!$C$4:$C$103,MATCH(SMALL(allGymnasts!$Z$4:$Z$103,A27),allGymnasts!$Z$4:$Z$103,0))),\"\")","v":""},{"$f":"IFERROR(IF(allGymnasts!A27=\"\",\"\",INDEX(allGymnasts!$D$4:$D$103,MATCH(SMALL(allGymnasts!$Z$4:$Z$103,A27),allGymnasts!$Z$4:$Z$103,0))),\"\")","v":""},{"$f":"IF(allGymnasts!E27=\"\",\"\",INDEX(allGymnasts!$T$4:$T$33,MATCH(SMALL(allGymnasts!$X$4:$X$33,A27),allGymnasts!$X$4:$X$33,0)))","v":""},null,null,{"$f":"IFERROR(IF(allGymnasts!A27=\"\",\"\",INDEX(allGymnasts!$Y$4:$Y$103,MATCH(SMALL(allGymnasts!$Z$4:$Z$103,A27),allGymnasts!$Z$4:$Z$103,0))),\"\")","v":""}]
[25,{"$f":"IFERROR(_xlfn.FLOOR.MATH(IF(allGymnasts!A28=\"\",\"\",INDEX(allGymnasts!$Z$4:$Z$103,MATCH(SMALL(allGymnasts!$Z$4:$Z$103,A28),allGymnasts!$Z$4:$Z$103,0)))),\"\")","v":""},{"$f":"IFERROR(IF(allGymnasts!A28=\"\",\"\",INDEX(allGymnasts!$A$4:$A$103,MATCH(SMALL(allGymnasts!$Z$4:$Z$103,A28),allGymnasts!$Z$4:$Z$103,0))),\"\")","v":""},{"$f":"IFERROR(IF(allGymnasts!A28=\"\",\"\",INDEX(allGymnasts!$B$4:$B$103,MATCH(SMALL(allGymnasts!$Z$4:$Z$103,A28),allGymnasts!$Z$4:$Z$103,0))),\"\")","v":""},{"$f":"IFERROR(IF(allGymnasts!A28=\"\",\"\",INDEX(allGymnasts!$C$4:$C$103,MATCH(SMALL(allGymnasts!$Z$4:$Z$103,A28),allGymnasts!$Z$4:$Z$103,0))),\"\")","v":""},{"$f":"IFERROR(IF(allGymnasts!A28=\"\",\"\",INDEX(allGymnasts!$D$4:$D$103,MATCH(SMALL(allGymnasts!$Z$4:$Z$103,A28),allGymnasts!$Z$4:$Z$103,0))),\"\")","v":""},{"$f":"IF(allGymnasts!E28=\"\",\"\",INDEX(allGymnasts!$T$4:$T$33,MATCH(SMALL(allGymnasts!$X$4:$X$33,A28),allGymnasts!$X$4:$X$33,0)))","v":""},null,null,{"$f":"IFERROR(IF(allGymnasts!A28=\"\",\"\",INDEX(allGymnasts!$Y$4:$Y$103,MATCH(SMALL(allGymnasts!$Z$4:$Z$103,A28),allGymnasts!$Z$4:$Z$103,0))),\"\")","v":""}]
[26,{"$f":"IFERROR(_xlfn.FLOOR.MATH(IF(allGymnasts!A29=\"\",\"\",INDEX(allGymnasts!$Z$4:$Z$103,MATCH(SMALL(allGymnasts!$Z$4:$Z$103,A29),allGymnasts!$Z$4:$Z$103,0)))),\"\")","v":""},{"$f":"IFERROR(IF(allGymnasts!A29=\"\",\"\",INDEX(allGymnasts!$A$4:$A$103,MATCH(SMALL(allGymnasts!$Z$4:$Z$103,A29),allGymnasts!$Z$4:$Z$103,0))),\"\")","v":""},{"$f":"IFERROR(IF(allGymnasts!A29=\"\",\"\",INDEX(allGymnasts!$B$4:$B$103,MATCH(SMALL(allGymnasts!$Z$4:$Z$103,A29),allGymnasts!$Z$4:$Z$103,0))),\"\")","v":""},{"$f":"IFERROR(IF(allGymnasts!A29=\"\",\"\",INDEX(allGymnasts!$C$4:$C$103,MATCH(SMALL(allGymnasts!$Z$4:$Z$103,A29),allGymnasts!$Z$4:$Z$103,0))),\"\")","v":""},{"$f":"IFERROR(IF(allGymnasts!A29=\"\",\"\",INDEX(allGymnasts!$D$4:$D$103,MATCH(SMALL(allGymnasts!$Z$4:$Z$103,A29),allGymnasts!$Z$4:$Z$103,0))),\"\")","v":""},{"$f":"IF(allGymnasts!E29=\"\",\"\",INDEX(allGymnasts!$T$4:$T$33,MATCH(SMALL(allGymnasts!$X$4:$X$33,A29),allGymnasts!$X$4:$X$33,0)))","v":""},null,null,{"$f":"IFERROR(IF(allGymnasts!A29=\"\",\"\",INDEX(allGymnasts!$Y$4:$Y$103,MATCH(SMALL(allGymnasts!$Z$4:$Z$103,A29),allGymnasts!$Z$4:$Z$103,0))),\"\")","v":""}]
[27,{"$f":"IFERROR(_xlfn.FLOOR.MATH(IF(allGymnasts!A30=\"\",\"\",INDEX(allGymnasts!$Z$4:$Z$103,MATCH(SMALL(allGymnasts!$Z$4:$Z$103,A30),allGymnasts!$Z$4:$Z$103,0)))),\"\")","v":""},{"$f":"IFERROR(IF(allGymnasts!A30=\"\",\"\",INDEX(allGymnasts!$A$4:$A$103,MATCH(SMALL(allGymnasts!$Z$4:$Z$103,A30),allGymnasts!$Z$4:$Z$103,0))),\"\")","v":""},{"$f":"IFERROR(IF(allGymnasts!A30=\"\",\"\",INDEX(allGymnasts!$B$4:$B$103,MATCH(SMALL(allGymnasts!$Z$4:$Z$103,A30),allGymnasts!$Z$4:$Z$103,0))),\"\")","v":""},{"$f":"IFERROR(IF(allGymnasts!A30=\"\",\"\",INDEX(allGymnasts!$C$4:$C$103,MATCH(SMALL(allGymnasts!$Z$4:$Z$103,A30),allGymnasts!$Z$4:$Z$103,0))),\"\")","v":""},{"$f":"IFERROR(IF(allGymnasts!A30=\"\",\"\",INDEX(allGymnasts!$D$4:$D$103,MATCH(SMALL(allGymnasts!$Z$4:$Z$103,A30),allGymnasts!$Z$4:$Z$103,0))),\"\")","v":""},{"$f":"IF(allGymnasts!E30=\"\",\"\",INDEX(allGymnasts!$T$4:$T$33,MATCH(SMALL(allGymnasts!$X$4:$X$33,A30),allGymnasts!$X$4:$X$33,0)))","v":""},null,null,{"$f":"IFERROR(IF(allGymnasts!A30=\"\",\"\",INDEX(allGymnasts!$Y$4:$Y$103,MATCH(SMALL(allGymnasts!$Z$4:$Z$103,A30),allGymnasts!$Z$4:$Z$103,0))),\"\")","v":""}]
[28,{"$f":"IFERROR(_xlfn.FLOOR.MATH(IF(allGymnasts!A31=\"\",\"\",INDEX(allGymnasts!$Z$4:$Z$103,MATCH(SMALL(allGymnasts!$Z$4:$Z$103,A31),allGymnasts!$Z$4:$Z$103,0)))),\"\")","v":""},{"$f":"IFERROR(IF(allGymnasts!A31=\"\",\"\",INDEX(allGymnasts!$A$4:$A$103,MATCH(SMALL(allGymnasts!$Z$4:$Z$103,A31),allGymnasts!$Z$4:$Z$103,0))),\"\")","v":""},{"$f":"IFERROR(IF(allGymnasts!A31=\"\",\"\",INDEX(allGymnasts!$B$4:$B$103,MATCH(SMALL(allGymnasts!$Z$4:$Z$103,A31),allGymnasts!$Z$4:$Z$103,0))),\"\")","v":""},{"$f":"IFERROR(IF(allGymnasts!A31=\"\",\"\",INDEX(allGymnasts!$C$4:$C$103,MATCH(SMALL(allGymnasts!$Z$4:$Z$103,A31),allGymnasts!$Z$4:$Z$103,0))),\"\")","v":""},{"$f":"IFERROR(IF(allGymnasts!A31=\"\",\"\",INDEX(allGymnasts!$D$4:$D$103,MATCH(SMALL(allGymnasts!$Z$4:$Z$103,A31),allGymnasts!$Z$4:$Z$103,0))),\"\")","v":""},{"$f":"IF(allGymnasts!E31=\"\",\"\",INDEX(allGymnasts!$T$4:$T$33,MATCH(SMALL(allGymnasts!$X$4:$X$33,A31),allGymnasts!$X$4:$X$33,0)))","v":""},null,null,{"$f":"IFERROR(IF(allGymnasts!A31=\"\",\"\",INDEX(allGymnasts!$Y$4:$Y$103,MATCH(SMALL(allGymnasts!$Z$4:$Z$103,A31),allGymnasts!$Z$4:$Z$103,0))),\"\")","v":""}]
[29,{"$f":"IFERROR(_xlfn.FLOOR.MATH(IF(allGymnasts!A32=\"\",\"\",INDEX(allGymnasts!$Z$4:$Z$103,MATCH(SMALL(allGymnasts!$Z$4:$Z$103,A32),allGymnasts!$Z$4:$Z$103,0)))),\"\")","v":""},{"$f":"IFERROR(IF(allGymnasts!A32=\"\",\"\",INDEX(allGymnasts!$A$4:$A$103,MATCH(SMALL(allGymnasts!$Z$4:$Z$103,A32),allGymnasts!$Z$4:$Z$103,0))),\"\")","v":""},{"$f":"IFERROR(IF(allGymnasts!A32=\"\",\"\",INDEX(allGymnasts!$B$4:$B$103,MATCH(SMALL(allGymnasts!$Z$4:$Z$103,A32),allGymnasts!$Z$4:$Z$103,0))),\"\")","v":""},{"$f":"IFERROR(IF(allGymnasts!A32=\"\",\"\",INDEX(allGymnasts!$C$4:$C$103,MATCH(SMALL(allGymnasts!$Z$4:$Z$103,A32),allGymnasts!$Z$4:$Z$103,0))),\"\")","v":""},{"$f":"IFERROR(IF(allGymnasts!A32=\"\",\"\",INDEX(allGymnasts!$D$4:$D$103,MATCH(SMALL(allGymnasts!$Z$4:$Z$103,A32),allGymnasts!$Z$4:$Z$103,0))),\"\")","v":""},{"$f":"IF(allGymnasts!E32=\"\",\"\",INDEX(allGymnasts!$T$4:$T$33,MATCH(SMALL(allGymnasts!$X$4:$X$33,A32),allGymnasts!$X$4:$X$33,0)))","v":""},null,null,{"$f":"IFERROR(IF(allGymnasts!A32=\"\",\"\",INDEX(allGymnasts!$Y$4:$Y$103,MATCH(SMALL(allGymnasts!$Z$4:$Z$103,A32),allGymnasts!$Z$4:$Z$103,0))),\"\")","v":""}]
[30,{"$f":"IFERROR(_xlfn.FLOOR.MATH(IF(allGymnasts!A33=\"\",\"\",INDEX(allGymnasts!$Z$4:$Z$103,MATCH(SMALL(allGymnasts!$Z$4:$Z$103,A33),allGymnasts!$Z$4:$Z$103,0)))),\"\")","v":""},{"$f":"IFERROR(IF(allGymnasts!A33=\"\",\"\",INDEX(allGymnasts!$A$4:$A$103,MATCH(SMALL(allGymnasts!$Z$4:$Z$103,A33),allGymnasts!$Z$4:$Z$103,0))),\"\")","v":""},{"$f":"IFERROR(IF(allGymnasts!A33=\"\",\"\",INDEX(allGymnasts!$B$4:$B$103,MATCH(SMALL(allGymnasts!$Z$4:$Z$103,A33),allGymnasts!$Z$4:$Z$103,0))),\"\")","v":""},{"$f":"IFERROR(IF(allGymnasts!A33=\"\",\"\",INDEX(allGymnasts!$C$4:$C$103,MATCH(SMALL(allGymnasts!$Z$4:$Z$103,A33),allGymnasts!$Z$4:$Z$103,0))),\"\")","v":""},{"$f":"IFERROR(IF(allGymnasts!A33=\"\",\"\",INDEX(allGymnasts!$D$4:$D$103,MATCH(SMALL(allGymnasts!$Z$4:$Z$103,A33),allGymnasts!$Z$4:$Z$103,0))),\"\")","v":""},{"$f":"IF(allGymnasts!E33=\"\",\"\",INDEX(allGymnasts!$T$4:$T$33,MATCH(SMALL(allGymnasts!$X$4:$X$33,A33),allGymnasts!$X$4:$X$33,0)))","v":""},null,null,{"$f":"IFERROR(IF(allGymnasts!A33=\"\",\"\",INDEX(allGymnasts!$Y$4:$Y$103,MATCH(SMALL(allGymnasts!$Z$4:$Z$103,A33),allGymnasts!$Z$4:$Z$103,0))),\"\")","v":""}]
[31,{"$f":"IFERROR(_xlfn.FLOOR.MATH(IF(allGymnasts!A34=\"\",\"\",INDEX(allGymnasts!$Z$4:$Z$103,MATCH(SMALL(allGymnasts!$Z$4:$Z$103,A34),allGymnasts!$Z$4:$Z$103,0)))),\"\")","v":""},{"$f":"IFERROR(IF(allGymnasts!A34=\"\",\"\",INDEX(allGymnasts!$A$4:$A$103,MATCH(SMALL(allGymnasts!$Z$4:$Z$103,A34),allGymnasts!$Z$4:$Z$103,0))),\"\")","v":""},{"$f":"IFERROR(IF(allGymnasts!A34=\"\",\"\",INDEX(allGymnasts!$B$4:$B$103,MATCH(SMALL(allGymnasts!$Z$4:$Z$103,A34),allGymnasts!$Z$4:$Z$103,0))),\"\")","v":""},{"$f":"IFERROR(IF(allGymnasts!A34=\"\",\"\",INDEX(allGymnasts!$C$4:$C$103,MATCH(SMALL(allGymnasts!$Z$4:$Z$103,A34),allGymnasts!$Z$4:$Z$103,0))),\"\")","v":""},{"$f":"IFERROR(IF(allGymnasts!A34=\"\",\"\",INDEX(allGymnasts!$D$4:$D$103,MATCH(SMALL(allGymnasts!$Z$4:$Z$103,A34),allGymnasts!$Z$4:$Z$103,0))),\"\")","v":""},{"$f":"IF(allGymnasts!E34=\"\",\"\",INDEX(allGymnasts!$T$4:$T$33,MATCH(SMALL(allGymnasts!$X$4:$X$33,A34),allGymnasts!$X$4:$X$33,0)))","v":""},null,null,{"$f":"IFERROR(IF(allGymnasts!A34=\"\",\"\",INDEX(allGymnasts!$Y$4:$Y$103,MATCH(SMALL(allGymnasts!$Z$4:$Z$103,A34),allGymnasts!$Z$4:$Z$103,0))),\"\")","v":""}]
[32,{"$f":"IFERROR(_xlfn.FLOOR.MATH(IF(allGymnasts!A35=\"\",\"\",INDEX(allGymnasts!$Z$4:$Z$103,MATCH(SMALL(allGymnasts!$Z$4:$Z$103,A35),allGymnasts!$Z$4:$Z$103,0)))),\"\")","v":""},{"$f":"IFERROR(IF(allGymnasts!A35=\"\",\"\",INDEX(allGymnasts!$A$4:$A$103,MATCH(SMALL(allGymnasts!$Z$4:$Z$103,A35),allGymnasts!$Z$4:$Z$103,0))),\"\")","v":""},{"$f":"IFERROR(IF(allGymnasts!A35=\"\",\"\",INDEX(allGymnasts!$B$4:$B$103,MATCH(SMALL(allGymnasts!$Z$4:$Z$103,A35),allGymnasts!$Z$4:$Z$103,0))),\"\")","v":""},{"$f":"IFERROR(IF(allGymnasts!A35=\"\",\"\",INDEX(allGymnasts!$C$4:$C$103,MATCH(SMALL(allGymnasts!$Z$4:$Z$103,A35),allGymnasts!$Z$4:$Z$103,0))),\"\")","v":""},{"$f":"IFERROR(IF(allGymnasts!A35=\"\",\"\",INDEX(allGymnasts!$D$4:$D$103,MATCH(SMALL(allGymnasts!$Z$4:$Z$103,A35),allGymnasts!$Z$4:$Z$103,0))),\"\")","v":""},{"$f":"IF(allGymnasts!E35=\"\",\"\",INDEX(allGymnasts!$T$4:$T$33,MATCH(SMALL(allGymnasts!$X$4:$X$33,A35),allGymnasts!$X$4:$X$33,0)))","v":""},null,null,{"$f":"IFERROR(IF(allGymnasts!A35=\"\",\"\",INDEX(allGymnasts!$Y$4:$Y$103,MATCH(SMALL(allGymnasts!$Z$4:$Z$103,A35),allGymnasts!$Z$4:$Z$103,0))),\"\")","v":""}]
[33,{"$f":"IFERROR(_xlfn.FLOOR.MATH(IF(allGymnasts!A36=\"\",\"\",INDEX(allGymnasts!$Z$4:$Z$103,MATCH(SMALL(allGymnasts!$Z$4:$Z$103,A36),allGymnasts!$Z$4:$Z$103,0)))),\"\")","v":""},{"$f":"IFERROR(IF(allGymnasts!A36=\"\",\"\",INDEX(allGymnasts!$A$4:$A$103,MATCH(SMALL(allGymnasts!$Z$4:$Z$103,A36),allGymnasts!$Z$4:$Z$103,0))),\"\")","v":""},{"$f":"IFERROR(IF(allGymnasts!A36=\"\",\"\",INDEX(allGymnasts!$B$4:$B$103,MATCH(SMALL(allGymnasts!$Z$4:$Z$103,A36),allGymnasts!$Z$4:$Z$103,0))),\"\")","v":""},{"$f":"IFERROR(IF(allGymnasts!A36=\"\",\"\",INDEX(allGymnasts!$C$4:$C$103,MATCH(SMALL(allGymnasts!$Z$4:$Z$103,A36),allGymnasts!$Z$4:$Z$103,0))),\"\")","v":""},{"$f":"IFERROR(IF(allGymnasts!A36=\"\",\"\",INDEX(allGymnasts!$D$4:$D$103,MATCH(SMALL(allGymnasts!$Z$4:$Z$103,A36),allGymnasts!$Z$4:$Z$103,0))),\"\")","v":""},{"$f":"IF(allGymnasts!E36=\"\",\"\",INDEX(allGymnasts!$T$4:$T$33,MATCH(SMALL(allGymnasts!$X$4:$X$33,A36),allGymnasts!$X$4:$X$33,0)))","v":""},null,null,{"$f":"IFERROR(IF(allGymnasts!A36=\"\",\"\",INDEX(allGymnasts!$Y$4:$Y$103,MATCH(SMALL(allGymnasts!$Z$4:$Z$103,A36),allGymnasts!$Z$4:$Z$103,0))),\"\")","v":""}]
[34,{"$f":"IFERROR(_xlfn.FLOOR.MATH(IF(allGymnasts!A37=\"\",\"\",INDEX(allGymnasts!$Z$4:$Z$103,MATCH(SMALL(allGymnasts!$Z$4:$Z$103,A37),allGymnasts!$Z$4:$Z$103,0)))),\"\")","v":""},{"$f":"IFERROR(IF(allGymnasts!A37=\"\",\"\",INDEX(allGymnasts!$A$4:$A$103,MATCH(SMALL(allGymnasts!$Z$4:$Z$103,A37),allGymnasts!$Z$4:$Z$103,0))),\"\")","v":""},{"$f":"IFERROR(IF(allGymnasts!A37=\"\",\"\",INDEX(allGymnasts!$B$4:$B$103,MATCH(SMALL(allGymnasts!$Z$4:$Z$103,A37),allGymnasts!$Z$4:$Z$103,0))),\"\")","v":""},{"$f":"IFERROR(IF(allGymnasts!A37=\"\",\"\",INDEX(allGymnasts!$C$4:$C$103,MATCH(SMALL(allGymnasts!$Z$4:$Z$103,A37),allGymnasts!$Z$4:$Z$103,0))),\"\")","v":""},{"$f":"IFERROR(IF(allGymnasts!A37=\"\",\"\",INDEX(allGymnasts!$D$4:$D$103,MATCH(SMALL(allGymnasts!$Z$4:$Z$103,A37),allGymnasts!$Z$4:$Z$103,0))),\"\")","v":""},{"$f":"IF(allGymnasts!E37=\"\",\"\",INDEX(allGymnasts!$T$4:$T$33,MATCH(SMALL(allGymnasts!$X$4:$X$33,A37),allGymnasts!$X$4:$X$33,0)))","v":""},null,null,{"$f":"IFERROR(IF(allGymnasts!A37=\"\",\"\",INDEX(allGymnasts!$Y$4:$Y$103,MATCH(SMALL(allGymnasts!$Z$4:$Z$103,A37),allGymnasts!$Z$4:$Z$103,0))),\"\")","v":""}]
[35,{"$f":"IFERROR(_xlfn.FLOOR.MATH(IF(allGymnasts!A38=\"\",\"\",INDEX(allGymnasts!$Z$4:$Z$103,MATCH(SMALL(allGymnasts!$Z$4:$Z$103,A38),allGymnasts!$Z$4:$Z$103,0)))),\"\")","v":""},{"$f":"IFERROR(IF(allGymnasts!A38=\"\",\"\",INDEX(allGymnasts!$A$4:$A$103,MATCH(SMALL(allGymnasts!$Z$4:$Z$103,A38),allGymnasts!$Z$4:$Z$103,0))),\"\")","v":""},{"$f":"IFERROR(IF(allGymnasts!A38=\"\",\"\",INDEX(allGymnasts!$B$4:$B$103,MATCH(SMALL(allGymnasts!$Z$4:$Z$103,A38),allGymnasts!$Z$4:$Z$103,0))),\"\")","v":""},{"$f":"IFERROR(IF(allGymnasts!A38=\"\",\"\",INDEX(allGymnasts!$C$4:$C$103,MATCH(SMALL(allGymnasts!$Z$4:$Z$103,A38),allGymnasts!$Z$4:$Z$103,0))),\"\")","v":""},{"$f":"IFERROR(IF(allGymnasts!A38=\"\",\"\",INDEX(allGymnasts!$D$4:$D$103,MATCH(SMALL(allGymnasts!$Z$4:$Z$103,A38),allGymnasts!$Z$4:$Z$103,0))),\"\")","v":""},{"$f":"IF(allGymnasts!E38=\"\",\"\",INDEX(allGymnasts!$T$4:$T$33,MATCH(SMALL(allGymnasts!$X$4:$X$33,A38),allGymnasts!$X$4:$X$33,0)))","v":""},null,null,{"$f":"IFERROR(IF(allGymnasts!A38=\"\",\"\",INDEX(allGymnasts!$Y$4:$Y$103,MATCH(SMALL(allGymnasts!$Z$4:$Z$103,A38),allGymnasts!$Z$4:$Z$103,0))),\"\")","v":""}]
[36,{"$f":"IFERROR(_xlfn.FLOOR.MATH(IF(allGymnasts!A39=\"\",\"\",INDEX(allGymnasts!$Z$4:$Z$103,MATCH(SMALL(allGymnasts!$Z$4:$Z$103,A39),allGymnasts!$Z$4:$Z$103,0)))),\"\")","v":""},{"$f":"IFERROR(IF(allGymnasts!A39=\"\",\"\",INDEX(allGymnasts!$A$4:$A$103,MATCH(SMALL(allGymnasts!$Z$4:$Z$103,A39),allGymnasts!$Z$4:$Z$103,0))),\"\")","v":""},{"$f":"IFERROR(IF(allGymnasts!A39=\"\",\"\",INDEX(allGymnasts!$B$4:$B$103,MATCH(SMALL(allGymnasts!$Z$4:$Z$103,A39),allGymnasts!$Z$4:$Z$103,0))),\"\")","v":""},{"$f":"IFERROR(IF(allGymnasts!A39=\"\",\"\",INDEX(allGymnasts!$C$4:$C$103,MATCH(SMALL(allGymnasts!$Z$4:$Z$103,A39),allGymnasts!$Z$4:$Z$103,0))),\"\")","v":""},{"$f":"IFERROR(IF(allGymnasts!A39=\"\",\"\",INDEX(allGymnasts!$D$4:$D$103,MATCH(SMALL(allGymnasts!$Z$4:$Z$103,A39),allGymnasts!$Z$4:$Z$103,0))),\"\")","v":""},{"$f":"IF(allGymnasts!E39=\"\",\"\",INDEX(allGymnasts!$T$4:$T$33,MATCH(SMALL(allGymnasts!$X$4:$X$33,A39),allGymnasts!$X$4:$X$33,0)))","v":""},null,null,{"$f":"IFERROR(IF(allGymnasts!A39=\"\",\"\",INDEX(allGymnasts!$Y$4:$Y$103,MATCH(SMALL(allGymnasts!$Z$4:$Z$103,A39),allGymnasts!$Z$4:$Z$103,0))),\"\")","v":""}]
[37,{"$f":"IFERROR(_xlfn.FLOOR.MATH(IF(allGymnasts!A40=\"\",\"\",INDEX(allGymnasts!$Z$4:$Z$103,MATCH(SMALL(allGymnasts!$Z$4:$Z$103,A40),allGymnasts!$Z$4:$Z$103,0)))),\"\")","v":""},{"$f":"IFERROR(IF(allGymnasts!A40=\"\",\"\",INDEX(allGymnasts!$A$4:$A$103,MATCH(SMALL(allGymnasts!$Z$4:$Z$103,A40),allGymnasts!$Z$4:$Z$103,0))),\"\")","v":""},{"$f":"IFERROR(IF(allGymnasts!A40=\"\",\"\",INDEX(allGymnasts!$B$4:$B$103,MATCH(SMALL(allGymnasts!$Z$4:$Z$103,A40),allGymnasts!$Z$4:$Z$103,0))),\"\")","v":""},{"$f":"IFERROR(IF(allGymnasts!A40=\"\",\"\",INDEX(allGymnasts!$C$4:$C$103,MATCH(SMALL(allGymnasts!$Z$4:$Z$103,A40),allGymnasts!$Z$4:$Z$103,0))),\"\")","v":""},{"$f":"IFERROR(IF(allGymnasts!A40=\"\",\"\",INDEX(allGymnasts!$D$4:$D$103,MATCH(SMALL(allGymnasts!$Z$4:$Z$103,A40),allGymnasts!$Z$4:$Z$103,0))),\"\")","v":""},{"$f":"IF(allGymnasts!E40=\"\",\"\",INDEX(allGymnasts!$T$4:$T$33,MATCH(SMALL(allGymnasts!$X$4:$X$33,A40),allGymnasts!$X$4:$X$33,0)))","v":""},null,null,{"$f":"IFERROR(IF(allGymnasts!A40=\"\",\"\",INDEX(allGymnasts!$Y$4:$Y$103,MATCH(SMALL(allGymnasts!$Z$4:$Z$103,A40),allGymnasts!$Z$4:$Z$103,0))),\"\")","v":""}]
[38,{"$f":"IFERROR(_xlfn.FLOOR.MATH(IF(allGymnasts!A41=\"\",\"\",INDEX(allGymnasts!$Z$4:$Z$103,MATCH(SMALL(allGymnasts!$Z$4:$Z$103,A41),allGymnasts!$Z$4:$Z$103,0)))),\"\")","v":""},{"$f":"IFERROR(IF(allGymnasts!A41=\"\",\"\",INDEX(allGymnasts!$A$4:$A$103,MATCH(SMALL(allGymnasts!$Z$4:$Z$103,A41),allGymnasts!$Z$4:$Z$103,0))),\"\")","v":""},{"$f":"IFERROR(IF(allGymnasts!A41=\"\",\"\",INDEX(allGymnasts!$B$4:$B$103,MATCH(SMALL(allGymnasts!$Z$4:$Z$103,A41),allGymnasts!$Z$4:$Z$103,0))),\"\")","v":""},{"$f":"IFERROR(IF(allGymnasts!A41=\"\",\"\",INDEX(allGymnasts!$C$4:$C$103,MATCH(SMALL(allGymnasts!$Z$4:$Z$103,A41),allGymnasts!$Z$4:$Z$103,0))),\"\")","v":""},{"$f":"IFERROR(IF(allGymnasts!A41=\"\",\"\",INDEX(allGymnasts!$D$4:$D$103,MATCH(SMALL(allGymnasts!$Z$4:$Z$103,A41),allGymnasts!$Z$4:$Z$103,0))),\"\")","v":""},{"$f":"IF(allGymnasts!E41=\"\",\"\",INDEX(allGymnasts!$T$4:$T$33,MATCH(SMALL(allGymnasts!$X$4:$X$33,A41),allGymnasts!$X$4:$X$33,0)))","v":""},null,null,{"$f":"IFERROR(IF(allGymnasts!A41=\"\",\"\",INDEX(allGymnasts!$Y$4:$Y$103,MATCH(SMALL(allGymnasts!$Z$4:$Z$103,A41),allGymnasts!$Z$4:$Z$103,0))),\"\")","v":""}]
[39,{"$f":"IFERROR(_xlfn.FLOOR.MATH(IF(allGymnasts!A42=\"\",\"\",INDEX(allGymnasts!$Z$4:$Z$103,MATCH(SMALL(allGymnasts!$Z$4:$Z$103,A42),allGymnasts!$Z$4:$Z$103,0)))),\"\")","v":""},{"$f":"IFERROR(IF(allGymnasts!A42=\"\",\"\",INDEX(allGymnasts!$A$4:$A$103,MATCH(SMALL(allGymnasts!$Z$4:$Z$103,A42),allGymnasts!$Z$4:$Z$103,0))),\"\")","v":""},{"$f":"IFERROR(IF(allGymnasts!A42=\"\",\"\",INDEX(allGymnasts!$B$4:$B$103,MATCH(SMALL(allGymnasts!$Z$4:$Z$103,A42),allGymnasts!$Z$4:$Z$103,0))),\"\")","v":""},{"$f":"IFERROR(IF(allGymnasts!A42=\"\",\"\",INDEX(allGymnasts!$C$4:$C$103,MATCH(SMALL(allGymnasts!$Z$4:$Z$103,A42),allGymnasts!$Z$4:$Z$103,0))),\"\")","v":""},{"$f":"IFERROR(IF(allGymnasts!A42=\"\",\"\",INDEX(allGymnasts!$D$4:$D$103,MATCH(SMALL(allGymnasts!$Z$4:$Z$103,A42),allGymnasts!$Z$4:$Z$103,0))),\"\")","v":""},{"$f":"IF(allGymnasts!E42=\"\",\"\",INDEX(allGymnasts!$T$4:$T$33,MATCH(SMALL(allGymnasts!$X$4:$X$33,A42),allGymnasts!$X$4:$X$33,0)))","v":""},null,null,{"$f":"IFERROR(IF(allGymnasts!A42=\"\",\"\",INDEX(allGymnasts!$Y$4:$Y$103,MATCH(SMALL(allGymnasts!$Z$4:$Z$103,A42),allGymnasts!$Z$4:$Z$103,0))),\"\")","v":""}]
[40,{"$f":"IFERROR(_xlfn.FLOOR.MATH(IF(allGymnasts!A43=\"\",\"\",INDEX(allGymnasts!$Z$4:$Z$103,MATCH(SMALL(allGymnasts!$Z$4:$Z$103,A43),allGymnasts!$Z$4:$Z$103,0)))),\"\")","v":""},{"$f":"IFERROR(IF(allGymnasts!A43=\"\",\"\",INDEX(allGymnasts!$A$4:$A$103,MATCH(SMALL(allGymnasts!$Z$4:$Z$103,A43),allGymnasts!$Z$4:$Z$103,0))),\"\")","v":""},{"$f":"IFERROR(IF(allGymnasts!A43=\"\",\"\",INDEX(allGymnasts!$B$4:$B$103,MATCH(SMALL(allGymnasts!$Z$4:$Z$103,A43),allGymnasts!$Z$4:$Z$103,0))),\"\")","v":""},{"$f":"IFERROR(IF(allGymnasts!A43=\"\",\"\",INDEX(allGymnasts!$C$4:$C$103,MATCH(SMALL(allGymnasts!$Z$4:$Z$103,A43),allGymnasts!$Z$4:$Z$103,0))),\"\")","v":""},{"$f":"IFERROR(IF(allGymnasts!A43=\"\",\"\",INDEX(allGymnasts!$D$4:$D$103,MATCH(SMALL(allGymnasts!$Z$4:$Z$103,A43),allGymnasts!$Z$4:$Z$103,0))),\"\")","v":""},{"$f":"IF(allGymnasts!E43=\"\",\"\",INDEX(allGymnasts!$T$4:$T$33,MATCH(SMALL(allGymnasts!$X$4:$X$33,A43),allGymnasts!$X$4:$X$33,0)))","v":""},null,null,{"$f":"IFERROR(IF(allGymnasts!A43=\"\",\"\",INDEX(allGymnasts!$Y$4:$Y$103,MATCH(SMALL(allGymnasts!$Z$4:$Z$103,A43),allGymnasts!$Z$4:$Z$103,0))),\"\")","v":""}]
[41,{"$f":"IFERROR(_xlfn.FLOOR.MATH(IF(allGymnasts!A44=\"\",\"\",INDEX(allGymnasts!$Z$4:$Z$103,MATCH(SMALL(allGymnasts!$Z$4:$Z$103,A44),allGymnasts!$Z$4:$Z$103,0)))),\"\")","v":""},{"$f":"IFERROR(IF(allGymnasts!A44=\"\",\"\",INDEX(allGymnasts!$A$4:$A$103,MATCH(SMALL(allGymnasts!$Z$4:$Z$103,A44),allGymnasts!$Z$4:$Z$103,0))),\"\")","v":""},{"$f":"IFERROR(IF(allGymnasts!A44=\"\",\"\",INDEX(allGymnasts!$B$4:$B$103,MATCH(SMALL(allGymnasts!$Z$4:$Z$103,A44),allGymnasts!$Z$4:$Z$103,0))),\"\")","v":""},{"$f":"IFERROR(IF(allGymnasts!A44=\"\",\"\",INDEX(allGymnasts!$C$4:$C$103,MATCH(SMALL(allGymnasts!$Z$4:$Z$103,A44),allGymnasts!$Z$4:$Z$103,0))),\"\")","v":""},{"$f":"IFERROR(IF(allGymnasts!A44=\"\",\"\",INDEX(allGymnasts!$D$4:$D$103,MATCH(SMALL(allGymnasts!$Z$4:$Z$103,A44),allGymnasts!$Z$4:$Z$103,0))),\"\")","v":""},{"$f":"IF(allGymnasts!E44=\"\",\"\",INDEX(allGymnasts!$T$4:$T$33,MATCH(SMALL(allGymnasts!$X$4:$X$33,A44),allGymnasts!$X$4:$X$33,0)))","v":""},null,null,{"$f":"IFERROR(IF(allGymnasts!A44=\"\",\"\",INDEX(allGymnasts!$Y$4:$Y$103,MATCH(SMALL(allGymnasts!$Z$4:$Z$103,A44),allGymnasts!$Z$4:$Z$103,0))),\"\")","v":""}]
[42,{"$f":"IFERROR(_xlfn.FLOOR.MATH(IF(allGymnasts!A45=\"\",\"\",INDEX(allGymnasts!$Z$4:$Z$103,MATCH(SMALL(allGymnasts!$Z$4:$Z$103,A45),allGymnasts!$Z$4:$Z$103,0)))),\"\")","v":""},{"$f":"IFERROR(IF(allGymnasts!A45=\"\",\"\",INDEX(allGymnasts!$A$4:$A$103,MATCH(SMALL(allGymnasts!$Z$4:$Z$103,A45),allGymnasts!$Z$4:$Z$103,0))),\"\")","v":""},{"$f":"IFERROR(IF(allGymnasts!A45=\"\",\"\",INDEX(allGymnasts!$B$4:$B$103,MATCH(SMALL(allGymnasts!$Z$4:$Z$103,A45),allGymnasts!$Z$4:$Z$103,0))),\"\")","v":""},{"$f":"IFERROR(IF(allGymnasts!A45=\"\",\"\",INDEX(allGymnasts!$C$4:$C$103,MATCH(SMALL(allGymnasts!$Z$4:$Z$103,A45),allGymnasts!$Z$4:$Z$103,0))),\"\")","v":""},{"$f":"IFERROR(IF(allGymnasts!A45=\"\",\"\",INDEX(allGymnasts!$D$4:$D$103,MATCH(SMALL(allGymnasts!$Z$4:$Z$103,A45),allGymnasts!$Z$4:$Z$103,0))),\"\")","v":""},{"$f":"IF(allGymnasts!E45=\"\",\"\",INDEX(allGymnasts!$T$4:$T$33,MATCH(SMALL(allGymnasts!$X$4:$X$33,A45),allGymnasts!$X$4:$X$33,0)))","v":""},null,null,{"$f":"IFERROR(IF(allGymnasts!A45=\"\",\"\",INDEX(allGymnasts!$Y$4:$Y$103,MATCH(SMALL(allGymnasts!$Z$4:$Z$103,A45),allGymnasts!$Z$4:$Z$103,0))),\"\")","v":""}]
[43,{"$f":"IFERROR(_xlfn.FLOOR.MATH(IF(allGymnasts!A46=\"\",\"\",INDEX(allGymnasts!$Z$4:$Z$103,MATCH(SMALL(allGymnasts!$Z$4:$Z$103,A46),allGymnasts!$Z$4:$Z$103,0)))),\"\")","v":""},{"$f":"IFERROR(IF(allGymnasts!A46=\"\",\"\",INDEX(allGymnasts!$A$4:$A$103,MATCH(SMALL(allGymnasts!$Z$4:$Z$103,A46),allGymnasts!$Z$4:$Z$103,0))),\"\")","v":""},{"$f":"IFERROR(IF(allGymnasts!A46=\"\",\"\",INDEX(allGymnasts!$B$4:$B$103,MATCH(SMALL(allGymnasts!$Z$4:$Z$103,A46),allGymnasts!$Z$4:$Z$103,0))),\"\")","v":""},{"$f":"IFERROR(IF(allGymnasts!A46=\"\",\"\",INDEX(allGymnasts!$C$4:$C$103,MATCH(SMALL(allGymnasts!$Z$4:$Z$103,A46),allGymnasts!$Z$4:$Z$103,0))),\"\")","v":""},{"$f":"IFERROR(IF(allGymnasts!A46=\"\",\"\",INDEX(allGymnasts!$D$4:$D$103,MATCH(SMALL(allGymnasts!$Z$4:$Z$103,A46),allGymnasts!$Z$4:$Z$103,0))),\"\")","v":""},{"$f":"IF(allGymnasts!E46=\"\",\"\",INDEX(allGymnasts!$T$4:$T$33,MATCH(SMALL(allGymnasts!$X$4:$X$33,A46),allGymnasts!$X$4:$X$33,0)))","v":""},null,null,{"$f":"IFERROR(IF(allGymnasts!A46=\"\",\"\",INDEX(allGymnasts!$Y$4:$Y$103,MATCH(SMALL(allGymnasts!$Z$4:$Z$103,A46),allGymnasts!$Z$4:$Z$103,0))),\"\")","v":""}]
[44,{"$f":"IFERROR(_xlfn.FLOOR.MATH(IF(allGymnasts!A47=\"\",\"\",INDEX(allGymnasts!$Z$4:$Z$103,MATCH(SMALL(allGymnasts!$Z$4:$Z$103,A47),allGymnasts!$Z$4:$Z$103,0)))),\"\")","v":""},{"$f":"IFERROR(IF(allGymnasts!A47=\"\",\"\",INDEX(allGymnasts!$A$4:$A$103,MATCH(SMALL(allGymnasts!$Z$4:$Z$103,A47),allGymnasts!$Z$4:$Z$103,0))),\"\")","v":""},{"$f":"IFERROR(IF(allGymnasts!A47=\"\",\"\",INDEX(allGymnasts!$B$4:$B$103,MATCH(SMALL(allGymnasts!$Z$4:$Z$103,A47),allGymnasts!$Z$4:$Z$103,0))),\"\")","v":""},{"$f":"IFERROR(IF(allGymnasts!A47=\"\",\"\",INDEX(allGymnasts!$C$4:$C$103,MATCH(SMALL(allGymnasts!$Z$4:$Z$103,A47),allGymnasts!$Z$4:$Z$103,0))),\"\")","v":""},{"$f":"IFERROR(IF(allGymnasts!A47=\"\",\"\",INDEX(allGymnasts!$D$4:$D$103,MATCH(SMALL(allGymnasts!$Z$4:$Z$103,A47),allGymnasts!$Z$4:$Z$103,0))),\"\")","v":""},{"$f":"IF(allGymnasts!E47=\"\",\"\",INDEX(allGymnasts!$T$4:$T$33,MATCH(SMALL(allGymnasts!$X$4:$X$33,A47),allGymnasts!$X$4:$X$33,0)))","v":""},null,null,{"$f":"IFERROR(IF(allGymnasts!A47=\"\",\"\",INDEX(allGymnasts!$Y$4:$Y$103,MATCH(SMALL(allGymnasts!$Z$4:$Z$103,A47),allGymnasts!$Z$4:$Z$103,0))),\"\")","v":""}]
[45,{"$f":"IFERROR(_xlfn.FLOOR.MATH(IF(allGymnasts!A48=\"\",\"\",INDEX(allGymnasts!$Z$4:$Z$103,MATCH(SMALL(allGymnasts!$Z$4:$Z$103,A48),allGymnasts!$Z$4:$Z$103,0)))),\"\")","v":""},{"$f":"IFERROR(IF(allGymnasts!A48=\"\",\"\",INDEX(allGymnasts!$A$4:$A$103,MATCH(SMALL(allGymnasts!$Z$4:$Z$103,A48),allGymnasts!$Z$4:$Z$103,0))),\"\")","v":""},{"$f":"IFERROR(IF(allGymnasts!A48=\"\",\"\",INDEX(allGymnasts!$B$4:$B$103,MATCH(SMALL(allGymnasts!$Z$4:$Z$103,A48),allGymnasts!$Z$4:$Z$103,0))),\"\")","v":""},{"$f":"IFERROR(IF(allGymnasts!A48=\"\",\"\",INDEX(allGymnasts!$C$4:$C$103,MATCH(SMALL(allGymnasts!$Z$4:$Z$103,A48),allGymnasts!$Z$4:$Z$103,0))),\"\")","v":""},{"$f":"IFERROR(IF(allGymnasts!A48=\"\",\"\",INDEX(allGymnasts!$D$4:$D$103,MATCH(SMALL(allGymnasts!$Z$4:$Z$103,A48),allGymnasts!$Z$4:$Z$103,0))),\"\")","v":""},{"$f":"IF(allGymnasts!E48=\"\",\"\",INDEX(allGymnasts!$T$4:$T$33,MATCH(SMALL(allGymnasts!$X$4:$X$33,A48),allGymnasts!$X$4:$X$33,0)))","v":""},null,null,{"$f":"IFERROR(IF(allGymnasts!A48=\"\",\"\",INDEX(allGymnasts!$Y$4:$Y$103,MATCH(SMALL(allGymnasts!$Z$4:$Z$103,A48),allGymnasts!$Z$4:$Z$103,0))),\"\")","v":""}]
[46,{"$f":"IFERROR(_xlfn.FLOOR.MATH(IF(allGymnasts!A49=\"\",\"\",INDEX(allGymnasts!$Z$4:$Z$103,MATCH(SMALL(allGymnasts!$Z$4:$Z$103,A49),allGymnasts!$Z$4:$Z$103,0)))),\"\")","v":""},{"$f":"IFERROR(IF(allGymnasts!A49=\"\",\"\",INDEX(allGymnasts!$A$4:$A$103,MATCH(SMALL(allGymnasts!$Z$4:$Z$103,A49),allGymnasts!$Z$4:$Z$103,0))),\"\")","v":""},{"$f":"IFERROR(IF(allGymnasts!A49=\"\",\"\",INDEX(allGymnasts!$B$4:$B$103,MATCH(SMALL(allGymnasts!$Z$4:$Z$103,A49),allGymnasts!$Z$4:$Z$103,0))),\"\")","v":""},{"$f":"IFERROR(IF(allGymnasts!A49=\"\",\"\",INDEX(allGymnasts!$C$4:$C$103,MATCH(SMALL(allGymnasts!$Z$4:$Z$103,A49),allGymnasts!$Z$4:$Z$103,0))),\"\")","v":""},{"$f":"IFERROR(IF(allGymnasts!A49=\"\",\"\",INDEX(allGymnasts!$D$4:$D$103,MATCH(SMALL(allGymnasts!$Z$4:$Z$103,A49),allGymnasts!$Z$4:$Z$103,0))),\"\")","v":""},{"$f":"IF(allGymnasts!E49=\"\",\"\",INDEX(allGymnasts!$T$4:$T$33,MATCH(SMALL(allGymnasts!$X$4:$X$33,A49),allGymnasts!$X$4:$X$33,0)))","v":""},null,null,{"$f":"IFERROR(IF(allGymnasts!A49=\"\",\"\",INDEX(allGymnasts!$Y$4:$Y$103,MATCH(SMALL(allGymnasts!$Z$4:$Z$103,A49),allGymnasts!$Z$4:$Z$103,0))),\"\")","v":""}]
[47,{"$f":"IFERROR(_xlfn.FLOOR.MATH(IF(allGymnasts!A50=\"\",\"\",INDEX(allGymnasts!$Z$4:$Z$103,MATCH(SMALL(allGymnasts!$Z$4:$Z$103,A50),allGymnasts!$Z$4:$Z$103,0)))),\"\")","v":""},{"$f":"IFERROR(IF(allGymnasts!A50=\"\",\"\",INDEX(allGymnasts!$A$4:$A$103,MATCH(SMALL(allGymnasts!$Z$4:$Z$103,A50),allGymnasts!$Z$4:$Z$103,0))),\"\")","v":""},{"$f":"IFERROR(IF(allGymnasts!A50=\"\",\"\",INDEX(allGymnasts!$B$4:$B$103,MATCH(SMALL(allGymnasts!$Z$4:$Z$103,A50),allGymnasts!$Z$4:$Z$103,0))),\"\")","v":""},{"$f":"IFERROR(IF(allGymnasts!A50=\"\",\"\",INDEX(allGymnasts!$C$4:$C$103,MATCH(SMALL(allGymnasts!$Z$4:$Z$103,A50),allGymnasts!$Z$4:$Z$103,0))),\"\")","v":""},{"$f":"IFERROR(IF(allGymnasts!A50=\"\",\"\",INDEX(allGymnasts!$D$4:$D$103,MATCH(SMALL(allGymnasts!$Z$4:$Z$103,A50),allGymnasts!$Z$4:$Z$103,0))),\"\")","v":""},{"$f":"IF(allGymnasts!E50=\"\",\"\",INDEX(allGymnasts!$T$4:$T$33,MATCH(SMALL(allGymnasts!$X$4:$X$33,A50),allGymnasts!$X$4:$X$33,0)))","v":""},null,null,{"$f":"IFERROR(IF(allGymnasts!A50=\"\",\"\",INDEX(allGymnasts!$Y$4:$Y$103,MATCH(SMALL(allGymnasts!$Z$4:$Z$103,A50),allGymnasts!$Z$4:$Z$103,0))),\"\")","v":""}]
[48,{"$f":"IFERROR(_xlfn.FLOOR.MATH(IF(allGymnasts!A51=\"\",\"\",INDEX(allGymnasts!$Z$4:$Z$103,MATCH(SMALL(allGymnasts!$Z$4:$Z$103,A51),allGymnasts!$Z$4:$Z$103,0)))),\"\")","v":""},{"$f":"IFERROR(IF(allGymnasts!A51=\"\",\"\",INDEX(allGymnasts!$A$4:$A$103,MATCH(SMALL(allGymnasts!$Z$4:$Z$103,A51),allGymnasts!$Z$4:$Z$103,0))),\"\")","v":""},{"$f":"IFERROR(IF(allGymnasts!A51=\"\",\"\",INDEX(allGymnasts!$B$4:$B$103,MATCH(SMALL(allGymnasts!$Z$4:$Z$103,A51),allGymnasts!$Z$4:$Z$103,0))),\"\")","v":""},{"$f":"IFERROR(IF(allGymnasts!A51=\"\",\"\",INDEX(allGymnasts!$C$4:$C$103,MATCH(SMALL(allGymnasts!$Z$4:$Z$103,A51),allGymnasts!$Z$4:$Z$103,0))),\"\")","v":""},{"$f":"IFERROR(IF(allGymnasts!A51=\"\",\"\",INDEX(allGymnasts!$D$4:$D$103,MATCH(SMALL(allGymnasts!$Z$4:$Z$103,A51),allGymnasts!$Z$4:$Z$103,0))),\"\")","v":""},{"$f":"IF(allGymnasts!E51=\"\",\"\",INDEX(allGymnasts!$T$4:$T$33,MATCH(SMALL(allGymnasts!$X$4:$X$33,A51),allGymnasts!$X$4:$X$33,0)))","v":""},null,null,{"$f":"IFERROR(IF(allGymnasts!A51=\"\",\"\",INDEX(allGymnasts!$Y$4:$Y$103,MATCH(SMALL(allGymnasts!$Z$4:$Z$103,A51),allGymnasts!$Z$4:$Z$103,0))),\"\")","v":""}]
[49,{"$f":"IFERROR(_xlfn.FLOOR.MATH(IF(allGymnasts!A52=\"\",\"\",INDEX(allGymnasts!$Z$4:$Z$103,MATCH(SMALL(allGymnasts!$Z$4:$Z$103,A52),allGymnasts!$Z$4:$Z$103,0)))),\"\")","v":""},{"$f":"IFERROR(IF(allGymnasts!A52=\"\",\"\",INDEX(allGymnasts!$A$4:$A$103,MATCH(SMALL(allGymnasts!$Z$4:$Z$103,A52),allGymnasts!$Z$4:$Z$103,0))),\"\")","v":""},{"$f":"IFERROR(IF(allGymnasts!A52=\"\",\"\",INDEX(allGymnasts!$B$4:$B$103,MATCH(SMALL(allGymnasts!$Z$4:$Z$103,A52),allGymnasts!$Z$4:$Z$103,0))),\"\")","v":""},{"$f":"IFERROR(IF(allGymnasts!A52=\"\",\"\",INDEX(allGymnasts!$C$4:$C$103,MATCH(SMALL(allGymnasts!$Z$4:$Z$103,A52),allGymnasts!$Z$4:$Z$103,0))),\"\")","v":""},{"$f":"IFERROR(IF(allGymnasts!A52=\"\",\"\",INDEX(allGymnasts!$D$4:$D$103,MATCH(SMALL(allGymnasts!$Z$4:$Z$103,A52),allGymnasts!$Z$4:$Z$103,0))),\"\")","v":""},{"$f":"IF(allGymnasts!E52=\"\",\"\",INDEX(allGymnasts!$T$4:$T$33,MATCH(SMALL(allGymnasts!$X$4:$X$33,A52),allGymnasts!$X$4:$X$33,0)))","v":""},null,null,{"$f":"IFERROR(IF(allGymnasts!A52=\"\",\"\",INDEX(allGymnasts!$Y$4:$Y$103,MATCH(SMALL(allGymnasts!$Z$4:$Z$103,A52),allGymnasts!$Z$4:$Z$103,0))),\"\")","v":""}]
[50,{"$f":"IFERROR(_xlfn.FLOOR.MATH(IF(allGymnasts!A53=\"\",\"\",INDEX(allGymnasts!$Z$4:$Z$103,MATCH(SMALL(allGymnasts!$Z$4:$Z$103,A53),allGymnasts!$Z$4:$Z$103,0)))),\"\")","v":""},{"$f":"IFERROR(IF(allGymnasts!A53=\"\",\"\",INDEX(allGymnasts!$A$4:$A$103,MATCH(SMALL(allGymnasts!$Z$4:$Z$103,A53),allGymnasts!$Z$4:$Z$103,0))),\"\")","v":""},{"$f":"IFERROR(IF(allGymnasts!A53=\"\",\"\",INDEX(allGymnasts!$B$4:$B$103,MATCH(SMALL(allGymnasts!$Z$4:$Z$103,A53),allGymnasts!$Z$4:$Z$103,0))),\"\")","v":""},{"$f":"IFERROR(IF(allGymnasts!A53=\"\",\"\",INDEX(allGymnasts!$C$4:$C$103,MATCH(SMALL(allGymnasts!$Z$4:$Z$103,A53),allGymnasts!$Z$4:$Z$103,0))),\"\")","v":""},{"$f":"IFERROR(IF(allGymnasts!A53=\"\",\"\",INDEX(allGymnasts!$D$4:$D$103,MATCH(SMALL(allGymnasts!$Z$4:$Z$103,A53),allGymnasts!$Z$4:$Z$103,0))),\"\")","v":""},{"$f":"IF(allGymnasts!E53=\"\",\"\",INDEX(allGymnasts!$T$4:$T$33,MATCH(SMALL(allGymnasts!$X$4:$X$33,A53),allGymnasts!$X$4:$X$33,0)))","v":""},null,null,{"$f":"IFERROR(IF(allGymnasts!A53=\"\",\"\",INDEX(allGymnasts!$Y$4:$Y$103,MATCH(SMALL(allGymnasts!$Z$4:$Z$103,A53),allGymnasts!$Z$4:$Z$103,0))),\"\")","v":""}]
[51,{"$f":"IFERROR(_xlfn.FLOOR.MATH(IF(allGymnasts!A54=\"\",\"\",INDEX(allGymnasts!$Z$4:$Z$103,MATCH(SMALL(allGymnasts!$Z$4:$Z$103,A54),allGymnasts!$Z$4:$Z$103,0)))),\"\")","v":""},{"$f":"IFERROR(IF(allGymnasts!A54=\"\",\"\",INDEX(allGymnasts!$A$4:$A$103,MATCH(SMALL(allGymnasts!$Z$4:$Z$103,A54),allGymnasts!$Z$4:$Z$103,0))),\"\")","v":""},{"$f":"IFERROR(IF(allGymnasts!A54=\"\",\"\",INDEX(allGymnasts!$B$4:$B$103,MATCH(SMALL(allGymnasts!$Z$4:$Z$103,A54),allGymnasts!$Z$4:$Z$103,0))),\"\")","v":""},{"$f":"IFERROR(IF(allGymnasts!A54=\"\",\"\",INDEX(allGymnasts!$C$4:$C$103,MATCH(SMALL(allGymnasts!$Z$4:$Z$103,A54),allGymnasts!$Z$4:$Z$103,0))),\"\")","v":""},{"$f":"IFERROR(IF(allGymnasts!A54=\"\",\"\",INDEX(allGymnasts!$D$4:$D$103,MATCH(SMALL(allGymnasts!$Z$4:$Z$103,A54),allGymnasts!$Z$4:$Z$103,0))),\"\")","v":""},{"$f":"IF(allGymnasts!E54=\"\",\"\",INDEX(allGymnasts!$T$4:$T$33,MATCH(SMALL(allGymnasts!$X$4:$X$33,A54),allGymnasts!$X$4:$X$33,0)))","v":""},null,null,{"$f":"IFERROR(IF(allGymnasts!A54=\"\",\"\",INDEX(allGymnasts!$Y$4:$Y$103,MATCH(SMALL(allGymnasts!$Z$4:$Z$103,A54),allGymnasts!$Z$4:$Z$103,0))),\"\")","v":""}]
[52,{"$f":"IFERROR(_xlfn.FLOOR.MATH(IF(allGymnasts!A55=\"\",\"\",INDEX(allGymnasts!$Z$4:$Z$103,MATCH(SMALL(allGymnasts!$Z$4:$Z$103,A55),allGymnasts!$Z$4:$Z$103,0)))),\"\")","v":""},{"$f":"IFERROR(IF(allGymnasts!A55=\"\",\"\",INDEX(allGymnasts!$A$4:$A$103,MATCH(SMALL(allGymnasts!$Z$4:$Z$103,A55),allGymnasts!$Z$4:$Z$103,0))),\"\")","v":""},{"$f":"IFERROR(IF(allGymnasts!A55=\"\",\"\",INDEX(allGymnasts!$B$4:$B$103,MATCH(SMALL(allGymnasts!$Z$4:$Z$103,A55),allGymnasts!$Z$4:$Z$103,0))),\"\")","v":""},{"$f":"IFERROR(IF(allGymnasts!A55=\"\",\"\",INDEX(allGymnasts!$C$4:$C$103,MATCH(SMALL(allGymnasts!$Z$4:$Z$103,A55),allGymnasts!$Z$4:$Z$103,0))),\"\")","v":""},{"$f":"IFERROR(IF(allGymnasts!A55=\"\",\"\",INDEX(allGymnasts!$D$4:$D$103,MATCH(SMALL(allGymnasts!$Z$4:$Z$103,A55),allGymnasts!$Z$4:$Z$103,0))),\"\")","v":""},{"$f":"IF(allGymnasts!E55=\"\",\"\",INDEX(allGymnasts!$T$4:$T$33,MATCH(SMALL(allGymnasts!$X$4:$X$33,A55),allGymnasts!$X$4:$X$33,0)))","v":""},null,null,{"$f":"IFERROR(IF(allGymnasts!A55=\"\",\"\",INDEX(allGymnasts!$Y$4:$Y$103,MATCH(SMALL(allGymnasts!$Z$4:$Z$103,A55),allGymnasts!$Z$4:$Z$103,0))),\"\")","v":""}]
[53,{"$f":"IFERROR(_xlfn.FLOOR.MATH(IF(allGymnasts!A56=\"\",\"\",INDEX(allGymnasts!$Z$4:$Z$103,MATCH(SMALL(allGymnasts!$Z$4:$Z$103,A56),allGymnasts!$Z$4:$Z$103,0)))),\"\")","v":""},{"$f":"IFERROR(IF(allGymnasts!A56=\"\",\"\",INDEX(allGymnasts!$A$4:$A$103,MATCH(SMALL(allGymnasts!$Z$4:$Z$103,A56),allGymnasts!$Z$4:$Z$103,0))),\"\")","v":""},{"$f":"IFERROR(IF(allGymnasts!A56=\"\",\"\",INDEX(allGymnasts!$B$4:$B$103,MATCH(SMALL(allGymnasts!$Z$4:$Z$103,A56),allGymnasts!$Z$4:$Z$103,0))),\"\")","v":""},{"$f":"IFERROR(IF(allGymnasts!A56=\"\",\"\",INDEX(allGymnasts!$C$4:$C$103,MATCH(SMALL(allGymnasts!$Z$4:$Z$103,A56),allGymnasts!$Z$4:$Z$103,0))),\"\")","v":""},{"$f":"IFERROR(IF(allGymnasts!A56=\"\",\"\",INDEX(allGymnasts!$D$4:$D$103,MATCH(SMALL(allGymnasts!$Z$4:$Z$103,A56),allGymnasts!$Z$4:$Z$103,0))),\"\")","v":""},{"$f":"IF(allGymnasts!E56=\"\",\"\",INDEX(allGymnasts!$T$4:$T$33,MATCH(SMALL(allGymnasts!$X$4:$X$33,A56),allGymnasts!$X$4:$X$33,0)))","v":""},null,null,{"$f":"IFERROR(IF(allGymnasts!A56=\"\",\"\",INDEX(allGymnasts!$Y$4:$Y$103,MATCH(SMALL(allGymnasts!$Z$4:$Z$103,A56),allGymnasts!$Z$4:$Z$103,0))),\"\")","v":""}]
[54,{"$f":"IFERROR(_xlfn.FLOOR.MATH(IF(allGymnasts!A57=\"\",\"\",INDEX(allGymnasts!$Z$4:$Z$103,MATCH(SMALL(allGymnasts!$Z$4:$Z$103,A57),allGymnasts!$Z$4:$Z$103,0)))),\"\")","v":""},{"$f":"IFERROR(IF(allGymnasts!A57=\"\",\"\",INDEX(allGymnasts!$A$4:$A$103,MATCH(SMALL(allGymnasts!$Z$4:$Z$103,A57),allGymnasts!$Z$4:$Z$103,0))),\"\")","v":""},{"$f":"IFERROR(IF(allGymnasts!A57=\"\",\"\",INDEX(allGymnasts!$B$4:$B$103,MATCH(SMALL(allGymnasts!$Z$4:$Z$103,A57),allGymnasts!$Z$4:$Z$103,0))),\"\")","v":""},{"$f":"IFERROR(IF(allGymnasts!A57=\"\",\"\",INDEX(allGymnasts!$C$4:$C$103,MATCH(SMALL(allGymnasts!$Z$4:$Z$103,A57),allGymnasts!$Z$4:$Z$103,0))),\"\")","v":""},{"$f":"IFERROR(IF(allGymnasts!A57=\"\",\"\",INDEX(allGymnasts!$D$4:$D$103,MATCH(SMALL(allGymnasts!$Z$4:$Z$103,A57),allGymnasts!$Z$4:$Z$103,0))),\"\")","v":""},{"$f":"IF(allGymnasts!E57=\"\",\"\",INDEX(allGymnasts!$T$4:$T$33,MATCH(SMALL(allGymnasts!$X$4:$X$33,A57),allGymnasts!$X$4:$X$33,0)))","v":""},null,null,{"$f":"IFERROR(IF(allGymnasts!A57=\"\",\"\",INDEX(allGymnasts!$Y$4:$Y$103,MATCH(SMALL(allGymnasts!$Z$4:$Z$103,A57),allGymnasts!$Z$4:$Z$103,0))),\"\")","v":""}]
[55,{"$f":"IFERROR(_xlfn.FLOOR.MATH(IF(allGymnasts!A58=\"\",\"\",INDEX(allGymnasts!$Z$4:$Z$103,MATCH(SMALL(allGymnasts!$Z$4:$Z$103,A58),allGymnasts!$Z$4:$Z$103,0)))),\"\")","v":""},{"$f":"IFERROR(IF(allGymnasts!A58=\"\",\"\",INDEX(allGymnasts!$A$4:$A$103,MATCH(SMALL(allGymnasts!$Z$4:$Z$103,A58),allGymnasts!$Z$4:$Z$103,0))),\"\")","v":""},{"$f":"IFERROR(IF(allGymnasts!A58=\"\",\"\",INDEX(allGymnasts!$B$4:$B$103,MATCH(SMALL(allGymnasts!$Z$4:$Z$103,A58),allGymnasts!$Z$4:$Z$103,0))),\"\")","v":""},{"$f":"IFERROR(IF(allGymnasts!A58=\"\",\"\",INDEX(allGymnasts!$C$4:$C$103,MATCH(SMALL(allGymnasts!$Z$4:$Z$103,A58),allGymnasts!$Z$4:$Z$103,0))),\"\")","v":""},{"$f":"IFERROR(IF(allGymnasts!A58=\"\",\"\",INDEX(allGymnasts!$D$4:$D$103,MATCH(SMALL(allGymnasts!$Z$4:$Z$103,A58),allGymnasts!$Z$4:$Z$103,0))),\"\")","v":""},{"$f":"IF(allGymnasts!E58=\"\",\"\",INDEX(allGymnasts!$T$4:$T$33,MATCH(SMALL(allGymnasts!$X$4:$X$33,A58),allGymnasts!$X$4:$X$33,0)))","v":""},null,null,{"$f":"IFERROR(IF(allGymnasts!A58=\"\",\"\",INDEX(allGymnasts!$Y$4:$Y$103,MATCH(SMALL(allGymnasts!$Z$4:$Z$103,A58),allGymnasts!$Z$4:$Z$103,0))),\"\")","v":""}]
[56,{"$f":"IFERROR(_xlfn.FLOOR.MATH(IF(allGymnasts!A59=\"\",\"\",INDEX(allGymnasts!$Z$4:$Z$103,MATCH(SMALL(allGymnasts!$Z$4:$Z$103,A59),allGymnasts!$Z$4:$Z$103,0)))),\"\")","v":""},{"$f":"IFERROR(IF(allGymnasts!A59=\"\",\"\",INDEX(allGymnasts!$A$4:$A$103,MATCH(SMALL(allGymnasts!$Z$4:$Z$103,A59),allGymnasts!$Z$4:$Z$103,0))),\"\")","v":""},{"$f":"IFERROR(IF(allGymnasts!A59=\"\",\"\",INDEX(allGymnasts!$B$4:$B$103,MATCH(SMALL(allGymnasts!$Z$4:$Z$103,A59),allGymnasts!$Z$4:$Z$103,0))),\"\")","v":""},{"$f":"IFERROR(IF(allGymnasts!A59=\"\",\"\",INDEX(allGymnasts!$C$4:$C$103,MATCH(SMALL(allGymnasts!$Z$4:$Z$103,A59),allGymnasts!$Z$4:$Z$103,0))),\"\")","v":""},{"$f":"IFERROR(IF(allGymnasts!A59=\"\",\"\",INDEX(allGymnasts!$D$4:$D$103,MATCH(SMALL(allGymnasts!$Z$4:$Z$103,A59),allGymnasts!$Z$4:$Z$103,0))),\"\")","v":""},{"$f":"IF(allGymnasts!E59=\"\",\"\",INDEX(allGymnasts!$T$4:$T$33,MATCH(SMALL(allGymnasts!$X$4:$X$33,A59),allGymnasts!$X$4:$X$33,0)))","v":""},null,null,{"$f":"IFERROR(IF(allGymnasts!A59=\"\",\"\",INDEX(allGymnasts!$Y$4:$Y$103,MATCH(SMALL(allGymnasts!$Z$4:$Z$103,A59),allGymnasts!$Z$4:$Z$103,0))),\"\")","v":""}]
[57,{"$f":"IFERROR(_xlfn.FLOOR.MATH(IF(allGymnasts!A60=\"\",\"\",INDEX(allGymnasts!$Z$4:$Z$103,MATCH(SMALL(allGymnasts!$Z$4:$Z$103,A60),allGymnasts!$Z$4:$Z$103,0)))),\"\")","v":""},{"$f":"IFERROR(IF(allGymnasts!A60=\"\",\"\",INDEX(allGymnasts!$A$4:$A$103,MATCH(SMALL(allGymnasts!$Z$4:$Z$103,A60),allGymnasts!$Z$4:$Z$103,0))),\"\")","v":""},{"$f":"IFERROR(IF(allGymnasts!A60=\"\",\"\",INDEX(allGymnasts!$B$4:$B$103,MATCH(SMALL(allGymnasts!$Z$4:$Z$103,A60),allGymnasts!$Z$4:$Z$103,0))),\"\")","v":""},{"$f":"IFERROR(IF(allGymnasts!A60=\"\",\"\",INDEX(allGymnasts!$C$4:$C$103,MATCH(SMALL(allGymnasts!$Z$4:$Z$103,A60),allGymnasts!$Z$4:$Z$103,0))),\"\")","v":""},{"$f":"IFERROR(IF(allGymnasts!A60=\"\",\"\",INDEX(allGymnasts!$D$4:$D$103,MATCH(SMALL(allGymnasts!$Z$4:$Z$103,A60),allGymnasts!$Z$4:$Z$103,0))),\"\")","v":""},{"$f":"IF(allGymnasts!E60=\"\",\"\",INDEX(allGymnasts!$T$4:$T$33,MATCH(SMALL(allGymnasts!$X$4:$X$33,A60),allGymnasts!$X$4:$X$33,0)))","v":""},null,null,{"$f":"IFERROR(IF(allGymnasts!A60=\"\",\"\",INDEX(allGymnasts!$Y$4:$Y$103,MATCH(SMALL(allGymnasts!$Z$4:$Z$103,A60),allGymnasts!$Z$4:$Z$103,0))),\"\")","v":""}]
[58,{"$f":"IFERROR(_xlfn.FLOOR.MATH(IF(allGymnasts!A61=\"\",\"\",INDEX(allGymnasts!$Z$4:$Z$103,MATCH(SMALL(allGymnasts!$Z$4:$Z$103,A61),allGymnasts!$Z$4:$Z$103,0)))),\"\")","v":""},{"$f":"IFERROR(IF(allGymnasts!A61=\"\",\"\",INDEX(allGymnasts!$A$4:$A$103,MATCH(SMALL(allGymnasts!$Z$4:$Z$103,A61),allGymnasts!$Z$4:$Z$103,0))),\"\")","v":""},{"$f":"IFERROR(IF(allGymnasts!A61=\"\",\"\",INDEX(allGymnasts!$B$4:$B$103,MATCH(SMALL(allGymnasts!$Z$4:$Z$103,A61),allGymnasts!$Z$4:$Z$103,0))),\"\")","v":""},{"$f":"IFERROR(IF(allGymnasts!A61=\"\",\"\",INDEX(allGymnasts!$C$4:$C$103,MATCH(SMALL(allGymnasts!$Z$4:$Z$103,A61),allGymnasts!$Z$4:$Z$103,0))),\"\")","v":""},{"$f":"IFERROR(IF(allGymnasts!A61=\"\",\"\",INDEX(allGymnasts!$D$4:$D$103,MATCH(SMALL(allGymnasts!$Z$4:$Z$103,A61),allGymnasts!$Z$4:$Z$103,0))),\"\")","v":""},{"$f":"IF(allGymnasts!E61=\"\",\"\",INDEX(allGymnasts!$T$4:$T$33,MATCH(SMALL(allGymnasts!$X$4:$X$33,A61),allGymnasts!$X$4:$X$33,0)))","v":""},null,null,{"$f":"IFERROR(IF(allGymnasts!A61=\"\",\"\",INDEX(allGymnasts!$Y$4:$Y$103,MATCH(SMALL(allGymnasts!$Z$4:$Z$103,A61),allGymnasts!$Z$4:$Z$103,0))),\"\")","v":""}]
[59,{"$f":"IFERROR(_xlfn.FLOOR.MATH(IF(allGymnasts!A62=\"\",\"\",INDEX(allGymnasts!$Z$4:$Z$103,MATCH(SMALL(allGymnasts!$Z$4:$Z$103,A62),allGymnasts!$Z$4:$Z$103,0)))),\"\")","v":""},{"$f":"IFERROR(IF(allGymnasts!A62=\"\",\"\",INDEX(allGymnasts!$A$4:$A$103,MATCH(SMALL(allGymnasts!$Z$4:$Z$103,A62),allGymnasts!$Z$4:$Z$103,0))),\"\")","v":""},{"$f":"IFERROR(IF(allGymnasts!A62=\"\",\"\",INDEX(allGymnasts!$B$4:$B$103,MATCH(SMALL(allGymnasts!$Z$4:$Z$103,A62),allGymnasts!$Z$4:$Z$103,0))),\"\")","v":""},{"$f":"IFERROR(IF(allGymnasts!A62=\"\",\"\",INDEX(allGymnasts!$C$4:$C$103,MATCH(SMALL(allGymnasts!$Z$4:$Z$103,A62),allGymnasts!$Z$4:$Z$103,0))),\"\")","v":""},{"$f":"IFERROR(IF(allGymnasts!A62=\"\",\"\",INDEX(allGymnasts!$D$4:$D$103,MATCH(SMALL(allGymnasts!$Z$4:$Z$103,A62),allGymnasts!$Z$4:$Z$103,0))),\"\")","v":""},{"$f":"IF(allGymnasts!E62=\"\",\"\",INDEX(allGymnasts!$T$4:$T$33,MATCH(SMALL(allGymnasts!$X$4:$X$33,A62),allGymnasts!$X$4:$X$33,0)))","v":""},null,null,{"$f":"IFERROR(IF(allGymnasts!A62=\"\",\"\",INDEX(allGymnasts!$Y$4:$Y$103,MATCH(SMALL(allGymnasts!$Z$4:$Z$103,A62),allGymnasts!$Z$4:$Z$103,0))),\"\")","v":""}]
[60,{"$f":"IFERROR(_xlfn.FLOOR.MATH(IF(allGymnasts!A63=\"\",\"\",INDEX(allGymnasts!$Z$4:$Z$103,MATCH(SMALL(allGymnasts!$Z$4:$Z$103,A63),allGymnasts!$Z$4:$Z$103,0)))),\"\")","v":""},{"$f":"IFERROR(IF(allGymnasts!A63=\"\",\"\",INDEX(allGymnasts!$A$4:$A$103,MATCH(SMALL(allGymnasts!$Z$4:$Z$103,A63),allGymnasts!$Z$4:$Z$103,0))),\"\")","v":""},{"$f":"IFERROR(IF(allGymnasts!A63=\"\",\"\",INDEX(allGymnasts!$B$4:$B$103,MATCH(SMALL(allGymnasts!$Z$4:$Z$103,A63),allGymnasts!$Z$4:$Z$103,0))),\"\")","v":""},{"$f":"IFERROR(IF(allGymnasts!A63=\"\",\"\",INDEX(allGymnasts!$C$4:$C$103,MATCH(SMALL(allGymnasts!$Z$4:$Z$103,A63),allGymnasts!$Z$4:$Z$103,0))),\"\")","v":""},{"$f":"IFERROR(IF(allGymnasts!A63=\"\",\"\",INDEX(allGymnasts!$D$4:$D$103,MATCH(SMALL(allGymnasts!$Z$4:$Z$103,A63),allGymnasts!$Z$4:$Z$103,0))),\"\")","v":""},{"$f":"IF(allGymnasts!E63=\"\",\"\",INDEX(allGymnasts!$T$4:$T$33,MATCH(SMALL(allGymnasts!$X$4:$X$33,A63),allGymnasts!$X$4:$X$33,0)))","v":""},null,null,{"$f":"IFERROR(IF(allGymnasts!A63=\"\",\"\",INDEX(allGymnasts!$Y$4:$Y$103,MATCH(SMALL(allGymnasts!$Z$4:$Z$103,A63),allGymnasts!$Z$4:$Z$103,0))),\"\")","v":""}]
[61,{"$f":"IFERROR(_xlfn.FLOOR.MATH(IF(allGymnasts!A64=\"\",\"\",INDEX(allGymnasts!$Z$4:$Z$103,MATCH(SMALL(allGymnasts!$Z$4:$Z$103,A64),allGymnasts!$Z$4:$Z$103,0)))),\"\")","v":""},{"$f":"IFERROR(IF(allGymnasts!A64=\"\",\"\",INDEX(allGymnasts!$A$4:$A$103,MATCH(SMALL(allGymnasts!$Z$4:$Z$103,A64),allGymnasts!$Z$4:$Z$103,0))),\"\")","v":""},{"$f":"IFERROR(IF(allGymnasts!A64=\"\",\"\",INDEX(allGymnasts!$B$4:$B$103,MATCH(SMALL(allGymnasts!$Z$4:$Z$103,A64),allGymnasts!$Z$4:$Z$103,0))),\"\")","v":""},{"$f":"IFERROR(IF(allGymnasts!A64=\"\",\"\",INDEX(allGymnasts!$C$4:$C$103,MATCH(SMALL(allGymnasts!$Z$4:$Z$103,A64),allGymnasts!$Z$4:$Z$103,0))),\"\")","v":""},{"$f":"IFERROR(IF(allGymnasts!A64=\"\",\"\",INDEX(allGymnasts!$D$4:$D$103,MATCH(SMALL(allGymnasts!$Z$4:$Z$103,A64),allGymnasts!$Z$4:$Z$103,0))),\"\")","v":""},{"$f":"IF(allGymnasts!E64=\"\",\"\",INDEX(allGymnasts!$T$4:$T$33,MATCH(SMALL(allGymnasts!$X$4:$X$33,A64),allGymnasts!$X$4:$X$33,0)))","v":""},null,null,{"$f":"IFERROR(IF(allGymnasts!A64=\"\",\"\",INDEX(allGymnasts!$Y$4:$Y$103,MATCH(SMALL(allGymnasts!$Z$4:$Z$103,A64),allGymnasts!$Z$4:$Z$103,0))),\"\")","v":""}]
[62,{"$f":"IFERROR(_xlfn.FLOOR.MATH(IF(allGymnasts!A65=\"\",\"\",INDEX(allGymnasts!$Z$4:$Z$103,MATCH(SMALL(allGymnasts!$Z$4:$Z$103,A65),allGymnasts!$Z$4:$Z$103,0)))),\"\")","v":""},{"$f":"IFERROR(IF(allGymnasts!A65=\"\",\"\",INDEX(allGymnasts!$A$4:$A$103,MATCH(SMALL(allGymnasts!$Z$4:$Z$103,A65),allGymnasts!$Z$4:$Z$103,0))),\"\")","v":""},{"$f":"IFERROR(IF(allGymnasts!A65=\"\",\"\",INDEX(allGymnasts!$B$4:$B$103,MATCH(SMALL(allGymnasts!$Z$4:$Z$103,A65),allGymnasts!$Z$4:$Z$103,0))),\"\")","v":""},{"$f":"IFERROR(IF(allGymnasts!A65=\"\",\"\",INDEX(allGymnasts!$C$4:$C$103,MATCH(SMALL(allGymnasts!$Z$4:$Z$103,A65),allGymnasts!$Z$4:$Z$103,0))),\"\")","v":""},{"$f":"IFERROR(IF(allGymnasts!A65=\"\",\"\",INDEX(allGymnasts!$D$4:$D$103,MATCH(SMALL(allGymnasts!$Z$4:$Z$103,A65),allGymnasts!$Z$4:$Z$103,0))),\"\")","v":""},{"$f":"IF(allGymnasts!E65=\"\",\"\",INDEX(allGymnasts!$T$4:$T$33,MATCH(SMALL(allGymnasts!$X$4:$X$33,A65),allGymnasts!$X$4:$X$33,0)))","v":""},null,null,{"$f":"IFERROR(IF(allGymnasts!A65=\"\",\"\",INDEX(allGymnasts!$Y$4:$Y$103,MATCH(SMALL(allGymnasts!$Z$4:$Z$103,A65),allGymnasts!$Z$4:$Z$103,0))),\"\")","v":""}]
[63,{"$f":"IFERROR(_xlfn.FLOOR.MATH(IF(allGymnasts!A66=\"\",\"\",INDEX(allGymnasts!$Z$4:$Z$103,MATCH(SMALL(allGymnasts!$Z$4:$Z$103,A66),allGymnasts!$Z$4:$Z$103,0)))),\"\")","v":""},{"$f":"IFERROR(IF(allGymnasts!A66=\"\",\"\",INDEX(allGymnasts!$A$4:$A$103,MATCH(SMALL(allGymnasts!$Z$4:$Z$103,A66),allGymnasts!$Z$4:$Z$103,0))),\"\")","v":""},{"$f":"IFERROR(IF(allGymnasts!A66=\"\",\"\",INDEX(allGymnasts!$B$4:$B$103,MATCH(SMALL(allGymnasts!$Z$4:$Z$103,A66),allGymnasts!$Z$4:$Z$103,0))),\"\")","v":""},{"$f":"IFERROR(IF(allGymnasts!A66=\"\",\"\",INDEX(allGymnasts!$C$4:$C$103,MATCH(SMALL(allGymnasts!$Z$4:$Z$103,A66),allGymnasts!$Z$4:$Z$103,0))),\"\")","v":""},{"$f":"IFERROR(IF(allGymnasts!A66=\"\",\"\",INDEX(allGymnasts!$D$4:$D$103,MATCH(SMALL(allGymnasts!$Z$4:$Z$103,A66),allGymnasts!$Z$4:$Z$103,0))),\"\")","v":""},{"$f":"IF(allGymnasts!E66=\"\",\"\",INDEX(allGymnasts!$T$4:$T$33,MATCH(SMALL(allGymnasts!$X$4:$X$33,A66),allGymnasts!$X$4:$X$33,0)))","v":""},null,null,{"$f":"IFERROR(IF(allGymnasts!A66=\"\",\"\",INDEX(allGymnasts!$Y$4:$Y$103,MATCH(SMALL(allGymnasts!$Z$4:$Z$103,A66),allGymnasts!$Z$4:$Z$103,0))),\"\")","v":""}]
[64,{"$f":"IFERROR(_xlfn.FLOOR.MATH(IF(allGymnasts!A67=\"\",\"\",INDEX(allGymnasts!$Z$4:$Z$103,MATCH(SMALL(allGymnasts!$Z$4:$Z$103,A67),allGymnasts!$Z$4:$Z$103,0)))),\"\")","v":""},{"$f":"IFERROR(IF(allGymnasts!A67=\"\",\"\",INDEX(allGymnasts!$A$4:$A$103,MATCH(SMALL(allGymnasts!$Z$4:$Z$103,A67),allGymnasts!$Z$4:$Z$103,0))),\"\")","v":""},{"$f":"IFERROR(IF(allGymnasts!A67=\"\",\"\",INDEX(allGymnasts!$B$4:$B$103,MATCH(SMALL(allGymnasts!$Z$4:$Z$103,A67),allGymnasts!$Z$4:$Z$103,0))),\"\")","v":""},{"$f":"IFERROR(IF(allGymnasts!A67=\"\",\"\",INDEX(allGymnasts!$C$4:$C$103,MATCH(SMALL(allGymnasts!$Z$4:$Z$103,A67),allGymnasts!$Z$4:$Z$103,0))),\"\")","v":""},{"$f":"IFERROR(IF(allGymnasts!A67=\"\",\"\",INDEX(allGymnasts!$D$4:$D$103,MATCH(SMALL(allGymnasts!$Z$4:$Z$103,A67),allGymnasts!$Z$4:$Z$103,0))),\"\")","v":""},{"$f":"IF(allGymnasts!E67=\"\",\"\",INDEX(allGymnasts!$T$4:$T$33,MATCH(SMALL(allGymnasts!$X$4:$X$33,A67),allGymnasts!$X$4:$X$33,0)))","v":""},null,null,{"$f":"IFERROR(IF(allGymnasts!A67=\"\",\"\",INDEX(allGymnasts!$Y$4:$Y$103,MATCH(SMALL(allGymnasts!$Z$4:$Z$103,A67),allGymnasts!$Z$4:$Z$103,0))),\"\")","v":""}]
[65,{"$f":"IFERROR(_xlfn.FLOOR.MATH(IF(allGymnasts!A68=\"\",\"\",INDEX(allGymnasts!$Z$4:$Z$103,MATCH(SMALL(allGymnasts!$Z$4:$Z$103,A68),allGymnasts!$Z$4:$Z$103,0)))),\"\")","v":""},{"$f":"IFERROR(IF(allGymnasts!A68=\"\",\"\",INDEX(allGymnasts!$A$4:$A$103,MATCH(SMALL(allGymnasts!$Z$4:$Z$103,A68),allGymnasts!$Z$4:$Z$103,0))),\"\")","v":""},{"$f":"IFERROR(IF(allGymnasts!A68=\"\",\"\",INDEX(allGymnasts!$B$4:$B$103,MATCH(SMALL(allGymnasts!$Z$4:$Z$103,A68),allGymnasts!$Z$4:$Z$103,0))),\"\")","v":""},{"$f":"IFERROR(IF(allGymnasts!A68=\"\",\"\",INDEX(allGymnasts!$C$4:$C$103,MATCH(SMALL(allGymnasts!$Z$4:$Z$103,A68),allGymnasts!$Z$4:$Z$103,0))),\"\")","v":""},{"$f":"IFERROR(IF(allGymnasts!A68=\"\",\"\",INDEX(allGymnasts!$D$4:$D$103,MATCH(SMALL(allGymnasts!$Z$4:$Z$103,A68),allGymnasts!$Z$4:$Z$103,0))),\"\")","v":""},{"$f":"IF(allGymnasts!E68=\"\",\"\",INDEX(allGymnasts!$T$4:$T$33,MATCH(SMALL(allGymnasts!$X$4:$X$33,A68),allGymnasts!$X$4:$X$33,0)))","v":""},null,null,{"$f":"IFERROR(IF(allGymnasts!A68=\"\",\"\",INDEX(allGymnasts!$Y$4:$Y$103,MATCH(SMALL(allGymnasts!$Z$4:$Z$103,A68),allGymnasts!$Z$4:$Z$103,0))),\"\")","v":""}]
[66,{"$f":"IFERROR(_xlfn.FLOOR.MATH(IF(allGymnasts!A69=\"\",\"\",INDEX(allGymnasts!$Z$4:$Z$103,MATCH(SMALL(allGymnasts!$Z$4:$Z$103,A69),allGymnasts!$Z$4:$Z$103,0)))),\"\")","v":""},{"$f":"IFERROR(IF(allGymnasts!A69=\"\",\"\",INDEX(allGymnasts!$A$4:$A$103,MATCH(SMALL(allGymnasts!$Z$4:$Z$103,A69),allGymnasts!$Z$4:$Z$103,0))),\"\")","v":""},{"$f":"IFERROR(IF(allGymnasts!A69=\"\",\"\",INDEX(allGymnasts!$B$4:$B$103,MATCH(SMALL(allGymnasts!$Z$4:$Z$103,A69),allGymnasts!$Z$4:$Z$103,0))),\"\")","v":""},{"$f":"IFERROR(IF(allGymnasts!A69=\"\",\"\",INDEX(allGymnasts!$C$4:$C$103,MATCH(SMALL(allGymnasts!$Z$4:$Z$103,A69),allGymnasts!$Z$4:$Z$103,0))),\"\")","v":""},{"$f":"IFERROR(IF(allGymnasts!A69=\"\",\"\",INDEX(allGymnasts!$D$4:$D$103,MATCH(SMALL(allGymnasts!$Z$4:$Z$103,A69),allGymnasts!$Z$4:$Z$103,0))),\"\")","v":""},{"$f":"IF(allGymnasts!E69=\"\",\"\",INDEX(allGymnasts!$T$4:$T$33,MATCH(SMALL(allGymnasts!$X$4:$X$33,A69),allGymnasts!$X$4:$X$33,0)))","v":""},null,null,{"$f":"IFERROR(IF(allGymnasts!A69=\"\",\"\",INDEX(allGymnasts!$Y$4:$Y$103,MATCH(SMALL(allGymnasts!$Z$4:$Z$103,A69),allGymnasts!$Z$4:$Z$103,0))),\"\")","v":""}]
[67,{"$f":"IFERROR(_xlfn.FLOOR.MATH(IF(allGymnasts!A70=\"\",\"\",INDEX(allGymnasts!$Z$4:$Z$103,MATCH(SMALL(allGymnasts!$Z$4:$Z$103,A70),allGymnasts!$Z$4:$Z$103,0)))),\"\")","v":""},{"$f":"IFERROR(IF(allGymnasts!A70=\"\",\"\",INDEX(allGymnasts!$A$4:$A$103,MATCH(SMALL(allGymnasts!$Z$4:$Z$103,A70),allGymnasts!$Z$4:$Z$103,0))),\"\")","v":""},{"$f":"IFERROR(IF(allGymnasts!A70=\"\",\"\",INDEX(allGymnasts!$B$4:$B$103,MATCH(SMALL(allGymnasts!$Z$4:$Z$103,A70),allGymnasts!$Z$4:$Z$103,0))),\"\")","v":""},{"$f":"IFERROR(IF(allGymnasts!A70=\"\",\"\",INDEX(allGymnasts!$C$4:$C$103,MATCH(SMALL(allGymnasts!$Z$4:$Z$103,A70),allGymnasts!$Z$4:$Z$103,0))),\"\")","v":""},{"$f":"IFERROR(IF(allGymnasts!A70=\"\",\"\",INDEX(allGymnasts!$D$4:$D$103,MATCH(SMALL(allGymnasts!$Z$4:$Z$103,A70),allGymnasts!$Z$4:$Z$103,0))),\"\")","v":""},{"$f":"IF(allGymnasts!E70=\"\",\"\",INDEX(allGymnasts!$T$4:$T$33,MATCH(SMALL(allGymnasts!$X$4:$X$33,A70),allGymnasts!$X$4:$X$33,0)))","v":""},null,null,{"$f":"IFERROR(IF(allGymnasts!A70=\"\",\"\",INDEX(allGymnasts!$Y$4:$Y$103,MATCH(SMALL(allGymnasts!$Z$4:$Z$103,A70),allGymnasts!$Z$4:$Z$103,0))),\"\")","v":""}]
[68,{"$f":"IFERROR(_xlfn.FLOOR.MATH(IF(allGymnasts!A71=\"\",\"\",INDEX(allGymnasts!$Z$4:$Z$103,MATCH(SMALL(allGymnasts!$Z$4:$Z$103,A71),allGymnasts!$Z$4:$Z$103,0)))),\"\")","v":""},{"$f":"IFERROR(IF(allGymnasts!A71=\"\",\"\",INDEX(allGymnasts!$A$4:$A$103,MATCH(SMALL(allGymnasts!$Z$4:$Z$103,A71),allGymnasts!$Z$4:$Z$103,0))),\"\")","v":""},{"$f":"IFERROR(IF(allGymnasts!A71=\"\",\"\",INDEX(allGymnasts!$B$4:$B$103,MATCH(SMALL(allGymnasts!$Z$4:$Z$103,A71),allGymnasts!$Z$4:$Z$103,0))),\"\")","v":""},{"$f":"IFERROR(IF(allGymnasts!A71=\"\",\"\",INDEX(allGymnasts!$C$4:$C$103,MATCH(SMALL(allGymnasts!$Z$4:$Z$103,A71),allGymnasts!$Z$4:$Z$103,0))),\"\")","v":""},{"$f":"IFERROR(IF(allGymnasts!A71=\"\",\"\",INDEX(allGymnasts!$D$4:$D$103,MATCH(SMALL(allGymnasts!$Z$4:$Z$103,A71),allGymnasts!$Z$4:$Z$103,0))),\"\")","v":""},{"$f":"IF(allGymnasts!E71=\"\",\"\",INDEX(allGymnasts!$T$4:$T$33,MATCH(SMALL(allGymnasts!$X$4:$X$33,A71),allGymnasts!$X$4:$X$33,0)))","v":""},null,null,{"$f":"IFERROR(IF(allGymnasts!A71=\"\",\"\",INDEX(allGymnasts!$Y$4:$Y$103,MATCH(SMALL(allGymnasts!$Z$4:$Z$103,A71),allGymnasts!$Z$4:$Z$103,0))),\"\")","v":""}]
[69,{"$f":"IFERROR(_xlfn.FLOOR.MATH(IF(allGymnasts!A72=\"\",\"\",INDEX(allGymnasts!$Z$4:$Z$103,MATCH(SMALL(allGymnasts!$Z$4:$Z$103,A72),allGymnasts!$Z$4:$Z$103,0)))),\"\")","v":""},{"$f":"IFERROR(IF(allGymnasts!A72=\"\",\"\",INDEX(allGymnasts!$A$4:$A$103,MATCH(SMALL(allGymnasts!$Z$4:$Z$103,A72),allGymnasts!$Z$4:$Z$103,0))),\"\")","v":""},{"$f":"IFERROR(IF(allGymnasts!A72=\"\",\"\",INDEX(allGymnasts!$B$4:$B$103,MATCH(SMALL(allGymnasts!$Z$4:$Z$103,A72),allGymnasts!$Z$4:$Z$103,0))),\"\")","v":""},{"$f":"IFERROR(IF(allGymnasts!A72=\"\",\"\",INDEX(allGymnasts!$C$4:$C$103,MATCH(SMALL(allGymnasts!$Z$4:$Z$103,A72),allGymnasts!$Z$4:$Z$103,0))),\"\")","v":""},{"$f":"IFERROR(IF(allGymnasts!A72=\"\",\"\",INDEX(allGymnasts!$D$4:$D$103,MATCH(SMALL(allGymnasts!$Z$4:$Z$103,A72),allGymnasts!$Z$4:$Z$103,0))),\"\")","v":""},{"$f":"IF(allGymnasts!E72=\"\",\"\",INDEX(allGymnasts!$T$4:$T$33,MATCH(SMALL(allGymnasts!$X$4:$X$33,A72),allGymnasts!$X$4:$X$33,0)))","v":""},null,null,{"$f":"IFERROR(IF(allGymnasts!A72=\"\",\"\",INDEX(allGymnasts!$Y$4:$Y$103,MATCH(SMALL(allGymnasts!$Z$4:$Z$103,A72),allGymnasts!$Z$4:$Z$103,0))),\"\")","v":""}]
[70,{"$f":"IFERROR(_xlfn.FLOOR.MATH(IF(allGymnasts!A73=\"\",\"\",INDEX(allGymnasts!$Z$4:$Z$103,MATCH(SMALL(allGymnasts!$Z$4:$Z$103,A73),allGymnasts!$Z$4:$Z$103,0)))),\"\")","v":""},{"$f":"IFERROR(IF(allGymnasts!A73=\"\",\"\",INDEX(allGymnasts!$A$4:$A$103,MATCH(SMALL(allGymnasts!$Z$4:$Z$103,A73),allGymnasts!$Z$4:$Z$103,0))),\"\")","v":""},{"$f":"IFERROR(IF(allGymnasts!A73=\"\",\"\",INDEX(allGymnasts!$B$4:$B$103,MATCH(SMALL(allGymnasts!$Z$4:$Z$103,A73),allGymnasts!$Z$4:$Z$103,0))),\"\")","v":""},{"$f":"IFERROR(IF(allGymnasts!A73=\"\",\"\",INDEX(allGymnasts!$C$4:$C$103,MATCH(SMALL(allGymnasts!$Z$4:$Z$103,A73),allGymnasts!$Z$4:$Z$103,0))),\"\")","v":""},{"$f":"IFERROR(IF(allGymnasts!A73=\"\",\"\",INDEX(allGymnasts!$D$4:$D$103,MATCH(SMALL(allGymnasts!$Z$4:$Z$103,A73),allGymnasts!$Z$4:$Z$103,0))),\"\")","v":""},{"$f":"IF(allGymnasts!E73=\"\",\"\",INDEX(allGymnasts!$T$4:$T$33,MATCH(SMALL(allGymnasts!$X$4:$X$33,A73),allGymnasts!$X$4:$X$33,0)))","v":""},null,null,{"$f":"IFERROR(IF(allGymnasts!A73=\"\",\"\",INDEX(allGymnasts!$Y$4:$Y$103,MATCH(SMALL(allGymnasts!$Z$4:$Z$103,A73),allGymnasts!$Z$4:$Z$103,0))),\"\")","v":""}]
[71,{"$f":"IFERROR(_xlfn.FLOOR.MATH(IF(allGymnasts!A74=\"\",\"\",INDEX(allGymnasts!$Z$4:$Z$103,MATCH(SMALL(allGymnasts!$Z$4:$Z$103,A74),allGymnasts!$Z$4:$Z$103,0)))),\"\")","v":""},{"$f":"IFERROR(IF(allGymnasts!A74=\"\",\"\",INDEX(allGymnasts!$A$4:$A$103,MATCH(SMALL(allGymnasts!$Z$4:$Z$103,A74),allGymnasts!$Z$4:$Z$103,0))),\"\")","v":""},{"$f":"IFERROR(IF(allGymnasts!A74=\"\",\"\",INDEX(allGymnasts!$B$4:$B$103,MATCH(SMALL(allGymnasts!$Z$4:$Z$103,A74),allGymnasts!$Z$4:$Z$103,0))),\"\")","v":""},{"$f":"IFERROR(IF(allGymnasts!A74=\"\",\"\",INDEX(allGymnasts!$C$4:$C$103,MATCH(SMALL(allGymnasts!$Z$4:$Z$103,A74),allGymnasts!$Z$4:$Z$103,0))),\"\")","v":""},{"$f":"IFERROR(IF(allGymnasts!A74=\"\",\"\",INDEX(allGymnasts!$D$4:$D$103,MATCH(SMALL(allGymnasts!$Z$4:$Z$103,A74),allGymnasts!$Z$4:$Z$103,0))),\"\")","v":""},{"$f":"IF(allGymnasts!E74=\"\",\"\",INDEX(allGymnasts!$T$4:$T$33,MATCH(SMALL(allGymnasts!$X$4:$X$33,A74),allGymnasts!$X$4:$X$33,0)))","v":""},null,null,{"$f":"IFERROR(IF(allGymnasts!A74=\"\",\"\",INDEX(allGymnasts!$Y$4:$Y$103,MATCH(SMALL(allGymnasts!$Z$4:$Z$103,A74),allGymnasts!$Z$4:$Z$103,0))),\"\")","v":""}]
[72,{"$f":"IFERROR(_xlfn.FLOOR.MATH(IF(allGymnasts!A75=\"\",\"\",INDEX(allGymnasts!$Z$4:$Z$103,MATCH(SMALL(allGymnasts!$Z$4:$Z$103,A75),allGymnasts!$Z$4:$Z$103,0)))),\"\")","v":""},{"$f":"IFERROR(IF(allGymnasts!A75=\"\",\"\",INDEX(allGymnasts!$A$4:$A$103,MATCH(SMALL(allGymnasts!$Z$4:$Z$103,A75),allGymnasts!$Z$4:$Z$103,0))),\"\")","v":""},{"$f":"IFERROR(IF(allGymnasts!A75=\"\",\"\",INDEX(allGymnasts!$B$4:$B$103,MATCH(SMALL(allGymnasts!$Z$4:$Z$103,A75),allGymnasts!$Z$4:$Z$103,0))),\"\")","v":""},{"$f":"IFERROR(IF(allGymnasts!A75=\"\",\"\",INDEX(allGymnasts!$C$4:$C$103,MATCH(SMALL(allGymnasts!$Z$4:$Z$103,A75),allGymnasts!$Z$4:$Z$103,0))),\"\")","v":""},{"$f":"IFERROR(IF(allGymnasts!A75=\"\",\"\",INDEX(allGymnasts!$D$4:$D$103,MATCH(SMALL(allGymnasts!$Z$4:$Z$103,A75),allGymnasts!$Z$4:$Z$103,0))),\"\")","v":""},{"$f":"IF(allGymnasts!E75=\"\",\"\",INDEX(allGymnasts!$T$4:$T$33,MATCH(SMALL(allGymnasts!$X$4:$X$33,A75),allGymnasts!$X$4:$X$33,0)))","v":""},null,null,{"$f":"IFERROR(IF(allGymnasts!A75=\"\",\"\",INDEX(allGymnasts!$Y$4:$Y$103,MATCH(SMALL(allGymnasts!$Z$4:$Z$103,A75),allGymnasts!$Z$4:$Z$103,0))),\"\")","v":""}]
[73,{"$f":"IFERROR(_xlfn.FLOOR.MATH(IF(allGymnasts!A76=\"\",\"\",INDEX(allGymnasts!$Z$4:$Z$103,MATCH(SMALL(allGymnasts!$Z$4:$Z$103,A76),allGymnasts!$Z$4:$Z$103,0)))),\"\")","v":""},{"$f":"IFERROR(IF(allGymnasts!A76=\"\",\"\",INDEX(allGymnasts!$A$4:$A$103,MATCH(SMALL(allGymnasts!$Z$4:$Z$103,A76),allGymnasts!$Z$4:$Z$103,0))),\"\")","v":""},{"$f":"IFERROR(IF(allGymnasts!A76=\"\",\"\",INDEX(allGymnasts!$B$4:$B$103,MATCH(SMALL(allGymnasts!$Z$4:$Z$103,A76),allGymnasts!$Z$4:$Z$103,0))),\"\")","v":""},{"$f":"IFERROR(IF(allGymnasts!A76=\"\",\"\",INDEX(allGymnasts!$C$4:$C$103,MATCH(SMALL(allGymnasts!$Z$4:$Z$103,A76),allGymnasts!$Z$4:$Z$103,0))),\"\")","v":""},{"$f":"IFERROR(IF(allGymnasts!A76=\"\",\"\",INDEX(allGymnasts!$D$4:$D$103,MATCH(SMALL(allGymnasts!$Z$4:$Z$103,A76),allGymnasts!$Z$4:$Z$103,0))),\"\")","v":""},{"$f":"IF(allGymnasts!E76=\"\",\"\",INDEX(allGymnasts!$T$4:$T$33,MATCH(SMALL(allGymnasts!$X$4:$X$33,A76),allGymnasts!$X$4:$X$33,0)))","v":""},null,null,{"$f":"IFERROR(IF(allGymnasts!A76=\"\",\"\",INDEX(allGymnasts!$Y$4:$Y$103,MATCH(SMALL(allGymnasts!$Z$4:$Z$103,A76),allGymnasts!$Z$4:$Z$103,0))),\"\")","v":""}]
[74,{"$f":"IFERROR(_xlfn.FLOOR.MATH(IF(allGymnasts!A77=\"\",\"\",INDEX(allGymnasts!$Z$4:$Z$103,MATCH(SMALL(allGymnasts!$Z$4:$Z$103,A77),allGymnasts!$Z$4:$Z$103,0)))),\"\")","v":""},{"$f":"IFERROR(IF(allGymnasts!A77=\"\",\"\",INDEX(allGymnasts!$A$4:$A$103,MATCH(SMALL(allGymnasts!$Z$4:$Z$103,A77),allGymnasts!$Z$4:$Z$103,0))),\"\")","v":""},{"$f":"IFERROR(IF(allGymnasts!A77=\"\",\"\",INDEX(allGymnasts!$B$4:$B$103,MATCH(SMALL(allGymnasts!$Z$4:$Z$103,A77),allGymnasts!$Z$4:$Z$103,0))),\"\")","v":""},{"$f":"IFERROR(IF(allGymnasts!A77=\"\",\"\",INDEX(allGymnasts!$C$4:$C$103,MATCH(SMALL(allGymnasts!$Z$4:$Z$103,A77),allGymnasts!$Z$4:$Z$103,0))),\"\")","v":""},{"$f":"IFERROR(IF(allGymnasts!A77=\"\",\"\",INDEX(allGymnasts!$D$4:$D$103,MATCH(SMALL(allGymnasts!$Z$4:$Z$103,A77),allGymnasts!$Z$4:$Z$103,0))),\"\")","v":""},{"$f":"IF(allGymnasts!E77=\"\",\"\",INDEX(allGymnasts!$T$4:$T$33,MATCH(SMALL(allGymnasts!$X$4:$X$33,A77),allGymnasts!$X$4:$X$33,0)))","v":""},null,null,{"$f":"IFERROR(IF(allGymnasts!A77=\"\",\"\",INDEX(allGymnasts!$Y$4:$Y$103,MATCH(SMALL(allGymnasts!$Z$4:$Z$103,A77),allGymnasts!$Z$4:$Z$103,0))),\"\")","v":""}]
[75,{"$f":"IFERROR(_xlfn.FLOOR.MATH(IF(allGymnasts!A78=\"\",\"\",INDEX(allGymnasts!$Z$4:$Z$103,MATCH(SMALL(allGymnasts!$Z$4:$Z$103,A78),allGymnasts!$Z$4:$Z$103,0)))),\"\")","v":""},{"$f":"IFERROR(IF(allGymnasts!A78=\"\",\"\",INDEX(allGymnasts!$A$4:$A$103,MATCH(SMALL(allGymnasts!$Z$4:$Z$103,A78),allGymnasts!$Z$4:$Z$103,0))),\"\")","v":""},{"$f":"IFERROR(IF(allGymnasts!A78=\"\",\"\",INDEX(allGymnasts!$B$4:$B$103,MATCH(SMALL(allGymnasts!$Z$4:$Z$103,A78),allGymnasts!$Z$4:$Z$103,0))),\"\")","v":""},{"$f":"IFERROR(IF(allGymnasts!A78=\"\",\"\",INDEX(allGymnasts!$C$4:$C$103,MATCH(SMALL(allGymnasts!$Z$4:$Z$103,A78),allGymnasts!$Z$4:$Z$103,0))),\"\")","v":""},{"$f":"IFERROR(IF(allGymnasts!A78=\"\",\"\",INDEX(allGymnasts!$D$4:$D$103,MATCH(SMALL(allGymnasts!$Z$4:$Z$103,A78),allGymnasts!$Z$4:$Z$103,0))),\"\")","v":""},{"$f":"IF(allGymnasts!E78=\"\",\"\",INDEX(allGymnasts!$T$4:$T$33,MATCH(SMALL(allGymnasts!$X$4:$X$33,A78),allGymnasts!$X$4:$X$33,0)))","v":""},null,null,{"$f":"IFERROR(IF(allGymnasts!A78=\"\",\"\",INDEX(allGymnasts!$Y$4:$Y$103,MATCH(SMALL(allGymnasts!$Z$4:$Z$103,A78),allGymnasts!$Z$4:$Z$103,0))),\"\")","v":""}]
[76,{"$f":"IFERROR(_xlfn.FLOOR.MATH(IF(allGymnasts!A79=\"\",\"\",INDEX(allGymnasts!$Z$4:$Z$103,MATCH(SMALL(allGymnasts!$Z$4:$Z$103,A79),allGymnasts!$Z$4:$Z$103,0)))),\"\")","v":""},{"$f":"IFERROR(IF(allGymnasts!A79=\"\",\"\",INDEX(allGymnasts!$A$4:$A$103,MATCH(SMALL(allGymnasts!$Z$4:$Z$103,A79),allGymnasts!$Z$4:$Z$103,0))),\"\")","v":""},{"$f":"IFERROR(IF(allGymnasts!A79=\"\",\"\",INDEX(allGymnasts!$B$4:$B$103,MATCH(SMALL(allGymnasts!$Z$4:$Z$103,A79),allGymnasts!$Z$4:$Z$103,0))),\"\")","v":""},{"$f":"IFERROR(IF(allGymnasts!A79=\"\",\"\",INDEX(allGymnasts!$C$4:$C$103,MATCH(SMALL(allGymnasts!$Z$4:$Z$103,A79),allGymnasts!$Z$4:$Z$103,0))),\"\")","v":""},{"$f":"IFERROR(IF(allGymnasts!A79=\"\",\"\",INDEX(allGymnasts!$D$4:$D$103,MATCH(SMALL(allGymnasts!$Z$4:$Z$103,A79),allGymnasts!$Z$4:$Z$103,0))),\"\")","v":""},{"$f":"IF(allGymnasts!E79=\"\",\"\",INDEX(allGymnasts!$T$4:$T$33,MATCH(SMALL(allGymnasts!$X$4:$X$33,A79),allGymnasts!$X$4:$X$33,0)))","v":""},null,null,{"$f":"IFERROR(IF(allGymnasts!A79=\"\",\"\",INDEX(allGymnasts!$Y$4:$Y$103,MATCH(SMALL(allGymnasts!$Z$4:$Z$103,A79),allGymnasts!$Z$4:$Z$103,0))),\"\")","v":""}]
[77,{"$f":"IFERROR(_xlfn.FLOOR.MATH(IF(allGymnasts!A80=\"\",\"\",INDEX(allGymnasts!$Z$4:$Z$103,MATCH(SMALL(allGymnasts!$Z$4:$Z$103,A80),allGymnasts!$Z$4:$Z$103,0)))),\"\")","v":""},{"$f":"IFERROR(IF(allGymnasts!A80=\"\",\"\",INDEX(allGymnasts!$A$4:$A$103,MATCH(SMALL(allGymnasts!$Z$4:$Z$103,A80),allGymnasts!$Z$4:$Z$103,0))),\"\")","v":""},{"$f":"IFERROR(IF(allGymnasts!A80=\"\",\"\",INDEX(allGymnasts!$B$4:$B$103,MATCH(SMALL(allGymnasts!$Z$4:$Z$103,A80),allGymnasts!$Z$4:$Z$103,0))),\"\")","v":""},{"$f":"IFERROR(IF(allGymnasts!A80=\"\",\"\",INDEX(allGymnasts!$C$4:$C$103,MATCH(SMALL(allGymnasts!$Z$4:$Z$103,A80),allGymnasts!$Z$4:$Z$103,0))),\"\")","v":""},{"$f":"IFERROR(IF(allGymnasts!A80=\"\",\"\",INDEX(allGymnasts!$D$4:$D$103,MATCH(SMALL(allGymnasts!$Z$4:$Z$103,A80),allGymnasts!$Z$4:$Z$103,0))),\"\")","v":""},{"$f":"IF(allGymnasts!E80=\"\",\"\",INDEX(allGymnasts!$T$4:$T$33,MATCH(SMALL(allGymnasts!$X$4:$X$33,A80),allGymnasts!$X$4:$X$33,0)))","v":""},null,null,{"$f":"IFERROR(IF(allGymnasts!A80=\"\",\"\",INDEX(allGymnasts!$Y$4:$Y$103,MATCH(SMALL(allGymnasts!$Z$4:$Z$103,A80),allGymnasts!$Z$4:$Z$103,0))),\"\")","v":""}]
[78,{"$f":"IFERROR(_xlfn.FLOOR.MATH(IF(allGymnasts!A81=\"\",\"\",INDEX(allGymnasts!$Z$4:$Z$103,MATCH(SMALL(allGymnasts!$Z$4:$Z$103,A81),allGymnasts!$Z$4:$Z$103,0)))),\"\")","v":""},{"$f":"IFERROR(IF(allGymnasts!A81=\"\",\"\",INDEX(allGymnasts!$A$4:$A$103,MATCH(SMALL(allGymnasts!$Z$4:$Z$103,A81),allGymnasts!$Z$4:$Z$103,0))),\"\")","v":""},{"$f":"IFERROR(IF(allGymnasts!A81=\"\",\"\",INDEX(allGymnasts!$B$4:$B$103,MATCH(SMALL(allGymnasts!$Z$4:$Z$103,A81),allGymnasts!$Z$4:$Z$103,0))),\"\")","v":""},{"$f":"IFERROR(IF(allGymnasts!A81=\"\",\"\",INDEX(allGymnasts!$C$4:$C$103,MATCH(SMALL(allGymnasts!$Z$4:$Z$103,A81),allGymnasts!$Z$4:$Z$103,0))),\"\")","v":""},{"$f":"IFERROR(IF(allGymnasts!A81=\"\",\"\",INDEX(allGymnasts!$D$4:$D$103,MATCH(SMALL(allGymnasts!$Z$4:$Z$103,A81),allGymnasts!$Z$4:$Z$103,0))),\"\")","v":""},{"$f":"IF(allGymnasts!E81=\"\",\"\",INDEX(allGymnasts!$T$4:$T$33,MATCH(SMALL(allGymnasts!$X$4:$X$33,A81),allGymnasts!$X$4:$X$33,0)))","v":""},null,null,{"$f":"IFERROR(IF(allGymnasts!A81=\"\",\"\",INDEX(allGymnasts!$Y$4:$Y$103,MATCH(SMALL(allGymnasts!$Z$4:$Z$103,A81),allGymnasts!$Z$4:$Z$103,0))),\"\")","v":""}]
[79,{"$f":"IFERROR(_xlfn.FLOOR.MATH(IF(allGymnasts!A82=\"\",\"\",INDEX(allGymnasts!$Z$4:$Z$103,MATCH(SMALL(allGymnasts!$Z$4:$Z$103,A82),allGymnasts!$Z$4:$Z$103,0)))),\"\")","v":""},{"$f":"IFERROR(IF(allGymnasts!A82=\"\",\"\",INDEX(allGymnasts!$A$4:$A$103,MATCH(SMALL(allGymnasts!$Z$4:$Z$103,A82),allGymnasts!$Z$4:$Z$103,0))),\"\")","v":""},{"$f":"IFERROR(IF(allGymnasts!A82=\"\",\"\",INDEX(allGymnasts!$B$4:$B$103,MATCH(SMALL(allGymnasts!$Z$4:$Z$103,A82),allGymnasts!$Z$4:$Z$103,0))),\"\")","v":""},{"$f":"IFERROR(IF(allGymnasts!A82=\"\",\"\",INDEX(allGymnasts!$C$4:$C$103,MATCH(SMALL(allGymnasts!$Z$4:$Z$103,A82),allGymnasts!$Z$4:$Z$103,0))),\"\")","v":""},{"$f":"IFERROR(IF(allGymnasts!A82=\"\",\"\",INDEX(allGymnasts!$D$4:$D$103,MATCH(SMALL(allGymnasts!$Z$4:$Z$103,A82),allGymnasts!$Z$4:$Z$103,0))),\"\")","v":""},{"$f":"IF(allGymnasts!E82=\"\",\"\",INDEX(allGymnasts!$T$4:$T$33,MATCH(SMALL(allGymnasts!$X$4:$X$33,A82),allGymnasts!$X$4:$X$33,0)))","v":""},null,null,{"$f":"IFERROR(IF(allGymnasts!A82=\"\",\"\",INDEX(allGymnasts!$Y$4:$Y$103,MATCH(SMALL(allGymnasts!$Z$4:$Z$103,A82),allGymnasts!$Z$4:$Z$103,0))),\"\")","v":""}]
[80,{"$f":"IFERROR(_xlfn.FLOOR.MATH(IF(allGymnasts!A83=\"\",\"\",INDEX(allGymnasts!$Z$4:$Z$103,MATCH(SMALL(allGymnasts!$Z$4:$Z$103,A83),allGymnasts!$Z$4:$Z$103,0)))),\"\")","v":""},{"$f":"IFERROR(IF(allGymnasts!A83=\"\",\"\",INDEX(allGymnasts!$A$4:$A$103,MATCH(SMALL(allGymnasts!$Z$4:$Z$103,A83),allGymnasts!$Z$4:$Z$103,0))),\"\")","v":""},{"$f":"IFERROR(IF(allGymnasts!A83=\"\",\"\",INDEX(allGymnasts!$B$4:$B$103,MATCH(SMALL(allGymnasts!$Z$4:$Z$103,A83),allGymnasts!$Z$4:$Z$103,0))),\"\")","v":""},{"$f":"IFERROR(IF(allGymnasts!A83=\"\",\"\",INDEX(allGymnasts!$C$4:$C$103,MATCH(SMALL(allGymnasts!$Z$4:$Z$103,A83),allGymnasts!$Z$4:$Z$103,0))),\"\")","v":""},{"$f":"IFERROR(IF(allGymnasts!A83=\"\",\"\",INDEX(allGymnasts!$D$4:$D$103,MATCH(SMALL(allGymnasts!$Z$4:$Z$103,A83),allGymnasts!$Z$4:$Z$103,0))),\"\")","v":""},{"$f":"IF(allGymnasts!E83=\"\",\"\",INDEX(allGymnasts!$T$4:$T$33,MATCH(SMALL(allGymnasts!$X$4:$X$33,A83),allGymnasts!$X$4:$X$33,0)))","v":""},null,null,{"$f":"IFERROR(IF(allGymnasts!A83=\"\",\"\",INDEX(allGymnasts!$Y$4:$Y$103,MATCH(SMALL(allGymnasts!$Z$4:$Z$103,A83),allGymnasts!$Z$4:$Z$103,0))),\"\")","v":""}]
[81,{"$f":"IFERROR(_xlfn.FLOOR.MATH(IF(allGymnasts!A84=\"\",\"\",INDEX(allGymnasts!$Z$4:$Z$103,MATCH(SMALL(allGymnasts!$Z$4:$Z$103,A84),allGymnasts!$Z$4:$Z$103,0)))),\"\")","v":""},{"$f":"IFERROR(IF(allGymnasts!A84=\"\",\"\",INDEX(allGymnasts!$A$4:$A$103,MATCH(SMALL(allGymnasts!$Z$4:$Z$103,A84),allGymnasts!$Z$4:$Z$103,0))),\"\")","v":""},{"$f":"IFERROR(IF(allGymnasts!A84=\"\",\"\",INDEX(allGymnasts!$B$4:$B$103,MATCH(SMALL(allGymnasts!$Z$4:$Z$103,A84),allGymnasts!$Z$4:$Z$103,0))),\"\")","v":""},{"$f":"IFERROR(IF(allGymnasts!A84=\"\",\"\",INDEX(allGymnasts!$C$4:$C$103,MATCH(SMALL(allGymnasts!$Z$4:$Z$103,A84),allGymnasts!$Z$4:$Z$103,0))),\"\")","v":""},{"$f":"IFERROR(IF(allGymnasts!A84=\"\",\"\",INDEX(allGymnasts!$D$4:$D$103,MATCH(SMALL(allGymnasts!$Z$4:$Z$103,A84),allGymnasts!$Z$4:$Z$103,0))),\"\")","v":""},{"$f":"IF(allGymnasts!E84=\"\",\"\",INDEX(allGymnasts!$T$4:$T$33,MATCH(SMALL(allGymnasts!$X$4:$X$33,A84),allGymnasts!$X$4:$X$33,0)))","v":""},null,null,{"$f":"IFERROR(IF(allGymnasts!A84=\"\",\"\",INDEX(allGymnasts!$Y$4:$Y$103,MATCH(SMALL(allGymnasts!$Z$4:$Z$103,A84),allGymnasts!$Z$4:$Z$103,0))),\"\")","v":""}]
[82,{"$f":"IFERROR(_xlfn.FLOOR.MATH(IF(allGymnasts!A85=\"\",\"\",INDEX(allGymnasts!$Z$4:$Z$103,MATCH(SMALL(allGymnasts!$Z$4:$Z$103,A85),allGymnasts!$Z$4:$Z$103,0)))),\"\")","v":""},{"$f":"IFERROR(IF(allGymnasts!A85=\"\",\"\",INDEX(allGymnasts!$A$4:$A$103,MATCH(SMALL(allGymnasts!$Z$4:$Z$103,A85),allGymnasts!$Z$4:$Z$103,0))),\"\")","v":""},{"$f":"IFERROR(IF(allGymnasts!A85=\"\",\"\",INDEX(allGymnasts!$B$4:$B$103,MATCH(SMALL(allGymnasts!$Z$4:$Z$103,A85),allGymnasts!$Z$4:$Z$103,0))),\"\")","v":""},{"$f":"IFERROR(IF(allGymnasts!A85=\"\",\"\",INDEX(allGymnasts!$C$4:$C$103,MATCH(SMALL(allGymnasts!$Z$4:$Z$103,A85),allGymnasts!$Z$4:$Z$103,0))),\"\")","v":""},{"$f":"IFERROR(IF(allGymnasts!A85=\"\",\"\",INDEX(allGymnasts!$D$4:$D$103,MATCH(SMALL(allGymnasts!$Z$4:$Z$103,A85),allGymnasts!$Z$4:$Z$103,0))),\"\")","v":""},{"$f":"IF(allGymnasts!E85=\"\",\"\",INDEX(allGymnasts!$T$4:$T$33,MATCH(SMALL(allGymnasts!$X$4:$X$33,A85),allGymnasts!$X$4:$X$33,0)))","v":""},null,null,{"$f":"IFERROR(IF(allGymnasts!A85=\"\",\"\",INDEX(allGymnasts!$Y$4:$Y$103,MATCH(SMALL(allGymnasts!$Z$4:$Z$103,A85),allGymnasts!$Z$4:$Z$103,0))),\"\")","v":""}]
[83,{"$f":"IFERROR(_xlfn.FLOOR.MATH(IF(allGymnasts!A86=\"\",\"\",INDEX(allGymnasts!$Z$4:$Z$103,MATCH(SMALL(allGymnasts!$Z$4:$Z$103,A86),allGymnasts!$Z$4:$Z$103,0)))),\"\")","v":""},{"$f":"IFERROR(IF(allGymnasts!A86=\"\",\"\",INDEX(allGymnasts!$A$4:$A$103,MATCH(SMALL(allGymnasts!$Z$4:$Z$103,A86),allGymnasts!$Z$4:$Z$103,0))),\"\")","v":""},{"$f":"IFERROR(IF(allGymnasts!A86=\"\",\"\",INDEX(allGymnasts!$B$4:$B$103,MATCH(SMALL(allGymnasts!$Z$4:$Z$103,A86),allGymnasts!$Z$4:$Z$103,0))),\"\")","v":""},{"$f":"IFERROR(IF(allGymnasts!A86=\"\",\"\",INDEX(allGymnasts!$C$4:$C$103,MATCH(SMALL(allGymnasts!$Z$4:$Z$103,A86),allGymnasts!$Z$4:$Z$103,0))),\"\")","v":""},{"$f":"IFERROR(IF(allGymnasts!A86=\"\",\"\",INDEX(allGymnasts!$D$4:$D$103,MATCH(SMALL(allGymnasts!$Z$4:$Z$103,A86),allGymnasts!$Z$4:$Z$103,0))),\"\")","v":""},{"$f":"IF(allGymnasts!E86=\"\",\"\",INDEX(allGymnasts!$T$4:$T$33,MATCH(SMALL(allGymnasts!$X$4:$X$33,A86),allGymnasts!$X$4:$X$33,0)))","v":""},null,null,{"$f":"IFERROR(IF(allGymnasts!A86=\"\",\"\",INDEX(allGymnasts!$Y$4:$Y$103,MATCH(SMALL(allGymnasts!$Z$4:$Z$103,A86),allGymnasts!$Z$4:$Z$103,0))),\"\")","v":""}]
[84,{"$f":"IFERROR(_xlfn.FLOOR.MATH(IF(allGymnasts!A87=\"\",\"\",INDEX(allGymnasts!$Z$4:$Z$103,MATCH(SMALL(allGymnasts!$Z$4:$Z$103,A87),allGymnasts!$Z$4:$Z$103,0)))),\"\")","v":""},{"$f":"IFERROR(IF(allGymnasts!A87=\"\",\"\",INDEX(allGymnasts!$A$4:$A$103,MATCH(SMALL(allGymnasts!$Z$4:$Z$103,A87),allGymnasts!$Z$4:$Z$103,0))),\"\")","v":""},{"$f":"IFERROR(IF(allGymnasts!A87=\"\",\"\",INDEX(allGymnasts!$B$4:$B$103,MATCH(SMALL(allGymnasts!$Z$4:$Z$103,A87),allGymnasts!$Z$4:$Z$103,0))),\"\")","v":""},{"$f":"IFERROR(IF(allGymnasts!A87=\"\",\"\",INDEX(allGymnasts!$C$4:$C$103,MATCH(SMALL(allGymnasts!$Z$4:$Z$103,A87),allGymnasts!$Z$4:$Z$103,0))),\"\")","v":""},{"$f":"IFERROR(IF(allGymnasts!A87=\"\",\"\",INDEX(allGymnasts!$D$4:$D$103,MATCH(SMALL(allGymnasts!$Z$4:$Z$103,A87),allGymnasts!$Z$4:$Z$103,0))),\"\")","v":""},{"$f":"IF(allGymnasts!E87=\"\",\"\",INDEX(allGymnasts!$T$4:$T$33,MATCH(SMALL(allGymnasts!$X$4:$X$33,A87),allGymnasts!$X$4:$X$33,0)))","v":""},null,null,{"$f":"IFERROR(IF(allGymnasts!A87=\"\",\"\",INDEX(allGymnasts!$Y$4:$Y$103,MATCH(SMALL(allGymnasts!$Z$4:$Z$103,A87),allGymnasts!$Z$4:$Z$103,0))),\"\")","v":""}]
[85,{"$f":"IFERROR(_xlfn.FLOOR.MATH(IF(allGymnasts!A88=\"\",\"\",INDEX(allGymnasts!$Z$4:$Z$103,MATCH(SMALL(allGymnasts!$Z$4:$Z$103,A88),allGymnasts!$Z$4:$Z$103,0)))),\"\")","v":""},{"$f":"IFERROR(IF(allGymnasts!A88=\"\",\"\",INDEX(allGymnasts!$A$4:$A$103,MATCH(SMALL(allGymnasts!$Z$4:$Z$103,A88),allGymnasts!$Z$4:$Z$103,0))),\"\")","v":""},{"$f":"IFERROR(IF(allGymnasts!A88=\"\",\"\",INDEX(allGymnasts!$B$4:$B$103,MATCH(SMALL(allGymnasts!$Z$4:$Z$103,A88),allGymnasts!$Z$4:$Z$103,0))),\"\")","v":""},{"$f":"IFERROR(IF(allGymnasts!A88=\"\",\"\",INDEX(allGymnasts!$C$4:$C$103,MATCH(SMALL(allGymnasts!$Z$4:$Z$103,A88),allGymnasts!$Z$4:$Z$103,0))),\"\")","v":""},{"$f":"IFERROR(IF(allGymnasts!A88=\"\",\"\",INDEX(allGymnasts!$D$4:$D$103,MATCH(SMALL(allGymnasts!$Z$4:$Z$103,A88),allGymnasts!$Z$4:$Z$103,0))),\"\")","v":""},{"$f":"IF(allGymnasts!E88=\"\",\"\",INDEX(allGymnasts!$T$4:$T$33,MATCH(SMALL(allGymnasts!$X$4:$X$33,A88),allGymnasts!$X$4:$X$33,0)))","v":""},null,null,{"$f":"IFERROR(IF(allGymnasts!A88=\"\",\"\",INDEX(allGymnasts!$Y$4:$Y$103,MATCH(SMALL(allGymnasts!$Z$4:$Z$103,A88),allGymnasts!$Z$4:$Z$103,0))),\"\")","v":""}]
[86,{"$f":"IFERROR(_xlfn.FLOOR.MATH(IF(allGymnasts!A89=\"\",\"\",INDEX(allGymnasts!$Z$4:$Z$103,MATCH(SMALL(allGymnasts!$Z$4:$Z$103,A89),allGymnasts!$Z$4:$Z$103,0)))),\"\")","v":""},{"$f":"IFERROR(IF(allGymnasts!A89=\"\",\"\",INDEX(allGymnasts!$A$4:$A$103,MATCH(SMALL(allGymnasts!$Z$4:$Z$103,A89),allGymnasts!$Z$4:$Z$103,0))),\"\")","v":""},{"$f":"IFERROR(IF(allGymnasts!A89=\"\",\"\",INDEX(allGymnasts!$B$4:$B$103,MATCH(SMALL(allGymnasts!$Z$4:$Z$103,A89),allGymnasts!$Z$4:$Z$103,0))),\"\")","v":""},{"$f":"IFERROR(IF(allGymnasts!A89=\"\",\"\",INDEX(allGymnasts!$C$4:$C$103,MATCH(SMALL(allGymnasts!$Z$4:$Z$103,A89),allGymnasts!$Z$4:$Z$103,0))),\"\")","v":""},{"$f":"IFERROR(IF(allGymnasts!A89=\"\",\"\",INDEX(allGymnasts!$D$4:$D$103,MATCH(SMALL(allGymnasts!$Z$4:$Z$103,A89),allGymnasts!$Z$4:$Z$103,0))),\"\")","v":""},{"$f":"IF(allGymnasts!E89=\"\",\"\",INDEX(allGymnasts!$T$4:$T$33,MATCH(SMALL(allGymnasts!$X$4:$X$33,A89),allGymnasts!$X$4:$X$33,0)))","v":""},null,null,{"$f":"IFERROR(IF(allGymnasts!A89=\"\",\"\",INDEX(allGymnasts!$Y$4:$Y$103,MATCH(SMALL(allGymnasts!$Z$4:$Z$103,A89),allGymnasts!$Z$4:$Z$103,0))),\"\")","v":""}]
[87,{"$f":"IFERROR(_xlfn.FLOOR.MATH(IF(allGymnasts!A90=\"\",\"\",INDEX(allGymnasts!$Z$4:$Z$103,MATCH(SMALL(allGymnasts!$Z$4:$Z$103,A90),allGymnasts!$Z$4:$Z$103,0)))),\"\")","v":""},{"$f":"IFERROR(IF(allGymnasts!A90=\"\",\"\",INDEX(allGymnasts!$A$4:$A$103,MATCH(SMALL(allGymnasts!$Z$4:$Z$103,A90),allGymnasts!$Z$4:$Z$103,0))),\"\")","v":""},{"$f":"IFERROR(IF(allGymnasts!A90=\"\",\"\",INDEX(allGymnasts!$B$4:$B$103,MATCH(SMALL(allGymnasts!$Z$4:$Z$103,A90),allGymnasts!$Z$4:$Z$103,0))),\"\")","v":""},{"$f":"IFERROR(IF(allGymnasts!A90=\"\",\"\",INDEX(allGymnasts!$C$4:$C$103,MATCH(SMALL(allGymnasts!$Z$4:$Z$103,A90),allGymnasts!$Z$4:$Z$103,0))),\"\")","v":""},{"$f":"IFERROR(IF(allGymnasts!A90=\"\",\"\",INDEX(allGymnasts!$D$4:$D$103,MATCH(SMALL(allGymnasts!$Z$4:$Z$103,A90),allGymnasts!$Z$4:$Z$103,0))),\"\")","v":""},{"$f":"IF(allGymnasts!E90=\"\",\"\",INDEX(allGymnasts!$T$4:$T$33,MATCH(SMALL(allGymnasts!$X$4:$X$33,A90),allGymnasts!$X$4:$X$33,0)))","v":""},null,null,{"$f":"IFERROR(IF(allGymnasts!A90=\"\",\"\",INDEX(allGymnasts!$Y$4:$Y$103,MATCH(SMALL(allGymnasts!$Z$4:$Z$103,A90),allGymnasts!$Z$4:$Z$103,0))),\"\")","v":""}]
[88,{"$f":"IFERROR(_xlfn.FLOOR.MATH(IF(allGymnasts!A91=\"\",\"\",INDEX(allGymnasts!$Z$4:$Z$103,MATCH(SMALL(allGymnasts!$Z$4:$Z$103,A91),allGymnasts!$Z$4:$Z$103,0)))),\"\")","v":""},{"$f":"IFERROR(IF(allGymnasts!A91=\"\",\"\",INDEX(allGymnasts!$A$4:$A$103,MATCH(SMALL(allGymnasts!$Z$4:$Z$103,A91),allGymnasts!$Z$4:$Z$103,0))),\"\")","v":""},{"$f":"IFERROR(IF(allGymnasts!A91=\"\",\"\",INDEX(allGymnasts!$B$4:$B$103,MATCH(SMALL(allGymnasts!$Z$4:$Z$103,A91),allGymnasts!$Z$4:$Z$103,0))),\"\")","v":""},{"$f":"IFERROR(IF(allGymnasts!A91=\"\",\"\",INDEX(allGymnasts!$C$4:$C$103,MATCH(SMALL(allGymnasts!$Z$4:$Z$103,A91),allGymnasts!$Z$4:$Z$103,0))),\"\")","v":""},{"$f":"IFERROR(IF(allGymnasts!A91=\"\",\"\",INDEX(allGymnasts!$D$4:$D$103,MATCH(SMALL(allGymnasts!$Z$4:$Z$103,A91),allGymnasts!$Z$4:$Z$103,0))),\"\")","v":""},{"$f":"IF(allGymnasts!E91=\"\",\"\",INDEX(allGymnasts!$T$4:$T$33,MATCH(SMALL(allGymnasts!$X$4:$X$33,A91),allGymnasts!$X$4:$X$33,0)))","v":""},null,null,{"$f":"IFERROR(IF(allGymnasts!A91=\"\",\"\",INDEX(allGymnasts!$Y$4:$Y$103,MATCH(SMALL(allGymnasts!$Z$4:$Z$103,A91),allGymnasts!$Z$4:$Z$103,0))),\"\")","v":""}]
[89,{"$f":"IFERROR(_xlfn.FLOOR.MATH(IF(allGymnasts!A92=\"\",\"\",INDEX(allGymnasts!$Z$4:$Z$103,MATCH(SMALL(allGymnasts!$Z$4:$Z$103,A92),allGymnasts!$Z$4:$Z$103,0)))),\"\")","v":""},{"$f":"IFERROR(IF(allGymnasts!A92=\"\",\"\",INDEX(allGymnasts!$A$4:$A$103,MATCH(SMALL(allGymnasts!$Z$4:$Z$103,A92),allGymnasts!$Z$4:$Z$103,0))),\"\")","v":""},{"$f":"IFERROR(IF(allGymnasts!A92=\"\",\"\",INDEX(allGymnasts!$B$4:$B$103,MATCH(SMALL(allGymnasts!$Z$4:$Z$103,A92),allGymnasts!$Z$4:$Z$103,0))),\"\")","v":""},{"$f":"IFERROR(IF(allGymnasts!A92=\"\",\"\",INDEX(allGymnasts!$C$4:$C$103,MATCH(SMALL(allGymnasts!$Z$4:$Z$103,A92),allGymnasts!$Z$4:$Z$103,0))),\"\")","v":""},{"$f":"IFERROR(IF(allGymnasts!A92=\"\",\"\",INDEX(allGymnasts!$D$4:$D$103,MATCH(SMALL(allGymnasts!$Z$4:$Z$103,A92),allGymnasts!$Z$4:$Z$103,0))),\"\")","v":""},{"$f":"IF(allGymnasts!E92=\"\",\"\",INDEX(allGymnasts!$T$4:$T$33,MATCH(SMALL(allGymnasts!$X$4:$X$33,A92),allGymnasts!$X$4:$X$33,0)))","v":""},null,null,{"$f":"IFERROR(IF(allGymnasts!A92=\"\",\"\",INDEX(allGymnasts!$Y$4:$Y$103,MATCH(SMALL(allGymnasts!$Z$4:$Z$103,A92),allGymnasts!$Z$4:$Z$103,0))),\"\")","v":""}]
[90,{"$f":"IFERROR(_xlfn.FLOOR.MATH(IF(allGymnasts!A93=\"\",\"\",INDEX(allGymnasts!$Z$4:$Z$103,MATCH(SMALL(allGymnasts!$Z$4:$Z$103,A93),allGymnasts!$Z$4:$Z$103,0)))),\"\")","v":""},{"$f":"IFERROR(IF(allGymnasts!A93=\"\",\"\",INDEX(allGymnasts!$A$4:$A$103,MATCH(SMALL(allGymnasts!$Z$4:$Z$103,A93),allGymnasts!$Z$4:$Z$103,0))),\"\")","v":""},{"$f":"IFERROR(IF(allGymnasts!A93=\"\",\"\",INDEX(allGymnasts!$B$4:$B$103,MATCH(SMALL(allGymnasts!$Z$4:$Z$103,A93),allGymnasts!$Z$4:$Z$103,0))),\"\")","v":""},{"$f":"IFERROR(IF(allGymnasts!A93=\"\",\"\",INDEX(allGymnasts!$C$4:$C$103,MATCH(SMALL(allGymnasts!$Z$4:$Z$103,A93),allGymnasts!$Z$4:$Z$103,0))),\"\")","v":""},{"$f":"IFERROR(IF(allGymnasts!A93=\"\",\"\",INDEX(allGymnasts!$D$4:$D$103,MATCH(SMALL(allGymnasts!$Z$4:$Z$103,A93),allGymnasts!$Z$4:$Z$103,0))),\"\")","v":""},{"$f":"IF(allGymnasts!E93=\"\",\"\",INDEX(allGymnasts!$T$4:$T$33,MATCH(SMALL(allGymnasts!$X$4:$X$33,A93),allGymnasts!$X$4:$X$33,0)))","v":""},null,null,{"$f":"IFERROR(IF(allGymnasts!A93=\"\",\"\",INDEX(allGymnasts!$Y$4:$Y$103,MATCH(SMALL(allGymnasts!$Z$4:$Z$103,A93),allGymnasts!$Z$4:$Z$103,0))),\"\")","v":""}]
[91,{"$f":"IFERROR(_xlfn.FLOOR.MATH(IF(allGymnasts!A94=\"\",\"\",INDEX(allGymnasts!$Z$4:$Z$103,MATCH(SMALL(allGymnasts!$Z$4:$Z$103,A94),allGymnasts!$Z$4:$Z$103,0)))),\"\")","v":""},{"$f":"IFERROR(IF(allGymnasts!A94=\"\",\"\",INDEX(allGymnasts!$A$4:$A$103,MATCH(SMALL(allGymnasts!$Z$4:$Z$103,A94),allGymnasts!$Z$4:$Z$103,0))),\"\")","v":""},{"$f":"IFERROR(IF(allGymnasts!A94=\"\",\"\",INDEX(allGymnasts!$B$4:$B$103,MATCH(SMALL(allGymnasts!$Z$4:$Z$103,A94),allGymnasts!$Z$4:$Z$103,0))),\"\")","v":""},{"$f":"IFERROR(IF(allGymnasts!A94=\"\",\"\",INDEX(allGymnasts!$C$4:$C$103,MATCH(SMALL(allGymnasts!$Z$4:$Z$103,A94),allGymnasts!$Z$4:$Z$103,0))),\"\")","v":""},{"$f":"IFERROR(IF(allGymnasts!A94=\"\",\"\",INDEX(allGymnasts!$D$4:$D$103,MATCH(SMALL(allGymnasts!$Z$4:$Z$103,A94),allGymnasts!$Z$4:$Z$103,0))),\"\")","v":""},{"$f":"IF(allGymnasts!E94=\"\",\"\",INDEX(allGymnasts!$T$4:$T$33,MATCH(SMALL(allGymnasts!$X$4:$X$33,A94),allGymnasts!$X$4:$X$33,0)))","v":""},null,null,{"$f":"IFERROR(IF(allGymnasts!A94=\"\",\"\",INDEX(allGymnasts!$Y$4:$Y$103,MATCH(SMALL(allGymnasts!$Z$4:$Z$103,A94),allGymnasts!$Z$4:$Z$103,0))),\"\")","v":""}]
[92,{"$f":"IFERROR(_xlfn.FLOOR.MATH(IF(allGymnasts!A95=\"\",\"\",INDEX(allGymnasts!$Z$4:$Z$103,MATCH(SMALL(allGymnasts!$Z$4:$Z$103,A95),allGymnasts!$Z$4:$Z$103,0)))),\"\")","v":""},{"$f":"IFERROR(IF(allGymnasts!A95=\"\",\"\",INDEX(allGymnasts!$A$4:$A$103,MATCH(SMALL(allGymnasts!$Z$4:$Z$103,A95),allGymnasts!$Z$4:$Z$103,0))),\"\")","v":""},{"$f":"IFERROR(IF(allGymnasts!A95=\"\",\"\",INDEX(allGymnasts!$B$4:$B$103,MATCH(SMALL(allGymnasts!$Z$4:$Z$103,A95),allGymnasts!$Z$4:$Z$103,0))),\"\")","v":""},{"$f":"IFERROR(IF(allGymnasts!A95=\"\",\"\",INDEX(allGymnasts!$C$4:$C$103,MATCH(SMALL(allGymnasts!$Z$4:$Z$103,A95),allGymnasts!$Z$4:$Z$103,0))),\"\")","v":""},{"$f":"IFERROR(IF(allGymnasts!A95=\"\",\"\",INDEX(allGymnasts!$D$4:$D$103,MATCH(SMALL(allGymnasts!$Z$4:$Z$103,A95),allGymnasts!$Z$4:$Z$103,0))),\"\")","v":""},{"$f":"IF(allGymnasts!E95=\"\",\"\",INDEX(allGymnasts!$T$4:$T$33,MATCH(SMALL(allGymnasts!$X$4:$X$33,A95),allGymnasts!$X$4:$X$33,0)))","v":""},null,null,{"$f":"IFERROR(IF(allGymnasts!A95=\"\",\"\",INDEX(allGymnasts!$Y$4:$Y$103,MATCH(SMALL(allGymnasts!$Z$4:$Z$103,A95),allGymnasts!$Z$4:$Z$103,0))),\"\")","v":""}]
[93,{"$f":"IFERROR(_xlfn.FLOOR.MATH(IF(allGymnasts!A96=\"\",\"\",INDEX(allGymnasts!$Z$4:$Z$103,MATCH(SMALL(allGymnasts!$Z$4:$Z$103,A96),allGymnasts!$Z$4:$Z$103,0)))),\"\")","v":""},{"$f":"IFERROR(IF(allGymnasts!A96=\"\",\"\",INDEX(allGymnasts!$A$4:$A$103,MATCH(SMALL(allGymnasts!$Z$4:$Z$103,A96),allGymnasts!$Z$4:$Z$103,0))),\"\")","v":""},{"$f":"IFERROR(IF(allGymnasts!A96=\"\",\"\",INDEX(allGymnasts!$B$4:$B$103,MATCH(SMALL(allGymnasts!$Z$4:$Z$103,A96),allGymnasts!$Z$4:$Z$103,0))),\"\")","v":""},{"$f":"IFERROR(IF(allGymnasts!A96=\"\",\"\",INDEX(allGymnasts!$C$4:$C$103,MATCH(SMALL(allGymnasts!$Z$4:$Z$103,A96),allGymnasts!$Z$4:$Z$103,0))),\"\")","v":""},{"$f":"IFERROR(IF(allGymnasts!A96=\"\",\"\",INDEX(allGymnasts!$D$4:$D$103,MATCH(SMALL(allGymnasts!$Z$4:$Z$103,A96),allGymnasts!$Z$4:$Z$103,0))),\"\")","v":""},{"$f":"IF(allGymnasts!E96=\"\",\"\",INDEX(allGymnasts!$T$4:$T$33,MATCH(SMALL(allGymnasts!$X$4:$X$33,A96),allGymnasts!$X$4:$X$33,0)))","v":""},null,null,{"$f":"IFERROR(IF(allGymnasts!A96=\"\",\"\",INDEX(allGymnasts!$Y$4:$Y$103,MATCH(SMALL(allGymnasts!$Z$4:$Z$103,A96),allGymnasts!$Z$4:$Z$103,0))),\"\")","v":""}]
[94,{"$f":"IFERROR(_xlfn.FLOOR.MATH(IF(allGymnasts!A97=\"\",\"\",INDEX(allGymnasts!$Z$4:$Z$103,MATCH(SMALL(allGymnasts!$Z$4:$Z$103,A97),allGymnasts!$Z$4:$Z$103,0)))),\"\")","v":""},{"$f":"IFERROR(IF(allGymnasts!A97=\"\",\"\",INDEX(allGymnasts!$A$4:$A$103,MATCH(SMALL(allGymnasts!$Z$4:$Z$103,A97),allGymnasts!$Z$4:$Z$103,0))),\"\")","v":""},{"$f":"IFERROR(IF(allGymnasts!A97=\"\",\"\",INDEX(allGymnasts!$B$4:$B$103,MATCH(SMALL(allGymnasts!$Z$4:$Z$103,A97),allGymnasts!$Z$4:$Z$103,0))),\"\")","v":""},{"$f":"IFERROR(IF(allGymnasts!A97=\"\",\"\",INDEX(allGymnasts!$C$4:$C$103,MATCH(SMALL(allGymnasts!$Z$4:$Z$103,A97),allGymnasts!$Z$4:$Z$103,0))),\"\")","v":""},{"$f":"IFERROR(IF(allGymnasts!A97=\"\",\"\",INDEX(allGymnasts!$D$4:$D$103,MATCH(SMALL(allGymnasts!$Z$4:$Z$103,A97),allGymnasts!$Z$4:$Z$103,0))),\"\")","v":""},{"$f":"IF(allGymnasts!E97=\"\",\"\",INDEX(allGymnasts!$T$4:$T$33,MATCH(SMALL(allGymnasts!$X$4:$X$33,A97),allGymnasts!$X$4:$X$33,0)))","v":""},null,null,{"$f":"IFERROR(IF(allGymnasts!A97=\"\",\"\",INDEX(allGymnasts!$Y$4:$Y$103,MATCH(SMALL(allGymnasts!$Z$4:$Z$103,A97),allGymnasts!$Z$4:$Z$103,0))),\"\")","v":""}]
[95,{"$f":"IFERROR(_xlfn.FLOOR.MATH(IF(allGymnasts!A98=\"\",\"\",INDEX(allGymnasts!$Z$4:$Z$103,MATCH(SMALL(allGymnasts!$Z$4:$Z$103,A98),allGymnasts!$Z$4:$Z$103,0)))),\"\")","v":""},{"$f":"IFERROR(IF(allGymnasts!A98=\"\",\"\",INDEX(allGymnasts!$A$4:$A$103,MATCH(SMALL(allGymnasts!$Z$4:$Z$103,A98),allGymnasts!$Z$4:$Z$103,0))),\"\")","v":""},{"$f":"IFERROR(IF(allGymnasts!A98=\"\",\"\",INDEX(allGymnasts!$B$4:$B$103,MATCH(SMALL(allGymnasts!$Z$4:$Z$103,A98),allGymnasts!$Z$4:$Z$103,0))),\"\")","v":""},{"$f":"IFERROR(IF(allGymnasts!A98=\"\",\"\",INDEX(allGymnasts!$C$4:$C$103,MATCH(SMALL(allGymnasts!$Z$4:$Z$103,A98),allGymnasts!$Z$4:$Z$103,0))),\"\")","v":""},{"$f":"IFERROR(IF(allGymnasts!A98=\"\",\"\",INDEX(allGymnasts!$D$4:$D$103,MATCH(SMALL(allGymnasts!$Z$4:$Z$103,A98),allGymnasts!$Z$4:$Z$103,0))),\"\")","v":""},{"$f":"IF(allGymnasts!E98=\"\",\"\",INDEX(allGymnasts!$T$4:$T$33,MATCH(SMALL(allGymnasts!$X$4:$X$33,A98),allGymnasts!$X$4:$X$33,0)))","v":""},null,null,{"$f":"IFERROR(IF(allGymnasts!A98=\"\",\"\",INDEX(allGymnasts!$Y$4:$Y$103,MATCH(SMALL(allGymnasts!$Z$4:$Z$103,A98),allGymnasts!$Z$4:$Z$103,0))),\"\")","v":""}]
[96,{"$f":"IFERROR(_xlfn.FLOOR.MATH(IF(allGymnasts!A99=\"\",\"\",INDEX(allGymnasts!$Z$4:$Z$103,MATCH(SMALL(allGymnasts!$Z$4:$Z$103,A99),allGymnasts!$Z$4:$Z$103,0)))),\"\")","v":""},{"$f":"IFERROR(IF(allGymnasts!A99=\"\",\"\",INDEX(allGymnasts!$A$4:$A$103,MATCH(SMALL(allGymnasts!$Z$4:$Z$103,A99),allGymnasts!$Z$4:$Z$103,0))),\"\")","v":""},{"$f":"IFERROR(IF(allGymnasts!A99=\"\",\"\",INDEX(allGymnasts!$B$4:$B$103,MATCH(SMALL(allGymnasts!$Z$4:$Z$103,A99),allGymnasts!$Z$4:$Z$103,0))),\"\")","v":""},{"$f":"IFERROR(IF(allGymnasts!A99=\"\",\"\",INDEX(allGymnasts!$C$4:$C$103,MATCH(SMALL(allGymnasts!$Z$4:$Z$103,A99),allGymnasts!$Z$4:$Z$103,0))),\"\")","v":""},{"$f":"IFERROR(IF(allGymnasts!A99=\"\",\"\",INDEX(allGymnasts!$D$4:$D$103,MATCH(SMALL(allGymnasts!$Z$4:$Z$103,A99),allGymnasts!$Z$4:$Z$103,0))),\"\")","v":""},{"$f":"IF(allGymnasts!E99=\"\",\"\",INDEX(allGymnasts!$T$4:$T$33,MATCH(SMALL(allGymnasts!$X$4:$X$33,A99),allGymnasts!$X$4:$X$33,0)))","v":""},null,null,{"$f":"IFERROR(IF(allGymnasts!A99=\"\",\"\",INDEX(allGymnasts!$Y$4:$Y$103,MATCH(SMALL(allGymnasts!$Z$4:$Z$103,A99),allGymnasts!$Z$4:$Z$103,0))),\"\")","v":""}]
[97,{"$f":"IFERROR(_xlfn.FLOOR.MATH(IF(allGymnasts!A100=\"\",\"\",INDEX(allGymnasts!$Z$4:$Z$103,MATCH(SMALL(allGymnasts!$Z$4:$Z$103,A100),allGymnasts!$Z$4:$Z$103,0)))),\"\")","v":""},{"$f":"IFERROR(IF(allGymnasts!A100=\"\",\"\",INDEX(allGymnasts!$A$4:$A$103,MATCH(SMALL(allGymnasts!$Z$4:$Z$103,A100),allGymnasts!$Z$4:$Z$103,0))),\"\")","v":""},{"$f":"IFERROR(IF(allGymnasts!A100=\"\",\"\",INDEX(allGymnasts!$B$4:$B$103,MATCH(SMALL(allGymnasts!$Z$4:$Z$103,A100),allGymnasts!$Z$4:$Z$103,0))),\"\")","v":""},{"$f":"IFERROR(IF(allGymnasts!A100=\"\",\"\",INDEX(allGymnasts!$C$4:$C$103,MATCH(SMALL(allGymnasts!$Z$4:$Z$103,A100),allGymnasts!$Z$4:$Z$103,0))),\"\")","v":""},{"$f":"IFERROR(IF(allGymnasts!A100=\"\",\"\",INDEX(allGymnasts!$D$4:$D$103,MATCH(SMALL(allGymnasts!$Z$4:$Z$103,A100),allGymnasts!$Z$4:$Z$103,0))),\"\")","v":""},{"$f":"IF(allGymnasts!E100=\"\",\"\",INDEX(allGymnasts!$T$4:$T$33,MATCH(SMALL(allGymnasts!$X$4:$X$33,A100),allGymnasts!$X$4:$X$33,0)))","v":""},null,null,{"$f":"IFERROR(IF(allGymnasts!A100=\"\",\"\",INDEX(allGymnasts!$Y$4:$Y$103,MATCH(SMALL(allGymnasts!$Z$4:$Z$103,A100),allGymnasts!$Z$4:$Z$103,0))),\"\")","v":""}]
[98,{"$f":"IFERROR(_xlfn.FLOOR.MATH(IF(allGymnasts!A101=\"\",\"\",INDEX(allGymnasts!$Z$4:$Z$103,MATCH(SMALL(allGymnasts!$Z$4:$Z$103,A101),allGymnasts!$Z$4:$Z$103,0)))),\"\")","v":""},{"$f":"IFERROR(IF(allGymnasts!A101=\"\",\"\",INDEX(allGymnasts!$A$4:$A$103,MATCH(SMALL(allGymnasts!$Z$4:$Z$103,A101),allGymnasts!$Z$4:$Z$103,0))),\"\")","v":""},{"$f":"IFERROR(IF(allGymnasts!A101=\"\",\"\",INDEX(allGymnasts!$B$4:$B$103,MATCH(SMALL(allGymnasts!$Z$4:$Z$103,A101),allGymnasts!$Z$4:$Z$103,0))),\"\")","v":""},{"$f":"IFERROR(IF(allGymnasts!A101=\"\",\"\",INDEX(allGymnasts!$C$4:$C$103,MATCH(SMALL(allGymnasts!$Z$4:$Z$103,A101),allGymnasts!$Z$4:$Z$103,0))),\"\")","v":""},{"$f":"IFERROR(IF(allGymnasts!A101=\"\",\"\",INDEX(allGymnasts!$D$4:$D$103,MATCH(SMALL(allGymnasts!$Z$4:$Z$103,A101),allGymnasts!$Z$4:$Z$103,0))),\"\")","v":""},{"$f":"IF(allGymnasts!E101=\"\",\"\",INDEX(allGymnasts!$T$4:$T$33,MATCH(SMALL(allGymnasts!$X$4:$X$33,A101),allGymnasts!$X$4:$X$33,0)))","v":""},null,null,{"$f":"IFERROR(IF(allGymnasts!A101=\"\",\"\",INDEX(allGymnasts!$Y$4:$Y$103,MATCH(SMALL(allGymnasts!$Z$4:$Z$103,A101),allGymnasts!$Z$4:$Z$103,0))),\"\")","v":""}]
[99,{"$f":"IFERROR(_xlfn.FLOOR.MATH(IF(allGymnasts!A102=\"\",\"\",INDEX(allGymnasts!$Z$4:$Z$103,MATCH(SMALL(allGymnasts!$Z$4:$Z$103,A102),allGymnasts!$Z$4:$Z$103,0)))),\"\")","v":""},{"$f":"IFERROR(IF(allGymnasts!A102=\"\",\"\",INDEX(allGymnasts!$A$4:$A$103,MATCH(SMALL(allGymnasts!$Z$4:$Z$103,A102),allGymnasts!$Z$4:$Z$103,0))),\"\")","v":""},{"$f":"IFERROR(IF(allGymnasts!A102=\"\",\"\",INDEX(allGymnasts!$B$4:$B$103,MATCH(SMALL(allGymnasts!$Z$4:$Z$103,A102),allGymnasts!$Z$4:$Z$103,0))),\"\")","v":""},{"$f":"IFERROR(IF(allGymnasts!A102=\"\",\"\",INDEX(allGymnasts!$C$4:$C$103,MATCH(SMALL(allGymnasts!$Z$4:$Z$103,A102),allGymnasts!$Z$4:$Z$103,0))),\"\")","v":""},{"$f":"IFERROR(IF(allGymnasts!A102=\"\",\"\",INDEX(allGymnasts!$D$4:$D$103,MATCH(SMALL(allGymnasts!$Z$4:$Z$103,A102),allGymnasts!$Z$4:$Z$103,0))),\"\")","v":""},{"$f":"IF(allGymnasts!E102=\"\",\"\",INDEX(allGymnasts!$T$4:$T$33,MATCH(SMALL(allGymnasts!$X$4:$X$33,A102),allGymnasts!$X$4:$X$33,0)))","v":""},null,null,{"$f":"IFERROR(IF(allGymnasts!A102=\"\",\"\",INDEX(allGymnasts!$Y$4:$Y$103,MATCH(SMALL(allGymnasts!$Z$4:$Z$103,A102),allGymnasts!$Z$4:$Z$103,0))),\"\")","v":""}]
[100,{"$f":"IFERROR(_xlfn.FLOOR.MATH(IF(allGymnasts!A103=\"\",\"\",INDEX(allGymnasts!$Z$4:$Z$103,MATCH(SMALL(allGymnasts!$Z$4:$Z$103,A103),allGymnasts!$Z$4:$Z$103,0)))),\"\")","v":""},{"$f":"IFERROR(IF(allGymnasts!A103=\"\",\"\",INDEX(allGymnasts!$A$4:$A$103,MATCH(SMALL(allGymnasts!$Z$4:$Z$103,A103),allGymnasts!$Z$4:$Z$103,0))),\"\")","v":""},{"$f":"IFERROR(IF(allGymnasts!A103=\"\",\"\",INDEX(allGymnasts!$B$4:$B$103,MATCH(SMALL(allGymnasts!$Z$4:$Z$103,A103),allGymnasts!$Z$4:$Z$103,0))),\"\")","v":""},{"$f":"IFERROR(IF(allGymnasts!A103=\"\",\"\",INDEX(allGymnasts!$C$4:$C$103,MATCH(SMALL(allGymnasts!$Z$4:$Z$103,A103),allGymnasts!$Z$4:$Z$103,0))),\"\")","v":""},{"$f":"IFERROR(IF(allGymnasts!A103=\"\",\"\",INDEX(allGymnasts!$D$4:$D$103,MATCH(SMALL(allGymnasts!$Z$4:$Z$103,A103),allGymnasts!$Z$4:$Z$103,0))),\"\")","v":""},{"$f":"IF(allGymnasts!E103=\"\",\"\",INDEX(allGymnasts!$T$4:$T$33,MATCH(SMALL(allGymnasts!$X$4:$X$33,A103),allGymnasts!$X$4:$X$33,0)))","v":""},null,null,{"$f":"IFERROR(IF(allGymnasts!A103=\"\",\"\",INDEX(allGymnasts!$Y$4:$Y$103,MATCH(SMALL(allGymnasts!$Z$4:$Z$103,A103),allGymnasts!$Z$4:$Z$103,0))),\"\")","v":""}]

{"sheet":"allTeams","index":7,"n_rows":103,"n_cols":62,"rows_kept":103,"cut":false,"hidden":true,"merged":[[0,30,0,33],[0,34,0,37],[0,1,0,10],[0,14,0,17],[0,18,0,21],[0,22,0,25],[0,26,0,29],[0,58,0,61],[0,38,0,41],[0,42,0,45],[0,46,0,49],[0,50,0,53],[0,54,0,57]]}
[null,"Event Results - Team",null,null,null,null,null,null,null,null,null,null,null,null,{"$f":"C4","v":""},null,null,null,{"$f":"C5","v":""},null,null,null,{"$f":"C6","v":""},null,null,null,{"$f":"C7","v":""},null,null,null,{"$f":"C8","v":""},null,null,null,{"$f":"C9","v":""},null,null,null,{"$f":"C10","v":""},null,null,null,{"$f":"C11","v":""},null,null,null,{"$f":"C12","v":""},null,null,null,{"$f":"C13","v":""},null,null,null,{"$f":"C14","v":""},null,null,null,{"$f":"C15","v":""}]
[null,null,null,null,null,null,null,null,null,null,null,null,null,null,"VT","BR","BM","FL","VT","BR","BM","FL","VT","BR","BM","FL","VT","BR","BM","FL","VT","BR","BM","FL","VT","BR","BM","FL","VT","BR","BM","FL","VT","BR","BM","FL","VT","BR","BM","FL","VT","BR","BM","FL","VT","BR","BM","FL","VT","BR","BM","FL"]
["Rank","Rank","Team","Vault","Bars","Beam","Floor",null,null,null,"Score",null,null,null,{"$f":"SUM(LARGE(O4:O103,1),LARGE(O4:O103,2),LARGE(O4:O103,3),LARGE(O4:O103,4))","v":{"$error":"#NUM!"}},{"$f":"SUM(LARGE(P4:P103,1),LARGE(P4:P103,2),LARGE(P4:P103,3),LARGE(P4:P103,4))","v":{"$error":"#NUM!"}},{"$f":"SUM(LARGE(Q4:Q103,1),LARGE(Q4:Q103,2),LARGE(Q4:Q103,3),LARGE(Q4:Q103,4))","v":{"$error":"#NUM!"}},{"$f":"SUM(LARGE(R4:R103,1),LARGE(R4:R103,2),LARGE(R4:R103,3),LARGE(R4:R103,4))","v":{"$error":"#NUM!"}},{"$f":"SUM(LARGE(S4:S103,1),LARGE(S4:S103,2),LARGE(S4:S103,3),LARGE(S4:S103,4))","v":{"$error":"#NUM!"}},{"$f":"SUM(LARGE(T4:T103,1),LARGE(T4:T103,2),LARGE(T4:T103,3),LARGE(T4:T103,4))","v":{"$error":"#NUM!"}},{"$error":"#NUM!"},{"$error":"#NUM!"},{"$f":"SUM(LARGE(W4:W103,1),LARGE(W4:W103,2),LARGE(W4:W103,3),LARGE(W4:W103,4))","v":{"$error":"#NUM!"}},{"$f":"SUM(LARGE(X4:X103,1),LARGE(X4:X103,2),LARGE(X4:X103,3),LARGE(X4:X103,4))","v":{"$error":"#NUM!"}},{"$f":"SUM(LARGE(Y4:Y103,1),LARGE(Y4:Y103,2),LARGE(Y4:Y103,3),LARGE(Y4:Y103,4))","v":{"$error":"#NUM!"}},{"$f":"SUM(LARGE(Z4:Z103,1),LARGE(Z4:Z103,2),LARGE(Z4:Z103,3),LARGE(Z4:Z103,4))","v":{"$error":"#NUM!"}},{"$f":"SUM(LARGE(AA4:AA103,1),LARGE(AA4:AA103,2),LARGE(AA4:AA103,3),LARGE(AA4:AA103,4))","v":{"$error":"#NUM!"}},{"$f":"SUM(LARGE(AB4:AB103,1),LARGE(AB4:AB103,2),LARGE(AB4:AB103,3),LARGE(AB4:AB103,4))","v":{"$error":"#NUM!"}},{"$f":"SUM(LARGE(AC4:AC103,1),LARGE(AC4:AC103,2),LARGE(AC4:AC103,3),LARGE(AC4:AC103,4))","v":{"$error":"#NUM!"}},{"$f":"SUM(LARGE(AD4:AD103,1),LARGE(AD4:AD103,2),LARGE(AD4:AD103,3),LARGE(AD4:AD103,4))","v":{"$error":"#NUM!"}},{"$f":"SUM(LARGE(AE4:AE103,1),LARGE(AE4:AE103,2),LARGE(AE4:AE103,3),LARGE(AE4:AE103,4))","v":{"$error":"#NUM!"}},{"$f":"SUM(LARGE(AF4:AF103,1),LARGE(AF4:AF103,2),LARGE(AF4:AF103,3),LARGE(AF4:AF103,4))","v":{"$error":"#NUM!"}},{"$f":"SUM(LARGE(AG4:AG103,1),LARGE(AG4:AG103,2),LARGE(AG4:AG103,3),LARGE(AG4:AG103,4))","v":{"$error":"#NUM!"}},{"$f":"SUM(LARGE(AH4:AH103,1),LARGE(AH4:AH103,2),LARGE(AH4:AH103,3),LARGE(AH4:AH103,4))","v":{"$error":"#NUM!"}},{"$f":"SUM(LARGE(AI4:AI103,1),LARGE(AI4:AI103,2),LARGE(AI4:AI103,3),LARGE(AI4:AI103,4))","v":{"$error":"#NUM!"}},{"$f":"SUM(LARGE(AJ4:AJ103,1),LARGE(AJ4:AJ103,2),LARGE(AJ4:AJ103,3),LARGE(AJ4:AJ103,4))","v":{"$error":"#NUM!"}},{"$f":"SUM(LARGE(AK4:AK103,1),LARGE(AK4:AK103,2),LARGE(AK4:AK103,3),LARGE(AK4:AK103,4))","v":{"$error":"#NUM!"}},{"$f":"SUM(LARGE(AL4:AL103,1),LARGE(AL4:AL103,2),LARGE(AL4:AL103,3),LARGE(AL4:AL103,4))","v":{"$error":"#NUM!"}},{"$error":"#NUM!"},{"$error":"#NUM!"},{"$error":"#NUM!"},{"$error":"#NUM!"},{"$error":"#NUM!"},{"$error":"#NUM!"},{"$error":"#NUM!"},{"$error":"#NUM!"},{"$error":"#NUM!"},{"$error":"#NUM!"},{"$error":"#NUM!"},{"$error":"#NUM!"},{"$error":"#NUM!"},{"$error":"#NUM!"},{"$error":"#NUM!"},{"$error":"#NUM!"},{"$error":"#NUM!"},{"$error":"#NUM!"},{"$error":"#NUM!"},{"$error":"#NUM!"},{"$error":"#NUM!"},{"$error":"#NUM!"},{"$error":"#NUM!"},{"$error":"#NUM!"}]
[{"$f":"IF(C4=\"\",\"\",RANK(K4,$K$4:$K$15,0)+ROW(K4)/100)","v":""},{"$f":"IFERROR(IF(_xlfn.FLOOR.MATH(A4)>allGymnasts!$AC$4,\"\",_xlfn.FLOOR.MATH(A4)),\"\")","v":""},{"$f":"IF(allGymnasts!AB4=\"\",\"\",allGymnasts!AB4)","v":""},{"$f":"IFERROR(O3,\"\")","v":""},{"$f":"P3","v":{"$error":"#NUM!"}},{"$f":"Q3","v":{"$error":"#NUM!"}},{"$f":"R3","v":{"$error":"#NUM!"}},null,null,null,{"$f":"IF(C4=\"\",\"\",SUM(D4:G4))","v":""},null,null,null,{"$f":"IF(allGymnasts!D4=$C$4,allGymnasts!H4,0)","v":""},{"$f":"IF(allGymnasts!D4=$C$4,allGymnasts!M4,0)","v":""},{"$f":"IF(allGymnasts!D4=$C$4,allGymnasts!R4,0)","v":""},{"$f":"IF(allGymnasts!D4=$C$4,allGymnasts!W4,0)","v":""},{"$f":"IF(allGymnasts!D4=$C$5,allGymnasts!H4,0)","v":""},{"$f":"IF(allGymnasts!D4=$C$5,allGymnasts!M4,0)","v":""},{"$f":"IF(allGymnasts!D4=$C$5,allGymnasts!R4,0)","v":""},{"$f":"IF(allGymnasts!D4=$C$5,allGymnasts!W4,0)","v":""},{"$f":"IF(allGymnasts!D4=$C$6,allGymnasts!H4,0)","v":""},{"$f":"IF(allGymnasts!D4=$C$6,allGymnasts!M4,0)","v":""},{"$f":"IF(allGymnasts!D4=$C$6,allGymnasts!R4,0)","v":""},{"$f":"IF(allGymnasts!D4=$C$6,allGymnasts!W4,0)","v":""},{"$f":"IF(allGymnasts!D4=$C$7,allGymnasts!H4,0)","v":""},{"$f":"IF(allGymnasts!D4=$C$7,allGymnasts!M4,0)","v":""},{"$f":"IF(allGymnasts!D4=$C$7,allGymnasts!R4,0)","v":""},{"$f":"IF(allGymnasts!D4=$C$7,allGymnasts!W4,0)","v":""},{"$f":"IF(allGymnasts!D4=$C$8,allGymnasts!H4,0)","v":""},{"$f":"IF(allGymnasts!D4=$C$8,allGymnasts!M4,0)","v":""},{"$f":"IF(allGymnasts!D4=$C$8,allGymnasts!R4,0)","v":""},{"$f":"IF(allGymnasts!D4=$C$8,allGymnasts!W4,0)","v":""},{"$f":"IF(allGymnasts!D4=$C$9,allGymnasts!H4,0)","v":""},{"$f":"IF(allGymnasts!D4=$C$9,allGymnasts!M4,0)","v":""},{"$f":"IF(allGymnasts!D4=$C$9,allGymnasts!R4,0)","v":""},{"$f":"IF(allGymnasts!D4=$C$9,allGymnasts!W4,0)","v":""},{"$f":"IF(allGymnasts!D4=$C$10,allGymnasts!H4,0)","v":""},{"$f":"IF(allGymnasts!D4=$C$10,allGymnasts!M4,0)","v":""},{"$f":"IF(allGymnasts!D4=$C$10,allGymnasts!R4,0)","v":""},{"$f":"IF(allGymnasts!D4=$C$10,allGymnasts!W4,0)","v":""},{"$f":"IF(allGymnasts!D4=$C$11,allGymnasts!H4,0)","v":""},{"$f":"IF(allGymnasts!D4=$C$11,allGymnasts!M4,0)","v":""},{"$f":"IF(allGymnasts!D4=$C$11,allGymnasts!R4,0)","v":""},{"$f":"IF(allGymnasts!D4=$C$11,allGymnasts!W4,0)","v":""},{"$f":"IF(allGymnasts!D4=$C$12,allGymnasts!H4,0)","v":""},{"$f":"IF(allGymnasts!D4=$C$12,allGymnasts!M4,0)","v":""},{"$f":"IF(allGymnasts!D4=$C$12,allGymnasts!R4,0)","v":""},{"$f":"IF(allGymnasts!D4=$C$12,allGymnasts!W4,0)","v":""},{"$f":"IF(allGymnasts!D4=$C$13,allGymnasts!H4,0)","v":""},{"$f":"IF(allGymnasts!D4=$C$13,allGymnasts!M4,0)","v":""},{"$f":"IF(allGymnasts!D4=$C$13,allGymnasts!R4,0)","v":""},{"$f":"IF(allGymnasts!D4=$C$13,allGymnasts!W4,0)","v":""},{"$f":"IF(allGymnasts!D4=$C$14,allGymnasts!H4,0)","v":""},{"$f":"IF(allGymnasts!D4=$C$14,allGymnasts!M4,0)","v":""},{"$f":"IF(allGymnasts!D4=$C$14,allGymnasts!R4,0)","v":""},{"$f":"IF(allGymnasts!D4=$C$14,allGymnasts!W4,0)","v":""},{"$f":"IF(allGymnasts!D4=$C$15,allGymnasts!H4,0)","v":""},{"$f":"IF(allGymnasts!D4=$C$15,allGymnasts!M4,0)","v":""},{"$f":"IF(allGymnasts!D4=$C$15,allGymnasts!R4,0)","v":""},{"$f":"IF(allGymnasts!D4=$C$15,allGymnasts!W4,0)","v":""}]
["",{"$f":"IFERROR(IF(_xlfn.FLOOR.MATH(A5)>allGymnasts!$AC$4,\"\",_xlfn.FLOOR.MATH(A5)),\"\")","v":""},{"$f":"IF(allGymnasts!AB5=\"\",\"\",allGymnasts!AB5)","v":""},{"$f":"IFERROR(S3,\"\")","v":""},{"$f":"T3","v":{"$error":"#NUM!"}},{"$f":"U3","v":{"$error":"#NUM!"}},{"$f":"V3","v":{"$error":"#NUM!"}},null,null,null,{"$f":"IF(C5=\"\",\"\",SUM(D5:G5))","v":""},null,null,null,{"$f":"IF(allGymnasts!D5=$C$4,allGymnasts!H5,0)","v":""},{"$f":"IF(allGymnasts!D5=$C$4,allGymnasts!M5,0)","v":""},{"$f":"IF(allGymnasts!D5=$C$4,allGymnasts!R5,0)","v":""},{"$f":"IF(allGymnasts!D5=$C$4,allGymnasts!W5,0)","v":""},{"$f":"IF(allGymnasts!D5=$C$5,allGymnasts!H5,0)","v":""},{"$f":"IF(allGymnasts!D5=$C$5,allGymnasts!M5,0)","v":""},{"$f":"IF(allGymnasts!D5=$C$5,allGymnasts!R5,0)","v":""},{"$f":"IF(allGymnasts!D5=$C$5,allGymnasts!W5,0)","v":""},{"$f":"IF(allGymnasts!D5=$C$6,allGymnasts!H5,0)","v":""},{"$f":"IF(allGymnasts!D5=$C$6,allGymnasts!M5,0)","v":""},{"$f":"IF(allGymnasts!D5=$C$6,allGymnasts!R5,0)","v":""},{"$f":"IF(allGymnasts!D5=$C$6,allGymnasts!W5,0)","v":""},{"$f":"IF(allGymnasts!D5=$C$7,allGymnasts!H5,0)","v":""},{"$f":"IF(allGymnasts!D5=$C$7,allGymnasts!M5,0)","v":""},{"$f":"IF(allGymnasts!D5=$C$7,allGymnasts!R5,0)","v":""},{"$f":"IF(allGymnasts!D5=$C$7,allGymnasts!W5,0)","v":""},{"$f":"IF(allGymnasts!D5=$C$8,allGymnasts!H5,0)","v":""},{"$f":"IF(allGymnasts!D5=$C$8,allGymnasts!M5,0)","v":""},{"$f":"IF(allGymnasts!D5=$C$8,allGymnasts!R5,0)","v":""},{"$f":"IF(allGymnasts!D5=$C$8,allGymnasts!W5,0)","v":""},{"$f":"IF(allGymnasts!D5=$C$9,allGymnasts!H5,0)","v":""},{"$f":"IF(allGymnasts!D5=$C$9,allGymnasts!M5,0)","v":""},{"$f":"IF(allGymnasts!D5=$C$9,allGymnasts!R5,0)","v":""},{"$f":"IF(allGymnasts!D5=$C$9,allGymnasts!W5,0)","v":""},{"$f":"IF(allGymnasts!D5=$C$10,allGymnasts!H5,0)","v":""},{"$f":"IF(allGymnasts!D5=$C$10,allGymnasts!M5,0)","v":""},{"$f":"IF(allGymnasts!D5=$C$10,allGymnasts!R5,0)","v":""},{"$f":"IF(allGymnasts!D5=$C$10,allGymnasts!W5,0)","v":""},{"$f":"IF(allGymnasts!D5=$C$11,allGymnasts!H5,0)","v":""},{"$f":"IF(allGymnasts!D5=$C$11,allGymnasts!M5,0)","v":""},{"$f":"IF(allGymnasts!D5=$C$11,allGymnasts!R5,0)","v":""},{"$f":"IF(allGymnasts!D5=$C$11,allGymnasts!W5,0)","v":""},{"$f":"IF(allGymnasts!D5=$C$12,allGymnasts!H5,0)","v":""},{"$f":"IF(allGymnasts!D5=$C$12,allGymnasts!M5,0)","v":""},{"$f":"IF(allGymnasts!D5=$C$12,allGymnasts!R5,0)","v":""},{"$f":"IF(allGymnasts!D5=$C$12,allGymnasts!W5,0)","v":""},{"$f":"IF(allGymnasts!D5=$C$13,allGymnasts!H5,0)","v":""},{"$f":"IF(allGymnasts!D5=$C$13,allGymnasts!M5,0)","v":""},{"$f":"IF(allGymnasts!D5=$C$13,allGymnasts!R5,0)","v":""},{"$f":"IF(allGymnasts!D5=$C$13,allGymnasts!W5,0)","v":""},{"$f":"IF(allGymnasts!D5=$C$14,allGymnasts!H5,0)","v":""},{"$f":"IF(allGymnasts!D5=$C$14,allGymnasts!M5,0)","v":""},{"$f":"IF(allGymnasts!D5=$C$14,allGymnasts!R5,0)","v":""},{"$f":"IF(allGymnasts!D5=$C$14,allGymnasts!W5,0)","v":""},{"$f":"IF(allGymnasts!D5=$C$15,allGymnasts!H5,0)","v":""},{"$f":"IF(allGymnasts!D5=$C$15,allGymnasts!M5,0)","v":""},{"$f":"IF(allGymnasts!D5=$C$15,allGymnasts!R5,0)","v":""},{"$f":"IF(allGymnasts!D5=$C$15,allGymnasts!W5,0)","v":""}]
["",{"$f":"IFERROR(IF(_xlfn.FLOOR.MATH(A6)>allGymnasts!$AC$4,\"\",_xlfn.FLOOR.MATH(A6)),\"\")","v":""},{"$f":"IF(allGymnasts!AB6=\"\",\"\",allGymnasts!AB6)","v":""},{"$f":"IFERROR(W3,\"\")","v":""},{"$f":"X3","v":{"$error":"#NUM!"}},{"$f":"Y3","v":{"$error":"#NUM!"}},{"$f":"Z3","v":{"$error":"#NUM!"}},null,null,null,"",null,null,null,{"$f":"IF(allGymnasts!D6=$C$4,allGymnasts!H6,0)","v":""},{"$f":"IF(allGymnasts!D6=$C$4,allGymnasts!M6,0)","v":""},{"$f":"IF(allGymnasts!D6=$C$4,allGymnasts!R6,0)","v":""},{"$f":"IF(allGymnasts!D6=$C$4,allGymnasts!W6,0)","v":""},{"$f":"IF(allGymnasts!D6=$C$5,allGymnasts!H6,0)","v":""},{"$f":"IF(allGymnasts!D6=$C$5,allGymnasts!M6,0)","v":""},{"$f":"IF(allGymnasts!D6=$C$5,allGymnasts!R6,0)","v":""},{"$f":"IF(allGymnasts!D6=$C$5,allGymnasts!W6,0)","v":""},{"$f":"IF(allGymnasts!D6=$C$6,allGymnasts!H6,0)","v":""},{"$f":"IF(allGymnasts!D6=$C$6,allGymnasts!M6,0)","v":""},{"$f":"IF(allGymnasts!D6=$C$6,allGymnasts!R6,0)","v":""},{"$f":"IF(allGymnasts!D6=$C$6,allGymnasts!W6,0)","v":""},{"$f":"IF(allGymnasts!D6=$C$7,allGymnasts!H6,0)","v":""},{"$f":"IF(allGymnasts!D6=$C$7,allGymnasts!M6,0)","v":""},{"$f":"IF(allGymnasts!D6=$C$7,allGymnasts!R6,0)","v":""},{"$f":"IF(allGymnasts!D6=$C$7,allGymnasts!W6,0)","v":""},{"$f":"IF(allGymnasts!D6=$C$8,allGymnasts!H6,0)","v":""},{"$f":"IF(allGymnasts!D6=$C$8,allGymnasts!M6,0)","v":""},{"$f":"IF(allGymnasts!D6=$C$8,allGymnasts!R6,0)","v":""},{"$f":"IF(allGymnasts!D6=$C$8,allGymnasts!W6,0)","v":""},{"$f":"IF(allGymnasts!D6=$C$9,allGymnasts!H6,0)","v":""},{"$f":"IF(allGymnasts!D6=$C$9,allGymnasts!M6,0)","v":""},{"$f":"IF(allGymnasts!D6=$C$9,allGymnasts!R6,0)","v":""},{"$f":"IF(allGymnasts!D6=$C$9,allGymnasts!W6,0)","v":""},{"$f":"IF(allGymnasts!D6=$C$10,allGymnasts!H6,0)","v":""},{"$f":"IF(allGymnasts!D6=$C$10,allGymnasts!M6,0)","v":""},{"$f":"IF(allGymnasts!D6=$C$10,allGymnasts!R6,0)","v":""},{"$f":"IF(allGymnasts!D6=$C$10,allGymnasts!W6,0)","v":""},{"$f":"IF(allGymnasts!D6=$C$11,allGymnasts!H6,0)","v":""},{"$f":"IF(allGymnasts!D6=$C$11,allGymnasts!M6,0)","v":""},{"$f":"IF(allGymnasts!D6=$C$11,allGymnasts!R6,0)","v":""},{"$f":"IF(allGymnasts!D6=$C$11,allGymnasts!W6,0)","v":""},{"$f":"IF(allGymnasts!D6=$C$12,allGymnasts!H6,0)","v":""},{"$f":"IF(allGymnasts!D6=$C$12,allGymnasts!M6,0)","v":""},{"$f":"IF(allGymnasts!D6=$C$12,allGymnasts!R6,0)","v":""},{"$f":"IF(allGymnasts!D6=$C$12,allGymnasts!W6,0)","v":""},{"$f":"IF(allGymnasts!D6=$C$13,allGymnasts!H6,0)","v":""},{"$f":"IF(allGymnasts!D6=$C$13,allGymnasts!M6,0)","v":""},{"$f":"IF(allGymnasts!D6=$C$13,allGymnasts!R6,0)","v":""},{"$f":"IF(allGymnasts!D6=$C$13,allGymnasts!W6,0)","v":""},{"$f":"IF(allGymnasts!D6=$C$14,allGymnasts!H6,0)","v":""},{"$f":"IF(allGymnasts!D6=$C$14,allGymnasts!M6,0)","v":""},{"$f":"IF(allGymnasts!D6=$C$14,allGymnasts!R6,0)","v":""},{"$f":"IF(allGymnasts!D6=$C$14,allGymnasts!W6,0)","v":""},{"$f":"IF(allGymnasts!D6=$C$15,allGymnasts!H6,0)","v":""},{"$f":"IF(allGymnasts!D6=$C$15,allGymnasts!M6,0)","v":""},{"$f":"IF(allGymnasts!D6=$C$15,allGymnasts!R6,0)","v":""},{"$f":"IF(allGymnasts!D6=$C$15,allGymnasts!W6,0)","v":""}]
["",{"$f":"IFERROR(IF(_xlfn.FLOOR.MATH(A7)>allGymnasts!$AC$4,\"\",_xlfn.FLOOR.MATH(A7)),\"\")","v":""},{"$f":"IF(allGymnasts!AB7=\"\",\"\",allGymnasts!AB7)","v":""},{"$f":"IFERROR(AA3,\"\")","v":""},{"$f":"IFERROR(AB3,\"\")","v":""},{"$f":"IFERROR(AC3,\"\")","v":""},"",null,null,null,"",null,null,null,{"$f":"IF(allGymnasts!D7=$C$4,allGymnasts!H7,0)","v":""},{"$f":"IF(allGymnasts!D7=$C$4,allGymnasts!M7,0)","v":""},{"$f":"IF(allGymnasts!D7=$C$4,allGymnasts!R7,0)","v":""},{"$f":"IF(allGymnasts!D7=$C$4,allGymnasts!W7,0)","v":""},{"$f":"IF(allGymnasts!D7=$C$5,allGymnasts!H7,0)","v":""},{"$f":"IF(allGymnasts!D7=$C$5,allGymnasts!M7,0)","v":""},{"$f":"IF(allGymnasts!D7=$C$5,allGymnasts!R7,0)","v":""},{"$f":"IF(allGymnasts!D7=$C$5,allGymnasts!W7,0)","v":""},{"$f":"IF(allGymnasts!D7=$C$6,allGymnasts!H7,0)","v":""},{"$f":"IF(allGymnasts!D7=$C$6,allGymnasts!M7,0)","v":""},{"$f":"IF(allGymnasts!D7=$C$6,allGymnasts!R7,0)","v":""},{"$f":"IF(allGymnasts!D7=$C$6,allGymnasts!W7,0)","v":""},{"$f":"IF(allGymnasts!D7=$C$7,allGymnasts!H7,0)","v":""},{"$f":"IF(allGymnasts!D7=$C$7,allGymnasts!M7,0)","v":""},{"$f":"IF(allGymnasts!D7=$C$7,allGymnasts!R7,0)","v":""},{"$f":"IF(allGymnasts!D7=$C$7,allGymnasts!W7,0)","v":""},{"$f":"IF(allGymnasts!D7=$C$8,allGymnasts!H7,0)","v":""},{"$f":"IF(allGymnasts!D7=$C$8,allGymnasts!M7,0)","v":""},{"$f":"IF(allGymnasts!D7=$C$8,allGymnasts!R7,0)","v":""},{"$f":"IF(allGymnasts!D7=$C$8,allGymnasts!W7,0)","v":""},{"$f":"IF(allGymnasts!D7=$C$9,allGymnasts!H7,0)","v":""},{"$f":"IF(allGymnasts!D7=$C$9,allGymnasts!M7,0)","v":""},{"$f":"IF(allGymnasts!D7=$C$9,allGymnasts!R7,0)","v":""},{"$f":"IF(allGymnasts!D7=$C$9,allGymnasts!W7,0)","v":""},{"$f":"IF(allGymnasts!D7=$C$10,allGymnasts!H7,0)","v":""},{"$f":"IF(allGymnasts!D7=$C$10,allGymnasts!M7,0)","v":""},{"$f":"IF(allGymnasts!D7=$C$10,allGymnasts!R7,0)","v":""},{"$f":"IF(allGymnasts!D7=$C$10,allGymnasts!W7,0)","v":""},{"$f":"IF(allGymnasts!D7=$C$11,allGymnasts!H7,0)","v":""},{"$f":"IF(allGymnasts!D7=$C$11,allGymnasts!M7,0)","v":""},{"$f":"IF(allGymnasts!D7=$C$11,allGymnasts!R7,0)","v":""},{"$f":"IF(allGymnasts!D7=$C$11,allGymnasts!W7,0)","v":""},{"$f":"IF(allGymnasts!D7=$C$12,allGymnasts!H7,0)","v":""},{"$f":"IF(allGymnasts!D7=$C$12,allGymnasts!M7,0)","v":""},{"$f":"IF(allGymnasts!D7=$C$12,allGymnasts!R7,0)","v":""},{"$f":"IF(allGymnasts!D7=$C$12,allGymnasts!W7,0)","v":""},{"$f":"IF(allGymnasts!D7=$C$13,allGymnasts!H7,0)","v":""},{"$f":"IF(allGymnasts!D7=$C$13,allGymnasts!M7,0)","v":""},{"$f":"IF(allGymnasts!D7=$C$13,allGymnasts!R7,0)","v":""},{"$f":"IF(allGymnasts!D7=$C$13,allGymnasts!W7,0)","v":""},{"$f":"IF(allGymnasts!D7=$C$14,allGymnasts!H7,0)","v":""},{"$f":"IF(allGymnasts!D7=$C$14,allGymnasts!M7,0)","v":""},{"$f":"IF(allGymnasts!D7=$C$14,allGymnasts!R7,0)","v":""},{"$f":"IF(allGymnasts!D7=$C$14,allGymnasts!W7,0)","v":""},{"$f":"IF(allGymnasts!D7=$C$15,allGymnasts!H7,0)","v":""},{"$f":"IF(allGymnasts!D7=$C$15,allGymnasts!M7,0)","v":""},{"$f":"IF(allGymnasts!D7=$C$15,allGymnasts!R7,0)","v":""},{"$f":"IF(allGymnasts!D7=$C$15,allGymnasts!W7,0)","v":""}]
["",{"$f":"IFERROR(IF(_xlfn.FLOOR.MATH(A8)>allGymnasts!$AC$4,\"\",_xlfn.FLOOR.MATH(A8)),\"\")","v":""},{"$f":"IF(allGymnasts!AB8=\"\",\"\",allGymnasts!AB8)","v":""},{"$f":"IFERROR(AE3,\"\")","v":""},{"$f":"IFERROR(AF3,\"\")","v":""},"","",null,null,null,"",null,null,null,{"$f":"IF(allGymnasts!D8=$C$4,allGymnasts!H8,0)","v":""},{"$f":"IF(allGymnasts!D8=$C$4,allGymnasts!M8,0)","v":""},{"$f":"IF(allGymnasts!D8=$C$4,allGymnasts!R8,0)","v":""},{"$f":"IF(allGymnasts!D8=$C$4,allGymnasts!W8,0)","v":""},{"$f":"IF(allGymnasts!D8=$C$5,allGymnasts!H8,0)","v":""},{"$f":"IF(allGymnasts!D8=$C$5,allGymnasts!M8,0)","v":""},{"$f":"IF(allGymnasts!D8=$C$5,allGymnasts!R8,0)","v":""},{"$f":"IF(allGymnasts!D8=$C$5,allGymnasts!W8,0)","v":""},{"$f":"IF(allGymnasts!D8=$C$6,allGymnasts!H8,0)","v":""},{"$f":"IF(allGymnasts!D8=$C$6,allGymnasts!M8,0)","v":""},{"$f":"IF(allGymnasts!D8=$C$6,allGymnasts!R8,0)","v":""},{"$f":"IF(allGymnasts!D8=$C$6,allGymnasts!W8,0)","v":""},{"$f":"IF(allGymnasts!D8=$C$7,allGymnasts!H8,0)","v":""},{"$f":"IF(allGymnasts!D8=$C$7,allGymnasts!M8,0)","v":""},{"$f":"IF(allGymnasts!D8=$C$7,allGymnasts!R8,0)","v":""},{"$f":"IF(allGymnasts!D8=$C$7,allGymnasts!W8,0)","v":""},{"$f":"IF(allGymnasts!D8=$C$8,allGymnasts!H8,0)","v":""},{"$f":"IF(allGymnasts!D8=$C$8,allGymnasts!M8,0)","v":""},{"$f":"IF(allGymnasts!D8=$C$8,allGymnasts!R8,0)","v":""},{"$f":"IF(allGymnasts!D8=$C$8,allGymnasts!W8,0)","v":""},{"$f":"IF(allGymnasts!D8=$C$9,allGymnasts!H8,0)","v":""},{"$f":"IF(allGymnasts!D8=$C$9,allGymnasts!M8,0)","v":""},{"$f":"IF(allGymnasts!D8=$C$9,allGymnasts!R8,0)","v":""},{"$f":"IF(allGymnasts!D8=$C$9,allGymnasts!W8,0)","v":""},{"$f":"IF(allGymnasts!D8=$C$10,allGymnasts!H8,0)","v":""},{"$f":"IF(allGymnasts!D8=$C$10,allGymnasts!M8,0)","v":""},{"$f":"IF(allGymnasts!D8=$C$10,allGymnasts!R8,0)","v":""},{"$f":"IF(allGymnasts!D8=$C$10,allGymnasts!W8,0)","v":""},{"$f":"IF(allGymnasts!D8=$C$11,allGymnasts!H8,0)","v":""},{"$f":"IF(allGymnasts!D8=$C$11,allGymnasts!M8,0)","v":""},{"$f":"IF(allGymnasts!D8=$C$11,allGymnasts!R8,0)","v":""},{"$f":"IF(allGymnasts!D8=$C$11,allGymnasts!W8,0)","v":""},{"$f":"IF(allGymnasts!D8=$C$12,allGymnasts!H8,0)","v":""},{"$f":"IF(allGymnasts!D8=$C$12,allGymnasts!M8,0)","v":""},{"$f":"IF(allGymnasts!D8=$C$12,allGymnasts!R8,0)","v":""},{"$f":"IF(allGymnasts!D8=$C$12,allGymnasts!W8,0)","v":""},{"$f":"IF(allGymnasts!D8=$C$13,allGymnasts!H8,0)","v":""},{"$f":"IF(allGymnasts!D8=$C$13,allGymnasts!M8,0)","v":""},{"$f":"IF(allGymnasts!D8=$C$13,allGymnasts!R8,0)","v":""},{"$f":"IF(allGymnasts!D8=$C$13,allGymnasts!W8,0)","v":""},{"$f":"IF(allGymnasts!D8=$C$14,allGymnasts!H8,0)","v":""},{"$f":"IF(allGymnasts!D8=$C$14,allGymnasts!M8,0)","v":""},{"$f":"IF(allGymnasts!D8=$C$14,allGymnasts!R8,0)","v":""},{"$f":"IF(allGymnasts!D8=$C$14,allGymnasts!W8,0)","v":""},{"$f":"IF(allGymnasts!D8=$C$15,allGymnasts!H8,0)","v":""},{"$f":"IF(allGymnasts!D8=$C$15,allGymnasts!M8,0)","v":""},{"$f":"IF(allGymnasts!D8=$C$15,allGymnasts!R8,0)","v":""},{"$f":"IF(allGymnasts!D8=$C$15,allGymnasts!W8,0)","v":""}]
[{"$f":"IF(C9=\"\",\"\",RANK(K9,$K$4:$K$15,0)+ROW(K9)/100)","v":""},{"$f":"IFERROR(IF(_xlfn.FLOOR.MATH(A9)>allGymnasts!$AC$4,\"\",_xlfn.FLOOR.MATH(A9)),\"\")","v":""},{"$f":"IF(allGymnasts!AB9=\"\",\"\",allGymnasts!AB9)","v":""},{"$f":"IFERROR(AI3,\"\")","v":""},{"$f":"IFERROR(AJ3,\"\")","v":""},"","",null,null,null,"",null,null,null,{"$f":"IF(allGymnasts!D9=$C$4,allGymnasts!H9,0)","v":""},{"$f":"IF(allGymnasts!D9=$C$4,allGymnasts!M9,0)","v":""},{"$f":"IF(allGymnasts!D9=$C$4,allGymnasts!R9,0)","v":""},{"$f":"IF(allGymnasts!D9=$C$4,allGymnasts!W9,0)","v":""},{"$f":"IF(allGymnasts!D9=$C$5,allGymnasts!H9,0)","v":""},{"$f":"IF(allGymnasts!D9=$C$5,allGymnasts!M9,0)","v":""},{"$f":"IF(allGymnasts!D9=$C$5,allGymnasts!R9,0)","v":""},{"$f":"IF(allGymnasts!D9=$C$5,allGymnasts!W9,0)","v":""},{"$f":"IF(allGymnasts!D9=$C$6,allGymnasts!H9,0)","v":""},{"$f":"IF(allGymnasts!D9=$C$6,allGymnasts!M9,0)","v":""},{"$f":"IF(allGymnasts!D9=$C$6,allGymnasts!R9,0)","v":""},{"$f":"IF(allGymnasts!D9=$C$6,allGymnasts!W9,0)","v":""},{"$f":"IF(allGymnasts!D9=$C$7,allGymnasts!H9,0)","v":""},{"$f":"IF(allGymnasts!D9=$C$7,allGymnasts!M9,0)","v":""},{"$f":"IF(allGymnasts!D9=$C$7,allGymnasts!R9,0)","v":""},{"$f":"IF(allGymnasts!D9=$C$7,allGymnasts!W9,0)","v":""},{"$f":"IF(allGymnasts!D9=$C$8,allGymnasts!H9,0)","v":""},{"$f":"IF(allGymnasts!D9=$C$8,allGymnasts!M9,0)","v":""},{"$f":"IF(allGymnasts!D9=$C$8,allGymnasts!R9,0)","v":""},{"$f":"IF(allGymnasts!D9=$C$8,allGymnasts!W9,0)","v":""},{"$f":"IF(allGymnasts!D9=$C$9,allGymnasts!H9,0)","v":""},{"$f":"IF(allGymnasts!D9=$C$9,allGymnasts!M9,0)","v":""},{"$f":"IF(allGymnasts!D9=$C$9,allGymnasts!R9,0)","v":""},{"$f":"IF(allGymnasts!D9=$C$9,allGymnasts!W9,0)","v":""},{"$f":"IF(allGymnasts!D9=$C$10,allGymnasts!H9,0)","v":""},{"$f":"IF(allGymnasts!D9=$C$10,allGymnasts!M9,0)","v":""},{"$f":"IF(allGymnasts!D9=$C$10,allGymnasts!R9,0)","v":""},{"$f":"IF(allGymnasts!D9=$C$10,allGymnasts!W9,0)","v":""},{"$f":"IF(allGymnasts!D9=$C$11,allGymnasts!H9,0)","v":""},{"$f":"IF(allGymnasts!D9=$C$11,allGymnasts!M9,0)","v":""},{"$f":"IF(allGymnasts!D9=$C$11,allGymnasts!R9,0)","v":""},{"$f":"IF(allGymnasts!D9=$C$11,allGymnasts!W9,0)","v":""},{"$f":"IF(allGymnasts!D9=$C$12,allGymnasts!H9,0)","v":""},{"$f":"IF(allGymnasts!D9=$C$12,allGymnasts!M9,0)","v":""},{"$f":"IF(allGymnasts!D9=$C$12,allGymnasts!R9,0)","v":""},{"$f":"IF(allGymnasts!D9=$C$12,allGymnasts!W9,0)","v":""},{"$f":"IF(allGymnasts!D9=$C$13,allGymnasts!H9,0)","v":""},{"$f":"IF(allGymnasts!D9=$C$13,allGymnasts!M9,0)","v":""},{"$f":"IF(allGymnasts!D9=$C$13,allGymnasts!R9,0)","v":""},{"$f":"IF(allGymnasts!D9=$C$13,allGymnasts!W9,0)","v":""},{"$f":"IF(allGymnasts!D9=$C$14,allGymnasts!H9,0)","v":""},{"$f":"IF(allGymnasts!D9=$C$14,allGymnasts!M9,0)","v":""},{"$f":"IF(allGymnasts!D9=$C$14,allGymnasts!R9,0)","v":""},{"$f":"IF(allGymnasts!D9=$C$14,allGymnasts!W9,0)","v":""},{"$f":"IF(allGymnasts!D9=$C$15,allGymnasts!H9,0)","v":""},{"$f":"IF(allGymnasts!D9=$C$15,allGymnasts!M9,0)","v":""},{"$f":"IF(allGymnasts!D9=$C$15,allGymnasts!R9,0)","v":""},{"$f":"IF(allGymnasts!D9=$C$15,allGymnasts!W9,0)","v":""}]
[{"$f":"IF(C10=\"\",\"\",RANK(K10,$K$4:$K$15,0)+ROW(K10)/100)","v":""},{"$f":"IFERROR(IF(_xlfn.FLOOR.MATH(A10)>allGymnasts!$AC$4,\"\",_xlfn.FLOOR.MATH(A10)),\"\")","v":""},{"$f":"IF(allGymnasts!AB10=\"\",\"\",allGymnasts!AB10)","v":""},{"$f":"IFERROR(AM3,\"\")","v":""},{"$f":"IFERROR(AN3,\"\")","v":""},"","",null,null,null,"",null,null,null,{"$f":"IF(allGymnasts!D10=$C$4,allGymnasts!H10,0)","v":""},{"$f":"IF(allGymnasts!D10=$C$4,allGymnasts!M10,0)","v":""},{"$f":"IF(allGymnasts!D10=$C$4,allGymnasts!R10,0)","v":""},{"$f":"IF(allGymnasts!D10=$C$4,allGymnasts!W10,0)","v":""},{"$f":"IF(allGymnasts!D10=$C$5,allGymnasts!H10,0)","v":""},{"$f":"IF(allGymnasts!D10=$C$5,allGymnasts!M10,0)","v":""},{"$f":"IF(allGymnasts!D10=$C$5,allGymnasts!R10,0)","v":""},{"$f":"IF(allGymnasts!D10=$C$5,allGymnasts!W10,0)","v":""},{"$f":"IF(allGymnasts!D10=$C$6,allGymnasts!H10,0)","v":""},{"$f":"IF(allGymnasts!D10=$C$6,allGymnasts!M10,0)","v":""},{"$f":"IF(allGymnasts!D10=$C$6,allGymnasts!R10,0)","v":""},{"$f":"IF(allGymnasts!D10=$C$6,allGymnasts!W10,0)","v":""},{"$f":"IF(allGymnasts!D10=$C$7,allGymnasts!H10,0)","v":""},{"$f":"IF(allGymnasts!D10=$C$7,allGymnasts!M10,0)","v":""},{"$f":"IF(allGymnasts!D10=$C$7,allGymnasts!R10,0)","v":""},{"$f":"IF(allGymnasts!D10=$C$7,allGymnasts!W10,0)","v":""},{"$f":"IF(allGymnasts!D10=$C$8,allGymnasts!H10,0)","v":""},{"$f":"IF(allGymnasts!D10=$C$8,allGymnasts!M10,0)","v":""},{"$f":"IF(allGymnasts!D10=$C$8,allGymnasts!R10,0)","v":""},{"$f":"IF(allGymnasts!D10=$C$8,allGymnasts!W10,0)","v":""},{"$f":"IF(allGymnasts!D10=$C$9,allGymnasts!H10,0)","v":""},{"$f":"IF(allGymnasts!D10=$C$9,allGymnasts!M10,0)","v":""},{"$f":"IF(allGymnasts!D10=$C$9,allGymnasts!R10,0)","v":""},{"$f":"IF(allGymnasts!D10=$C$9,allGymnasts!W10,0)","v":""},{"$f":"IF(allGymnasts!D10=$C$10,allGymnasts!H10,0)","v":""},{"$f":"IF(allGymnasts!D10=$C$10,allGymnasts!M10,0)","v":""},{"$f":"IF(allGymnasts!D10=$C$10,allGymnasts!R10,0)","v":""},{"$f":"IF(allGymnasts!D10=$C$10,allGymnasts!W10,0)","v":""},{"$f":"IF(allGymnasts!D10=$C$11,allGymnasts!H10,0)","v":""},{"$f":"IF(allGymnasts!D10=$C$11,allGymnasts!M10,0)","v":""},{"$f":"IF(allGymnasts!D10=$C$11,allGymnasts!R10,0)","v":""},{"$f":"IF(allGymnasts!D10=$C$11,allGymnasts!W10,0)","v":""},{"$f":"IF(allGymnasts!D10=$C$12,allGymnasts!H10,0)","v":""},{"$f":"IF(allGymnasts!D10=$C$12,allGymnasts!M10,0)","v":""},{"$f":"IF(allGymnasts!D10=$C$12,allGymnasts!R10,0)","v":""},{"$f":"IF(allGymnasts!D10=$C$12,allGymnasts!W10,0)","v":""},{"$f":"IF(allGymnasts!D10=$C$13,allGymnasts!H10,0)","v":""},{"$f":"IF(allGymnasts!D10=$C$13,allGymnasts!M10,0)","v":""},{"$f":"IF(allGymnasts!D10=$C$13,allGymnasts!R10,0)","v":""},{"$f":"IF(allGymnasts!D10=$C$13,allGymnasts!W10,0)","v":""},{"$f":"IF(allGymnasts!D10=$C$14,allGymnasts!H10,0)","v":""},{"$f":"IF(allGymnasts!D10=$C$14,allGymnasts!M10,0)","v":""},{"$f":"IF(allGymnasts!D10=$C$14,allGymnasts!R10,0)","v":""},{"$f":"IF(allGymnasts!D10=$C$14,allGymnasts!W10,0)","v":""},{"$f":"IF(allGymnasts!D10=$C$15,allGymnasts!H10,0)","v":""},{"$f":"IF(allGymnasts!D10=$C$15,allGymnasts!M10,0)","v":""},{"$f":"IF(allGymnasts!D10=$C$15,allGymnasts!R10,0)","v":""},{"$f":"IF(allGymnasts!D10=$C$15,allGymnasts!W10,0)","v":""}]
["",{"$f":"IFERROR(IF(_xlfn.FLOOR.MATH(A11)>allGymnasts!$AC$4,\"\",_xlfn.FLOOR.MATH(A11)),\"\")","v":""},{"$f":"IF(allGymnasts!AB11=\"\",\"\",allGymnasts!AB11)","v":""},{"$f":"IFERROR(AQ3,\"\")","v":""},{"$f":"IFERROR(AR3,\"\")","v":""},"","",null,null,null,"",null,null,null,{"$f":"IF(allGymnasts!D11=$C$4,allGymnasts!H11,0)","v":""},{"$f":"IF(allGymnasts!D11=$C$4,allGymnasts!M11,0)","v":""},{"$f":"IF(allGymnasts!D11=$C$4,allGymnasts!R11,0)","v":""},{"$f":"IF(allGymnasts!D11=$C$4,allGymnasts!W11,0)","v":""},{"$f":"IF(allGymnasts!D11=$C$5,allGymnasts!H11,0)","v":""},{"$f":"IF(allGymnasts!D11=$C$5,allGymnasts!M11,0)","v":""},{"$f":"IF(allGymnasts!D11=$C$5,allGymnasts!R11,0)","v":""},{"$f":"IF(allGymnasts!D11=$C$5,allGymnasts!W11,0)","v":""},{"$f":"IF(allGymnasts!D11=$C$6,allGymnasts!H11,0)","v":""},{"$f":"IF(allGymnasts!D11=$C$6,allGymnasts!M11,0)","v":""},{"$f":"IF(allGymnasts!D11=$C$6,allGymnasts!R11,0)","v":""},{"$f":"IF(allGymnasts!D11=$C$6,allGymnasts!W11,0)","v":""},{"$f":"IF(allGymnasts!D11=$C$7,allGymnasts!H11,0)","v":""},{"$f":"IF(allGymnasts!D11=$C$7,allGymnasts!M11,0)","v":""},{"$f":"IF(allGymnasts!D11=$C$7,allGymnasts!R11,0)","v":""},{"$f":"IF(allGymnasts!D11=$C$7,allGymnasts!W11,0)","v":""},{"$f":"IF(allGymnasts!D11=$C$8,allGymnasts!H11,0)","v":""},{"$f":"IF(allGymnasts!D11=$C$8,allGymnasts!M11,0)","v":""},{"$f":"IF(allGymnasts!D11=$C$8,allGymnasts!R11,0)","v":""},{"$f":"IF(allGymnasts!D11=$C$8,allGymnasts!W11,0)","v":""},{"$f":"IF(allGymnasts!D11=$C$9,allGymnasts!H11,0)","v":""},{"$f":"IF(allGymnasts!D11=$C$9,allGymnasts!M11,0)","v":""},{"$f":"IF(allGymnasts!D11=$C$9,allGymnasts!R11,0)","v":""},{"$f":"IF(allGymnasts!D11=$C$9,allGymnasts!W11,0)","v":""},{"$f":"IF(allGymnasts!D11=$C$10,allGymnasts!H11,0)","v":""},{"$f":"IF(allGymnasts!D11=$C$10,allGymnasts!M11,0)","v":""},{"$f":"IF(allGymnasts!D11=$C$10,allGymnasts!R11,0)","v":""},{"$f":"IF(allGymnasts!D11=$C$10,allGymnasts!W11,0)","v":""},{"$f":"IF(allGymnasts!D11=$C$11,allGymnasts!H11,0)","v":""},{"$f":"IF(allGymnasts!D11=$C$11,allGymnasts!M11,0)","v":""},{"$f":"IF(allGymnasts!D11=$C$11,allGymnasts!R11,0)","v":""},{"$f":"IF(allGymnasts!D11=$C$11,allGymnasts!W11,0)","v":""},{"$f":"IF(allGymnasts!D11=$C$12,allGymnasts!H11,0)","v":""},{"$f":"IF(allGymnasts!D11=$C$12,allGymnasts!M11,0)","v":""},{"$f":"IF(allGymnasts!D11=$C$12,allGymnasts!R11,0)","v":""},{"$f":"IF(allGymnasts!D11=$C$12,allGymnasts!W11,0)","v":""},{"$f":"IF(allGymnasts!D11=$C$13,allGymnasts!H11,0)","v":""},{"$f":"IF(allGymnasts!D11=$C$13,allGymnasts!M11,0)","v":""},{"$f":"IF(allGymnasts!D11=$C$13,allGymnasts!R11,0)","v":""},{"$f":"IF(allGymnasts!D11=$C$13,allGymnasts!W11,0)","v":""},{"$f":"IF(allGymnasts!D11=$C$14,allGymnasts!H11,0)","v":""},{"$f":"IF(allGymnasts!D11=$C$14,allGymnasts!M11,0)","v":""},{"$f":"IF(allGymnasts!D11=$C$14,allGymnasts!R11,0)","v":""},{"$f":"IF(allGymnasts!D11=$C$14,allGymnasts!W11,0)","v":""},{"$f":"IF(allGymnasts!D11=$C$15,allGymnasts!H11,0)","v":""},{"$f":"IF(allGymnasts!D11=$C$15,allGymnasts!M11,0)","v":""},{"$f":"IF(allGymnasts!D11=$C$15,allGymnasts!R11,0)","v":""},{"$f":"IF(allGymnasts!D11=$C$15,allGymnasts!W11,0)","v":""}]
["",{"$f":"IFERROR(IF(_xlfn.FLOOR.MATH(A12)>allGymnasts!$AC$4,\"\",_xlfn.FLOOR.MATH(A12)),\"\")","v":""},{"$f":"IF(allGymnasts!AB12=\"\",\"\",allGymnasts!AB12)","v":""},{"$f":"IFERROR(AU3,\"\")","v":""},{"$f":"IFERROR(AV3,\"\")","v":""},"","",null,null,null,"",null,null,null,{"$f":"IF(allGymnasts!D12=$C$4,allGymnasts!H12,0)","v":""},{"$f":"IF(allGymnasts!D12=$C$4,allGymnasts!M12,0)","v":""},{"$f":"IF(allGymnasts!D12=$C$4,allGymnasts!R12,0)","v":""},{"$f":"IF(allGymnasts!D12=$C$4,allGymnasts!W12,0)","v":""},{"$f":"IF(allGymnasts!D12=$C$5,allGymnasts!H12,0)","v":""},{"$f":"IF(allGymnasts!D12=$C$5,allGymnasts!M12,0)","v":""},{"$f":"IF(allGymnasts!D12=$C$5,allGymnasts!R12,0)","v":""},{"$f":"IF(allGymnasts!D12=$C$5,allGymnasts!W12,0)","v":""},{"$f":"IF(allGymnasts!D12=$C$6,allGymnasts!H12,0)","v":""},{"$f":"IF(allGymnasts!D12=$C$6,allGymnasts!M12,0)","v":""},{"$f":"IF(allGymnasts!D12=$C$6,allGymnasts!R12,0)","v":""},{"$f":"IF(allGymnasts!D12=$C$6,allGymnasts!W12,0)","v":""},{"$f":"IF(allGymnasts!D12=$C$7,allGymnasts!H12,0)","v":""},{"$f":"IF(allGymnasts!D12=$C$7,allGymnasts!M12,0)","v":""},{"$f":"IF(allGymnasts!D12=$C$7,allGymnasts!R12,0)","v":""},{"$f":"IF(allGymnasts!D12=$C$7,allGymnasts!W12,0)","v":""},{"$f":"IF(allGymnasts!D12=$C$8,allGymnasts!H12,0)","v":""},{"$f":"IF(allGymnasts!D12=$C$8,allGymnasts!M12,0)","v":""},{"$f":"IF(allGymnasts!D12=$C$8,allGymnasts!R12,0)","v":""},{"$f":"IF(allGymnasts!D12=$C$8,allGymnasts!W12,0)","v":""},{"$f":"IF(allGymnasts!D12=$C$9,allGymnasts!H12,0)","v":""},{"$f":"IF(allGymnasts!D12=$C$9,allGymnasts!M12,0)","v":""},{"$f":"IF(allGymnasts!D12=$C$9,allGymnasts!R12,0)","v":""},{"$f":"IF(allGymnasts!D12=$C$9,allGymnasts!W12,0)","v":""},{"$f":"IF(allGymnasts!D12=$C$10,allGymnasts!H12,0)","v":""},{"$f":"IF(allGymnasts!D12=$C$10,allGymnasts!M12,0)","v":""},{"$f":"IF(allGymnasts!D12=$C$10,allGymnasts!R12,0)","v":""},{"$f":"IF(allGymnasts!D12=$C$10,allGymnasts!W12,0)","v":""},{"$f":"IF(allGymnasts!D12=$C$11,allGymnasts!H12,0)","v":""},{"$f":"IF(allGymnasts!D12=$C$11,allGymnasts!M12,0)","v":""},{"$f":"IF(allGymnasts!D12=$C$11,allGymnasts!R12,0)","v":""},{"$f":"IF(allGymnasts!D12=$C$11,allGymnasts!W12,0)","v":""},{"$f":"IF(allGymnasts!D12=$C$12,allGymnasts!H12,0)","v":""},{"$f":"IF(allGymnasts!D12=$C$12,allGymnasts!M12,0)","v":""},{"$f":"IF(allGymnasts!D12=$C$12,allGymnasts!R12,0)","v":""},{"$f":"IF(allGymnasts!D12=$C$12,allGymnasts!W12,0)","v":""},{"$f":"IF(allGymnasts!D12=$C$13,allGymnasts!H12,0)","v":""},{"$f":"IF(allGymnasts!D12=$C$13,allGymnasts!M12,0)","v":""},{"$f":"IF(allGymnasts!D12=$C$13,allGymnasts!R12,0)","v":""},{"$f":"IF(allGymnasts!D12=$C$13,allGymnasts!W12,0)","v":""},{"$f":"IF(allGymnasts!D12=$C$14,allGymnasts!H12,0)","v":""},{"$f":"IF(allGymnasts!D12=$C$14,allGymnasts!M12,0)","v":""},{"$f":"IF(allGymnasts!D12=$C$14,allGymnasts!R12,0)","v":""},{"$f":"IF(allGymnasts!D12=$C$14,allGymnasts!W12,0)","v":""},{"$f":"IF(allGymnasts!D12=$C$15,allGymnasts!H12,0)","v":""},{"$f":"IF(allGymnasts!D12=$C$15,allGymnasts!M12,0)","v":""},{"$f":"IF(allGymnasts!D12=$C$15,allGymnasts!R12,0)","v":""},{"$f":"IF(allGymnasts!D12=$C$15,allGymnasts!W12,0)","v":""}]
["",{"$f":"IFERROR(IF(_xlfn.FLOOR.MATH(A13)>allGymnasts!$AC$4,\"\",_xlfn.FLOOR.MATH(A13)),\"\")","v":""},{"$f":"IF(allGymnasts!AB13=\"\",\"\",allGymnasts!AB13)","v":""},{"$f":"IFERROR(AY3,\"\")","v":""},{"$f":"IFERROR(AZ3,\"\")","v":""},"","",null,null,null,"",null,null,null,{"$f":"IF(allGymnasts!D13=$C$4,allGymnasts!H13,0)","v":""},{"$f":"IF(allGymnasts!D13=$C$4,allGymnasts!M13,0)","v":""},{"$f":"IF(allGymnasts!D13=$C$4,allGymnasts!R13,0)","v":""},{"$f":"IF(allGymnasts!D13=$C$4,allGymnasts!W13,0)","v":""},{"$f":"IF(allGymnasts!D13=$C$5,allGymnasts!H13,0)","v":""},{"$f":"IF(allGymnasts!D13=$C$5,allGymnasts!M13,0)","v":""},{"$f":"IF(allGymnasts!D13=$C$5,allGymnasts!R13,0)","v":""},{"$f":"IF(allGymnasts!D13=$C$5,allGymnasts!W13,0)","v":""},{"$f":"IF(allGymnasts!D13=$C$6,allGymnasts!H13,0)","v":""},{"$f":"IF(allGymnasts!D13=$C$6,allGymnasts!M13,0)","v":""},{"$f":"IF(allGymnasts!D13=$C$6,allGymnasts!R13,0)","v":""},{"$f":"IF(allGymnasts!D13=$C$6,allGymnasts!W13,0)","v":""},{"$f":"IF(allGymnasts!D13=$C$7,allGymnasts!H13,0)","v":""},{"$f":"IF(allGymnasts!D13=$C$7,allGymnasts!M13,0)","v":""},{"$f":"IF(allGymnasts!D13=$C$7,allGymnasts!R13,0)","v":""},{"$f":"IF(allGymnasts!D13=$C$7,allGymnasts!W13,0)","v":""},{"$f":"IF(allGymnasts!D13=$C$8,allGymnasts!H13,0)","v":""},{"$f":"IF(allGymnasts!D13=$C$8,allGymnasts!M13,0)","v":""},{"$f":"IF(allGymnasts!D13=$C$8,allGymnasts!R13,0)","v":""},{"$f":"IF(allGymnasts!D13=$C$8,allGymnasts!W13,0)","v":""},{"$f":"IF(allGymnasts!D13=$C$9,allGymnasts!H13,0)","v":""},{"$f":"IF(allGymnasts!D13=$C$9,allGymnasts!M13,0)","v":""},{"$f":"IF(allGymnasts!D13=$C$9,allGymnasts!R13,0)","v":""},{"$f":"IF(allGymnasts!D13=$C$9,allGymnasts!W13,0)","v":""},{"$f":"IF(allGymnasts!D13=$C$10,allGymnasts!H13,0)","v":""},{"$f":"IF(allGymnasts!D13=$C$10,allGymnasts!M13,0)","v":""},{"$f":"IF(allGymnasts!D13=$C$10,allGymnasts!R13,0)","v":""},{"$f":"IF(allGymnasts!D13=$C$10,allGymnasts!W13,0)","v":""},{"$f":"IF(allGymnasts!D13=$C$11,allGymnasts!H13,0)","v":""},{"$f":"IF(allGymnasts!D13=$C$11,allGymnasts!M13,0)","v":""},{"$f":"IF(allGymnasts!D13=$C$11,allGymnasts!R13,0)","v":""},{"$f":"IF(allGymnasts!D13=$C$11,allGymnasts!W13,0)","v":""},{"$f":"IF(allGymnasts!D13=$C$12,allGymnasts!H13,0)","v":""},{"$f":"IF(allGymnasts!D13=$C$12,allGymnasts!M13,0)","v":""},{"$f":"IF(allGymnasts!D13=$C$12,allGymnasts!R13,0)","v":""},{"$f":"IF(allGymnasts!D13=$C$12,allGymnasts!W13,0)","v":""},{"$f":"IF(allGymnasts!D13=$C$13,allGymnasts!H13,0)","v":""},{"$f":"IF(allGymnasts!D13=$C$13,allGymnasts!M13,0)","v":""},{"$f":"IF(allGymnasts!D13=$C$13,allGymnasts!R13,0)","v":""},{"$f":"IF(allGymnasts!D13=$C$13,allGymnasts!W13,0)","v":""},{"$f":"IF(allGymnasts!D13=$C$14,allGymnasts!H13,0)","v":""},{"$f":"IF(allGymnasts!D13=$C$14,allGymnasts!M13,0)","v":""},{"$f":"IF(allGymnasts!D13=$C$14,allGymnasts!R13,0)","v":""},{"$f":"IF(allGymnasts!D13=$C$14,allGymnasts!W13,0)","v":""},{"$f":"IF(allGymnasts!D13=$C$15,allGymnasts!H13,0)","v":""},{"$f":"IF(allGymnasts!D13=$C$15,allGymnasts!M13,0)","v":""},{"$f":"IF(allGymnasts!D13=$C$15,allGymnasts!R13,0)","v":""},{"$f":"IF(allGymnasts!D13=$C$15,allGymnasts!W13,0)","v":""}]
["",{"$f":"IFERROR(IF(_xlfn.FLOOR.MATH(A14)>allGymnasts!$AC$4,\"\",_xlfn.FLOOR.MATH(A14)),\"\")","v":""},{"$f":"IF(allGymnasts!AB14=\"\",\"\",allGymnasts!AB14)","v":""},{"$f":"IFERROR(BC3,\"\")","v":""},{"$f":"IFERROR(BD3,\"\")","v":""},"","",null,null,null,"",null,null,null,{"$f":"IF(allGymnasts!D14=$C$4,allGymnasts!H14,0)","v":""},{"$f":"IF(allGymnasts!D14=$C$4,allGymnasts!M14,0)","v":""},{"$f":"IF(allGymnasts!D14=$C$4,allGymnasts!R14,0)","v":""},{"$f":"IF(allGymnasts!D14=$C$4,allGymnasts!W14,0)","v":""},{"$f":"IF(allGymnasts!D14=$C$5,allGymnasts!H14,0)","v":""},{"$f":"IF(allGymnasts!D14=$C$5,allGymnasts!M14,0)","v":""},{"$f":"IF(allGymnasts!D14=$C$5,allGymnasts!R14,0)","v":""},{"$f":"IF(allGymnasts!D14=$C$5,allGymnasts!W14,0)","v":""},{"$f":"IF(allGymnasts!D14=$C$6,allGymnasts!H14,0)","v":""},{"$f":"IF(allGymnasts!D14=$C$6,allGymnasts!M14,0)","v":""},{"$f":"IF(allGymnasts!D14=$C$6,allGymnasts!R14,0)","v":""},{"$f":"IF(allGymnasts!D14=$C$6,allGymnasts!W14,0)","v":""},{"$f":"IF(allGymnasts!D14=$C$7,allGymnasts!H14,0)","v":""},{"$f":"IF(allGymnasts!D14=$C$7,allGymnasts!M14,0)","v":""},{"$f":"IF(allGymnasts!D14=$C$7,allGymnasts!R14,0)","v":""},{"$f":"IF(allGymnasts!D14=$C$7,allGymnasts!W14,0)","v":""},{"$f":"IF(allGymnasts!D14=$C$8,allGymnasts!H14,0)","v":""},{"$f":"IF(allGymnasts!D14=$C$8,allGymnasts!M14,0)","v":""},{"$f":"IF(allGymnasts!D14=$C$8,allGymnasts!R14,0)","v":""},{"$f":"IF(allGymnasts!D14=$C$8,allGymnasts!W14,0)","v":""},{"$f":"IF(allGymnasts!D14=$C$9,allGymnasts!H14,0)","v":""},{"$f":"IF(allGymnasts!D14=$C$9,allGymnasts!M14,0)","v":""},{"$f":"IF(allGymnasts!D14=$C$9,allGymnasts!R14,0)","v":""},{"$f":"IF(allGymnasts!D14=$C$9,allGymnasts!W14,0)","v":""},{"$f":"IF(allGymnasts!D14=$C$10,allGymnasts!H14,0)","v":""},{"$f":"IF(allGymnasts!D14=$C$10,allGymnasts!M14,0)","v":""},{"$f":"IF(allGymnasts!D14=$C$10,allGymnasts!R14,0)","v":""},{"$f":"IF(allGymnasts!D14=$C$10,allGymnasts!W14,0)","v":""},{"$f":"IF(allGymnasts!D14=$C$11,allGymnasts!H14,0)","v":""},{"$f":"IF(allGymnasts!D14=$C$11,allGymnasts!M14,0)","v":""},{"$f":"IF(allGymnasts!D14=$C$11,allGymnasts!R14,0)","v":""},{"$f":"IF(allGymnasts!D14=$C$11,allGymnasts!W14,0)","v":""},{"$f":"IF(allGymnasts!D14=$C$12,allGymnasts!H14,0)","v":""},{"$f":"IF(allGymnasts!D14=$C$12,allGymnasts!M14,0)","v":""},{"$f":"IF(allGymnasts!D14=$C$12,allGymnasts!R14,0)","v":""},{"$f":"IF(allGymnasts!D14=$C$12,allGymnasts!W14,0)","v":""},{"$f":"IF(allGymnasts!D14=$C$13,allGymnasts!H14,0)","v":""},{"$f":"IF(allGymnasts!D14=$C$13,allGymnasts!M14,0)","v":""},{"$f":"IF(allGymnasts!D14=$C$13,allGymnasts!R14,0)","v":""},{"$f":"IF(allGymnasts!D14=$C$13,allGymnasts!W14,0)","v":""},{"$f":"IF(allGymnasts!D14=$C$14,allGymnasts!H14,0)","v":""},{"$f":"IF(allGymnasts!D14=$C$14,allGymnasts!M14,0)","v":""},{"$f":"IF(allGymnasts!D14=$C$14,allGymnasts!R14,0)","v":""},{"$f":"IF(allGymnasts!D14=$C$14,allGymnasts!W14,0)","v":""},{"$f":"IF(allGymnasts!D14=$C$15,allGymnasts!H14,0)","v":""},{"$f":"IF(allGymnasts!D14=$C$15,allGymnasts!M14,0)","v":""},{"$f":"IF(allGymnasts!D14=$C$15,allGymnasts!R14,0)","v":""},{"$f":"IF(allGymnasts!D14=$C$15,allGymnasts!W14,0)","v":""}]
["",{"$f":"IFERROR(IF(_xlfn.FLOOR.MATH(A15)>allGymnasts!$AC$4,\"\",_xlfn.FLOOR.MATH(A15)),\"\")","v":""},{"$f":"IF(allGymnasts!AB15=\"\",\"\",allGymnasts!AB15)","v":""},{"$f":"IFERROR(BG3,\"\")","v":""},{"$f":"IFERROR(BH3,\"\")","v":""},"","",null,null,null,"",null,null,null,{"$f":"IF(allGymnasts!D15=$C$4,allGymnasts!H15,0)","v":""},{"$f":"IF(allGymnasts!D15=$C$4,allGymnasts!M15,0)","v":""},{"$f":"IF(allGymnasts!D15=$C$4,allGymnasts!R15,0)","v":""},{"$f":"IF(allGymnasts!D15=$C$4,allGymnasts!W15,0)","v":""},{"$f":"IF(allGymnasts!D15=$C$5,allGymnasts!H15,0)","v":""},{"$f":"IF(allGymnasts!D15=$C$5,allGymnasts!M15,0)","v":""},{"$f":"IF(allGymnasts!D15=$C$5,allGymnasts!R15,0)","v":""},{"$f":"IF(allGymnasts!D15=$C$5,allGymnasts!W15,0)","v":""},{"$f":"IF(allGymnasts!D15=$C$6,allGymnasts!H15,0)","v":""},{"$f":"IF(allGymnasts!D15=$C$6,allGymnasts!M15,0)","v":""},{"$f":"IF(allGymnasts!D15=$C$6,allGymnasts!R15,0)","v":""},{"$f":"IF(allGymnasts!D15=$C$6,allGymnasts!W15,0)","v":""},{"$f":"IF(allGymnasts!D15=$C$7,allGymnasts!H15,0)","v":""},{"$f":"IF(allGymnasts!D15=$C$7,allGymnasts!M15,0)","v":""},{"$f":"IF(allGymnasts!D15=$C$7,allGymnasts!R15,0)","v":""},{"$f":"IF(allGymnasts!D15=$C$7,allGymnasts!W15,0)","v":""},{"$f":"IF(allGymnasts!D15=$C$8,allGymnasts!H15,0)","v":""},{"$f":"IF(allGymnasts!D15=$C$8,allGymnasts!M15,0)","v":""},{"$f":"IF(allGymnasts!D15=$C$8,allGymnasts!R15,0)","v":""},{"$f":"IF(allGymnasts!D15=$C$8,allGymnasts!W15,0)","v":""},{"$f":"IF(allGymnasts!D15=$C$9,allGymnasts!H15,0)","v":""},{"$f":"IF(allGymnasts!D15=$C$9,allGymnasts!M15,0)","v":""},{"$f":"IF(allGymnasts!D15=$C$9,allGymnasts!R15,0)","v":""},{"$f":"IF(allGymnasts!D15=$C$9,allGymnasts!W15,0)","v":""},{"$f":"IF(allGymnasts!D15=$C$10,allGymnasts!H15,0)","v":""},{"$f":"IF(allGymnasts!D15=$C$10,allGymnasts!M15,0)","v":""},{"$f":"IF(allGymnasts!D15=$C$10,allGymnasts!R15,0)","v":""},{"$f":"IF(allGymnasts!D15=$C$10,allGymnasts!W15,0)","v":""},{"$f":"IF(allGymnasts!D15=$C$11,allGymnasts!H15,0)","v":""},{"$f":"IF(allGymnasts!D15=$C$11,allGymnasts!M15,0)","v":""},{"$f":"IF(allGymnasts!D15=$C$11,allGymnasts!R15,0)","v":""},{"$f":"IF(allGymnasts!D15=$C$11,allGymnasts!W15,0)","v":""},{"$f":"IF(allGymnasts!D15=$C$12,allGymnasts!H15,0)","v":""},{"$f":"IF(allGymnasts!D15=$C$12,allGymnasts!M15,0)","v":""},{"$f":"IF(allGymnasts!D15=$C$12,allGymnasts!R15,0)","v":""},{"$f":"IF(allGymnasts!D15=$C$12,allGymnasts!W15,0)","v":""},{"$f":"IF(allGymnasts!D15=$C$13,allGymnasts!H15,0)","v":""},{"$f":"IF(allGymnasts!D15=$C$13,allGymnasts!M15,0)","v":""},{"$f":"IF(allGymnasts!D15=$C$13,allGymnasts!R15,0)","v":""},{"$f":"IF(allGymnasts!D15=$C$13,allGymnasts!W15,0)","v":""},{"$f":"IF(allGymnasts!D15=$C$14,allGymnasts!H15,0)","v":""},{"$f":"IF(allGymnasts!D15=$C$14,allGymnasts!M15,0)","v":""},{"$f":"IF(allGymnasts!D15=$C$14,allGymnasts!R15,0)","v":""},{"$f":"IF(allGymnasts!D15=$C$14,allGymnasts!W15,0)","v":""},{"$f":"IF(allGymnasts!D15=$C$15,allGymnasts!H15,0)","v":""},{"$f":"IF(allGymnasts!D15=$C$15,allGymnasts!M15,0)","v":""},{"$f":"IF(allGymnasts!D15=$C$15,allGymnasts!R15,0)","v":""},{"$f":"IF(allGymnasts!D15=$C$15,allGymnasts!W15,0)","v":""}]
[null,null,null,null,null,null,null,null,null,null,null,null,null,null,{"$f":"IF(allGymnasts!D16=$C$4,allGymnasts!H16,0)","v":""},{"$f":"IF(allGymnasts!D16=$C$4,allGymnasts!M16,0)","v":""},{"$f":"IF(allGymnasts!D16=$C$4,allGymnasts!R16,0)","v":""},{"$f":"IF(allGymnasts!D16=$C$4,allGymnasts!W16,0)","v":""},{"$f":"IF(allGymnasts!D16=$C$5,allGymnasts!H16,0)","v":""},{"$f":"IF(allGymnasts!D16=$C$5,allGymnasts!M16,0)","v":""},{"$f":"IF(allGymnasts!D16=$C$5,allGymnasts!R16,0)","v":""},{"$f":"IF(allGymnasts!D16=$C$5,allGymnasts!W16,0)","v":""},{"$f":"IF(allGymnasts!D16=$C$6,allGymnasts!H16,0)","v":""},{"$f":"IF(allGymnasts!D16=$C$6,allGymnasts!M16,0)","v":""},{"$f":"IF(allGymnasts!D16=$C$6,allGymnasts!R16,0)","v":""},{"$f":"IF(allGymnasts!D16=$C$6,allGymnasts!W16,0)","v":""},{"$f":"IF(allGymnasts!D16=$C$7,allGymnasts!H16,0)","v":""},{"$f":"IF(allGymnasts!D16=$C$7,allGymnasts!M16,0)","v":""},{"$f":"IF(allGymnasts!D16=$C$7,allGymnasts!R16,0)","v":""},{"$f":"IF(allGymnasts!D16=$C$7,allGymnasts!W16,0)","v":""},{"$f":"IF(allGymnasts!D16=$C$8,allGymnasts!H16,0)","v":""},{"$f":"IF(allGymnasts!D16=$C$8,allGymnasts!M16,0)","v":""},{"$f":"IF(allGymnasts!D16=$C$8,allGymnasts!R16,0)","v":""},{"$f":"IF(allGymnasts!D16=$C$8,allGymnasts!W16,0)","v":""},{"$f":"IF(allGymnasts!D16=$C$9,allGymnasts!H16,0)","v":""},{"$f":"IF(allGymnasts!D16=$C$9,allGymnasts!M16,0)","v":""},{"$f":"IF(allGymnasts!D16=$C$9,allGymnasts!R16,0)","v":""},{"$f":"IF(allGymnasts!D16=$C$9,allGymnasts!W16,0)","v":""},{"$f":"IF(allGymnasts!D16=$C$10,allGymnasts!H16,0)","v":""},{"$f":"IF(allGymnasts!D16=$C$10,allGymnasts!M16,0)","v":""},{"$f":"IF(allGymnasts!D16=$C$10,allGymnasts!R16,0)","v":""},{"$f":"IF(allGymnasts!D16=$C$10,allGymnasts!W16,0)","v":""},{"$f":"IF(allGymnasts!D16=$C$11,allGymnasts!H16,0)","v":""},{"$f":"IF(allGymnasts!D16=$C$11,allGymnasts!M16,0)","v":""},{"$f":"IF(allGymnasts!D16=$C$11,allGymnasts!R16,0)","v":""},{"$f":"IF(allGymnasts!D16=$C$11,allGymnasts!W16,0)","v":""},{"$f":"IF(allGymnasts!D16=$C$12,allGymnasts!H16,0)","v":""},{"$f":"IF(allGymnasts!D16=$C$12,allGymnasts!M16,0)","v":""},{"$f":"IF(allGymnasts!D16=$C$12,allGymnasts!R16,0)","v":""},{"$f":"IF(allGymnasts!D16=$C$12,allGymnasts!W16,0)","v":""},{"$f":"IF(allGymnasts!D16=$C$13,allGymnasts!H16,0)","v":""},{"$f":"IF(allGymnasts!D16=$C$13,allGymnasts!M16,0)","v":""},{"$f":"IF(allGymnasts!D16=$C$13,allGymnasts!R16,0)","v":""},{"$f":"IF(allGymnasts!D16=$C$13,allGymnasts!W16,0)","v":""},{"$f":"IF(allGymnasts!D16=$C$14,allGymnasts!H16,0)","v":""},{"$f":"IF(allGymnasts!D16=$C$14,allGymnasts!M16,0)","v":""},{"$f":"IF(allGymnasts!D16=$C$14,allGymnasts!R16,0)","v":""},{"$f":"IF(allGymnasts!D16=$C$14,allGymnasts!W16,0)","v":""},{"$f":"IF(allGymnasts!D16=$C$15,allGymnasts!H16,0)","v":""},{"$f":"IF(allGymnasts!D16=$C$15,allGymnasts!M16,0)","v":""},{"$f":"IF(allGymnasts!D16=$C$15,allGymnasts!R16,0)","v":""},{"$f":"IF(allGymnasts!D16=$C$15,allGymnasts!W16,0)","v":""}]
[null,null,null,null,null,null,null,null,null,null,null,null,null,null,{"$f":"IF(allGymnasts!D17=$C$4,allGymnasts!H17,0)","v":""},{"$f":"IF(allGymnasts!D17=$C$4,allGymnasts!M17,0)","v":""},{"$f":"IF(allGymnasts!D17=$C$4,allGymnasts!R17,0)","v":""},{"$f":"IF(allGymnasts!D17=$C$4,allGymnasts!W17,0)","v":""},{"$f":"IF(allGymnasts!D17=$C$5,allGymnasts!H17,0)","v":""},{"$f":"IF(allGymnasts!D17=$C$5,allGymnasts!M17,0)","v":""},{"$f":"IF(allGymnasts!D17=$C$5,allGymnasts!R17,0)","v":""},{"$f":"IF(allGymnasts!D17=$C$5,allGymnasts!W17,0)","v":""},{"$f":"IF(allGymnasts!D17=$C$6,allGymnasts!H17,0)","v":""},{"$f":"IF(allGymnasts!D17=$C$6,allGymnasts!M17,0)","v":""},{"$f":"IF(allGymnasts!D17=$C$6,allGymnasts!R17,0)","v":""},{"$f":"IF(allGymnasts!D17=$C$6,allGymnasts!W17,0)","v":""},{"$f":"IF(allGymnasts!D17=$C$7,allGymnasts!H17,0)","v":""},{"$f":"IF(allGymnasts!D17=$C$7,allGymnasts!M17,0)","v":""},{"$f":"IF(allGymnasts!D17=$C$7,allGymnasts!R17,0)","v":""},{"$f":"IF(allGymnasts!D17=$C$7,allGymnasts!W17,0)","v":""},{"$f":"IF(allGymnasts!D17=$C$8,allGymnasts!H17,0)","v":""},{"$f":"IF(allGymnasts!D17=$C$8,allGymnasts!M17,0)","v":""},{"$f":"IF(allGymnasts!D17=$C$8,allGymnasts!R17,0)","v":""},{"$f":"IF(allGymnasts!D17=$C$8,allGymnasts!W17,0)","v":""},{"$f":"IF(allGymnasts!D17=$C$9,allGymnasts!H17,0)","v":""},{"$f":"IF(allGymnasts!D17=$C$9,allGymnasts!M17,0)","v":""},{"$f":"IF(allGymnasts!D17=$C$9,allGymnasts!R17,0)","v":""},{"$f":"IF(allGymnasts!D17=$C$9,allGymnasts!W17,0)","v":""},{"$f":"IF(allGymnasts!D17=$C$10,allGymnasts!H17,0)","v":""},{"$f":"IF(allGymnasts!D17=$C$10,allGymnasts!M17,0)","v":""},{"$f":"IF(allGymnasts!D17=$C$10,allGymnasts!R17,0)","v":""},{"$f":"IF(allGymnasts!D17=$C$10,allGymnasts!W17,0)","v":""},{"$f":"IF(allGymnasts!D17=$C$11,allGymnasts!H17,0)","v":""},{"$f":"IF(allGymnasts!D17=$C$11,allGymnasts!M17,0)","v":""},{"$f":"IF(allGymnasts!D17=$C$11,allGymnasts!R17,0)","v":""},{"$f":"IF(allGymnasts!D17=$C$11,allGymnasts!W17,0)","v":""},{"$f":"IF(allGymnasts!D17=$C$12,allGymnasts!H17,0)","v":""},{"$f":"IF(allGymnasts!D17=$C$12,allGymnasts!M17,0)","v":""},{"$f":"IF(allGymnasts!D17=$C$12,allGymnasts!R17,0)","v":""},{"$f":"IF(allGymnasts!D17=$C$12,allGymnasts!W17,0)","v":""},{"$f":"IF(allGymnasts!D17=$C$13,allGymnasts!H17,0)","v":""},{"$f":"IF(allGymnasts!D17=$C$13,allGymnasts!M17,0)","v":""},{"$f":"IF(allGymnasts!D17=$C$13,allGymnasts!R17,0)","v":""},{"$f":"IF(allGymnasts!D17=$C$13,allGymnasts!W17,0)","v":""},{"$f":"IF(allGymnasts!D17=$C$14,allGymnasts!H17,0)","v":""},{"$f":"IF(allGymnasts!D17=$C$14,allGymnasts!M17,0)","v":""},{"$f":"IF(allGymnasts!D17=$C$14,allGymnasts!R17,0)","v":""},{"$f":"IF(allGymnasts!D17=$C$14,allGymnasts!W17,0)","v":""},{"$f":"IF(allGymnasts!D17=$C$15,allGymnasts!H17,0)","v":""},{"$f":"IF(allGymnasts!D17=$C$15,allGymnasts!M17,0)","v":""},{"$f":"IF(allGymnasts!D17=$C$15,allGymnasts!R17,0)","v":""},{"$f":"IF(allGymnasts!D17=$C$15,allGymnasts!W17,0)","v":""}]
[null,null,null,null,null,null,null,null,null,null,null,null,null,null,{"$f":"IF(allGymnasts!D18=$C$4,allGymnasts!H18,0)","v":""},{"$f":"IF(allGymnasts!D18=$C$4,allGymnasts!M18,0)","v":""},{"$f":"IF(allGymnasts!D18=$C$4,allGymnasts!R18,0)","v":""},{"$f":"IF(allGymnasts!D18=$C$4,allGymnasts!W18,0)","v":""},{"$f":"IF(allGymnasts!D18=$C$5,allGymnasts!H18,0)","v":""},{"$f":"IF(allGymnasts!D18=$C$5,allGymnasts!M18,0)","v":""},{"$f":"IF(allGymnasts!D18=$C$5,allGymnasts!R18,0)","v":""},{"$f":"IF(allGymnasts!D18=$C$5,allGymnasts!W18,0)","v":""},{"$f":"IF(allGymnasts!D18=$C$6,allGymnasts!H18,0)","v":""},{"$f":"IF(allGymnasts!D18=$C$6,allGymnasts!M18,0)","v":""},{"$f":"IF(allGymnasts!D18=$C$6,allGymnasts!R18,0)","v":""},{"$f":"IF(allGymnasts!D18=$C$6,allGymnasts!W18,0)","v":""},{"$f":"IF(allGymnasts!D18=$C$7,allGymnasts!H18,0)","v":""},{"$f":"IF(allGymnasts!D18=$C$7,allGymnasts!M18,0)","v":""},{"$f":"IF(allGymnasts!D18=$C$7,allGymnasts!R18,0)","v":""},{"$f":"IF(allGymnasts!D18=$C$7,allGymnasts!W18,0)","v":""},{"$f":"IF(allGymnasts!D18=$C$8,allGymnasts!H18,0)","v":""},{"$f":"IF(allGymnasts!D18=$C$8,allGymnasts!M18,0)","v":""},{"$f":"IF(allGymnasts!D18=$C$8,allGymnasts!R18,0)","v":""},{"$f":"IF(allGymnasts!D18=$C$8,allGymnasts!W18,0)","v":""},{"$f":"IF(allGymnasts!D18=$C$9,allGymnasts!H18,0)","v":""},{"$f":"IF(allGymnasts!D18=$C$9,allGymnasts!M18,0)","v":""},{"$f":"IF(allGymnasts!D18=$C$9,allGymnasts!R18,0)","v":""},{"$f":"IF(allGymnasts!D18=$C$9,allGymnasts!W18,0)","v":""},{"$f":"IF(allGymnasts!D18=$C$10,allGymnasts!H18,0)","v":""},{"$f":"IF(allGymnasts!D18=$C$10,allGymnasts!M18,0)","v":""},{"$f":"IF(allGymnasts!D18=$C$10,allGymnasts!R18,0)","v":""},{"$f":"IF(allGymnasts!D18=$C$10,allGymnasts!W18,0)","v":""},{"$f":"IF(allGymnasts!D18=$C$11,allGymnasts!H18,0)","v":""},{"$f":"IF(allGymnasts!D18=$C$11,allGymnasts!M18,0)","v":""},{"$f":"IF(allGymnasts!D18=$C$11,allGymnasts!R18,0)","v":""},{"$f":"IF(allGymnasts!D18=$C$11,allGymnasts!W18,0)","v":""},{"$f":"IF(allGymnasts!D18=$C$12,allGymnasts!H18,0)","v":""},{"$f":"IF(allGymnasts!D18=$C$12,allGymnasts!M18,0)","v":""},{"$f":"IF(allGymnasts!D18=$C$12,allGymnasts!R18,0)","v":""},{"$f":"IF(allGymnasts!D18=$C$12,allGymnasts!W18,0)","v":""},{"$f":"IF(allGymnasts!D18=$C$13,allGymnasts!H18,0)","v":""},{"$f":"IF(allGymnasts!D18=$C$13,allGymnasts!M18,0)","v":""},{"$f":"IF(allGymnasts!D18=$C$13,allGymnasts!R18,0)","v":""},{"$f":"IF(allGymnasts!D18=$C$13,allGymnasts!W18,0)","v":""},{"$f":"IF(allGymnasts!D18=$C$14,allGymnasts!H18,0)","v":""},{"$f":"IF(allGymnasts!D18=$C$14,allGymnasts!M18,0)","v":""},{"$f":"IF(allGymnasts!D18=$C$14,allGymnasts!R18,0)","v":""},{"$f":"IF(allGymnasts!D18=$C$14,allGymnasts!W18,0)","v":""},{"$f":"IF(allGymnasts!D18=$C$15,allGymnasts!H18,0)","v":""},{"$f":"IF(allGymnasts!D18=$C$15,allGymnasts!M18,0)","v":""},{"$f":"IF(allGymnasts!D18=$C$15,allGymnasts!R18,0)","v":""},{"$f":"IF(allGymnasts!D18=$C$15,allGymnasts!W18,0)","v":""}]
[null,null,null,null,null,null,null,null,null,null,null,null,null,null,{"$f":"IF(allGymnasts!D19=$C$4,allGymnasts!H19,0)","v":""},{"$f":"IF(allGymnasts!D19=$C$4,allGymnasts!M19,0)","v":""},{"$f":"IF(allGymnasts!D19=$C$4,allGymnasts!R19,0)","v":""},{"$f":"IF(allGymnasts!D19=$C$4,allGymnasts!W19,0)","v":""},{"$f":"IF(allGymnasts!D19=$C$5,allGymnasts!H19,0)","v":""},{"$f":"IF(allGymnasts!D19=$C$5,allGymnasts!M19,0)","v":""},{"$f":"IF(allGymnasts!D19=$C$5,allGymnasts!R19,0)","v":""},{"$f":"IF(allGymnasts!D19=$C$5,allGymnasts!W19,0)","v":""},{"$f":"IF(allGymnasts!D19=$C$6,allGymnasts!H19,0)","v":""},{"$f":"IF(allGymnasts!D19=$C$6,allGymnasts!M19,0)","v":""},{"$f":"IF(allGymnasts!D19=$C$6,allGymnasts!R19,0)","v":""},{"$f":"IF(allGymnasts!D19=$C$6,allGymnasts!W19,0)","v":""},{"$f":"IF(allGymnasts!D19=$C$7,allGymnasts!H19,0)","v":""},{"$f":"IF(allGymnasts!D19=$C$7,allGymnasts!M19,0)","v":""},{"$f":"IF(allGymnasts!D19=$C$7,allGymnasts!R19,0)","v":""},{"$f":"IF(allGymnasts!D19=$C$7,allGymnasts!W19,0)","v":""},{"$f":"IF(allGymnasts!D19=$C$8,allGymnasts!H19,0)","v":""},{"$f":"IF(allGymnasts!D19=$C$8,allGymnasts!M19,0)","v":""},{"$f":"IF(allGymnasts!D19=$C$8,allGymnasts!R19,0)","v":""},{"$f":"IF(allGymnasts!D19=$C$8,allGymnasts!W19,0)","v":""},{"$f":"IF(allGymnasts!D19=$C$9,allGymnasts!H19,0)","v":""},{"$f":"IF(allGymnasts!D19=$C$9,allGymnasts!M19,0)","v":""},{"$f":"IF(allGymnasts!D19=$C$9,allGymnasts!R19,0)","v":""},{"$f":"IF(allGymnasts!D19=$C$9,allGymnasts!W19,0)","v":""},{"$f":"IF(allGymnasts!D19=$C$10,allGymnasts!H19,0)","v":""},{"$f":"IF(allGymnasts!D19=$C$10,allGymnasts!M19,0)","v":""},{"$f":"IF(allGymnasts!D19=$C$10,allGymnasts!R19,0)","v":""},{"$f":"IF(allGymnasts!D19=$C$10,allGymnasts!W19,0)","v":""},{"$f":"IF(allGymnasts!D19=$C$11,allGymnasts!H19,0)","v":""},{"$f":"IF(allGymnasts!D19=$C$11,allGymnasts!M19,0)","v":""},{"$f":"IF(allGymnasts!D19=$C$11,allGymnasts!R19,0)","v":""},{"$f":"IF(allGymnasts!D19=$C$11,allGymnasts!W19,0)","v":""},{"$f":"IF(allGymnasts!D19=$C$12,allGymnasts!H19,0)","v":""},{"$f":"IF(allGymnasts!D19=$C$12,allGymnasts!M19,0)","v":""},{"$f":"IF(allGymnasts!D19=$C$12,allGymnasts!R19,0)","v":""},{"$f":"IF(allGymnasts!D19=$C$12,allGymnasts!W19,0)","v":""},{"$f":"IF(allGymnasts!D19=$C$13,allGymnasts!H19,0)","v":""},{"$f":"IF(allGymnasts!D19=$C$13,allGymnasts!M19,0)","v":""},{"$f":"IF(allGymnasts!D19=$C$13,allGymnasts!R19,0)","v":""},{"$f":"IF(allGymnasts!D19=$C$13,allGymnasts!W19,0)","v":""},{"$f":"IF(allGymnasts!D19=$C$14,allGymnasts!H19,0)","v":""},{"$f":"IF(allGymnasts!D19=$C$14,allGymnasts!M19,0)","v":""},{"$f":"IF(allGymnasts!D19=$C$14,allGymnasts!R19,0)","v":""},{"$f":"IF(allGymnasts!D19=$C$14,allGymnasts!W19,0)","v":""},{"$f":"IF(allGymnasts!D19=$C$15,allGymnasts!H19,0)","v":""},{"$f":"IF(allGymnasts!D19=$C$15,allGymnasts!M19,0)","v":""},{"$f":"IF(allGymnasts!D19=$C$15,allGymnasts!R19,0)","v":""},{"$f":"IF(allGymnasts!D19=$C$15,allGymnasts!W19,0)","v":""}]
[null,null,null,null,null,null,null,null,null,null,null,null,null,null,{"$f":"IF(allGymnasts!D20=$C$4,allGymnasts!H20,0)","v":""},{"$f":"IF(allGymnasts!D20=$C$4,allGymnasts!M20,0)","v":""},{"$f":"IF(allGymnasts!D20=$C$4,allGymnasts!R20,0)","v":""},{"$f":"IF(allGymnasts!D20=$C$4,allGymnasts!W20,0)","v":""},{"$f":"IF(allGymnasts!D20=$C$5,allGymnasts!H20,0)","v":""},{"$f":"IF(allGymnasts!D20=$C$5,allGymnasts!M20,0)","v":""},{"$f":"IF(allGymnasts!D20=$C$5,allGymnasts!R20,0)","v":""},{"$f":"IF(allGymnasts!D20=$C$5,allGymnasts!W20,0)","v":""},{"$f":"IF(allGymnasts!D20=$C$6,allGymnasts!H20,0)","v":""},{"$f":"IF(allGymnasts!D20=$C$6,allGymnasts!M20,0)","v":""},{"$f":"IF(allGymnasts!D20=$C$6,allGymnasts!R20,0)","v":""},{"$f":"IF(allGymnasts!D20=$C$6,allGymnasts!W20,0)","v":""},{"$f":"IF(allGymnasts!D20=$C$7,allGymnasts!H20,0)","v":""},{"$f":"IF(allGymnasts!D20=$C$7,allGymnasts!M20,0)","v":""},{"$f":"IF(allGymnasts!D20=$C$7,allGymnasts!R20,0)","v":""},{"$f":"IF(allGymnasts!D20=$C$7,allGymnasts!W20,0)","v":""},{"$f":"IF(allGymnasts!D20=$C$8,allGymnasts!H20,0)","v":""},{"$f":"IF(allGymnasts!D20=$C$8,allGymnasts!M20,0)","v":""},{"$f":"IF(allGymnasts!D20=$C$8,allGymnasts!R20,0)","v":""},{"$f":"IF(allGymnasts!D20=$C$8,allGymnasts!W20,0)","v":""},{"$f":"IF(allGymnasts!D20=$C$9,allGymnasts!H20,0)","v":""},{"$f":"IF(allGymnasts!D20=$C$9,allGymnasts!M20,0)","v":""},{"$f":"IF(allGymnasts!D20=$C$9,allGymnasts!R20,0)","v":""},{"$f":"IF(allGymnasts!D20=$C$9,allGymnasts!W20,0)","v":""},{"$f":"IF(allGymnasts!D20=$C$10,allGymnasts!H20,0)","v":""},{"$f":"IF(allGymnasts!D20=$C$10,allGymnasts!M20,0)","v":""},{"$f":"IF(allGymnasts!D20=$C$10,allGymnasts!R20,0)","v":""},{"$f":"IF(allGymnasts!D20=$C$10,allGymnasts!W20,0)","v":""},{"$f":"IF(allGymnasts!D20=$C$11,allGymnasts!H20,0)","v":""},{"$f":"IF(allGymnasts!D20=$C$11,allGymnasts!M20,0)","v":""},{"$f":"IF(allGymnasts!D20=$C$11,allGymnasts!R20,0)","v":""},{"$f":"IF(allGymnasts!D20=$C$11,allGymnasts!W20,0)","v":""},{"$f":"IF(allGymnasts!D20=$C$12,allGymnasts!H20,0)","v":""},{"$f":"IF(allGymnasts!D20=$C$12,allGymnasts!M20,0)","v":""},{"$f":"IF(allGymnasts!D20=$C$12,allGymnasts!R20,0)","v":""},{"$f":"IF(allGymnasts!D20=$C$12,allGymnasts!W20,0)","v":""},{"$f":"IF(allGymnasts!D20=$C$13,allGymnasts!H20,0)","v":""},{"$f":"IF(allGymnasts!D20=$C$13,allGymnasts!M20,0)","v":""},{"$f":"IF(allGymnasts!D20=$C$13,allGymnasts!R20,0)","v":""},{"$f":"IF(allGymnasts!D20=$C$13,allGymnasts!W20,0)","v":""},{"$f":"IF(allGymnasts!D20=$C$14,allGymnasts!H20,0)","v":""},{"$f":"IF(allGymnasts!D20=$C$14,allGymnasts!M20,0)","v":""},{"$f":"IF(allGymnasts!D20=$C$14,allGymnasts!R20,0)","v":""},{"$f":"IF(allGymnasts!D20=$C$14,allGymnasts!W20,0)","v":""},{"$f":"IF(allGymnasts!D20=$C$15,allGymnasts!H20,0)","v":""},{"$f":"IF(allGymnasts!D20=$C$15,allGymnasts!M20,0)","v":""},{"$f":"IF(allGymnasts!D20=$C$15,allGymnasts!R20,0)","v":""},{"$f":"IF(allGymnasts!D20=$C$15,allGymnasts!W20,0)","v":""}]
[null,null,null,null,null,null,null,null,null,null,null,null,null,null,{"$f":"IF(allGymnasts!D21=$C$4,allGymnasts!H21,0)","v":""},{"$f":"IF(allGymnasts!D21=$C$4,allGymnasts!M21,0)","v":""},{"$f":"IF(allGymnasts!D21=$C$4,allGymnasts!R21,0)","v":""},{"$f":"IF(allGymnasts!D21=$C$4,allGymnasts!W21,0)","v":""},{"$f":"IF(allGymnasts!D21=$C$5,allGymnasts!H21,0)","v":""},{"$f":"IF(allGymnasts!D21=$C$5,allGymnasts!M21,0)","v":""},{"$f":"IF(allGymnasts!D21=$C$5,allGymnasts!R21,0)","v":""},{"$f":"IF(allGymnasts!D21=$C$5,allGymnasts!W21,0)","v":""},{"$f":"IF(allGymnasts!D21=$C$6,allGymnasts!H21,0)","v":""},{"$f":"IF(allGymnasts!D21=$C$6,allGymnasts!M21,0)","v":""},{"$f":"IF(allGymnasts!D21=$C$6,allGymnasts!R21,0)","v":""},{"$f":"IF(allGymnasts!D21=$C$6,allGymnasts!W21,0)","v":""},{"$f":"IF(allGymnasts!D21=$C$7,allGymnasts!H21,0)","v":""},{"$f":"IF(allGymnasts!D21=$C$7,allGymnasts!M21,0)","v":""},{"$f":"IF(allGymnasts!D21=$C$7,allGymnasts!R21,0)","v":""},{"$f":"IF(allGymnasts!D21=$C$7,allGymnasts!W21,0)","v":""},{"$f":"IF(allGymnasts!D21=$C$8,allGymnasts!H21,0)","v":""},{"$f":"IF(allGymnasts!D21=$C$8,allGymnasts!M21,0)","v":""},{"$f":"IF(allGymnasts!D21=$C$8,allGymnasts!R21,0)","v":""},{"$f":"IF(allGymnasts!D21=$C$8,allGymnasts!W21,0)","v":""},{"$f":"IF(allGymnasts!D21=$C$9,allGymnasts!H21,0)","v":""},{"$f":"IF(allGymnasts!D21=$C$9,allGymnasts!M21,0)","v":""},{"$f":"IF(allGymnasts!D21=$C$9,allGymnasts!R21,0)","v":""},{"$f":"IF(allGymnasts!D21=$C$9,allGymnasts!W21,0)","v":""},{"$f":"IF(allGymnasts!D21=$C$10,allGymnasts!H21,0)","v":""},{"$f":"IF(allGymnasts!D21=$C$10,allGymnasts!M21,0)","v":""},{"$f":"IF(allGymnasts!D21=$C$10,allGymnasts!R21,0)","v":""},{"$f":"IF(allGymnasts!D21=$C$10,allGymnasts!W21,0)","v":""},{"$f":"IF(allGymnasts!D21=$C$11,allGymnasts!H21,0)","v":""},{"$f":"IF(allGymnasts!D21=$C$11,allGymnasts!M21,0)","v":""},{"$f":"IF(allGymnasts!D21=$C$11,allGymnasts!R21,0)","v":""},{"$f":"IF(allGymnasts!D21=$C$11,allGymnasts!W21,0)","v":""},{"$f":"IF(allGymnasts!D21=$C$12,allGymnasts!H21,0)","v":""},{"$f":"IF(allGymnasts!D21=$C$12,allGymnasts!M21,0)","v":""},{"$f":"IF(allGymnasts!D21=$C$12,allGymnasts!R21,0)","v":""},{"$f":"IF(allGymnasts!D21=$C$12,allGymnasts!W21,0)","v":""},{"$f":"IF(allGymnasts!D21=$C$13,allGymnasts!H21,0)","v":""},{"$f":"IF(allGymnasts!D21=$C$13,allGymnasts!M21,0)","v":""},{"$f":"IF(allGymnasts!D21=$C$13,allGymnasts!R21,0)","v":""},{"$f":"IF(allGymnasts!D21=$C$13,allGymnasts!W21,0)","v":""},{"$f":"IF(allGymnasts!D21=$C$14,allGymnasts!H21,0)","v":""},{"$f":"IF(allGymnasts!D21=$C$14,allGymnasts!M21,0)","v":""},{"$f":"IF(allGymnasts!D21=$C$14,allGymnasts!R21,0)","v":""},{"$f":"IF(allGymnasts!D21=$C$14,allGymnasts!W21,0)","v":""},{"$f":"IF(allGymnasts!D21=$C$15,allGymnasts!H21,0)","v":""},{"$f":"IF(allGymnasts!D21=$C$15,allGymnasts!M21,0)","v":""},{"$f":"IF(allGymnasts!D21=$C$15,allGymnasts!R21,0)","v":""},{"$f":"IF(allGymnasts!D21=$C$15,allGymnasts!W21,0)","v":""}]
[null,null,null,null,null,null,null,null,null,null,null,null,null,null,{"$f":"IF(allGymnasts!D22=$C$4,allGymnasts!H22,0)","v":""},{"$f":"IF(allGymnasts!D22=$C$4,allGymnasts!M22,0)","v":""},{"$f":"IF(allGymnasts!D22=$C$4,allGymnasts!R22,0)","v":""},{"$f":"IF(allGymnasts!D22=$C$4,allGymnasts!W22,0)","v":""},{"$f":"IF(allGymnasts!D22=$C$5,allGymnasts!H22,0)","v":""},{"$f":"IF(allGymnasts!D22=$C$5,allGymnasts!M22,0)","v":""},{"$f":"IF(allGymnasts!D22=$C$5,allGymnasts!R22,0)","v":""},{"$f":"IF(allGymnasts!D22=$C$5,allGymnasts!W22,0)","v":""},{"$f":"IF(allGymnasts!D22=$C$6,allGymnasts!H22,0)","v":""},{"$f":"IF(allGymnasts!D22=$C$6,allGymnasts!M22,0)","v":""},{"$f":"IF(allGymnasts!D22=$C$6,allGymnasts!R22,0)","v":""},{"$f":"IF(allGymnasts!D22=$C$6,allGymnasts!W22,0)","v":""},{"$f":"IF(allGymnasts!D22=$C$7,allGymnasts!H22,0)","v":""},{"$f":"IF(allGymnasts!D22=$C$7,allGymnasts!M22,0)","v":""},{"$f":"IF(allGymnasts!D22=$C$7,allGymnasts!R22,0)","v":""},{"$f":"IF(allGymnasts!D22=$C$7,allGymnasts!W22,0)","v":""},{"$f":"IF(allGymnasts!D22=$C$8,allGymnasts!H22,0)","v":""},{"$f":"IF(allGymnasts!D22=$C$8,allGymnasts!M22,0)","v":""},{"$f":"IF(allGymnasts!D22=$C$8,allGymnasts!R22,0)","v":""},{"$f":"IF(allGymnasts!D22=$C$8,allGymnasts!W22,0)","v":""},{"$f":"IF(allGymnasts!D22=$C$9,allGymnasts!H22,0)","v":""},{"$f":"IF(allGymnasts!D22=$C$9,allGymnasts!M22,0)","v":""},{"$f":"IF(allGymnasts!D22=$C$9,allGymnasts!R22,0)","v":""},{"$f":"IF(allGymnasts!D22=$C$9,allGymnasts!W22,0)","v":""},{"$f":"IF(allGymnasts!D22=$C$10,allGymnasts!H22,0)","v":""},{"$f":"IF(allGymnasts!D22=$C$10,allGymnasts!M22,0)","v":""},{"$f":"IF(allGymnasts!D22=$C$10,allGymnasts!R22,0)","v":""},{"$f":"IF(allGymnasts!D22=$C$10,allGymnasts!W22,0)","v":""},{"$f":"IF(allGymnasts!D22=$C$11,allGymnasts!H22,0)","v":""},{"$f":"IF(allGymnasts!D22=$C$11,allGymnasts!M22,0)","v":""},{"$f":"IF(allGymnasts!D22=$C$11,allGymnasts!R22,0)","v":""},{"$f":"IF(allGymnasts!D22=$C$11,allGymnasts!W22,0)","v":""},{"$f":"IF(allGymnasts!D22=$C$12,allGymnasts!H22,0)","v":""},{"$f":"IF(allGymnasts!D22=$C$12,allGymnasts!M22,0)","v":""},{"$f":"IF(allGymnasts!D22=$C$12,allGymnasts!R22,0)","v":""},{"$f":"IF(allGymnasts!D22=$C$12,allGymnasts!W22,0)","v":""},{"$f":"IF(allGymnasts!D22=$C$13,allGymnasts!H22,0)","v":""},{"$f":"IF(allGymnasts!D22=$C$13,allGymnasts!M22,0)","v":""},{"$f":"IF(allGymnasts!D22=$C$13,allGymnasts!R22,0)","v":""},{"$f":"IF(allGymnasts!D22=$C$13,allGymnasts!W22,0)","v":""},{"$f":"IF(allGymnasts!D22=$C$14,allGymnasts!H22,0)","v":""},{"$f":"IF(allGymnasts!D22=$C$14,allGymnasts!M22,0)","v":""},{"$f":"IF(allGymnasts!D22=$C$14,allGymnasts!R22,0)","v":""},{"$f":"IF(allGymnasts!D22=$C$14,allGymnasts!W22,0)","v":""},{"$f":"IF(allGymnasts!D22=$C$15,allGymnasts!H22,0)","v":""},{"$f":"IF(allGymnasts!D22=$C$15,allGymnasts!M22,0)","v":""},{"$f":"IF(allGymnasts!D22=$C$15,allGymnasts!R22,0)","v":""},{"$f":"IF(allGymnasts!D22=$C$15,allGymnasts!W22,0)","v":""}]
[null,null,null,null,null,null,null,null,null,null,null,null,null,null,{"$f":"IF(allGymnasts!D23=$C$4,allGymnasts!H23,0)","v":""},{"$f":"IF(allGymnasts!D23=$C$4,allGymnasts!M23,0)","v":""},{"$f":"IF(allGymnasts!D23=$C$4,allGymnasts!R23,0)","v":""},{"$f":"IF(allGymnasts!D23=$C$4,allGymnasts!W23,0)","v":""},{"$f":"IF(allGymnasts!D23=$C$5,allGymnasts!H23,0)","v":""},{"$f":"IF(allGymnasts!D23=$C$5,allGymnasts!M23,0)","v":""},{"$f":"IF(allGymnasts!D23=$C$5,allGymnasts!R23,0)","v":""},{"$f":"IF(allGymnasts!D23=$C$5,allGymnasts!W23,0)","v":""},{"$f":"IF(allGymnasts!D23=$C$6,allGymnasts!H23,0)","v":""},{"$f":"IF(allGymnasts!D23=$C$6,allGymnasts!M23,0)","v":""},{"$f":"IF(allGymnasts!D23=$C$6,allGymnasts!R23,0)","v":""},{"$f":"IF(allGymnasts!D23=$C$6,allGymnasts!W23,0)","v":""},{"$f":"IF(allGymnasts!D23=$C$7,allGymnasts!H23,0)","v":""},{"$f":"IF(allGymnasts!D23=$C$7,allGymnasts!M23,0)","v":""},{"$f":"IF(allGymnasts!D23=$C$7,allGymnasts!R23,0)","v":""},{"$f":"IF(allGymnasts!D23=$C$7,allGymnasts!W23,0)","v":""},{"$f":"IF(allGymnasts!D23=$C$8,allGymnasts!H23,0)","v":""},{"$f":"IF(allGymnasts!D23=$C$8,allGymnasts!M23,0)","v":""},{"$f":"IF(allGymnasts!D23=$C$8,allGymnasts!R23,0)","v":""},{"$f":"IF(allGymnasts!D23=$C$8,allGymnasts!W23,0)","v":""},{"$f":"IF(allGymnasts!D23=$C$9,allGymnasts!H23,0)","v":""},{"$f":"IF(allGymnasts!D23=$C$9,allGymnasts!M23,0)","v":""},{"$f":"IF(allGymnasts!D23=$C$9,allGymnasts!R23,0)","v":""},{"$f":"IF(allGymnasts!D23=$C$9,allGymnasts!W23,0)","v":""},{"$f":"IF(allGymnasts!D23=$C$10,allGymnasts!H23,0)","v":""},{"$f":"IF(allGymnasts!D23=$C$10,allGymnasts!M23,0)","v":""},{"$f":"IF(allGymnasts!D23=$C$10,allGymnasts!R23,0)","v":""},{"$f":"IF(allGymnasts!D23=$C$10,allGymnasts!W23,0)","v":""},{"$f":"IF(allGymnasts!D23=$C$11,allGymnasts!H23,0)","v":""},{"$f":"IF(allGymnasts!D23=$C$11,allGymnasts!M23,0)","v":""},{"$f":"IF(allGymnasts!D23=$C$11,allGymnasts!R23,0)","v":""},{"$f":"IF(allGymnasts!D23=$C$11,allGymnasts!W23,0)","v":""},{"$f":"IF(allGymnasts!D23=$C$12,allGymnasts!H23,0)","v":""},{"$f":"IF(allGymnasts!D23=$C$12,allGymnasts!M23,0)","v":""},{"$f":"IF(allGymnasts!D23=$C$12,allGymnasts!R23,0)","v":""},{"$f":"IF(allGymnasts!D23=$C$12,allGymnasts!W23,0)","v":""},{"$f":"IF(allGymnasts!D23=$C$13,allGymnasts!H23,0)","v":""},{"$f":"IF(allGymnasts!D23=$C$13,allGymnasts!M23,0)","v":""},{"$f":"IF(allGymnasts!D23=$C$13,allGymnasts!R23,0)","v":""},{"$f":"IF(allGymnasts!D23=$C$13,allGymnasts!W23,0)","v":""},{"$f":"IF(allGymnasts!D23=$C$14,allGymnasts!H23,0)","v":""},{"$f":"IF(allGymnasts!D23=$C$14,allGymnasts!M23,0)","v":""},{"$f":"IF(allGymnasts!D23=$C$14,allGymnasts!R23,0)","v":""},{"$f":"IF(allGymnasts!D23=$C$14,allGymnasts!W23,0)","v":""},{"$f":"IF(allGymnasts!D23=$C$15,allGymnasts!H23,0)","v":""},{"$f":"IF(allGymnasts!D23=$C$15,allGymnasts!M23,0)","v":""},{"$f":"IF(allGymnasts!D23=$C$15,allGymnasts!R23,0)","v":""},{"$f":"IF(allGymnasts!D23=$C$15,allGymnasts!W23,0)","v":""}]
[null,null,null,null,null,null,null,null,null,null,null,null,null,null,{"$f":"IF(allGymnasts!D24=$C$4,allGymnasts!H24,0)","v":""},{"$f":"IF(allGymnasts!D24=$C$4,allGymnasts!M24,0)","v":""},{"$f":"IF(allGymnasts!D24=$C$4,allGymnasts!R24,0)","v":""},{"$f":"IF(allGymnasts!D24=$C$4,allGymnasts!W24,0)","v":""},{"$f":"IF(allGymnasts!D24=$C$5,allGymnasts!H24,0)","v":""},{"$f":"IF(allGymnasts!D24=$C$5,allGymnasts!M24,0)","v":""},{"$f":"IF(allGymnasts!D24=$C$5,allGymnasts!R24,0)","v":""},{"$f":"IF(allGymnasts!D24=$C$5,allGymnasts!W24,0)","v":""},{"$f":"IF(allGymnasts!D24=$C$6,allGymnasts!H24,0)","v":""},{"$f":"IF(allGymnasts!D24=$C$6,allGymnasts!M24,0)","v":""},{"$f":"IF(allGymnasts!D24=$C$6,allGymnasts!R24,0)","v":""},{"$f":"IF(allGymnasts!D24=$C$6,allGymnasts!W24,0)","v":""},{"$f":"IF(allGymnasts!D24=$C$7,allGymnasts!H24,0)","v":""},{"$f":"IF(allGymnasts!D24=$C$7,allGymnasts!M24,0)","v":""},{"$f":"IF(allGymnasts!D24=$C$7,allGymnasts!R24,0)","v":""},{"$f":"IF(allGymnasts!D24=$C$7,allGymnasts!W24,0)","v":""},{"$f":"IF(allGymnasts!D24=$C$8,allGymnasts!H24,0)","v":""},{"$f":"IF(allGymnasts!D24=$C$8,allGymnasts!M24,0)","v":""},{"$f":"IF(allGymnasts!D24=$C$8,allGymnasts!R24,0)","v":""},{"$f":"IF(allGymnasts!D24=$C$8,allGymnasts!W24,0)","v":""},{"$f":"IF(allGymnasts!D24=$C$9,allGymnasts!H24,0)","v":""},{"$f":"IF(allGymnasts!D24=$C$9,allGymnasts!M24,0)","v":""},{"$f":"IF(allGymnasts!D24=$C$9,allGymnasts!R24,0)","v":""},{"$f":"IF(allGymnasts!D24=$C$9,allGymnasts!W24,0)","v":""},{"$f":"IF(allGymnasts!D24=$C$10,allGymnasts!H24,0)","v":""},{"$f":"IF(allGymnasts!D24=$C$10,allGymnasts!M24,0)","v":""},{"$f":"IF(allGymnasts!D24=$C$10,allGymnasts!R24,0)","v":""},{"$f":"IF(allGymnasts!D24=$C$10,allGymnasts!W24,0)","v":""},{"$f":"IF(allGymnasts!D24=$C$11,allGymnasts!H24,0)","v":""},{"$f":"IF(allGymnasts!D24=$C$11,allGymnasts!M24,0)","v":""},{"$f":"IF(allGymnasts!D24=$C$11,allGymnasts!R24,0)","v":""},{"$f":"IF(allGymnasts!D24=$C$11,allGymnasts!W24,0)","v":""},{"$f":"IF(allGymnasts!D24=$C$12,allGymnasts!H24,0)","v":""},{"$f":"IF(allGymnasts!D24=$C$12,allGymnasts!M24,0)","v":""},{"$f":"IF(allGymnasts!D24=$C$12,allGymnasts!R24,0)","v":""},{"$f":"IF(allGymnasts!D24=$C$12,allGymnasts!W24,0)","v":""},{"$f":"IF(allGymnasts!D24=$C$13,allGymnasts!H24,0)","v":""},{"$f":"IF(allGymnasts!D24=$C$13,allGymnasts!M24,0)","v":""},{"$f":"IF(allGymnasts!D24=$C$13,allGymnasts!R24,0)","v":""},{"$f":"IF(allGymnasts!D24=$C$13,allGymnasts!W24,0)","v":""},{"$f":"IF(allGymnasts!D24=$C$14,allGymnasts!H24,0)","v":""},{"$f":"IF(allGymnasts!D24=$C$14,allGymnasts!M24,0)","v":""},{"$f":"IF(allGymnasts!D24=$C$14,allGymnasts!R24,0)","v":""},{"$f":"IF(allGymnasts!D24=$C$14,allGymnasts!W24,0)","v":""},{"$f":"IF(allGymnasts!D24=$C$15,allGymnasts!H24,0)","v":""},{"$f":"IF(allGymnasts!D24=$C$15,allGymnasts!M24,0)","v":""},{"$f":"IF(allGymnasts!D24=$C$15,allGymnasts!R24,0)","v":""},{"$f":"IF(allGymnasts!D24=$C$15,allGymnasts!W24,0)","v":""}]
[null,null,null,null,null,null,null,null,null,null,null,null,null,null,{"$f":"IF(allGymnasts!D25=$C$4,allGymnasts!H25,0)","v":""},{"$f":"IF(allGymnasts!D25=$C$4,allGymnasts!M25,0)","v":""},{"$f":"IF(allGymnasts!D25=$C$4,allGymnasts!R25,0)","v":""},{"$f":"IF(allGymnasts!D25=$C$4,allGymnasts!W25,0)","v":""},{"$f":"IF(allGymnasts!D25=$C$5,allGymnasts!H25,0)","v":""},{"$f":"IF(allGymnasts!D25=$C$5,allGymnasts!M25,0)","v":""},{"$f":"IF(allGymnasts!D25=$C$5,allGymnasts!R25,0)","v":""},{"$f":"IF(allGymnasts!D25=$C$5,allGymnasts!W25,0)","v":""},{"$f":"IF(allGymnasts!D25=$C$6,allGymnasts!H25,0)","v":""},{"$f":"IF(allGymnasts!D25=$C$6,allGymnasts!M25,0)","v":""},{"$f":"IF(allGymnasts!D25=$C$6,allGymnasts!R25,0)","v":""},{"$f":"IF(allGymnasts!D25=$C$6,allGymnasts!W25,0)","v":""},{"$f":"IF(allGymnasts!D25=$C$7,allGymnasts!H25,0)","v":""},{"$f":"IF(allGymnasts!D25=$C$7,allGymnasts!M25,0)","v":""},{"$f":"IF(allGymnasts!D25=$C$7,allGymnasts!R25,0)","v":""},{"$f":"IF(allGymnasts!D25=$C$7,allGymnasts!W25,0)","v":""},{"$f":"IF(allGymnasts!D25=$C$8,allGymnasts!H25,0)","v":""},{"$f":"IF(allGymnasts!D25=$C$8,allGymnasts!M25,0)","v":""},{"$f":"IF(allGymnasts!D25=$C$8,allGymnasts!R25,0)","v":""},{"$f":"IF(allGymnasts!D25=$C$8,allGymnasts!W25,0)","v":""},{"$f":"IF(allGymnasts!D25=$C$9,allGymnasts!H25,0)","v":""},{"$f":"IF(allGymnasts!D25=$C$9,allGymnasts!M25,0)","v":""},{"$f":"IF(allGymnasts!D25=$C$9,allGymnasts!R25,0)","v":""},{"$f":"IF(allGymnasts!D25=$C$9,allGymnasts!W25,0)","v":""},{"$f":"IF(allGymnasts!D25=$C$10,allGymnasts!H25,0)","v":""},{"$f":"IF(allGymnasts!D25=$C$10,allGymnasts!M25,0)","v":""},{"$f":"IF(allGymnasts!D25=$C$10,allGymnasts!R25,0)","v":""},{"$f":"IF(allGymnasts!D25=$C$10,allGymnasts!W25,0)","v":""},{"$f":"IF(allGymnasts!D25=$C$11,allGymnasts!H25,0)","v":""},{"$f":"IF(allGymnasts!D25=$C$11,allGymnasts!M25,0)","v":""},{"$f":"IF(allGymnasts!D25=$C$11,allGymnasts!R25,0)","v":""},{"$f":"IF(allGymnasts!D25=$C$11,allGymnasts!W25,0)","v":""},{"$f":"IF(allGymnasts!D25=$C$12,allGymnasts!H25,0)","v":""},{"$f":"IF(allGymnasts!D25=$C$12,allGymnasts!M25,0)","v":""},{"$f":"IF(allGymnasts!D25=$C$12,allGymnasts!R25,0)","v":""},{"$f":"IF(allGymnasts!D25=$C$12,allGymnasts!W25,0)","v":""},{"$f":"IF(allGymnasts!D25=$C$13,allGymnasts!H25,0)","v":""},{"$f":"IF(allGymnasts!D25=$C$13,allGymnasts!M25,0)","v":""},{"$f":"IF(allGymnasts!D25=$C$13,allGymnasts!R25,0)","v":""},{"$f":"IF(allGymnasts!D25=$C$13,allGymnasts!W25,0)","v":""},{"$f":"IF(allGymnasts!D25=$C$14,allGymnasts!H25,0)","v":""},{"$f":"IF(allGymnasts!D25=$C$14,allGymnasts!M25,0)","v":""},{"$f":"IF(allGymnasts!D25=$C$14,allGymnasts!R25,0)","v":""},{"$f":"IF(allGymnasts!D25=$C$14,allGymnasts!W25,0)","v":""},{"$f":"IF(allGymnasts!D25=$C$15,allGymnasts!H25,0)","v":""},{"$f":"IF(allGymnasts!D25=$C$15,allGymnasts!M25,0)","v":""},{"$f":"IF(allGymnasts!D25=$C$15,allGymnasts!R25,0)","v":""},{"$f":"IF(allGymnasts!D25=$C$15,allGymnasts!W25,0)","v":""}]
[null,null,null,null,null,null,null,null,null,null,null,null,null,null,{"$f":"IF(allGymnasts!D26=$C$4,allGymnasts!H26,0)","v":""},{"$f":"IF(allGymnasts!D26=$C$4,allGymnasts!M26,0)","v":""},{"$f":"IF(allGymnasts!D26=$C$4,allGymnasts!R26,0)","v":""},{"$f":"IF(allGymnasts!D26=$C$4,allGymnasts!W26,0)","v":""},{"$f":"IF(allGymnasts!D26=$C$5,allGymnasts!H26,0)","v":""},{"$f":"IF(allGymnasts!D26=$C$5,allGymnasts!M26,0)","v":""},{"$f":"IF(allGymnasts!D26=$C$5,allGymnasts!R26,0)","v":""},{"$f":"IF(allGymnasts!D26=$C$5,allGymnasts!W26,0)","v":""},{"$f":"IF(allGymnasts!D26=$C$6,allGymnasts!H26,0)","v":""},{"$f":"IF(allGymnasts!D26=$C$6,allGymnasts!M26,0)","v":""},{"$f":"IF(allGymnasts!D26=$C$6,allGymnasts!R26,0)","v":""},{"$f":"IF(allGymnasts!D26=$C$6,allGymnasts!W26,0)","v":""},{"$f":"IF(allGymnasts!D26=$C$7,allGymnasts!H26,0)","v":""},{"$f":"IF(allGymnasts!D26=$C$7,allGymnasts!M26,0)","v":""},{"$f":"IF(allGymnasts!D26=$C$7,allGymnasts!R26,0)","v":""},{"$f":"IF(allGymnasts!D26=$C$7,allGymnasts!W26,0)","v":""},{"$f":"IF(allGymnasts!D26=$C$8,allGymnasts!H26,0)","v":""},{"$f":"IF(allGymnasts!D26=$C$8,allGymnasts!M26,0)","v":""},{"$f":"IF(allGymnasts!D26=$C$8,allGymnasts!R26,0)","v":""},{"$f":"IF(allGymnasts!D26=$C$8,allGymnasts!W26,0)","v":""},{"$f":"IF(allGymnasts!D26=$C$9,allGymnasts!H26,0)","v":""},{"$f":"IF(allGymnasts!D26=$C$9,allGymnasts!M26,0)","v":""},{"$f":"IF(allGymnasts!D26=$C$9,allGymnasts!R26,0)","v":""},{"$f":"IF(allGymnasts!D26=$C$9,allGymnasts!W26,0)","v":""},{"$f":"IF(allGymnasts!D26=$C$10,allGymnasts!H26,0)","v":""},{"$f":"IF(allGymnasts!D26=$C$10,allGymnasts!M26,0)","v":""},{"$f":"IF(allGymnasts!D26=$C$10,allGymnasts!R26,0)","v":""},{"$f":"IF(allGymnasts!D26=$C$10,allGymnasts!W26,0)","v":""},{"$f":"IF(allGymnasts!D26=$C$11,allGymnasts!H26,0)","v":""},{"$f":"IF(allGymnasts!D26=$C$11,allGymnasts!M26,0)","v":""},{"$f":"IF(allGymnasts!D26=$C$11,allGymnasts!R26,0)","v":""},{"$f":"IF(allGymnasts!D26=$C$11,allGymnasts!W26,0)","v":""},{"$f":"IF(allGymnasts!D26=$C$12,allGymnasts!H26,0)","v":""},{"$f":"IF(allGymnasts!D26=$C$12,allGymnasts!M26,0)","v":""},{"$f":"IF(allGymnasts!D26=$C$12,allGymnasts!R26,0)","v":""},{"$f":"IF(allGymnasts!D26=$C$12,allGymnasts!W26,0)","v":""},{"$f":"IF(allGymnasts!D26=$C$13,allGymnasts!H26,0)","v":""},{"$f":"IF(allGymnasts!D26=$C$13,allGymnasts!M26,0)","v":""},{"$f":"IF(allGymnasts!D26=$C$13,allGymnasts!R26,0)","v":""},{"$f":"IF(allGymnasts!D26=$C$13,allGymnasts!W26,0)","v":""},{"$f":"IF(allGymnasts!D26=$C$14,allGymnasts!H26,0)","v":""},{"$f":"IF(allGymnasts!D26=$C$14,allGymnasts!M26,0)","v":""},{"$f":"IF(allGymnasts!D26=$C$14,allGymnasts!R26,0)","v":""},{"$f":"IF(allGymnasts!D26=$C$14,allGymnasts!W26,0)","v":""},{"$f":"IF(allGymnasts!D26=$C$15,allGymnasts!H26,0)","v":""},{"$f":"IF(allGymnasts!D26=$C$15,allGymnasts!M26,0)","v":""},{"$f":"IF(allGymnasts!D26=$C$15,allGymnasts!R26,0)","v":""},{"$f":"IF(allGymnasts!D26=$C$15,allGymnasts!W26,0)","v":""}]
[null,null,null,null,null,null,null,null,null,null,null,null,null,null,{"$f":"IF(allGymnasts!D27=$C$4,allGymnasts!H27,0)","v":""},{"$f":"IF(allGymnasts!D27=$C$4,allGymnasts!M27,0)","v":""},{"$f":"IF(allGymnasts!D27=$C$4,allGymnasts!R27,0)","v":""},{"$f":"IF(allGymnasts!D27=$C$4,allGymnasts!W27,0)","v":""},{"$f":"IF(allGymnasts!D27=$C$5,allGymnasts!H27,0)","v":""},{"$f":"IF(allGymnasts!D27=$C$5,allGymnasts!M27,0)","v":""},{"$f":"IF(allGymnasts!D27=$C$5,allGymnasts!R27,0)","v":""},{"$f":"IF(allGymnasts!D27=$C$5,allGymnasts!W27,0)","v":""},{"$f":"IF(allGymnasts!D27=$C$6,allGymnasts!H27,0)","v":""},{"$f":"IF(allGymnasts!D27=$C$6,allGymnasts!M27,0)","v":""},{"$f":"IF(allGymnasts!D27=$C$6,allGymnasts!R27,0)","v":""},{"$f":"IF(allGymnasts!D27=$C$6,allGymnasts!W27,0)","v":""},{"$f":"IF(allGymnasts!D27=$C$7,allGymnasts!H27,0)","v":""},{"$f":"IF(allGymnasts!D27=$C$7,allGymnasts!M27,0)","v":""},{"$f":"IF(allGymnasts!D27=$C$7,allGymnasts!R27,0)","v":""},{"$f":"IF(allGymnasts!D27=$C$7,allGymnasts!W27,0)","v":""},{"$f":"IF(allGymnasts!D27=$C$8,allGymnasts!H27,0)","v":""},{"$f":"IF(allGymnasts!D27=$C$8,allGymnasts!M27,0)","v":""},{"$f":"IF(allGymnasts!D27=$C$8,allGymnasts!R27,0)","v":""},{"$f":"IF(allGymnasts!D27=$C$8,allGymnasts!W27,0)","v":""},{"$f":"IF(allGymnasts!D27=$C$9,allGymnasts!H27,0)","v":""},{"$f":"IF(allGymnasts!D27=$C$9,allGymnasts!M27,0)","v":""},{"$f":"IF(allGymnasts!D27=$C$9,allGymnasts!R27,0)","v":""},{"$f":"IF(allGymnasts!D27=$C$9,allGymnasts!W27,0)","v":""},{"$f":"IF(allGymnasts!D27=$C$10,allGymnasts!H27,0)","v":""},{"$f":"IF(allGymnasts!D27=$C$10,allGymnasts!M27,0)","v":""},{"$f":"IF(allGymnasts!D27=$C$10,allGymnasts!R27,0)","v":""},{"$f":"IF(allGymnasts!D27=$C$10,allGymnasts!W27,0)","v":""},{"$f":"IF(allGymnasts!D27=$C$11,allGymnasts!H27,0)","v":""},{"$f":"IF(allGymnasts!D27=$C$11,allGymnasts!M27,0)","v":""},{"$f":"IF(allGymnasts!D27=$C$11,allGymnasts!R27,0)","v":""},{"$f":"IF(allGymnasts!D27=$C$11,allGymnasts!W27,0)","v":""},{"$f":"IF(allGymnasts!D27=$C$12,allGymnasts!H27,0)","v":""},{"$f":"IF(allGymnasts!D27=$C$12,allGymnasts!M27,0)","v":""},{"$f":"IF(allGymnasts!D27=$C$12,allGymnasts!R27,0)","v":""},{"$f":"IF(allGymnasts!D27=$C$12,allGymnasts!W27,0)","v":""},{"$f":"IF(allGymnasts!D27=$C$13,allGymnasts!H27,0)","v":""},{"$f":"IF(allGymnasts!D27=$C$13,allGymnasts!M27,0)","v":""},{"$f":"IF(allGymnasts!D27=$C$13,allGymnasts!R27,0)","v":""},{"$f":"IF(allGymnasts!D27=$C$13,allGymnasts!W27,0)","v":""},{"$f":"IF(allGymnasts!D27=$C$14,allGymnasts!H27,0)","v":""},{"$f":"IF(allGymnasts!D27=$C$14,allGymnasts!M27,0)","v":""},{"$f":"IF(allGymnasts!D27=$C$14,allGymnasts!R27,0)","v":""},{"$f":"IF(allGymnasts!D27=$C$14,allGymnasts!W27,0)","v":""},{"$f":"IF(allGymnasts!D27=$C$15,allGymnasts!H27,0)","v":""},{"$f":"IF(allGymnasts!D27=$C$15,allGymnasts!M27,0)","v":""},{"$f":"IF(allGymnasts!D27=$C$15,allGymnasts!R27,0)","v":""},{"$f":"IF(allGymnasts!D27=$C$15,allGymnasts!W27,0)","v":""}]
[null,null,null,null,null,null,null,null,null,null,null,null,null,null,{"$f":"IF(allGymnasts!D28=$C$4,allGymnasts!H28,0)","v":""},{"$f":"IF(allGymnasts!D28=$C$4,allGymnasts!M28,0)","v":""},{"$f":"IF(allGymnasts!D28=$C$4,allGymnasts!R28,0)","v":""},{"$f":"IF(allGymnasts!D28=$C$4,allGymnasts!W28,0)","v":""},{"$f":"IF(allGymnasts!D28=$C$5,allGymnasts!H28,0)","v":""},{"$f":"IF(allGymnasts!D28=$C$5,allGymnasts!M28,0)","v":""},{"$f":"IF(allGymnasts!D28=$C$5,allGymnasts!R28,0)","v":""},{"$f":"IF(allGymnasts!D28=$C$5,allGymnasts!W28,0)","v":""},{"$f":"IF(allGymnasts!D28=$C$6,allGymnasts!H28,0)","v":""},{"$f":"IF(allGymnasts!D28=$C$6,allGymnasts!M28,0)","v":""},{"$f":"IF(allGymnasts!D28=$C$6,allGymnasts!R28,0)","v":""},{"$f":"IF(allGymnasts!D28=$C$6,allGymnasts!W28,0)","v":""},{"$f":"IF(allGymnasts!D28=$C$7,allGymnasts!H28,0)","v":""},{"$f":"IF(allGymnasts!D28=$C$7,allGymnasts!M28,0)","v":""},{"$f":"IF(allGymnasts!D28=$C$7,allGymnasts!R28,0)","v":""},{"$f":"IF(allGymnasts!D28=$C$7,allGymnasts!W28,0)","v":""},{"$f":"IF(allGymnasts!D28=$C$8,allGymnasts!H28,0)","v":""},{"$f":"IF(allGymnasts!D28=$C$8,allGymnasts!M28,0)","v":""},{"$f":"IF(allGymnasts!D28=$C$8,allGymnasts!R28,0)","v":""},{"$f":"IF(allGymnasts!D28=$C$8,allGymnasts!W28,0)","v":""},{"$f":"IF(allGymnasts!D28=$C$9,allGymnasts!H28,0)","v":""},{"$f":"IF(allGymnasts!D28=$C$9,allGymnasts!M28,0)","v":""},{"$f":"IF(allGymnasts!D28=$C$9,allGymnasts!R28,0)","v":""},{"$f":"IF(allGymnasts!D28=$C$9,allGymnasts!W28,0)","v":""},{"$f":"IF(allGymnasts!D28=$C$10,allGymnasts!H28,0)","v":""},{"$f":"IF(allGymnasts!D28=$C$10,allGymnasts!M28,0)","v":""},{"$f":"IF(allGymnasts!D28=$C$10,allGymnasts!R28,0)","v":""},{"$f":"IF(allGymnasts!D28=$C$10,allGymnasts!W28,0)","v":""},{"$f":"IF(allGymnasts!D28=$C$11,allGymnasts!H28,0)","v":""},{"$f":"IF(allGymnasts!D28=$C$11,allGymnasts!M28,0)","v":""},{"$f":"IF(allGymnasts!D28=$C$11,allGymnasts!R28,0)","v":""},{"$f":"IF(allGymnasts!D28=$C$11,allGymnasts!W28,0)","v":""},{"$f":"IF(allGymnasts!D28=$C$12,allGymnasts!H28,0)","v":""},{"$f":"IF(allGymnasts!D28=$C$12,allGymnasts!M28,0)","v":""},{"$f":"IF(allGymnasts!D28=$C$12,allGymnasts!R28,0)","v":""},{"$f":"IF(allGymnasts!D28=$C$12,allGymnasts!W28,0)","v":""},{"$f":"IF(allGymnasts!D28=$C$13,allGymnasts!H28,0)","v":""},{"$f":"IF(allGymnasts!D28=$C$13,allGymnasts!M28,0)","v":""},{"$f":"IF(allGymnasts!D28=$C$13,allGymnasts!R28,0)","v":""},{"$f":"IF(allGymnasts!D28=$C$13,allGymnasts!W28,0)","v":""},{"$f":"IF(allGymnasts!D28=$C$14,allGymnasts!H28,0)","v":""},{"$f":"IF(allGymnasts!D28=$C$14,allGymnasts!M28,0)","v":""},{"$f":"IF(allGymnasts!D28=$C$14,allGymnasts!R28,0)","v":""},{"$f":"IF(allGymnasts!D28=$C$14,allGymnasts!W28,0)","v":""},{"$f":"IF(allGymnasts!D28=$C$15,allGymnasts!H28,0)","v":""},{"$f":"IF(allGymnasts!D28=$C$15,allGymnasts!M28,0)","v":""},{"$f":"IF(allGymnasts!D28=$C$15,allGymnasts!R28,0)","v":""},{"$f":"IF(allGymnasts!D28=$C$15,allGymnasts!W28,0)","v":""}]
[null,null,null,null,null,null,null,null,null,null,null,null,null,null,{"$f":"IF(allGymnasts!D29=$C$4,allGymnasts!H29,0)","v":""},{"$f":"IF(allGymnasts!D29=$C$4,allGymnasts!M29,0)","v":""},{"$f":"IF(allGymnasts!D29=$C$4,allGymnasts!R29,0)","v":""},{"$f":"IF(allGymnasts!D29=$C$4,allGymnasts!W29,0)","v":""},{"$f":"IF(allGymnasts!D29=$C$5,allGymnasts!H29,0)","v":""},{"$f":"IF(allGymnasts!D29=$C$5,allGymnasts!M29,0)","v":""},{"$f":"IF(allGymnasts!D29=$C$5,allGymnasts!R29,0)","v":""},{"$f":"IF(allGymnasts!D29=$C$5,allGymnasts!W29,0)","v":""},{"$f":"IF(allGymnasts!D29=$C$6,allGymnasts!H29,0)","v":""},{"$f":"IF(allGymnasts!D29=$C$6,allGymnasts!M29,0)","v":""},{"$f":"IF(allGymnasts!D29=$C$6,allGymnasts!R29,0)","v":""},{"$f":"IF(allGymnasts!D29=$C$6,allGymnasts!W29,0)","v":""},{"$f":"IF(allGymnasts!D29=$C$7,allGymnasts!H29,0)","v":""},{"$f":"IF(allGymnasts!D29=$C$7,allGymnasts!M29,0)","v":""},{"$f":"IF(allGymnasts!D29=$C$7,allGymnasts!R29,0)","v":""},{"$f":"IF(allGymnasts!D29=$C$7,allGymnasts!W29,0)","v":""},{"$f":"IF(allGymnasts!D29=$C$8,allGymnasts!H29,0)","v":""},{"$f":"IF(allGymnasts!D29=$C$8,allGymnasts!M29,0)","v":""},{"$f":"IF(allGymnasts!D29=$C$8,allGymnasts!R29,0)","v":""},{"$f":"IF(allGymnasts!D29=$C$8,allGymnasts!W29,0)","v":""},{"$f":"IF(allGymnasts!D29=$C$9,allGymnasts!H29,0)","v":""},{"$f":"IF(allGymnasts!D29=$C$9,allGymnasts!M29,0)","v":""},{"$f":"IF(allGymnasts!D29=$C$9,allGymnasts!R29,0)","v":""},{"$f":"IF(allGymnasts!D29=$C$9,allGymnasts!W29,0)","v":""},{"$f":"IF(allGymnasts!D29=$C$10,allGymnasts!H29,0)","v":""},{"$f":"IF(allGymnasts!D29=$C$10,allGymnasts!M29,0)","v":""},{"$f":"IF(allGymnasts!D29=$C$10,allGymnasts!R29,0)","v":""},{"$f":"IF(allGymnasts!D29=$C$10,allGymnasts!W29,0)","v":""},{"$f":"IF(allGymnasts!D29=$C$11,allGymnasts!H29,0)","v":""},{"$f":"IF(allGymnasts!D29=$C$11,allGymnasts!M29,0)","v":""},{"$f":"IF(allGymnasts!D29=$C$11,allGymnasts!R29,0)","v":""},{"$f":"IF(allGymnasts!D29=$C$11,allGymnasts!W29,0)","v":""},{"$f":"IF(allGymnasts!D29=$C$12,allGymnasts!H29,0)","v":""},{"$f":"IF(allGymnasts!D29=$C$12,allGymnasts!M29,0)","v":""},{"$f":"IF(allGymnasts!D29=$C$12,allGymnasts!R29,0)","v":""},{"$f":"IF(allGymnasts!D29=$C$12,allGymnasts!W29,0)","v":""},{"$f":"IF(allGymnasts!D29=$C$13,allGymnasts!H29,0)","v":""},{"$f":"IF(allGymnasts!D29=$C$13,allGymnasts!M29,0)","v":""},{"$f":"IF(allGymnasts!D29=$C$13,allGymnasts!R29,0)","v":""},{"$f":"IF(allGymnasts!D29=$C$13,allGymnasts!W29,0)","v":""},{"$f":"IF(allGymnasts!D29=$C$14,allGymnasts!H29,0)","v":""},{"$f":"IF(allGymnasts!D29=$C$14,allGymnasts!M29,0)","v":""},{"$f":"IF(allGymnasts!D29=$C$14,allGymnasts!R29,0)","v":""},{"$f":"IF(allGymnasts!D29=$C$14,allGymnasts!W29,0)","v":""},{"$f":"IF(allGymnasts!D29=$C$15,allGymnasts!H29,0)","v":""},{"$f":"IF(allGymnasts!D29=$C$15,allGymnasts!M29,0)","v":""},{"$f":"IF(allGymnasts!D29=$C$15,allGymnasts!R29,0)","v":""},{"$f":"IF(allGymnasts!D29=$C$15,allGymnasts!W29,0)","v":""}]
[null,null,null,null,null,null,null,null,null,null,null,null,null,null,{"$f":"IF(allGymnasts!D30=$C$4,allGymnasts!H30,0)","v":""},{"$f":"IF(allGymnasts!D30=$C$4,allGymnasts!M30,0)","v":""},{"$f":"IF(allGymnasts!D30=$C$4,allGymnasts!R30,0)","v":""},{"$f":"IF(allGymnasts!D30=$C$4,allGymnasts!W30,0)","v":""},{"$f":"IF(allGymnasts!D30=$C$5,allGymnasts!H30,0)","v":""},{"$f":"IF(allGymnasts!D30=$C$5,allGymnasts!M30,0)","v":""},{"$f":"IF(allGymnasts!D30=$C$5,allGymnasts!R30,0)","v":""},{"$f":"IF(allGymnasts!D30=$C$5,allGymnasts!W30,0)","v":""},{"$f":"IF(allGymnasts!D30=$C$6,allGymnasts!H30,0)","v":""},{"$f":"IF(allGymnasts!D30=$C$6,allGymnasts!M30,0)","v":""},{"$f":"IF(allGymnasts!D30=$C$6,allGymnasts!R30,0)","v":""},{"$f":"IF(allGymnasts!D30=$C$6,allGymnasts!W30,0)","v":""},{"$f":"IF(allGymnasts!D30=$C$7,allGymnasts!H30,0)","v":""},{"$f":"IF(allGymnasts!D30=$C$7,allGymnasts!M30,0)","v":""},{"$f":"IF(allGymnasts!D30=$C$7,allGymnasts!R30,0)","v":""},{"$f":"IF(allGymnasts!D30=$C$7,allGymnasts!W30,0)","v":""},{"$f":"IF(allGymnasts!D30=$C$8,allGymnasts!H30,0)","v":""},{"$f":"IF(allGymnasts!D30=$C$8,allGymnasts!M30,0)","v":""},{"$f":"IF(allGymnasts!D30=$C$8,allGymnasts!R30,0)","v":""},{"$f":"IF(allGymnasts!D30=$C$8,allGymnasts!W30,0)","v":""},{"$f":"IF(allGymnasts!D30=$C$9,allGymnasts!H30,0)","v":""},{"$f":"IF(allGymnasts!D30=$C$9,allGymnasts!M30,0)","v":""},{"$f":"IF(allGymnasts!D30=$C$9,allGymnasts!R30,0)","v":""},{"$f":"IF(allGymnasts!D30=$C$9,allGymnasts!W30,0)","v":""},{"$f":"IF(allGymnasts!D30=$C$10,allGymnasts!H30,0)","v":""},{"$f":"IF(allGymnasts!D30=$C$10,allGymnasts!M30,0)","v":""},{"$f":"IF(allGymnasts!D30=$C$10,allGymnasts!R30,0)","v":""},{"$f":"IF(allGymnasts!D30=$C$10,allGymnasts!W30,0)","v":""},{"$f":"IF(allGymnasts!D30=$C$11,allGymnasts!H30,0)","v":""},{"$f":"IF(allGymnasts!D30=$C$11,allGymnasts!M30,0)","v":""},{"$f":"IF(allGymnasts!D30=$C$11,allGymnasts!R30,0)","v":""},{"$f":"IF(allGymnasts!D30=$C$11,allGymnasts!W30,0)","v":""},{"$f":"IF(allGymnasts!D30=$C$12,allGymnasts!H30,0)","v":""},{"$f":"IF(allGymnasts!D30=$C$12,allGymnasts!M30,0)","v":""},{"$f":"IF(allGymnasts!D30=$C$12,allGymnasts!R30,0)","v":""},{"$f":"IF(allGymnasts!D30=$C$12,allGymnasts!W30,0)","v":""},{"$f":"IF(allGymnasts!D30=$C$13,allGymnasts!H30,0)","v":""},{"$f":"IF(allGymnasts!D30=$C$13,allGymnasts!M30,0)","v":""},{"$f":"IF(allGymnasts!D30=$C$13,allGymnasts!R30,0)","v":""},{"$f":"IF(allGymnasts!D30=$C$13,allGymnasts!W30,0)","v":""},{"$f":"IF(allGymnasts!D30=$C$14,allGymnasts!H30,0)","v":""},{"$f":"IF(allGymnasts!D30=$C$14,allGymnasts!M30,0)","v":""},{"$f":"IF(allGymnasts!D30=$C$14,allGymnasts!R30,0)","v":""},{"$f":"IF(allGymnasts!D30=$C$14,allGymnasts!W30,0)","v":""},{"$f":"IF(allGymnasts!D30=$C$15,allGymnasts!H30,0)","v":""},{"$f":"IF(allGymnasts!D30=$C$15,allGymnasts!M30,0)","v":""},{"$f":"IF(allGymnasts!D30=$C$15,allGymnasts!R30,0)","v":""},{"$f":"IF(allGymnasts!D30=$C$15,allGymnasts!W30,0)","v":""}]
[null,null,null,null,null,null,null,null,null,null,null,null,null,null,{"$f":"IF(allGymnasts!D31=$C$4,allGymnasts!H31,0)","v":""},{"$f":"IF(allGymnasts!D31=$C$4,allGymnasts!M31,0)","v":""},{"$f":"IF(allGymnasts!D31=$C$4,allGymnasts!R31,0)","v":""},{"$f":"IF(allGymnasts!D31=$C$4,allGymnasts!W31,0)","v":""},{"$f":"IF(allGymnasts!D31=$C$5,allGymnasts!H31,0)","v":""},{"$f":"IF(allGymnasts!D31=$C$5,allGymnasts!M31,0)","v":""},{"$f":"IF(allGymnasts!D31=$C$5,allGymnasts!R31,0)","v":""},{"$f":"IF(allGymnasts!D31=$C$5,allGymnasts!W31,0)","v":""},{"$f":"IF(allGymnasts!D31=$C$6,allGymnasts!H31,0)","v":""},{"$f":"IF(allGymnasts!D31=$C$6,allGymnasts!M31,0)","v":""},{"$f":"IF(allGymnasts!D31=$C$6,allGymnasts!R31,0)","v":""},{"$f":"IF(allGymnasts!D31=$C$6,allGymnasts!W31,0)","v":""},{"$f":"IF(allGymnasts!D31=$C$7,allGymnasts!H31,0)","v":""},{"$f":"IF(allGymnasts!D31=$C$7,allGymnasts!M31,0)","v":""},{"$f":"IF(allGymnasts!D31=$C$7,allGymnasts!R31,0)","v":""},{"$f":"IF(allGymnasts!D31=$C$7,allGymnasts!W31,0)","v":""},{"$f":"IF(allGymnasts!D31=$C$8,allGymnasts!H31,0)","v":""},{"$f":"IF(allGymnasts!D31=$C$8,allGymnasts!M31,0)","v":""},{"$f":"IF(allGymnasts!D31=$C$8,allGymnasts!R31,0)","v":""},{"$f":"IF(allGymnasts!D31=$C$8,allGymnasts!W31,0)","v":""},{"$f":"IF(allGymnasts!D31=$C$9,allGymnasts!H31,0)","v":""},{"$f":"IF(allGymnasts!D31=$C$9,allGymnasts!M31,0)","v":""},{"$f":"IF(allGymnasts!D31=$C$9,allGymnasts!R31,0)","v":""},{"$f":"IF(allGymnasts!D31=$C$9,allGymnasts!W31,0)","v":""},{"$f":"IF(allGymnasts!D31=$C$10,allGymnasts!H31,0)","v":""},{"$f":"IF(allGymnasts!D31=$C$10,allGymnasts!M31,0)","v":""},{"$f":"IF(allGymnasts!D31=$C$10,allGymnasts!R31,0)","v":""},{"$f":"IF(allGymnasts!D31=$C$10,allGymnasts!W31,0)","v":""},{"$f":"IF(allGymnasts!D31=$C$11,allGymnasts!H31,0)","v":""},{"$f":"IF(allGymnasts!D31=$C$11,allGymnasts!M31,0)","v":""},{"$f":"IF(allGymnasts!D31=$C$11,allGymnasts!R31,0)","v":""},{"$f":"IF(allGymnasts!D31=$C$11,allGymnasts!W31,0)","v":""},{"$f":"IF(allGymnasts!D31=$C$12,allGymnasts!H31,0)","v":""},{"$f":"IF(allGymnasts!D31=$C$12,allGymnasts!M31,0)","v":""},{"$f":"IF(allGymnasts!D31=$C$12,allGymnasts!R31,0)","v":""},{"$f":"IF(allGymnasts!D31=$C$12,allGymnasts!W31,0)","v":""},{"$f":"IF(allGymnasts!D31=$C$13,allGymnasts!H31,0)","v":""},{"$f":"IF(allGymnasts!D31=$C$13,allGymnasts!M31,0)","v":""},{"$f":"IF(allGymnasts!D31=$C$13,allGymnasts!R31,0)","v":""},{"$f":"IF(allGymnasts!D31=$C$13,allGymnasts!W31,0)","v":""},{"$f":"IF(allGymnasts!D31=$C$14,allGymnasts!H31,0)","v":""},{"$f":"IF(allGymnasts!D31=$C$14,allGymnasts!M31,0)","v":""},{"$f":"IF(allGymnasts!D31=$C$14,allGymnasts!R31,0)","v":""},{"$f":"IF(allGymnasts!D31=$C$14,allGymnasts!W31,0)","v":""},{"$f":"IF(allGymnasts!D31=$C$15,allGymnasts!H31,0)","v":""},{"$f":"IF(allGymnasts!D31=$C$15,allGymnasts!M31,0)","v":""},{"$f":"IF(allGymnasts!D31=$C$15,allGymnasts!R31,0)","v":""},{"$f":"IF(allGymnasts!D31=$C$15,allGymnasts!W31,0)","v":""}]
[null,null,null,null,null,null,null,null,null,null,null,null,null,null,{"$f":"IF(allGymnasts!D32=$C$4,allGymnasts!H32,0)","v":""},{"$f":"IF(allGymnasts!D32=$C$4,allGymnasts!M32,0)","v":""},{"$f":"IF(allGymnasts!D32=$C$4,allGymnasts!R32,0)","v":""},{"$f":"IF(allGymnasts!D32=$C$4,allGymnasts!W32,0)","v":""},{"$f":"IF(allGymnasts!D32=$C$5,allGymnasts!H32,0)","v":""},{"$f":"IF(allGymnasts!D32=$C$5,allGymnasts!M32,0)","v":""},{"$f":"IF(allGymnasts!D32=$C$5,allGymnasts!R32,0)","v":""},{"$f":"IF(allGymnasts!D32=$C$5,allGymnasts!W32,0)","v":""},{"$f":"IF(allGymnasts!D32=$C$6,allGymnasts!H32,0)","v":""},{"$f":"IF(allGymnasts!D32=$C$6,allGymnasts!M32,0)","v":""},{"$f":"IF(allGymnasts!D32=$C$6,allGymnasts!R32,0)","v":""},{"$f":"IF(allGymnasts!D32=$C$6,allGymnasts!W32,0)","v":""},{"$f":"IF(allGymnasts!D32=$C$7,allGymnasts!H32,0)","v":""},{"$f":"IF(allGymnasts!D32=$C$7,allGymnasts!M32,0)","v":""},{"$f":"IF(allGymnasts!D32=$C$7,allGymnasts!R32,0)","v":""},{"$f":"IF(allGymnasts!D32=$C$7,allGymnasts!W32,0)","v":""},{"$f":"IF(allGymnasts!D32=$C$8,allGymnasts!H32,0)","v":""},{"$f":"IF(allGymnasts!D32=$C$8,allGymnasts!M32,0)","v":""},{"$f":"IF(allGymnasts!D32=$C$8,allGymnasts!R32,0)","v":""},{"$f":"IF(allGymnasts!D32=$C$8,allGymnasts!W32,0)","v":""},{"$f":"IF(allGymnasts!D32=$C$9,allGymnasts!H32,0)","v":""},{"$f":"IF(allGymnasts!D32=$C$9,allGymnasts!M32,0)","v":""},{"$f":"IF(allGymnasts!D32=$C$9,allGymnasts!R32,0)","v":""},{"$f":"IF(allGymnasts!D32=$C$9,allGymnasts!W32,0)","v":""},{"$f":"IF(allGymnasts!D32=$C$10,allGymnasts!H32,0)","v":""},{"$f":"IF(allGymnasts!D32=$C$10,allGymnasts!M32,0)","v":""},{"$f":"IF(allGymnasts!D32=$C$10,allGymnasts!R32,0)","v":""},{"$f":"IF(allGymnasts!D32=$C$10,allGymnasts!W32,0)","v":""},{"$f":"IF(allGymnasts!D32=$C$11,allGymnasts!H32,0)","v":""},{"$f":"IF(allGymnasts!D32=$C$11,allGymnasts!M32,0)","v":""},{"$f":"IF(allGymnasts!D32=$C$11,allGymnasts!R32,0)","v":""},{"$f":"IF(allGymnasts!D32=$C$11,allGymnasts!W32,0)","v":""},{"$f":"IF(allGymnasts!D32=$C$12,allGymnasts!H32,0)","v":""},{"$f":"IF(allGymnasts!D32=$C$12,allGymnasts!M32,0)","v":""},{"$f":"IF(allGymnasts!D32=$C$12,allGymnasts!R32,0)","v":""},{"$f":"IF(allGymnasts!D32=$C$12,allGymnasts!W32,0)","v":""},{"$f":"IF(allGymnasts!D32=$C$13,allGymnasts!H32,0)","v":""},{"$f":"IF(allGymnasts!D32=$C$13,allGymnasts!M32,0)","v":""},{"$f":"IF(allGymnasts!D32=$C$13,allGymnasts!R32,0)","v":""},{"$f":"IF(allGymnasts!D32=$C$13,allGymnasts!W32,0)","v":""},{"$f":"IF(allGymnasts!D32=$C$14,allGymnasts!H32,0)","v":""},{"$f":"IF(allGymnasts!D32=$C$14,allGymnasts!M32,0)","v":""},{"$f":"IF(allGymnasts!D32=$C$14,allGymnasts!R32,0)","v":""},{"$f":"IF(allGymnasts!D32=$C$14,allGymnasts!W32,0)","v":""},{"$f":"IF(allGymnasts!D32=$C$15,allGymnasts!H32,0)","v":""},{"$f":"IF(allGymnasts!D32=$C$15,allGymnasts!M32,0)","v":""},{"$f":"IF(allGymnasts!D32=$C$15,allGymnasts!R32,0)","v":""},{"$f":"IF(allGymnasts!D32=$C$15,allGymnasts!W32,0)","v":""}]
[null,null,null,null,null,null,null,null,null,null,null,null,null,null,{"$f":"IF(allGymnasts!D33=$C$4,allGymnasts!H33,0)","v":""},{"$f":"IF(allGymnasts!D33=$C$4,allGymnasts!M33,0)","v":""},{"$f":"IF(allGymnasts!D33=$C$4,allGymnasts!R33,0)","v":""},{"$f":"IF(allGymnasts!D33=$C$4,allGymnasts!W33,0)","v":""},{"$f":"IF(allGymnasts!D33=$C$5,allGymnasts!H33,0)","v":""},{"$f":"IF(allGymnasts!D33=$C$5,allGymnasts!M33,0)","v":""},{"$f":"IF(allGymnasts!D33=$C$5,allGymnasts!R33,0)","v":""},{"$f":"IF(allGymnasts!D33=$C$5,allGymnasts!W33,0)","v":""},{"$f":"IF(allGymnasts!D33=$C$6,allGymnasts!H33,0)","v":""},{"$f":"IF(allGymnasts!D33=$C$6,allGymnasts!M33,0)","v":""},{"$f":"IF(allGymnasts!D33=$C$6,allGymnasts!R33,0)","v":""},{"$f":"IF(allGymnasts!D33=$C$6,allGymnasts!W33,0)","v":""},{"$f":"IF(allGymnasts!D33=$C$7,allGymnasts!H33,0)","v":""},{"$f":"IF(allGymnasts!D33=$C$7,allGymnasts!M33,0)","v":""},{"$f":"IF(allGymnasts!D33=$C$7,allGymnasts!R33,0)","v":""},{"$f":"IF(allGymnasts!D33=$C$7,allGymnasts!W33,0)","v":""},{"$f":"IF(allGymnasts!D33=$C$8,allGymnasts!H33,0)","v":""},{"$f":"IF(allGymnasts!D33=$C$8,allGymnasts!M33,0)","v":""},{"$f":"IF(allGymnasts!D33=$C$8,allGymnasts!R33,0)","v":""},{"$f":"IF(allGymnasts!D33=$C$8,allGymnasts!W33,0)","v":""},{"$f":"IF(allGymnasts!D33=$C$9,allGymnasts!H33,0)","v":""},{"$f":"IF(allGymnasts!D33=$C$9,allGymnasts!M33,0)","v":""},{"$f":"IF(allGymnasts!D33=$C$9,allGymnasts!R33,0)","v":""},{"$f":"IF(allGymnasts!D33=$C$9,allGymnasts!W33,0)","v":""},{"$f":"IF(allGymnasts!D33=$C$10,allGymnasts!H33,0)","v":""},{"$f":"IF(allGymnasts!D33=$C$10,allGymnasts!M33,0)","v":""},{"$f":"IF(allGymnasts!D33=$C$10,allGymnasts!R33,0)","v":""},{"$f":"IF(allGymnasts!D33=$C$10,allGymnasts!W33,0)","v":""},{"$f":"IF(allGymnasts!D33=$C$11,allGymnasts!H33,0)","v":""},{"$f":"IF(allGymnasts!D33=$C$11,allGymnasts!M33,0)","v":""},{"$f":"IF(allGymnasts!D33=$C$11,allGymnasts!R33,0)","v":""},{"$f":"IF(allGymnasts!D33=$C$11,allGymnasts!W33,0)","v":""},{"$f":"IF(allGymnasts!D33=$C$12,allGymnasts!H33,0)","v":""},{"$f":"IF(allGymnasts!D33=$C$12,allGymnasts!M33,0)","v":""},{"$f":"IF(allGymnasts!D33=$C$12,allGymnasts!R33,0)","v":""},{"$f":"IF(allGymnasts!D33=$C$12,allGymnasts!W33,0)","v":""},{"$f":"IF(allGymnasts!D33=$C$13,allGymnasts!H33,0)","v":""},{"$f":"IF(allGymnasts!D33=$C$13,allGymnasts!M33,0)","v":""},{"$f":"IF(allGymnasts!D33=$C$13,allGymnasts!R33,0)","v":""},{"$f":"IF(allGymnasts!D33=$C$13,allGymnasts!W33,0)","v":""},{"$f":"IF(allGymnasts!D33=$C$14,allGymnasts!H33,0)","v":""},{"$f":"IF(allGymnasts!D33=$C$14,allGymnasts!M33,0)","v":""},{"$f":"IF(allGymnasts!D33=$C$14,allGymnasts!R33,0)","v":""},{"$f":"IF(allGymnasts!D33=$C$14,allGymnasts!W33,0)","v":""},{"$f":"IF(allGymnasts!D33=$C$15,allGymnasts!H33,0)","v":""},{"$f":"IF(allGymnasts!D33=$C$15,allGymnasts!M33,0)","v":""},{"$f":"IF(allGymnasts!D33=$C$15,allGymnasts!R33,0)","v":""},{"$f":"IF(allGymnasts!D33=$C$15,allGymnasts!W33,0)","v":""}]
[null,null,null,null,null,null,null,null,null,null,null,null,null,null,{"$f":"IF(allGymnasts!D34=$C$4,allGymnasts!H34,0)","v":""},{"$f":"IF(allGymnasts!D34=$C$4,allGymnasts!M34,0)","v":""},{"$f":"IF(allGymnasts!D34=$C$4,allGymnasts!R34,0)","v":""},{"$f":"IF(allGymnasts!D34=$C$4,allGymnasts!W34,0)","v":""},{"$f":"IF(allGymnasts!D34=$C$5,allGymnasts!H34,0)","v":""},{"$f":"IF(allGymnasts!D34=$C$5,allGymnasts!M34,0)","v":""},{"$f":"IF(allGymnasts!D34=$C$5,allGymnasts!R34,0)","v":""},{"$f":"IF(allGymnasts!D34=$C$5,allGymnasts!W34,0)","v":""},{"$f":"IF(allGymnasts!D34=$C$6,allGymnasts!H34,0)","v":""},{"$f":"IF(allGymnasts!D34=$C$6,allGymnasts!M34,0)","v":""},{"$f":"IF(allGymnasts!D34=$C$6,allGymnasts!R34,0)","v":""},{"$f":"IF(allGymnasts!D34=$C$6,allGymnasts!W34,0)","v":""},{"$f":"IF(allGymnasts!D34=$C$7,allGymnasts!H34,0)","v":""},{"$f":"IF(allGymnasts!D34=$C$7,allGymnasts!M34,0)","v":""},{"$f":"IF(allGymnasts!D34=$C$7,allGymnasts!R34,0)","v":""},{"$f":"IF(allGymnasts!D34=$C$7,allGymnasts!W34,0)","v":""},{"$f":"IF(allGymnasts!D34=$C$8,allGymnasts!H34,0)","v":""},{"$f":"IF(allGymnasts!D34=$C$8,allGymnasts!M34,0)","v":""},{"$f":"IF(allGymnasts!D34=$C$8,allGymnasts!R34,0)","v":""},{"$f":"IF(allGymnasts!D34=$C$8,allGymnasts!W34,0)","v":""},{"$f":"IF(allGymnasts!D34=$C$9,allGymnasts!H34,0)","v":""},{"$f":"IF(allGymnasts!D34=$C$9,allGymnasts!M34,0)","v":""},{"$f":"IF(allGymnasts!D34=$C$9,allGymnasts!R34,0)","v":""},{"$f":"IF(allGymnasts!D34=$C$9,allGymnasts!W34,0)","v":""},{"$f":"IF(allGymnasts!D34=$C$10,allGymnasts!H34,0)","v":""},{"$f":"IF(allGymnasts!D34=$C$10,allGymnasts!M34,0)","v":""},{"$f":"IF(allGymnasts!D34=$C$10,allGymnasts!R34,0)","v":""},{"$f":"IF(allGymnasts!D34=$C$10,allGymnasts!W34,0)","v":""},{"$f":"IF(allGymnasts!D34=$C$11,allGymnasts!H34,0)","v":""},{"$f":"IF(allGymnasts!D34=$C$11,allGymnasts!M34,0)","v":""},{"$f":"IF(allGymnasts!D34=$C$11,allGymnasts!R34,0)","v":""},{"$f":"IF(allGymnasts!D34=$C$11,allGymnasts!W34,0)","v":""},{"$f":"IF(allGymnasts!D34=$C$12,allGymnasts!H34,0)","v":""},{"$f":"IF(allGymnasts!D34=$C$12,allGymnasts!M34,0)","v":""},{"$f":"IF(allGymnasts!D34=$C$12,allGymnasts!R34,0)","v":""},{"$f":"IF(allGymnasts!D34=$C$12,allGymnasts!W34,0)","v":""},{"$f":"IF(allGymnasts!D34=$C$13,allGymnasts!H34,0)","v":""},{"$f":"IF(allGymnasts!D34=$C$13,allGymnasts!M34,0)","v":""},{"$f":"IF(allGymnasts!D34=$C$13,allGymnasts!R34,0)","v":""},{"$f":"IF(allGymnasts!D34=$C$13,allGymnasts!W34,0)","v":""},{"$f":"IF(allGymnasts!D34=$C$14,allGymnasts!H34,0)","v":""},{"$f":"IF(allGymnasts!D34=$C$14,allGymnasts!M34,0)","v":""},{"$f":"IF(allGymnasts!D34=$C$14,allGymnasts!R34,0)","v":""},{"$f":"IF(allGymnasts!D34=$C$14,allGymnasts!W34,0)","v":""},{"$f":"IF(allGymnasts!D34=$C$15,allGymnasts!H34,0)","v":""},{"$f":"IF(allGymnasts!D34=$C$15,allGymnasts!M34,0)","v":""},{"$f":"IF(allGymnasts!D34=$C$15,allGymnasts!R34,0)","v":""},{"$f":"IF(allGymnasts!D34=$C$15,allGymnasts!W34,0)","v":""}]
[null,null,null,null,null,null,null,null,null,null,null,null,null,null,{"$f":"IF(allGymnasts!D35=$C$4,allGymnasts!H35,0)","v":""},{"$f":"IF(allGymnasts!D35=$C$4,allGymnasts!M35,0)","v":""},{"$f":"IF(allGymnasts!D35=$C$4,allGymnasts!R35,0)","v":""},{"$f":"IF(allGymnasts!D35=$C$4,allGymnasts!W35,0)","v":""},{"$f":"IF(allGymnasts!D35=$C$5,allGymnasts!H35,0)","v":""},{"$f":"IF(allGymnasts!D35=$C$5,allGymnasts!M35,0)","v":""},{"$f":"IF(allGymnasts!D35=$C$5,allGymnasts!R35,0)","v":""},{"$f":"IF(allGymnasts!D35=$C$5,allGymnasts!W35,0)","v":""},{"$f":"IF(allGymnasts!D35=$C$6,allGymnasts!H35,0)","v":""},{"$f":"IF(allGymnasts!D35=$C$6,allGymnasts!M35,0)","v":""},{"$f":"IF(allGymnasts!D35=$C$6,allGymnasts!R35,0)","v":""},{"$f":"IF(allGymnasts!D35=$C$6,allGymnasts!W35,0)","v":""},{"$f":"IF(allGymnasts!D35=$C$7,allGymnasts!H35,0)","v":""},{"$f":"IF(allGymnasts!D35=$C$7,allGymnasts!M35,0)","v":""},{"$f":"IF(allGymnasts!D35=$C$7,allGymnasts!R35,0)","v":""},{"$f":"IF(allGymnasts!D35=$C$7,allGymnasts!W35,0)","v":""},{"$f":"IF(allGymnasts!D35=$C$8,allGymnasts!H35,0)","v":""},{"$f":"IF(allGymnasts!D35=$C$8,allGymnasts!M35,0)","v":""},{"$f":"IF(allGymnasts!D35=$C$8,allGymnasts!R35,0)","v":""},{"$f":"IF(allGymnasts!D35=$C$8,allGymnasts!W35,0)","v":""},{"$f":"IF(allGymnasts!D35=$C$9,allGymnasts!H35,0)","v":""},{"$f":"IF(allGymnasts!D35=$C$9,allGymnasts!M35,0)","v":""},{"$f":"IF(allGymnasts!D35=$C$9,allGymnasts!R35,0)","v":""},{"$f":"IF(allGymnasts!D35=$C$9,allGymnasts!W35,0)","v":""},{"$f":"IF(allGymnasts!D35=$C$10,allGymnasts!H35,0)","v":""},{"$f":"IF(allGymnasts!D35=$C$10,allGymnasts!M35,0)","v":""},{"$f":"IF(allGymnasts!D35=$C$10,allGymnasts!R35,0)","v":""},{"$f":"IF(allGymnasts!D35=$C$10,allGymnasts!W35,0)","v":""},{"$f":"IF(allGymnasts!D35=$C$11,allGymnasts!H35,0)","v":""},{"$f":"IF(allGymnasts!D35=$C$11,allGymnasts!M35,0)","v":""},{"$f":"IF(allGymnasts!D35=$C$11,allGymnasts!R35,0)","v":""},{"$f":"IF(allGymnasts!D35=$C$11,allGymnasts!W35,0)","v":""},{"$f":"IF(allGymnasts!D35=$C$12,allGymnasts!H35,0)","v":""},{"$f":"IF(allGymnasts!D35=$C$12,allGymnasts!M35,0)","v":""},{"$f":"IF(allGymnasts!D35=$C$12,allGymnasts!R35,0)","v":""},{"$f":"IF(allGymnasts!D35=$C$12,allGymnasts!W35,0)","v":""},{"$f":"IF(allGymnasts!D35=$C$13,allGymnasts!H35,0)","v":""},{"$f":"IF(allGymnasts!D35=$C$13,allGymnasts!M35,0)","v":""},{"$f":"IF(allGymnasts!D35=$C$13,allGymnasts!R35,0)","v":""},{"$f":"IF(allGymnasts!D35=$C$13,allGymnasts!W35,0)","v":""},{"$f":"IF(allGymnasts!D35=$C$14,allGymnasts!H35,0)","v":""},{"$f":"IF(allGymnasts!D35=$C$14,allGymnasts!M35,0)","v":""},{"$f":"IF(allGymnasts!D35=$C$14,allGymnasts!R35,0)","v":""},{"$f":"IF(allGymnasts!D35=$C$14,allGymnasts!W35,0)","v":""},{"$f":"IF(allGymnasts!D35=$C$15,allGymnasts!H35,0)","v":""},{"$f":"IF(allGymnasts!D35=$C$15,allGymnasts!M35,0)","v":""},{"$f":"IF(allGymnasts!D35=$C$15,allGymnasts!R35,0)","v":""},{"$f":"IF(allGymnasts!D35=$C$15,allGymnasts!W35,0)","v":""}]
[null,null,null,null,null,null,null,null,null,null,null,null,null,null,{"$f":"IF(allGymnasts!D36=$C$4,allGymnasts!H36,0)","v":""},{"$f":"IF(allGymnasts!D36=$C$4,allGymnasts!M36,0)","v":""},{"$f":"IF(allGymnasts!D36=$C$4,allGymnasts!R36,0)","v":""},{"$f":"IF(allGymnasts!D36=$C$4,allGymnasts!W36,0)","v":""},{"$f":"IF(allGymnasts!D36=$C$5,allGymnasts!H36,0)","v":""},{"$f":"IF(allGymnasts!D36=$C$5,allGymnasts!M36,0)","v":""},{"$f":"IF(allGymnasts!D36=$C$5,allGymnasts!R36,0)","v":""},{"$f":"IF(allGymnasts!D36=$C$5,allGymnasts!W36,0)","v":""},{"$f":"IF(allGymnasts!D36=$C$6,allGymnasts!H36,0)","v":""},{"$f":"IF(allGymnasts!D36=$C$6,allGymnasts!M36,0)","v":""},{"$f":"IF(allGymnasts!D36=$C$6,allGymnasts!R36,0)","v":""},{"$f":"IF(allGymnasts!D36=$C$6,allGymnasts!W36,0)","v":""},{"$f":"IF(allGymnasts!D36=$C$7,allGymnasts!H36,0)","v":""},{"$f":"IF(allGymnasts!D36=$C$7,allGymnasts!M36,0)","v":""},{"$f":"IF(allGymnasts!D36=$C$7,allGymnasts!R36,0)","v":""},{"$f":"IF(allGymnasts!D36=$C$7,allGymnasts!W36,0)","v":""},{"$f":"IF(allGymnasts!D36=$C$8,allGymnasts!H36,0)","v":""},{"$f":"IF(allGymnasts!D36=$C$8,allGymnasts!M36,0)","v":""},{"$f":"IF(allGymnasts!D36=$C$8,allGymnasts!R36,0)","v":""},{"$f":"IF(allGymnasts!D36=$C$8,allGymnasts!W36,0)","v":""},{"$f":"IF(allGymnasts!D36=$C$9,allGymnasts!H36,0)","v":""},{"$f":"IF(allGymnasts!D36=$C$9,allGymnasts!M36,0)","v":""},{"$f":"IF(allGymnasts!D36=$C$9,allGymnasts!R36,0)","v":""},{"$f":"IF(allGymnasts!D36=$C$9,allGymnasts!W36,0)","v":""},{"$f":"IF(allGymnasts!D36=$C$10,allGymnasts!H36,0)","v":""},{"$f":"IF(allGymnasts!D36=$C$10,allGymnasts!M36,0)","v":""},{"$f":"IF(allGymnasts!D36=$C$10,allGymnasts!R36,0)","v":""},{"$f":"IF(allGymnasts!D36=$C$10,allGymnasts!W36,0)","v":""},{"$f":"IF(allGymnasts!D36=$C$11,allGymnasts!H36,0)","v":""},{"$f":"IF(allGymnasts!D36=$C$11,allGymnasts!M36,0)","v":""},{"$f":"IF(allGymnasts!D36=$C$11,allGymnasts!R36,0)","v":""},{"$f":"IF(allGymnasts!D36=$C$11,allGymnasts!W36,0)","v":""},{"$f":"IF(allGymnasts!D36=$C$12,allGymnasts!H36,0)","v":""},{"$f":"IF(allGymnasts!D36=$C$12,allGymnasts!M36,0)","v":""},{"$f":"IF(allGymnasts!D36=$C$12,allGymnasts!R36,0)","v":""},{"$f":"IF(allGymnasts!D36=$C$12,allGymnasts!W36,0)","v":""},{"$f":"IF(allGymnasts!D36=$C$13,allGymnasts!H36,0)","v":""},{"$f":"IF(allGymnasts!D36=$C$13,allGymnasts!M36,0)","v":""},{"$f":"IF(allGymnasts!D36=$C$13,allGymnasts!R36,0)","v":""},{"$f":"IF(allGymnasts!D36=$C$13,allGymnasts!W36,0)","v":""},{"$f":"IF(allGymnasts!D36=$C$14,allGymnasts!H36,0)","v":""},{"$f":"IF(allGymnasts!D36=$C$14,allGymnasts!M36,0)","v":""},{"$f":"IF(allGymnasts!D36=$C$14,allGymnasts!R36,0)","v":""},{"$f":"IF(allGymnasts!D36=$C$14,allGymnasts!W36,0)","v":""},{"$f":"IF(allGymnasts!D36=$C$15,allGymnasts!H36,0)","v":""},{"$f":"IF(allGymnasts!D36=$C$15,allGymnasts!M36,0)","v":""},{"$f":"IF(allGymnasts!D36=$C$15,allGymnasts!R36,0)","v":""},{"$f":"IF(allGymnasts!D36=$C$15,allGymnasts!W36,0)","v":""}]
[null,null,null,null,null,null,null,null,null,null,null,null,null,null,{"$f":"IF(allGymnasts!D37=$C$4,allGymnasts!H37,0)","v":""},{"$f":"IF(allGymnasts!D37=$C$4,allGymnasts!M37,0)","v":""},{"$f":"IF(allGymnasts!D37=$C$4,allGymnasts!R37,0)","v":""},{"$f":"IF(allGymnasts!D37=$C$4,allGymnasts!W37,0)","v":""},{"$f":"IF(allGymnasts!D37=$C$5,allGymnasts!H37,0)","v":""},{"$f":"IF(allGymnasts!D37=$C$5,allGymnasts!M37,0)","v":""},{"$f":"IF(allGymnasts!D37=$C$5,allGymnasts!R37,0)","v":""},{"$f":"IF(allGymnasts!D37=$C$5,allGymnasts!W37,0)","v":""},{"$f":"IF(allGymnasts!D37=$C$6,allGymnasts!H37,0)","v":""},{"$f":"IF(allGymnasts!D37=$C$6,allGymnasts!M37,0)","v":""},{"$f":"IF(allGymnasts!D37=$C$6,allGymnasts!R37,0)","v":""},{"$f":"IF(allGymnasts!D37=$C$6,allGymnasts!W37,0)","v":""},{"$f":"IF(allGymnasts!D37=$C$7,allGymnasts!H37,0)","v":""},{"$f":"IF(allGymnasts!D37=$C$7,allGymnasts!M37,0)","v":""},{"$f":"IF(allGymnasts!D37=$C$7,allGymnasts!R37,0)","v":""},{"$f":"IF(allGymnasts!D37=$C$7,allGymnasts!W37,0)","v":""},{"$f":"IF(allGymnasts!D37=$C$8,allGymnasts!H37,0)","v":""},{"$f":"IF(allGymnasts!D37=$C$8,allGymnasts!M37,0)","v":""},{"$f":"IF(allGymnasts!D37=$C$8,allGymnasts!R37,0)","v":""},{"$f":"IF(allGymnasts!D37=$C$8,allGymnasts!W37,0)","v":""},{"$f":"IF(allGymnasts!D37=$C$9,allGymnasts!H37,0)","v":""},{"$f":"IF(allGymnasts!D37=$C$9,allGymnasts!M37,0)","v":""},{"$f":"IF(allGymnasts!D37=$C$9,allGymnasts!R37,0)","v":""},{"$f":"IF(allGymnasts!D37=$C$9,allGymnasts!W37,0)","v":""},{"$f":"IF(allGymnasts!D37=$C$10,allGymnasts!H37,0)","v":""},{"$f":"IF(allGymnasts!D37=$C$10,allGymnasts!M37,0)","v":""},{"$f":"IF(allGymnasts!D37=$C$10,allGymnasts!R37,0)","v":""},{"$f":"IF(allGymnasts!D37=$C$10,allGymnasts!W37,0)","v":""},{"$f":"IF(allGymnasts!D37=$C$11,allGymnasts!H37,0)","v":""},{"$f":"IF(allGymnasts!D37=$C$11,allGymnasts!M37,0)","v":""},{"$f":"IF(allGymnasts!D37=$C$11,allGymnasts!R37,0)","v":""},{"$f":"IF(allGymnasts!D37=$C$11,allGymnasts!W37,0)","v":""},{"$f":"IF(allGymnasts!D37=$C$12,allGymnasts!H37,0)","v":""},{"$f":"IF(allGymnasts!D37=$C$12,allGymnasts!M37,0)","v":""},{"$f":"IF(allGymnasts!D37=$C$12,allGymnasts!R37,0)","v":""},{"$f":"IF(allGymnasts!D37=$C$12,allGymnasts!W37,0)","v":""},{"$f":"IF(allGymnasts!D37=$C$13,allGymnasts!H37,0)","v":""},{"$f":"IF(allGymnasts!D37=$C$13,allGymnasts!M37,0)","v":""},{"$f":"IF(allGymnasts!D37=$C$13,allGymnasts!R37,0)","v":""},{"$f":"IF(allGymnasts!D37=$C$13,allGymnasts!W37,0)","v":""},{"$f":"IF(allGymnasts!D37=$C$14,allGymnasts!H37,0)","v":""},{"$f":"IF(allGymnasts!D37=$C$14,allGymnasts!M37,0)","v":""},{"$f":"IF(allGymnasts!D37=$C$14,allGymnasts!R37,0)","v":""},{"$f":"IF(allGymnasts!D37=$C$14,allGymnasts!W37,0)","v":""},{"$f":"IF(allGymnasts!D37=$C$15,allGymnasts!H37,0)","v":""},{"$f":"IF(allGymnasts!D37=$C$15,allGymnasts!M37,0)","v":""},{"$f":"IF(allGymnasts!D37=$C$15,allGymnasts!R37,0)","v":""},{"$f":"IF(allGymnasts!D37=$C$15,allGymnasts!W37,0)","v":""}]
[null,null,null,null,null,null,null,null,null,null,null,null,null,null,{"$f":"IF(allGymnasts!D38=$C$4,allGymnasts!H38,0)","v":""},{"$f":"IF(allGymnasts!D38=$C$4,allGymnasts!M38,0)","v":""},{"$f":"IF(allGymnasts!D38=$C$4,allGymnasts!R38,0)","v":""},{"$f":"IF(allGymnasts!D38=$C$4,allGymnasts!W38,0)","v":""},{"$f":"IF(allGymnasts!D38=$C$5,allGymnasts!H38,0)","v":""},{"$f":"IF(allGymnasts!D38=$C$5,allGymnasts!M38,0)","v":""},{"$f":"IF(allGymnasts!D38=$C$5,allGymnasts!R38,0)","v":""},{"$f":"IF(allGymnasts!D38=$C$5,allGymnasts!W38,0)","v":""},{"$f":"IF(allGymnasts!D38=$C$6,allGymnasts!H38,0)","v":""},{"$f":"IF(allGymnasts!D38=$C$6,allGymnasts!M38,0)","v":""},{"$f":"IF(allGymnasts!D38=$C$6,allGymnasts!R38,0)","v":""},{"$f":"IF(allGymnasts!D38=$C$6,allGymnasts!W38,0)","v":""},{"$f":"IF(allGymnasts!D38=$C$7,allGymnasts!H38,0)","v":""},{"$f":"IF(allGymnasts!D38=$C$7,allGymnasts!M38,0)","v":""},{"$f":"IF(allGymnasts!D38=$C$7,allGymnasts!R38,0)","v":""},{"$f":"IF(allGymnasts!D38=$C$7,allGymnasts!W38,0)","v":""},{"$f":"IF(allGymnasts!D38=$C$8,allGymnasts!H38,0)","v":""},{"$f":"IF(allGymnasts!D38=$C$8,allGymnasts!M38,0)","v":""},{"$f":"IF(allGymnasts!D38=$C$8,allGymnasts!R38,0)","v":""},{"$f":"IF(allGymnasts!D38=$C$8,allGymnasts!W38,0)","v":""},{"$f":"IF(allGymnasts!D38=$C$9,allGymnasts!H38,0)","v":""},{"$f":"IF(allGymnasts!D38=$C$9,allGymnasts!M38,0)","v":""},{"$f":"IF(allGymnasts!D38=$C$9,allGymnasts!R38,0)","v":""},{"$f":"IF(allGymnasts!D38=$C$9,allGymnasts!W38,0)","v":""},{"$f":"IF(allGymnasts!D38=$C$10,allGymnasts!H38,0)","v":""},{"$f":"IF(allGymnasts!D38=$C$10,allGymnasts!M38,0)","v":""},{"$f":"IF(allGymnasts!D38=$C$10,allGymnasts!R38,0)","v":""},{"$f":"IF(allGymnasts!D38=$C$10,allGymnasts!W38,0)","v":""},{"$f":"IF(allGymnasts!D38=$C$11,allGymnasts!H38,0)","v":""},{"$f":"IF(allGymnasts!D38=$C$11,allGymnasts!M38,0)","v":""},{"$f":"IF(allGymnasts!D38=$C$11,allGymnasts!R38,0)","v":""},{"$f":"IF(allGymnasts!D38=$C$11,allGymnasts!W38,0)","v":""},{"$f":"IF(allGymnasts!D38=$C$12,allGymnasts!H38,0)","v":""},{"$f":"IF(allGymnasts!D38=$C$12,allGymnasts!M38,0)","v":""},{"$f":"IF(allGymnasts!D38=$C$12,allGymnasts!R38,0)","v":""},{"$f":"IF(allGymnasts!D38=$C$12,allGymnasts!W38,0)","v":""},{"$f":"IF(allGymnasts!D38=$C$13,allGymnasts!H38,0)","v":""},{"$f":"IF(allGymnasts!D38=$C$13,allGymnasts!M38,0)","v":""},{"$f":"IF(allGymnasts!D38=$C$13,allGymnasts!R38,0)","v":""},{"$f":"IF(allGymnasts!D38=$C$13,allGymnasts!W38,0)","v":""},{"$f":"IF(allGymnasts!D38=$C$14,allGymnasts!H38,0)","v":""},{"$f":"IF(allGymnasts!D38=$C$14,allGymnasts!M38,0)","v":""},{"$f":"IF(allGymnasts!D38=$C$14,allGymnasts!R38,0)","v":""},{"$f":"IF(allGymnasts!D38=$C$14,allGymnasts!W38,0)","v":""},{"$f":"IF(allGymnasts!D38=$C$15,allGymnasts!H38,0)","v":""},{"$f":"IF(allGymnasts!D38=$C$15,allGymnasts!M38,0)","v":""},{"$f":"IF(allGymnasts!D38=$C$15,allGymnasts!R38,0)","v":""},{"$f":"IF(allGymnasts!D38=$C$15,allGymnasts!W38,0)","v":""}]
[null,null,null,null,null,null,null,null,null,null,null,null,null,null,{"$f":"IF(allGymnasts!D39=$C$4,allGymnasts!H39,0)","v":""},{"$f":"IF(allGymnasts!D39=$C$4,allGymnasts!M39,0)","v":""},{"$f":"IF(allGymnasts!D39=$C$4,allGymnasts!R39,0)","v":""},{"$f":"IF(allGymnasts!D39=$C$4,allGymnasts!W39,0)","v":""},{"$f":"IF(allGymnasts!D39=$C$5,allGymnasts!H39,0)","v":""},{"$f":"IF(allGymnasts!D39=$C$5,allGymnasts!M39,0)","v":""},{"$f":"IF(allGymnasts!D39=$C$5,allGymnasts!R39,0)","v":""},{"$f":"IF(allGymnasts!D39=$C$5,allGymnasts!W39,0)","v":""},{"$f":"IF(allGymnasts!D39=$C$6,allGymnasts!H39,0)","v":""},{"$f":"IF(allGymnasts!D39=$C$6,allGymnasts!M39,0)","v":""},{"$f":"IF(allGymnasts!D39=$C$6,allGymnasts!R39,0)","v":""},{"$f":"IF(allGymnasts!D39=$C$6,allGymnasts!W39,0)","v":""},{"$f":"IF(allGymnasts!D39=$C$7,allGymnasts!H39,0)","v":""},{"$f":"IF(allGymnasts!D39=$C$7,allGymnasts!M39,0)","v":""},{"$f":"IF(allGymnasts!D39=$C$7,allGymnasts!R39,0)","v":""},{"$f":"IF(allGymnasts!D39=$C$7,allGymnasts!W39,0)","v":""},{"$f":"IF(allGymnasts!D39=$C$8,allGymnasts!H39,0)","v":""},{"$f":"IF(allGymnasts!D39=$C$8,allGymnasts!M39,0)","v":""},{"$f":"IF(allGymnasts!D39=$C$8,allGymnasts!R39,0)","v":""},{"$f":"IF(allGymnasts!D39=$C$8,allGymnasts!W39,0)","v":""},{"$f":"IF(allGymnasts!D39=$C$9,allGymnasts!H39,0)","v":""},{"$f":"IF(allGymnasts!D39=$C$9,allGymnasts!M39,0)","v":""},{"$f":"IF(allGymnasts!D39=$C$9,allGymnasts!R39,0)","v":""},{"$f":"IF(allGymnasts!D39=$C$9,allGymnasts!W39,0)","v":""},{"$f":"IF(allGymnasts!D39=$C$10,allGymnasts!H39,0)","v":""},{"$f":"IF(allGymnasts!D39=$C$10,allGymnasts!M39,0)","v":""},{"$f":"IF(allGymnasts!D39=$C$10,allGymnasts!R39,0)","v":""},{"$f":"IF(allGymnasts!D39=$C$10,allGymnasts!W39,0)","v":""},{"$f":"IF(allGymnasts!D39=$C$11,allGymnasts!H39,0)","v":""},{"$f":"IF(allGymnasts!D39=$C$11,allGymnasts!M39,0)","v":""},{"$f":"IF(allGymnasts!D39=$C$11,allGymnasts!R39,0)","v":""},{"$f":"IF(allGymnasts!D39=$C$11,allGymnasts!W39,0)","v":""},{"$f":"IF(allGymnasts!D39=$C$12,allGymnasts!H39,0)","v":""},{"$f":"IF(allGymnasts!D39=$C$12,allGymnasts!M39,0)","v":""},{"$f":"IF(allGymnasts!D39=$C$12,allGymnasts!R39,0)","v":""},{"$f":"IF(allGymnasts!D39=$C$12,allGymnasts!W39,0)","v":""},{"$f":"IF(allGymnasts!D39=$C$13,allGymnasts!H39,0)","v":""},{"$f":"IF(allGymnasts!D39=$C$13,allGymnasts!M39,0)","v":""},{"$f":"IF(allGymnasts!D39=$C$13,allGymnasts!R39,0)","v":""},{"$f":"IF(allGymnasts!D39=$C$13,allGymnasts!W39,0)","v":""},{"$f":"IF(allGymnasts!D39=$C$14,allGymnasts!H39,0)","v":""},{"$f":"IF(allGymnasts!D39=$C$14,allGymnasts!M39,0)","v":""},{"$f":"IF(allGymnasts!D39=$C$14,allGymnasts!R39,0)","v":""},{"$f":"IF(allGymnasts!D39=$C$14,allGymnasts!W39,0)","v":""},{"$f":"IF(allGymnasts!D39=$C$15,allGymnasts!H39,0)","v":""},{"$f":"IF(allGymnasts!D39=$C$15,allGymnasts!M39,0)","v":""},{"$f":"IF(allGymnasts!D39=$C$15,allGymnasts!R39,0)","v":""},{"$f":"IF(allGymnasts!D39=$C$15,allGymnasts!W39,0)","v":""}]
[null,null,null,null,null,null,null,null,null,null,null,null,null,null,{"$f":"IF(allGymnasts!D40=$C$4,allGymnasts!H40,0)","v":""},{"$f":"IF(allGymnasts!D40=$C$4,allGymnasts!M40,0)","v":""},{"$f":"IF(allGymnasts!D40=$C$4,allGymnasts!R40,0)","v":""},{"$f":"IF(allGymnasts!D40=$C$4,allGymnasts!W40,0)","v":""},{"$f":"IF(allGymnasts!D40=$C$5,allGymnasts!H40,0)","v":""},{"$f":"IF(allGymnasts!D40=$C$5,allGymnasts!M40,0)","v":""},{"$f":"IF(allGymnasts!D40=$C$5,allGymnasts!R40,0)","v":""},{"$f":"IF(allGymnasts!D40=$C$5,allGymnasts!W40,0)","v":""},{"$f":"IF(allGymnasts!D40=$C$6,allGymnasts!H40,0)","v":""},{"$f":"IF(allGymnasts!D40=$C$6,allGymnasts!M40,0)","v":""},{"$f":"IF(allGymnasts!D40=$C$6,allGymnasts!R40,0)","v":""},{"$f":"IF(allGymnasts!D40=$C$6,allGymnasts!W40,0)","v":""},{"$f":"IF(allGymnasts!D40=$C$7,allGymnasts!H40,0)","v":""},{"$f":"IF(allGymnasts!D40=$C$7,allGymnasts!M40,0)","v":""},{"$f":"IF(allGymnasts!D40=$C$7,allGymnasts!R40,0)","v":""},{"$f":"IF(allGymnasts!D40=$C$7,allGymnasts!W40,0)","v":""},{"$f":"IF(allGymnasts!D40=$C$8,allGymnasts!H40,0)","v":""},{"$f":"IF(allGymnasts!D40=$C$8,allGymnasts!M40,0)","v":""},{"$f":"IF(allGymnasts!D40=$C$8,allGymnasts!R40,0)","v":""},{"$f":"IF(allGymnasts!D40=$C$8,allGymnasts!W40,0)","v":""},{"$f":"IF(allGymnasts!D40=$C$9,allGymnasts!H40,0)","v":""},{"$f":"IF(allGymnasts!D40=$C$9,allGymnasts!M40,0)","v":""},{"$f":"IF(allGymnasts!D40=$C$9,allGymnasts!R40,0)","v":""},{"$f":"IF(allGymnasts!D40=$C$9,allGymnasts!W40,0)","v":""},{"$f":"IF(allGymnasts!D40=$C$10,allGymnasts!H40,0)","v":""},{"$f":"IF(allGymnasts!D40=$C$10,allGymnasts!M40,0)","v":""},{"$f":"IF(allGymnasts!D40=$C$10,allGymnasts!R40,0)","v":""},{"$f":"IF(allGymnasts!D40=$C$10,allGymnasts!W40,0)","v":""},{"$f":"IF(allGymnasts!D40=$C$11,allGymnasts!H40,0)","v":""},{"$f":"IF(allGymnasts!D40=$C$11,allGymnasts!M40,0)","v":""},{"$f":"IF(allGymnasts!D40=$C$11,allGymnasts!R40,0)","v":""},{"$f":"IF(allGymnasts!D40=$C$11,allGymnasts!W40,0)","v":""},{"$f":"IF(allGymnasts!D40=$C$12,allGymnasts!H40,0)","v":""},{"$f":"IF(allGymnasts!D40=$C$12,allGymnasts!M40,0)","v":""},{"$f":"IF(allGymnasts!D40=$C$12,allGymnasts!R40,0)","v":""},{"$f":"IF(allGymnasts!D40=$C$12,allGymnasts!W40,0)","v":""},{"$f":"IF(allGymnasts!D40=$C$13,allGymnasts!H40,0)","v":""},{"$f":"IF(allGymnasts!D40=$C$13,allGymnasts!M40,0)","v":""},{"$f":"IF(allGymnasts!D40=$C$13,allGymnasts!R40,0)","v":""},{"$f":"IF(allGymnasts!D40=$C$13,allGymnasts!W40,0)","v":""},{"$f":"IF(allGymnasts!D40=$C$14,allGymnasts!H40,0)","v":""},{"$f":"IF(allGymnasts!D40=$C$14,allGymnasts!M40,0)","v":""},{"$f":"IF(allGymnasts!D40=$C$14,allGymnasts!R40,0)","v":""},{"$f":"IF(allGymnasts!D40=$C$14,allGymnasts!W40,0)","v":""},{"$f":"IF(allGymnasts!D40=$C$15,allGymnasts!H40,0)","v":""},{"$f":"IF(allGymnasts!D40=$C$15,allGymnasts!M40,0)","v":""},{"$f":"IF(allGymnasts!D40=$C$15,allGymnasts!R40,0)","v":""},{"$f":"IF(allGymnasts!D40=$C$15,allGymnasts!W40,0)","v":""}]
[null,null,null,null,null,null,null,null,null,null,null,null,null,null,{"$f":"IF(allGymnasts!D41=$C$4,allGymnasts!H41,0)","v":""},{"$f":"IF(allGymnasts!D41=$C$4,allGymnasts!M41,0)","v":""},{"$f":"IF(allGymnasts!D41=$C$4,allGymnasts!R41,0)","v":""},{"$f":"IF(allGymnasts!D41=$C$4,allGymnasts!W41,0)","v":""},{"$f":"IF(allGymnasts!D41=$C$5,allGymnasts!H41,0)","v":""},{"$f":"IF(allGymnasts!D41=$C$5,allGymnasts!M41,0)","v":""},{"$f":"IF(allGymnasts!D41=$C$5,allGymnasts!R41,0)","v":""},{"$f":"IF(allGymnasts!D41=$C$5,allGymnasts!W41,0)","v":""},{"$f":"IF(allGymnasts!D41=$C$6,allGymnasts!H41,0)","v":""},{"$f":"IF(allGymnasts!D41=$C$6,allGymnasts!M41,0)","v":""},{"$f":"IF(allGymnasts!D41=$C$6,allGymnasts!R41,0)","v":""},{"$f":"IF(allGymnasts!D41=$C$6,allGymnasts!W41,0)","v":""},{"$f":"IF(allGymnasts!D41=$C$7,allGymnasts!H41,0)","v":""},{"$f":"IF(allGymnasts!D41=$C$7,allGymnasts!M41,0)","v":""},{"$f":"IF(allGymnasts!D41=$C$7,allGymnasts!R41,0)","v":""},{"$f":"IF(allGymnasts!D41=$C$7,allGymnasts!W41,0)","v":""},{"$f":"IF(allGymnasts!D41=$C$8,allGymnasts!H41,0)","v":""},{"$f":"IF(allGymnasts!D41=$C$8,allGymnasts!M41,0)","v":""},{"$f":"IF(allGymnasts!D41=$C$8,allGymnasts!R41,0)","v":""},{"$f":"IF(allGymnasts!D41=$C$8,allGymnasts!W41,0)","v":""},{"$f":"IF(allGymnasts!D41=$C$9,allGymnasts!H41,0)","v":""},{"$f":"IF(allGymnasts!D41=$C$9,allGymnasts!M41,0)","v":""},{"$f":"IF(allGymnasts!D41=$C$9,allGymnasts!R41,0)","v":""},{"$f":"IF(allGymnasts!D41=$C$9,allGymnasts!W41,0)","v":""},{"$f":"IF(allGymnasts!D41=$C$10,allGymnasts!H41,0)","v":""},{"$f":"IF(allGymnasts!D41=$C$10,allGymnasts!M41,0)","v":""},{"$f":"IF(allGymnasts!D41=$C$10,allGymnasts!R41,0)","v":""},{"$f":"IF(allGymnasts!D41=$C$10,allGymnasts!W41,0)","v":""},{"$f":"IF(allGymnasts!D41=$C$11,allGymnasts!H41,0)","v":""},{"$f":"IF(allGymnasts!D41=$C$11,allGymnasts!M41,0)","v":""},{"$f":"IF(allGymnasts!D41=$C$11,allGymnasts!R41,0)","v":""},{"$f":"IF(allGymnasts!D41=$C$11,allGymnasts!W41,0)","v":""},{"$f":"IF(allGymnasts!D41=$C$12,allGymnasts!H41,0)","v":""},{"$f":"IF(allGymnasts!D41=$C$12,allGymnasts!M41,0)","v":""},{"$f":"IF(allGymnasts!D41=$C$12,allGymnasts!R41,0)","v":""},{"$f":"IF(allGymnasts!D41=$C$12,allGymnasts!W41,0)","v":""},{"$f":"IF(allGymnasts!D41=$C$13,allGymnasts!H41,0)","v":""},{"$f":"IF(allGymnasts!D41=$C$13,allGymnasts!M41,0)","v":""},{"$f":"IF(allGymnasts!D41=$C$13,allGymnasts!R41,0)","v":""},{"$f":"IF(allGymnasts!D41=$C$13,allGymnasts!W41,0)","v":""},{"$f":"IF(allGymnasts!D41=$C$14,allGymnasts!H41,0)","v":""},{"$f":"IF(allGymnasts!D41=$C$14,allGymnasts!M41,0)","v":""},{"$f":"IF(allGymnasts!D41=$C$14,allGymnasts!R41,0)","v":""},{"$f":"IF(allGymnasts!D41=$C$14,allGymnasts!W41,0)","v":""},{"$f":"IF(allGymnasts!D41=$C$15,allGymnasts!H41,0)","v":""},{"$f":"IF(allGymnasts!D41=$C$15,allGymnasts!M41,0)","v":""},{"$f":"IF(allGymnasts!D41=$C$15,allGymnasts!R41,0)","v":""},{"$f":"IF(allGymnasts!D41=$C$15,allGymnasts!W41,0)","v":""}]
[null,null,null,null,null,null,null,null,null,null,null,null,null,null,{"$f":"IF(allGymnasts!D42=$C$4,allGymnasts!H42,0)","v":""},{"$f":"IF(allGymnasts!D42=$C$4,allGymnasts!M42,0)","v":""},{"$f":"IF(allGymnasts!D42=$C$4,allGymnasts!R42,0)","v":""},{"$f":"IF(allGymnasts!D42=$C$4,allGymnasts!W42,0)","v":""},{"$f":"IF(allGymnasts!D42=$C$5,allGymnasts!H42,0)","v":""},{"$f":"IF(allGymnasts!D42=$C$5,allGymnasts!M42,0)","v":""},{"$f":"IF(allGymnasts!D42=$C$5,allGymnasts!R42,0)","v":""},{"$f":"IF(allGymnasts!D42=$C$5,allGymnasts!W42,0)","v":""},{"$f":"IF(allGymnasts!D42=$C$6,allGymnasts!H42,0)","v":""},{"$f":"IF(allGymnasts!D42=$C$6,allGymnasts!M42,0)","v":""},{"$f":"IF(allGymnasts!D42=$C$6,allGymnasts!R42,0)","v":""},{"$f":"IF(allGymnasts!D42=$C$6,allGymnasts!W42,0)","v":""},{"$f":"IF(allGymnasts!D42=$C$7,allGymnasts!H42,0)","v":""},{"$f":"IF(allGymnasts!D42=$C$7,allGymnasts!M42,0)","v":""},{"$f":"IF(allGymnasts!D42=$C$7,allGymnasts!R42,0)","v":""},{"$f":"IF(allGymnasts!D42=$C$7,allGymnasts!W42,0)","v":""},{"$f":"IF(allGymnasts!D42=$C$8,allGymnasts!H42,0)","v":""},{"$f":"IF(allGymnasts!D42=$C$8,allGymnasts!M42,0)","v":""},{"$f":"IF(allGymnasts!D42=$C$8,allGymnasts!R42,0)","v":""},{"$f":"IF(allGymnasts!D42=$C$8,allGymnasts!W42,0)","v":""},{"$f":"IF(allGymnasts!D42=$C$9,allGymnasts!H42,0)","v":""},{"$f":"IF(allGymnasts!D42=$C$9,allGymnasts!M42,0)","v":""},{"$f":"IF(allGymnasts!D42=$C$9,allGymnasts!R42,0)","v":""},{"$f":"IF(allGymnasts!D42=$C$9,allGymnasts!W42,0)","v":""},{"$f":"IF(allGymnasts!D42=$C$10,allGymnasts!H42,0)","v":""},{"$f":"IF(allGymnasts!D42=$C$10,allGymnasts!M42,0)","v":""},{"$f":"IF(allGymnasts!D42=$C$10,allGymnasts!R42,0)","v":""},{"$f":"IF(allGymnasts!D42=$C$10,allGymnasts!W42,0)","v":""},{"$f":"IF(allGymnasts!D42=$C$11,allGymnasts!H42,0)","v":""},{"$f":"IF(allGymnasts!D42=$C$11,allGymnasts!M42,0)","v":""},{"$f":"IF(allGymnasts!D42=$C$11,allGymnasts!R42,0)","v":""},{"$f":"IF(allGymnasts!D42=$C$11,allGymnasts!W42,0)","v":""},{"$f":"IF(allGymnasts!D42=$C$12,allGymnasts!H42,0)","v":""},{"$f":"IF(allGymnasts!D42=$C$12,allGymnasts!M42,0)","v":""},{"$f":"IF(allGymnasts!D42=$C$12,allGymnasts!R42,0)","v":""},{"$f":"IF(allGymnasts!D42=$C$12,allGymnasts!W42,0)","v":""},{"$f":"IF(allGymnasts!D42=$C$13,allGymnasts!H42,0)","v":""},{"$f":"IF(allGymnasts!D42=$C$13,allGymnasts!M42,0)","v":""},{"$f":"IF(allGymnasts!D42=$C$13,allGymnasts!R42,0)","v":""},{"$f":"IF(allGymnasts!D42=$C$13,allGymnasts!W42,0)","v":""},{"$f":"IF(allGymnasts!D42=$C$14,allGymnasts!H42,0)","v":""},{"$f":"IF(allGymnasts!D42=$C$14,allGymnasts!M42,0)","v":""},{"$f":"IF(allGymnasts!D42=$C$14,allGymnasts!R42,0)","v":""},{"$f":"IF(allGymnasts!D42=$C$14,allGymnasts!W42,0)","v":""},{"$f":"IF(allGymnasts!D42=$C$15,allGymnasts!H42,0)","v":""},{"$f":"IF(allGymnasts!D42=$C$15,allGymnasts!M42,0)","v":""},{"$f":"IF(allGymnasts!D42=$C$15,allGymnasts!R42,0)","v":""},{"$f":"IF(allGymnasts!D42=$C$15,allGymnasts!W42,0)","v":""}]
[null,null,null,null,null,null,null,null,null,null,null,null,null,null,{"$f":"IF(allGymnasts!D43=$C$4,allGymnasts!H43,0)","v":""},{"$f":"IF(allGymnasts!D43=$C$4,allGymnasts!M43,0)","v":""},{"$f":"IF(allGymnasts!D43=$C$4,allGymnasts!R43,0)","v":""},{"$f":"IF(allGymnasts!D43=$C$4,allGymnasts!W43,0)","v":""},{"$f":"IF(allGymnasts!D43=$C$5,allGymnasts!H43,0)","v":""},{"$f":"IF(allGymnasts!D43=$C$5,allGymnasts!M43,0)","v":""},{"$f":"IF(allGymnasts!D43=$C$5,allGymnasts!R43,0)","v":""},{"$f":"IF(allGymnasts!D43=$C$5,allGymnasts!W43,0)","v":""},{"$f":"IF(allGymnasts!D43=$C$6,allGymnasts!H43,0)","v":""},{"$f":"IF(allGymnasts!D43=$C$6,allGymnasts!M43,0)","v":""},{"$f":"IF(allGymnasts!D43=$C$6,allGymnasts!R43,0)","v":""},{"$f":"IF(allGymnasts!D43=$C$6,allGymnasts!W43,0)","v":""},{"$f":"IF(allGymnasts!D43=$C$7,allGymnasts!H43,0)","v":""},{"$f":"IF(allGymnasts!D43=$C$7,allGymnasts!M43,0)","v":""},{"$f":"IF(allGymnasts!D43=$C$7,allGymnasts!R43,0)","v":""},{"$f":"IF(allGymnasts!D43=$C$7,allGymnasts!W43,0)","v":""},{"$f":"IF(allGymnasts!D43=$C$8,allGymnasts!H43,0)","v":""},{"$f":"IF(allGymnasts!D43=$C$8,allGymnasts!M43,0)","v":""},{"$f":"IF(allGymnasts!D43=$C$8,allGymnasts!R43,0)","v":""},{"$f":"IF(allGymnasts!D43=$C$8,allGymnasts!W43,0)","v":""},{"$f":"IF(allGymnasts!D43=$C$9,allGymnasts!H43,0)","v":""},{"$f":"IF(allGymnasts!D43=$C$9,allGymnasts!M43,0)","v":""},{"$f":"IF(allGymnasts!D43=$C$9,allGymnasts!R43,0)","v":""},{"$f":"IF(allGymnasts!D43=$C$9,allGymnasts!W43,0)","v":""},{"$f":"IF(allGymnasts!D43=$C$10,allGymnasts!H43,0)","v":""},{"$f":"IF(allGymnasts!D43=$C$10,allGymnasts!M43,0)","v":""},{"$f":"IF(allGymnasts!D43=$C$10,allGymnasts!R43,0)","v":""},{"$f":"IF(allGymnasts!D43=$C$10,allGymnasts!W43,0)","v":""},{"$f":"IF(allGymnasts!D43=$C$11,allGymnasts!H43,0)","v":""},{"$f":"IF(allGymnasts!D43=$C$11,allGymnasts!M43,0)","v":""},{"$f":"IF(allGymnasts!D43=$C$11,allGymnasts!R43,0)","v":""},{"$f":"IF(allGymnasts!D43=$C$11,allGymnasts!W43,0)","v":""},{"$f":"IF(allGymnasts!D43=$C$12,allGymnasts!H43,0)","v":""},{"$f":"IF(allGymnasts!D43=$C$12,allGymnasts!M43,0)","v":""},{"$f":"IF(allGymnasts!D43=$C$12,allGymnasts!R43,0)","v":""},{"$f":"IF(allGymnasts!D43=$C$12,allGymnasts!W43,0)","v":""},{"$f":"IF(allGymnasts!D43=$C$13,allGymnasts!H43,0)","v":""},{"$f":"IF(allGymnasts!D43=$C$13,allGymnasts!M43,0)","v":""},{"$f":"IF(allGymnasts!D43=$C$13,allGymnasts!R43,0)","v":""},{"$f":"IF(allGymnasts!D43=$C$13,allGymnasts!W43,0)","v":""},{"$f":"IF(allGymnasts!D43=$C$14,allGymnasts!H43,0)","v":""},{"$f":"IF(allGymnasts!D43=$C$14,allGymnasts!M43,0)","v":""},{"$f":"IF(allGymnasts!D43=$C$14,allGymnasts!R43,0)","v":""},{"$f":"IF(allGymnasts!D43=$C$14,allGymnasts!W43,0)","v":""},{"$f":"IF(allGymnasts!D43=$C$15,allGymnasts!H43,0)","v":""},{"$f":"IF(allGymnasts!D43=$C$15,allGymnasts!M43,0)","v":""},{"$f":"IF(allGymnasts!D43=$C$15,allGymnasts!R43,0)","v":""},{"$f":"IF(allGymnasts!D43=$C$15,allGymnasts!W43,0)","v":""}]
[null,null,null,null,null,null,null,null,null,null,null,null,null,null,{"$f":"IF(allGymnasts!D44=$C$4,allGymnasts!H44,0)","v":""},{"$f":"IF(allGymnasts!D44=$C$4,allGymnasts!M44,0)","v":""},{"$f":"IF(allGymnasts!D44=$C$4,allGymnasts!R44,0)","v":""},{"$f":"IF(allGymnasts!D44=$C$4,allGymnasts!W44,0)","v":""},{"$f":"IF(allGymnasts!D44=$C$5,allGymnasts!H44,0)","v":""},{"$f":"IF(allGymnasts!D44=$C$5,allGymnasts!M44,0)","v":""},{"$f":"IF(allGymnasts!D44=$C$5,allGymnasts!R44,0)","v":""},{"$f":"IF(allGymnasts!D44=$C$5,allGymnasts!W44,0)","v":""},{"$f":"IF(allGymnasts!D44=$C$6,allGymnasts!H44,0)","v":""},{"$f":"IF(allGymnasts!D44=$C$6,allGymnasts!M44,0)","v":""},{"$f":"IF(allGymnasts!D44=$C$6,allGymnasts!R44,0)","v":""},{"$f":"IF(allGymnasts!D44=$C$6,allGymnasts!W44,0)","v":""},{"$f":"IF(allGymnasts!D44=$C$7,allGymnasts!H44,0)","v":""},{"$f":"IF(allGymnasts!D44=$C$7,allGymnasts!M44,0)","v":""},{"$f":"IF(allGymnasts!D44=$C$7,allGymnasts!R44,0)","v":""},{"$f":"IF(allGymnasts!D44=$C$7,allGymnasts!W44,0)","v":""},{"$f":"IF(allGymnasts!D44=$C$8,allGymnasts!H44,0)","v":""},{"$f":"IF(allGymnasts!D44=$C$8,allGymnasts!M44,0)","v":""},{"$f":"IF(allGymnasts!D44=$C$8,allGymnasts!R44,0)","v":""},{"$f":"IF(allGymnasts!D44=$C$8,allGymnasts!W44,0)","v":""},{"$f":"IF(allGymnasts!D44=$C$9,allGymnasts!H44,0)","v":""},{"$f":"IF(allGymnasts!D44=$C$9,allGymnasts!M44,0)","v":""},{"$f":"IF(allGymnasts!D44=$C$9,allGymnasts!R44,0)","v":""},{"$f":"IF(allGymnasts!D44=$C$9,allGymnasts!W44,0)","v":""},{"$f":"IF(allGymnasts!D44=$C$10,allGymnasts!H44,0)","v":""},{"$f":"IF(allGymnasts!D44=$C$10,allGymnasts!M44,0)","v":""},{"$f":"IF(allGymnasts!D44=$C$10,allGymnasts!R44,0)","v":""},{"$f":"IF(allGymnasts!D44=$C$10,allGymnasts!W44,0)","v":""},{"$f":"IF(allGymnasts!D44=$C$11,allGymnasts!H44,0)","v":""},{"$f":"IF(allGymnasts!D44=$C$11,allGymnasts!M44,0)","v":""},{"$f":"IF(allGymnasts!D44=$C$11,allGymnasts!R44,0)","v":""},{"$f":"IF(allGymnasts!D44=$C$11,allGymnasts!W44,0)","v":""},{"$f":"IF(allGymnasts!D44=$C$12,allGymnasts!H44,0)","v":""},{"$f":"IF(allGymnasts!D44=$C$12,allGymnasts!M44,0)","v":""},{"$f":"IF(allGymnasts!D44=$C$12,allGymnasts!R44,0)","v":""},{"$f":"IF(allGymnasts!D44=$C$12,allGymnasts!W44,0)","v":""},{"$f":"IF(allGymnasts!D44=$C$13,allGymnasts!H44,0)","v":""},{"$f":"IF(allGymnasts!D44=$C$13,allGymnasts!M44,0)","v":""},{"$f":"IF(allGymnasts!D44=$C$13,allGymnasts!R44,0)","v":""},{"$f":"IF(allGymnasts!D44=$C$13,allGymnasts!W44,0)","v":""},{"$f":"IF(allGymnasts!D44=$C$14,allGymnasts!H44,0)","v":""},{"$f":"IF(allGymnasts!D44=$C$14,allGymnasts!M44,0)","v":""},{"$f":"IF(allGymnasts!D44=$C$14,allGymnasts!R44,0)","v":""},{"$f":"IF(allGymnasts!D44=$C$14,allGymnasts!W44,0)","v":""},{"$f":"IF(allGymnasts!D44=$C$15,allGymnasts!H44,0)","v":""},{"$f":"IF(allGymnasts!D44=$C$15,allGymnasts!M44,0)","v":""},{"$f":"IF(allGymnasts!D44=$C$15,allGymnasts!R44,0)","v":""},{"$f":"IF(allGymnasts!D44=$C$15,allGymnasts!W44,0)","v":""}]
[null,null,null,null,null,null,null,null,null,null,null,null,null,null,{"$f":"IF(allGymnasts!D45=$C$4,allGymnasts!H45,0)","v":""},{"$f":"IF(allGymnasts!D45=$C$4,allGymnasts!M45,0)","v":""},{"$f":"IF(allGymnasts!D45=$C$4,allGymnasts!R45,0)","v":""},{"$f":"IF(allGymnasts!D45=$C$4,allGymnasts!W45,0)","v":""},{"$f":"IF(allGymnasts!D45=$C$5,allGymnasts!H45,0)","v":""},{"$f":"IF(allGymnasts!D45=$C$5,allGymnasts!M45,0)","v":""},{"$f":"IF(allGymnasts!D45=$C$5,allGymnasts!R45,0)","v":""},{"$f":"IF(allGymnasts!D45=$C$5,allGymnasts!W45,0)","v":""},{"$f":"IF(allGymnasts!D45=$C$6,allGymnasts!H45,0)","v":""},{"$f":"IF(allGymnasts!D45=$C$6,allGymnasts!M45,0)","v":""},{"$f":"IF(allGymnasts!D45=$C$6,allGymnasts!R45,0)","v":""},{"$f":"IF(allGymnasts!D45=$C$6,allGymnasts!W45,0)","v":""},{"$f":"IF(allGymnasts!D45=$C$7,allGymnasts!H45,0)","v":""},{"$f":"IF(allGymnasts!D45=$C$7,allGymnasts!M45,0)","v":""},{"$f":"IF(allGymnasts!D45=$C$7,allGymnasts!R45,0)","v":""},{"$f":"IF(allGymnasts!D45=$C$7,allGymnasts!W45,0)","v":""},{"$f":"IF(allGymnasts!D45=$C$8,allGymnasts!H45,0)","v":""},{"$f":"IF(allGymnasts!D45=$C$8,allGymnasts!M45,0)","v":""},{"$f":"IF(allGymnasts!D45=$C$8,allGymnasts!R45,0)","v":""},{"$f":"IF(allGymnasts!D45=$C$8,allGymnasts!W45,0)","v":""},{"$f":"IF(allGymnasts!D45=$C$9,allGymnasts!H45,0)","v":""},{"$f":"IF(allGymnasts!D45=$C$9,allGymnasts!M45,0)","v":""},{"$f":"IF(allGymnasts!D45=$C$9,allGymnasts!R45,0)","v":""},{"$f":"IF(allGymnasts!D45=$C$9,allGymnasts!W45,0)","v":""},{"$f":"IF(allGymnasts!D45=$C$10,allGymnasts!H45,0)","v":""},{"$f":"IF(allGymnasts!D45=$C$10,allGymnasts!M45,0)","v":""},{"$f":"IF(allGymnasts!D45=$C$10,allGymnasts!R45,0)","v":""},{"$f":"IF(allGymnasts!D45=$C$10,allGymnasts!W45,0)","v":""},{"$f":"IF(allGymnasts!D45=$C$11,allGymnasts!H45,0)","v":""},{"$f":"IF(allGymnasts!D45=$C$11,allGymnasts!M45,0)","v":""},{"$f":"IF(allGymnasts!D45=$C$11,allGymnasts!R45,0)","v":""},{"$f":"IF(allGymnasts!D45=$C$11,allGymnasts!W45,0)","v":""},{"$f":"IF(allGymnasts!D45=$C$12,allGymnasts!H45,0)","v":""},{"$f":"IF(allGymnasts!D45=$C$12,allGymnasts!M45,0)","v":""},{"$f":"IF(allGymnasts!D45=$C$12,allGymnasts!R45,0)","v":""},{"$f":"IF(allGymnasts!D45=$C$12,allGymnasts!W45,0)","v":""},{"$f":"IF(allGymnasts!D45=$C$13,allGymnasts!H45,0)","v":""},{"$f":"IF(allGymnasts!D45=$C$13,allGymnasts!M45,0)","v":""},{"$f":"IF(allGymnasts!D45=$C$13,allGymnasts!R45,0)","v":""},{"$f":"IF(allGymnasts!D45=$C$13,allGymnasts!W45,0)","v":""},{"$f":"IF(allGymnasts!D45=$C$14,allGymnasts!H45,0)","v":""},{"$f":"IF(allGymnasts!D45=$C$14,allGymnasts!M45,0)","v":""},{"$f":"IF(allGymnasts!D45=$C$14,allGymnasts!R45,0)","v":""},{"$f":"IF(allGymnasts!D45=$C$14,allGymnasts!W45,0)","v":""},{"$f":"IF(allGymnasts!D45=$C$15,allGymnasts!H45,0)","v":""},{"$f":"IF(allGymnasts!D45=$C$15,allGymnasts!M45,0)","v":""},{"$f":"IF(allGymnasts!D45=$C$15,allGymnasts!R45,0)","v":""},{"$f":"IF(allGymnasts!D45=$C$15,allGymnasts!W45,0)","v":""}]
[null,null,null,null,null,null,null,null,null,null,null,null,null,null,{"$f":"IF(allGymnasts!D46=$C$4,allGymnasts!H46,0)","v":""},{"$f":"IF(allGymnasts!D46=$C$4,allGymnasts!M46,0)","v":""},{"$f":"IF(allGymnasts!D46=$C$4,allGymnasts!R46,0)","v":""},{"$f":"IF(allGymnasts!D46=$C$4,allGymnasts!W46,0)","v":""},{"$f":"IF(allGymnasts!D46=$C$5,allGymnasts!H46,0)","v":""},{"$f":"IF(allGymnasts!D46=$C$5,allGymnasts!M46,0)","v":""},{"$f":"IF(allGymnasts!D46=$C$5,allGymnasts!R46,0)","v":""},{"$f":"IF(allGymnasts!D46=$C$5,allGymnasts!W46,0)","v":""},{"$f":"IF(allGymnasts!D46=$C$6,allGymnasts!H46,0)","v":""},{"$f":"IF(allGymnasts!D46=$C$6,allGymnasts!M46,0)","v":""},{"$f":"IF(allGymnasts!D46=$C$6,allGymnasts!R46,0)","v":""},{"$f":"IF(allGymnasts!D46=$C$6,allGymnasts!W46,0)","v":""},{"$f":"IF(allGymnasts!D46=$C$7,allGymnasts!H46,0)","v":""},{"$f":"IF(allGymnasts!D46=$C$7,allGymnasts!M46,0)","v":""},{"$f":"IF(allGymnasts!D46=$C$7,allGymnasts!R46,0)","v":""},{"$f":"IF(allGymnasts!D46=$C$7,allGymnasts!W46,0)","v":""},{"$f":"IF(allGymnasts!D46=$C$8,allGymnasts!H46,0)","v":""},{"$f":"IF(allGymnasts!D46=$C$8,allGymnasts!M46,0)","v":""},{"$f":"IF(allGymnasts!D46=$C$8,allGymnasts!R46,0)","v":""},{"$f":"IF(allGymnasts!D46=$C$8,allGymnasts!W46,0)","v":""},{"$f":"IF(allGymnasts!D46=$C$9,allGymnasts!H46,0)","v":""},{"$f":"IF(allGymnasts!D46=$C$9,allGymnasts!M46,0)","v":""},{"$f":"IF(allGymnasts!D46=$C$9,allGymnasts!R46,0)","v":""},{"$f":"IF(allGymnasts!D46=$C$9,allGymnasts!W46,0)","v":""},{"$f":"IF(allGymnasts!D46=$C$10,allGymnasts!H46,0)","v":""},{"$f":"IF(allGymnasts!D46=$C$10,allGymnasts!M46,0)","v":""},{"$f":"IF(allGymnasts!D46=$C$10,allGymnasts!R46,0)","v":""},{"$f":"IF(allGymnasts!D46=$C$10,allGymnasts!W46,0)","v":""},{"$f":"IF(allGymnasts!D46=$C$11,allGymnasts!H46,0)","v":""},{"$f":"IF(allGymnasts!D46=$C$11,allGymnasts!M46,0)","v":""},{"$f":"IF(allGymnasts!D46=$C$11,allGymnasts!R46,0)","v":""},{"$f":"IF(allGymnasts!D46=$C$11,allGymnasts!W46,0)","v":""},{"$f":"IF(allGymnasts!D46=$C$12,allGymnasts!H46,0)","v":""},{"$f":"IF(allGymnasts!D46=$C$12,allGymnasts!M46,0)","v":""},{"$f":"IF(allGymnasts!D46=$C$12,allGymnasts!R46,0)","v":""},{"$f":"IF(allGymnasts!D46=$C$12,allGymnasts!W46,0)","v":""},{"$f":"IF(allGymnasts!D46=$C$13,allGymnasts!H46,0)","v":""},{"$f":"IF(allGymnasts!D46=$C$13,allGymnasts!M46,0)","v":""},{"$f":"IF(allGymnasts!D46=$C$13,allGymnasts!R46,0)","v":""},{"$f":"IF(allGymnasts!D46=$C$13,allGymnasts!W46,0)","v":""},{"$f":"IF(allGymnasts!D46=$C$14,allGymnasts!H46,0)","v":""},{"$f":"IF(allGymnasts!D46=$C$14,allGymnasts!M46,0)","v":""},{"$f":"IF(allGymnasts!D46=$C$14,allGymnasts!R46,0)","v":""},{"$f":"IF(allGymnasts!D46=$C$14,allGymnasts!W46,0)","v":""},{"$f":"IF(allGymnasts!D46=$C$15,allGymnasts!H46,0)","v":""},{"$f":"IF(allGymnasts!D46=$C$15,allGymnasts!M46,0)","v":""},{"$f":"IF(allGymnasts!D46=$C$15,allGymnasts!R46,0)","v":""},{"$f":"IF(allGymnasts!D46=$C$15,allGymnasts!W46,0)","v":""}]
[null,null,null,null,null,null,null,null,null,null,null,null,null,null,{"$f":"IF(allGymnasts!D47=$C$4,allGymnasts!H47,0)","v":""},{"$f":"IF(allGymnasts!D47=$C$4,allGymnasts!M47,0)","v":""},{"$f":"IF(allGymnasts!D47=$C$4,allGymnasts!R47,0)","v":""},{"$f":"IF(allGymnasts!D47=$C$4,allGymnasts!W47,0)","v":""},{"$f":"IF(allGymnasts!D47=$C$5,allGymnasts!H47,0)","v":""},{"$f":"IF(allGymnasts!D47=$C$5,allGymnasts!M47,0)","v":""},{"$f":"IF(allGymnasts!D47=$C$5,allGymnasts!R47,0)","v":""},{"$f":"IF(allGymnasts!D47=$C$5,allGymnasts!W47,0)","v":""},{"$f":"IF(allGymnasts!D47=$C$6,allGymnasts!H47,0)","v":""},{"$f":"IF(allGymnasts!D47=$C$6,allGymnasts!M47,0)","v":""},{"$f":"IF(allGymnasts!D47=$C$6,allGymnasts!R47,0)","v":""},{"$f":"IF(allGymnasts!D47=$C$6,allGymnasts!W47,0)","v":""},{"$f":"IF(allGymnasts!D47=$C$7,allGymnasts!H47,0)","v":""},{"$f":"IF(allGymnasts!D47=$C$7,allGymnasts!M47,0)","v":""},{"$f":"IF(allGymnasts!D47=$C$7,allGymnasts!R47,0)","v":""},{"$f":"IF(allGymnasts!D47=$C$7,allGymnasts!W47,0)","v":""},{"$f":"IF(allGymnasts!D47=$C$8,allGymnasts!H47,0)","v":""},{"$f":"IF(allGymnasts!D47=$C$8,allGymnasts!M47,0)","v":""},{"$f":"IF(allGymnasts!D47=$C$8,allGymnasts!R47,0)","v":""},{"$f":"IF(allGymnasts!D47=$C$8,allGymnasts!W47,0)","v":""},{"$f":"IF(allGymnasts!D47=$C$9,allGymnasts!H47,0)","v":""},{"$f":"IF(allGymnasts!D47=$C$9,allGymnasts!M47,0)","v":""},{"$f":"IF(allGymnasts!D47=$C$9,allGymnasts!R47,0)","v":""},{"$f":"IF(allGymnasts!D47=$C$9,allGymnasts!W47,0)","v":""},{"$f":"IF(allGymnasts!D47=$C$10,allGymnasts!H47,0)","v":""},{"$f":"IF(allGymnasts!D47=$C$10,allGymnasts!M47,0)","v":""},{"$f":"IF(allGymnasts!D47=$C$10,allGymnasts!R47,0)","v":""},{"$f":"IF(allGymnasts!D47=$C$10,allGymnasts!W47,0)","v":""},{"$f":"IF(allGymnasts!D47=$C$11,allGymnasts!H47,0)","v":""},{"$f":"IF(allGymnasts!D47=$C$11,allGymnasts!M47,0)","v":""},{"$f":"IF(allGymnasts!D47=$C$11,allGymnasts!R47,0)","v":""},{"$f":"IF(allGymnasts!D47=$C$11,allGymnasts!W47,0)","v":""},{"$f":"IF(allGymnasts!D47=$C$12,allGymnasts!H47,0)","v":""},{"$f":"IF(allGymnasts!D47=$C$12,allGymnasts!M47,0)","v":""},{"$f":"IF(allGymnasts!D47=$C$12,allGymnasts!R47,0)","v":""},{"$f":"IF(allGymnasts!D47=$C$12,allGymnasts!W47,0)","v":""},{"$f":"IF(allGymnasts!D47=$C$13,allGymnasts!H47,0)","v":""},{"$f":"IF(allGymnasts!D47=$C$13,allGymnasts!M47,0)","v":""},{"$f":"IF(allGymnasts!D47=$C$13,allGymnasts!R47,0)","v":""},{"$f":"IF(allGymnasts!D47=$C$13,allGymnasts!W47,0)","v":""},{"$f":"IF(allGymnasts!D47=$C$14,allGymnasts!H47,0)","v":""},{"$f":"IF(allGymnasts!D47=$C$14,allGymnasts!M47,0)","v":""},{"$f":"IF(allGymnasts!D47=$C$14,allGymnasts!R47,0)","v":""},{"$f":"IF(allGymnasts!D47=$C$14,allGymnasts!W47,0)","v":""},{"$f":"IF(allGymnasts!D47=$C$15,allGymnasts!H47,0)","v":""},{"$f":"IF(allGymnasts!D47=$C$15,allGymnasts!M47,0)","v":""},{"$f":"IF(allGymnasts!D47=$C$15,allGymnasts!R47,0)","v":""},{"$f":"IF(allGymnasts!D47=$C$15,allGymnasts!W47,0)","v":""}]
[null,null,null,null,null,null,null,null,null,null,null,null,null,null,{"$f":"IF(allGymnasts!D48=$C$4,allGymnasts!H48,0)","v":""},{"$f":"IF(allGymnasts!D48=$C$4,allGymnasts!M48,0)","v":""},{"$f":"IF(allGymnasts!D48=$C$4,allGymnasts!R48,0)","v":""},{"$f":"IF(allGymnasts!D48=$C$4,allGymnasts!W48,0)","v":""},{"$f":"IF(allGymnasts!D48=$C$5,allGymnasts!H48,0)","v":""},{"$f":"IF(allGymnasts!D48=$C$5,allGymnasts!M48,0)","v":""},{"$f":"IF(allGymnasts!D48=$C$5,allGymnasts!R48,0)","v":""},{"$f":"IF(allGymnasts!D48=$C$5,allGymnasts!W48,0)","v":""},{"$f":"IF(allGymnasts!D48=$C$6,allGymnasts!H48,0)","v":""},{"$f":"IF(allGymnasts!D48=$C$6,allGymnasts!M48,0)","v":""},{"$f":"IF(allGymnasts!D48=$C$6,allGymnasts!R48,0)","v":""},{"$f":"IF(allGymnasts!D48=$C$6,allGymnasts!W48,0)","v":""},{"$f":"IF(allGymnasts!D48=$C$7,allGymnasts!H48,0)","v":""},{"$f":"IF(allGymnasts!D48=$C$7,allGymnasts!M48,0)","v":""},{"$f":"IF(allGymnasts!D48=$C$7,allGymnasts!R48,0)","v":""},{"$f":"IF(allGymnasts!D48=$C$7,allGymnasts!W48,0)","v":""},{"$f":"IF(allGymnasts!D48=$C$8,allGymnasts!H48,0)","v":""},{"$f":"IF(allGymnasts!D48=$C$8,allGymnasts!M48,0)","v":""},{"$f":"IF(allGymnasts!D48=$C$8,allGymnasts!R48,0)","v":""},{"$f":"IF(allGymnasts!D48=$C$8,allGymnasts!W48,0)","v":""},{"$f":"IF(allGymnasts!D48=$C$9,allGymnasts!H48,0)","v":""},{"$f":"IF(allGymnasts!D48=$C$9,allGymnasts!M48,0)","v":""},{"$f":"IF(allGymnasts!D48=$C$9,allGymnasts!R48,0)","v":""},{"$f":"IF(allGymnasts!D48=$C$9,allGymnasts!W48,0)","v":""},{"$f":"IF(allGymnasts!D48=$C$10,allGymnasts!H48,0)","v":""},{"$f":"IF(allGymnasts!D48=$C$10,allGymnasts!M48,0)","v":""},{"$f":"IF(allGymnasts!D48=$C$10,allGymnasts!R48,0)","v":""},{"$f":"IF(allGymnasts!D48=$C$10,allGymnasts!W48,0)","v":""},{"$f":"IF(allGymnasts!D48=$C$11,allGymnasts!H48,0)","v":""},{"$f":"IF(allGymnasts!D48=$C$11,allGymnasts!M48,0)","v":""},{"$f":"IF(allGymnasts!D48=$C$11,allGymnasts!R48,0)","v":""},{"$f":"IF(allGymnasts!D48=$C$11,allGymnasts!W48,0)","v":""},{"$f":"IF(allGymnasts!D48=$C$12,allGymnasts!H48,0)","v":""},{"$f":"IF(allGymnasts!D48=$C$12,allGymnasts!M48,0)","v":""},{"$f":"IF(allGymnasts!D48=$C$12,allGymnasts!R48,0)","v":""},{"$f":"IF(allGymnasts!D48=$C$12,allGymnasts!W48,0)","v":""},{"$f":"IF(allGymnasts!D48=$C$13,allGymnasts!H48,0)","v":""},{"$f":"IF(allGymnasts!D48=$C$13,allGymnasts!M48,0)","v":""},{"$f":"IF(allGymnasts!D48=$C$13,allGymnasts!R48,0)","v":""},{"$f":"IF(allGymnasts!D48=$C$13,allGymnasts!W48,0)","v":""},{"$f":"IF(allGymnasts!D48=$C$14,allGymnasts!H48,0)","v":""},{"$f":"IF(allGymnasts!D48=$C$14,allGymnasts!M48,0)","v":""},{"$f":"IF(allGymnasts!D48=$C$14,allGymnasts!R48,0)","v":""},{"$f":"IF(allGymnasts!D48=$C$14,allGymnasts!W48,0)","v":""},{"$f":"IF(allGymnasts!D48=$C$15,allGymnasts!H48,0)","v":""},{"$f":"IF(allGymnasts!D48=$C$15,allGymnasts!M48,0)","v":""},{"$f":"IF(allGymnasts!D48=$C$15,allGymnasts!R48,0)","v":""},{"$f":"IF(allGymnasts!D48=$C$15,allGymnasts!W48,0)","v":""}]
[null,null,null,null,null,null,null,null,null,null,null,null,null,null,{"$f":"IF(allGymnasts!D49=$C$4,allGymnasts!H49,0)","v":""},{"$f":"IF(allGymnasts!D49=$C$4,allGymnasts!M49,0)","v":""},{"$f":"IF(allGymnasts!D49=$C$4,allGymnasts!R49,0)","v":""},{"$f":"IF(allGymnasts!D49=$C$4,allGymnasts!W49,0)","v":""},{"$f":"IF(allGymnasts!D49=$C$5,allGymnasts!H49,0)","v":""},{"$f":"IF(allGymnasts!D49=$C$5,allGymnasts!M49,0)","v":""},{"$f":"IF(allGymnasts!D49=$C$5,allGymnasts!R49,0)","v":""},{"$f":"IF(allGymnasts!D49=$C$5,allGymnasts!W49,0)","v":""},{"$f":"IF(allGymnasts!D49=$C$6,allGymnasts!H49,0)","v":""},{"$f":"IF(allGymnasts!D49=$C$6,allGymnasts!M49,0)","v":""},{"$f":"IF(allGymnasts!D49=$C$6,allGymnasts!R49,0)","v":""},{"$f":"IF(allGymnasts!D49=$C$6,allGymnasts!W49,0)","v":""},{"$f":"IF(allGymnasts!D49=$C$7,allGymnasts!H49,0)","v":""},{"$f":"IF(allGymnasts!D49=$C$7,allGymnasts!M49,0)","v":""},{"$f":"IF(allGymnasts!D49=$C$7,allGymnasts!R49,0)","v":""},{"$f":"IF(allGymnasts!D49=$C$7,allGymnasts!W49,0)","v":""},{"$f":"IF(allGymnasts!D49=$C$8,allGymnasts!H49,0)","v":""},{"$f":"IF(allGymnasts!D49=$C$8,allGymnasts!M49,0)","v":""},{"$f":"IF(allGymnasts!D49=$C$8,allGymnasts!R49,0)","v":""},{"$f":"IF(allGymnasts!D49=$C$8,allGymnasts!W49,0)","v":""},{"$f":"IF(allGymnasts!D49=$C$9,allGymnasts!H49,0)","v":""},{"$f":"IF(allGymnasts!D49=$C$9,allGymnasts!M49,0)","v":""},{"$f":"IF(allGymnasts!D49=$C$9,allGymnasts!R49,0)","v":""},{"$f":"IF(allGymnasts!D49=$C$9,allGymnasts!W49,0)","v":""},{"$f":"IF(allGymnasts!D49=$C$10,allGymnasts!H49,0)","v":""},{"$f":"IF(allGymnasts!D49=$C$10,allGymnasts!M49,0)","v":""},{"$f":"IF(allGymnasts!D49=$C$10,allGymnasts!R49,0)","v":""},{"$f":"IF(allGymnasts!D49=$C$10,allGymnasts!W49,0)","v":""},{"$f":"IF(allGymnasts!D49=$C$11,allGymnasts!H49,0)","v":""},{"$f":"IF(allGymnasts!D49=$C$11,allGymnasts!M49,0)","v":""},{"$f":"IF(allGymnasts!D49=$C$11,allGymnasts!R49,0)","v":""},{"$f":"IF(allGymnasts!D49=$C$11,allGymnasts!W49,0)","v":""},{"$f":"IF(allGymnasts!D49=$C$12,allGymnasts!H49,0)","v":""},{"$f":"IF(allGymnasts!D49=$C$12,allGymnasts!M49,0)","v":""},{"$f":"IF(allGymnasts!D49=$C$12,allGymnasts!R49,0)","v":""},{"$f":"IF(allGymnasts!D49=$C$12,allGymnasts!W49,0)","v":""},{"$f":"IF(allGymnasts!D49=$C$13,allGymnasts!H49,0)","v":""},{"$f":"IF(allGymnasts!D49=$C$13,allGymnasts!M49,0)","v":""},{"$f":"IF(allGymnasts!D49=$C$13,allGymnasts!R49,0)","v":""},{"$f":"IF(allGymnasts!D49=$C$13,allGymnasts!W49,0)","v":""},{"$f":"IF(allGymnasts!D49=$C$14,allGymnasts!H49,0)","v":""},{"$f":"IF(allGymnasts!D49=$C$14,allGymnasts!M49,0)","v":""},{"$f":"IF(allGymnasts!D49=$C$14,allGymnasts!R49,0)","v":""},{"$f":"IF(allGymnasts!D49=$C$14,allGymnasts!W49,0)","v":""},{"$f":"IF(allGymnasts!D49=$C$15,allGymnasts!H49,0)","v":""},{"$f":"IF(allGymnasts!D49=$C$15,allGymnasts!M49,0)","v":""},{"$f":"IF(allGymnasts!D49=$C$15,allGymnasts!R49,0)","v":""},{"$f":"IF(allGymnasts!D49=$C$15,allGymnasts!W49,0)","v":""}]
[null,null,null,null,null,null,null,null,null,null,null,null,null,null,{"$f":"IF(allGymnasts!D50=$C$4,allGymnasts!H50,0)","v":""},{"$f":"IF(allGymnasts!D50=$C$4,allGymnasts!M50,0)","v":""},{"$f":"IF(allGymnasts!D50=$C$4,allGymnasts!R50,0)","v":""},{"$f":"IF(allGymnasts!D50=$C$4,allGymnasts!W50,0)","v":""},{"$f":"IF(allGymnasts!D50=$C$5,allGymnasts!H50,0)","v":""},{"$f":"IF(allGymnasts!D50=$C$5,allGymnasts!M50,0)","v":""},{"$f":"IF(allGymnasts!D50=$C$5,allGymnasts!R50,0)","v":""},{"$f":"IF(allGymnasts!D50=$C$5,allGymnasts!W50,0)","v":""},{"$f":"IF(allGymnasts!D50=$C$6,allGymnasts!H50,0)","v":""},{"$f":"IF(allGymnasts!D50=$C$6,allGymnasts!M50,0)","v":""},{"$f":"IF(allGymnasts!D50=$C$6,allGymnasts!R50,0)","v":""},{"$f":"IF(allGymnasts!D50=$C$6,allGymnasts!W50,0)","v":""},{"$f":"IF(allGymnasts!D50=$C$7,allGymnasts!H50,0)","v":""},{"$f":"IF(allGymnasts!D50=$C$7,allGymnasts!M50,0)","v":""},{"$f":"IF(allGymnasts!D50=$C$7,allGymnasts!R50,0)","v":""},{"$f":"IF(allGymnasts!D50=$C$7,allGymnasts!W50,0)","v":""},{"$f":"IF(allGymnasts!D50=$C$8,allGymnasts!H50,0)","v":""},{"$f":"IF(allGymnasts!D50=$C$8,allGymnasts!M50,0)","v":""},{"$f":"IF(allGymnasts!D50=$C$8,allGymnasts!R50,0)","v":""},{"$f":"IF(allGymnasts!D50=$C$8,allGymnasts!W50,0)","v":""},{"$f":"IF(allGymnasts!D50=$C$9,allGymnasts!H50,0)","v":""},{"$f":"IF(allGymnasts!D50=$C$9,allGymnasts!M50,0)","v":""},{"$f":"IF(allGymnasts!D50=$C$9,allGymnasts!R50,0)","v":""},{"$f":"IF(allGymnasts!D50=$C$9,allGymnasts!W50,0)","v":""},{"$f":"IF(allGymnasts!D50=$C$10,allGymnasts!H50,0)","v":""},{"$f":"IF(allGymnasts!D50=$C$10,allGymnasts!M50,0)","v":""},{"$f":"IF(allGymnasts!D50=$C$10,allGymnasts!R50,0)","v":""},{"$f":"IF(allGymnasts!D50=$C$10,allGymnasts!W50,0)","v":""},{"$f":"IF(allGymnasts!D50=$C$11,allGymnasts!H50,0)","v":""},{"$f":"IF(allGymnasts!D50=$C$11,allGymnasts!M50,0)","v":""},{"$f":"IF(allGymnasts!D50=$C$11,allGymnasts!R50,0)","v":""},{"$f":"IF(allGymnasts!D50=$C$11,allGymnasts!W50,0)","v":""},{"$f":"IF(allGymnasts!D50=$C$12,allGymnasts!H50,0)","v":""},{"$f":"IF(allGymnasts!D50=$C$12,allGymnasts!M50,0)","v":""},{"$f":"IF(allGymnasts!D50=$C$12,allGymnasts!R50,0)","v":""},{"$f":"IF(allGymnasts!D50=$C$12,allGymnasts!W50,0)","v":""},{"$f":"IF(allGymnasts!D50=$C$13,allGymnasts!H50,0)","v":""},{"$f":"IF(allGymnasts!D50=$C$13,allGymnasts!M50,0)","v":""},{"$f":"IF(allGymnasts!D50=$C$13,allGymnasts!R50,0)","v":""},{"$f":"IF(allGymnasts!D50=$C$13,allGymnasts!W50,0)","v":""},{"$f":"IF(allGymnasts!D50=$C$14,allGymnasts!H50,0)","v":""},{"$f":"IF(allGymnasts!D50=$C$14,allGymnasts!M50,0)","v":""},{"$f":"IF(allGymnasts!D50=$C$14,allGymnasts!R50,0)","v":""},{"$f":"IF(allGymnasts!D50=$C$14,allGymnasts!W50,0)","v":""},{"$f":"IF(allGymnasts!D50=$C$15,allGymnasts!H50,0)","v":""},{"$f":"IF(allGymnasts!D50=$C$15,allGymnasts!M50,0)","v":""},{"$f":"IF(allGymnasts!D50=$C$15,allGymnasts!R50,0)","v":""},{"$f":"IF(allGymnasts!D50=$C$15,allGymnasts!W50,0)","v":""}]
[null,null,null,null,null,null,null,null,null,null,null,null,null,null,{"$f":"IF(allGymnasts!D51=$C$4,allGymnasts!H51,0)","v":""},{"$f":"IF(allGymnasts!D51=$C$4,allGymnasts!M51,0)","v":""},{"$f":"IF(allGymnasts!D51=$C$4,allGymnasts!R51,0)","v":""},{"$f":"IF(allGymnasts!D51=$C$4,allGymnasts!W51,0)","v":""},{"$f":"IF(allGymnasts!D51=$C$5,allGymnasts!H51,0)","v":""},{"$f":"IF(allGymnasts!D51=$C$5,allGymnasts!M51,0)","v":""},{"$f":"IF(allGymnasts!D51=$C$5,allGymnasts!R51,0)","v":""},{"$f":"IF(allGymnasts!D51=$C$5,allGymnasts!W51,0)","v":""},{"$f":"IF(allGymnasts!D51=$C$6,allGymnasts!H51,0)","v":""},{"$f":"IF(allGymnasts!D51=$C$6,allGymnasts!M51,0)","v":""},{"$f":"IF(allGymnasts!D51=$C$6,allGymnasts!R51,0)","v":""},{"$f":"IF(allGymnasts!D51=$C$6,allGymnasts!W51,0)","v":""},{"$f":"IF(allGymnasts!D51=$C$7,allGymnasts!H51,0)","v":""},{"$f":"IF(allGymnasts!D51=$C$7,allGymnasts!M51,0)","v":""},{"$f":"IF(allGymnasts!D51=$C$7,allGymnasts!R51,0)","v":""},{"$f":"IF(allGymnasts!D51=$C$7,allGymnasts!W51,0)","v":""},{"$f":"IF(allGymnasts!D51=$C$8,allGymnasts!H51,0)","v":""},{"$f":"IF(allGymnasts!D51=$C$8,allGymnasts!M51,0)","v":""},{"$f":"IF(allGymnasts!D51=$C$8,allGymnasts!R51,0)","v":""},{"$f":"IF(allGymnasts!D51=$C$8,allGymnasts!W51,0)","v":""},{"$f":"IF(allGymnasts!D51=$C$9,allGymnasts!H51,0)","v":""},{"$f":"IF(allGymnasts!D51=$C$9,allGymnasts!M51,0)","v":""},{"$f":"IF(allGymnasts!D51=$C$9,allGymnasts!R51,0)","v":""},{"$f":"IF(allGymnasts!D51=$C$9,allGymnasts!W51,0)","v":""},{"$f":"IF(allGymnasts!D51=$C$10,allGymnasts!H51,0)","v":""},{"$f":"IF(allGymnasts!D51=$C$10,allGymnasts!M51,0)","v":""},{"$f":"IF(allGymnasts!D51=$C$10,allGymnasts!R51,0)","v":""},{"$f":"IF(allGymnasts!D51=$C$10,allGymnasts!W51,0)","v":""},{"$f":"IF(allGymnasts!D51=$C$11,allGymnasts!H51,0)","v":""},{"$f":"IF(allGymnasts!D51=$C$11,allGymnasts!M51,0)","v":""},{"$f":"IF(allGymnasts!D51=$C$11,allGymnasts!R51,0)","v":""},{"$f":"IF(allGymnasts!D51=$C$11,allGymnasts!W51,0)","v":""},{"$f":"IF(allGymnasts!D51=$C$12,allGymnasts!H51,0)","v":""},{"$f":"IF(allGymnasts!D51=$C$12,allGymnasts!M51,0)","v":""},{"$f":"IF(allGymnasts!D51=$C$12,allGymnasts!R51,0)","v":""},{"$f":"IF(allGymnasts!D51=$C$12,allGymnasts!W51,0)","v":""},{"$f":"IF(allGymnasts!D51=$C$13,allGymnasts!H51,0)","v":""},{"$f":"IF(allGymnasts!D51=$C$13,allGymnasts!M51,0)","v":""},{"$f":"IF(allGymnasts!D51=$C$13,allGymnasts!R51,0)","v":""},{"$f":"IF(allGymnasts!D51=$C$13,allGymnasts!W51,0)","v":""},{"$f":"IF(allGymnasts!D51=$C$14,allGymnasts!H51,0)","v":""},{"$f":"IF(allGymnasts!D51=$C$14,allGymnasts!M51,0)","v":""},{"$f":"IF(allGymnasts!D51=$C$14,allGymnasts!R51,0)","v":""},{"$f":"IF(allGymnasts!D51=$C$14,allGymnasts!W51,0)","v":""},{"$f":"IF(allGymnasts!D51=$C$15,allGymnasts!H51,0)","v":""},{"$f":"IF(allGymnasts!D51=$C$15,allGymnasts!M51,0)","v":""},{"$f":"IF(allGymnasts!D51=$C$15,allGymnasts!R51,0)","v":""},{"$f":"IF(allGymnasts!D51=$C$15,allGymnasts!W51,0)","v":""}]
[null,null,null,null,null,null,null,null,null,null,null,null,null,null,{"$f":"IF(allGymnasts!D52=$C$4,allGymnasts!H52,0)","v":""},{"$f":"IF(allGymnasts!D52=$C$4,allGymnasts!M52,0)","v":""},{"$f":"IF(allGymnasts!D52=$C$4,allGymnasts!R52,0)","v":""},{"$f":"IF(allGymnasts!D52=$C$4,allGymnasts!W52,0)","v":""},{"$f":"IF(allGymnasts!D52=$C$5,allGymnasts!H52,0)","v":""},{"$f":"IF(allGymnasts!D52=$C$5,allGymnasts!M52,0)","v":""},{"$f":"IF(allGymnasts!D52=$C$5,allGymnasts!R52,0)","v":""},{"$f":"IF(allGymnasts!D52=$C$5,allGymnasts!W52,0)","v":""},{"$f":"IF(allGymnasts!D52=$C$6,allGymnasts!H52,0)","v":""},{"$f":"IF(allGymnasts!D52=$C$6,allGymnasts!M52,0)","v":""},{"$f":"IF(allGymnasts!D52=$C$6,allGymnasts!R52,0)","v":""},{"$f":"IF(allGymnasts!D52=$C$6,allGymnasts!W52,0)","v":""},{"$f":"IF(allGymnasts!D52=$C$7,allGymnasts!H52,0)","v":""},{"$f":"IF(allGymnasts!D52=$C$7,allGymnasts!M52,0)","v":""},{"$f":"IF(allGymnasts!D52=$C$7,allGymnasts!R52,0)","v":""},{"$f":"IF(allGymnasts!D52=$C$7,allGymnasts!W52,0)","v":""},{"$f":"IF(allGymnasts!D52=$C$8,allGymnasts!H52,0)","v":""},{"$f":"IF(allGymnasts!D52=$C$8,allGymnasts!M52,0)","v":""},{"$f":"IF(allGymnasts!D52=$C$8,allGymnasts!R52,0)","v":""},{"$f":"IF(allGymnasts!D52=$C$8,allGymnasts!W52,0)","v":""},{"$f":"IF(allGymnasts!D52=$C$9,allGymnasts!H52,0)","v":""},{"$f":"IF(allGymnasts!D52=$C$9,allGymnasts!M52,0)","v":""},{"$f":"IF(allGymnasts!D52=$C$9,allGymnasts!R52,0)","v":""},{"$f":"IF(allGymnasts!D52=$C$9,allGymnasts!W52,0)","v":""},{"$f":"IF(allGymnasts!D52=$C$10,allGymnasts!H52,0)","v":""},{"$f":"IF(allGymnasts!D52=$C$10,allGymnasts!M52,0)","v":""},{"$f":"IF(allGymnasts!D52=$C$10,allGymnasts!R52,0)","v":""},{"$f":"IF(allGymnasts!D52=$C$10,allGymnasts!W52,0)","v":""},{"$f":"IF(allGymnasts!D52=$C$11,allGymnasts!H52,0)","v":""},{"$f":"IF(allGymnasts!D52=$C$11,allGymnasts!M52,0)","v":""},{"$f":"IF(allGymnasts!D52=$C$11,allGymnasts!R52,0)","v":""},{"$f":"IF(allGymnasts!D52=$C$11,allGymnasts!W52,0)","v":""},{"$f":"IF(allGymnasts!D52=$C$12,allGymnasts!H52,0)","v":""},{"$f":"IF(allGymnasts!D52=$C$12,allGymnasts!M52,0)","v":""},{"$f":"IF(allGymnasts!D52=$C$12,allGymnasts!R52,0)","v":""},{"$f":"IF(allGymnasts!D52=$C$12,allGymnasts!W52,0)","v":""},{"$f":"IF(allGymnasts!D52=$C$13,allGymnasts!H52,0)","v":""},{"$f":"IF(allGymnasts!D52=$C$13,allGymnasts!M52,0)","v":""},{"$f":"IF(allGymnasts!D52=$C$13,allGymnasts!R52,0)","v":""},{"$f":"IF(allGymnasts!D52=$C$13,allGymnasts!W52,0)","v":""},{"$f":"IF(allGymnasts!D52=$C$14,allGymnasts!H52,0)","v":""},{"$f":"IF(allGymnasts!D52=$C$14,allGymnasts!M52,0)","v":""},{"$f":"IF(allGymnasts!D52=$C$14,allGymnasts!R52,0)","v":""},{"$f":"IF(allGymnasts!D52=$C$14,allGymnasts!W52,0)","v":""},{"$f":"IF(allGymnasts!D52=$C$15,allGymnasts!H52,0)","v":""},{"$f":"IF(allGymnasts!D52=$C$15,allGymnasts!M52,0)","v":""},{"$f":"IF(allGymnasts!D52=$C$15,allGymnasts!R52,0)","v":""},{"$f":"IF(allGymnasts!D52=$C$15,allGymnasts!W52,0)","v":""}]
[null,null,null,null,null,null,null,null,null,null,null,null,null,null,{"$f":"IF(allGymnasts!D53=$C$4,allGymnasts!H53,0)","v":""},{"$f":"IF(allGymnasts!D53=$C$4,allGymnasts!M53,0)","v":""},{"$f":"IF(allGymnasts!D53=$C$4,allGymnasts!R53,0)","v":""},{"$f":"IF(allGymnasts!D53=$C$4,allGymnasts!W53,0)","v":""},{"$f":"IF(allGymnasts!D53=$C$5,allGymnasts!H53,0)","v":""},{"$f":"IF(allGymnasts!D53=$C$5,allGymnasts!M53,0)","v":""},{"$f":"IF(allGymnasts!D53=$C$5,allGymnasts!R53,0)","v":""},{"$f":"IF(allGymnasts!D53=$C$5,allGymnasts!W53,0)","v":""},{"$f":"IF(allGymnasts!D53=$C$6,allGymnasts!H53,0)","v":""},{"$f":"IF(allGymnasts!D53=$C$6,allGymnasts!M53,0)","v":""},{"$f":"IF(allGymnasts!D53=$C$6,allGymnasts!R53,0)","v":""},{"$f":"IF(allGymnasts!D53=$C$6,allGymnasts!W53,0)","v":""},{"$f":"IF(allGymnasts!D53=$C$7,allGymnasts!H53,0)","v":""},{"$f":"IF(allGymnasts!D53=$C$7,allGymnasts!M53,0)","v":""},{"$f":"IF(allGymnasts!D53=$C$7,allGymnasts!R53,0)","v":""},{"$f":"IF(allGymnasts!D53=$C$7,allGymnasts!W53,0)","v":""},{"$f":"IF(allGymnasts!D53=$C$8,allGymnasts!H53,0)","v":""},{"$f":"IF(allGymnasts!D53=$C$8,allGymnasts!M53,0)","v":""},{"$f":"IF(allGymnasts!D53=$C$8,allGymnasts!R53,0)","v":""},{"$f":"IF(allGymnasts!D53=$C$8,allGymnasts!W53,0)","v":""},{"$f":"IF(allGymnasts!D53=$C$9,allGymnasts!H53,0)","v":""},{"$f":"IF(allGymnasts!D53=$C$9,allGymnasts!M53,0)","v":""},{"$f":"IF(allGymnasts!D53=$C$9,allGymnasts!R53,0)","v":""},{"$f":"IF(allGymnasts!D53=$C$9,allGymnasts!W53,0)","v":""},{"$f":"IF(allGymnasts!D53=$C$10,allGymnasts!H53,0)","v":""},{"$f":"IF(allGymnasts!D53=$C$10,allGymnasts!M53,0)","v":""},{"$f":"IF(allGymnasts!D53=$C$10,allGymnasts!R53,0)","v":""},{"$f":"IF(allGymnasts!D53=$C$10,allGymnasts!W53,0)","v":""},{"$f":"IF(allGymnasts!D53=$C$11,allGymnasts!H53,0)","v":""},{"$f":"IF(allGymnasts!D53=$C$11,allGymnasts!M53,0)","v":""},{"$f":"IF(allGymnasts!D53=$C$11,allGymnasts!R53,0)","v":""},{"$f":"IF(allGymnasts!D53=$C$11,allGymnasts!W53,0)","v":""},{"$f":"IF(allGymnasts!D53=$C$12,allGymnasts!H53,0)","v":""},{"$f":"IF(allGymnasts!D53=$C$12,allGymnasts!M53,0)","v":""},{"$f":"IF(allGymnasts!D53=$C$12,allGymnasts!R53,0)","v":""},{"$f":"IF(allGymnasts!D53=$C$12,allGymnasts!W53,0)","v":""},{"$f":"IF(allGymnasts!D53=$C$13,allGymnasts!H53,0)","v":""},{"$f":"IF(allGymnasts!D53=$C$13,allGymnasts!M53,0)","v":""},{"$f":"IF(allGymnasts!D53=$C$13,allGymnasts!R53,0)","v":""},{"$f":"IF(allGymnasts!D53=$C$13,allGymnasts!W53,0)","v":""},{"$f":"IF(allGymnasts!D53=$C$14,allGymnasts!H53,0)","v":""},{"$f":"IF(allGymnasts!D53=$C$14,allGymnasts!M53,0)","v":""},{"$f":"IF(allGymnasts!D53=$C$14,allGymnasts!R53,0)","v":""},{"$f":"IF(allGymnasts!D53=$C$14,allGymnasts!W53,0)","v":""},{"$f":"IF(allGymnasts!D53=$C$15,allGymnasts!H53,0)","v":""},{"$f":"IF(allGymnasts!D53=$C$15,allGymnasts!M53,0)","v":""},{"$f":"IF(allGymnasts!D53=$C$15,allGymnasts!R53,0)","v":""},{"$f":"IF(allGymnasts!D53=$C$15,allGymnasts!W53,0)","v":""}]
[null,null,null,null,null,null,null,null,null,null,null,null,null,null,{"$f":"IF(allGymnasts!D54=$C$4,allGymnasts!H54,0)","v":""},{"$f":"IF(allGymnasts!D54=$C$4,allGymnasts!M54,0)","v":""},{"$f":"IF(allGymnasts!D54=$C$4,allGymnasts!R54,0)","v":""},{"$f":"IF(allGymnasts!D54=$C$4,allGymnasts!W54,0)","v":""},{"$f":"IF(allGymnasts!D54=$C$5,allGymnasts!H54,0)","v":""},{"$f":"IF(allGymnasts!D54=$C$5,allGymnasts!M54,0)","v":""},{"$f":"IF(allGymnasts!D54=$C$5,allGymnasts!R54,0)","v":""},{"$f":"IF(allGymnasts!D54=$C$5,allGymnasts!W54,0)","v":""},{"$f":"IF(allGymnasts!D54=$C$6,allGymnasts!H54,0)","v":""},{"$f":"IF(allGymnasts!D54=$C$6,allGymnasts!M54,0)","v":""},{"$f":"IF(allGymnasts!D54=$C$6,allGymnasts!R54,0)","v":""},{"$f":"IF(allGymnasts!D54=$C$6,allGymnasts!W54,0)","v":""},{"$f":"IF(allGymnasts!D54=$C$7,allGymnasts!H54,0)","v":""},{"$f":"IF(allGymnasts!D54=$C$7,allGymnasts!M54,0)","v":""},{"$f":"IF(allGymnasts!D54=$C$7,allGymnasts!R54,0)","v":""},{"$f":"IF(allGymnasts!D54=$C$7,allGymnasts!W54,0)","v":""},{"$f":"IF(allGymnasts!D54=$C$8,allGymnasts!H54,0)","v":""},{"$f":"IF(allGymnasts!D54=$C$8,allGymnasts!M54,0)","v":""},{"$f":"IF(allGymnasts!D54=$C$8,allGymnasts!R54,0)","v":""},{"$f":"IF(allGymnasts!D54=$C$8,allGymnasts!W54,0)","v":""},{"$f":"IF(allGymnasts!D54=$C$9,allGymnasts!H54,0)","v":""},{"$f":"IF(allGymnasts!D54=$C$9,allGymnasts!M54,0)","v":""},{"$f":"IF(allGymnasts!D54=$C$9,allGymnasts!R54,0)","v":""},{"$f":"IF(allGymnasts!D54=$C$9,allGymnasts!W54,0)","v":""},{"$f":"IF(allGymnasts!D54=$C$10,allGymnasts!H54,0)","v":""},{"$f":"IF(allGymnasts!D54=$C$10,allGymnasts!M54,0)","v":""},{"$f":"IF(allGymnasts!D54=$C$10,allGymnasts!R54,0)","v":""},{"$f":"IF(allGymnasts!D54=$C$10,allGymnasts!W54,0)","v":""},{"$f":"IF(allGymnasts!D54=$C$11,allGymnasts!H54,0)","v":""},{"$f":"IF(allGymnasts!D54=$C$11,allGymnasts!M54,0)","v":""},{"$f":"IF(allGymnasts!D54=$C$11,allGymnasts!R54,0)","v":""},{"$f":"IF(allGymnasts!D54=$C$11,allGymnasts!W54,0)","v":""},{"$f":"IF(allGymnasts!D54=$C$12,allGymnasts!H54,0)","v":""},{"$f":"IF(allGymnasts!D54=$C$12,allGymnasts!M54,0)","v":""},{"$f":"IF(allGymnasts!D54=$C$12,allGymnasts!R54,0)","v":""},{"$f":"IF(allGymnasts!D54=$C$12,allGymnasts!W54,0)","v":""},{"$f":"IF(allGymnasts!D54=$C$13,allGymnasts!H54,0)","v":""},{"$f":"IF(allGymnasts!D54=$C$13,allGymnasts!M54,0)","v":""},{"$f":"IF(allGymnasts!D54=$C$13,allGymnasts!R54,0)","v":""},{"$f":"IF(allGymnasts!D54=$C$13,allGymnasts!W54,0)","v":""},{"$f":"IF(allGymnasts!D54=$C$14,allGymnasts!H54,0)","v":""},{"$f":"IF(allGymnasts!D54=$C$14,allGymnasts!M54,0)","v":""},{"$f":"IF(allGymnasts!D54=$C$14,allGymnasts!R54,0)","v":""},{"$f":"IF(allGymnasts!D54=$C$14,allGymnasts!W54,0)","v":""},{"$f":"IF(allGymnasts!D54=$C$15,allGymnasts!H54,0)","v":""},{"$f":"IF(allGymnasts!D54=$C$15,allGymnasts!M54,0)","v":""},{"$f":"IF(allGymnasts!D54=$C$15,allGymnasts!R54,0)","v":""},{"$f":"IF(allGymnasts!D54=$C$15,allGymnasts!W54,0)","v":""}]
[null,null,null,null,null,null,null,null,null,null,null,null,null,null,{"$f":"IF(allGymnasts!D55=$C$4,allGymnasts!H55,0)","v":""},{"$f":"IF(allGymnasts!D55=$C$4,allGymnasts!M55,0)","v":""},{"$f":"IF(allGymnasts!D55=$C$4,allGymnasts!R55,0)","v":""},{"$f":"IF(allGymnasts!D55=$C$4,allGymnasts!W55,0)","v":""},{"$f":"IF(allGymnasts!D55=$C$5,allGymnasts!H55,0)","v":""},{"$f":"IF(allGymnasts!D55=$C$5,allGymnasts!M55,0)","v":""},{"$f":"IF(allGymnasts!D55=$C$5,allGymnasts!R55,0)","v":""},{"$f":"IF(allGymnasts!D55=$C$5,allGymnasts!W55,0)","v":""},{"$f":"IF(allGymnasts!D55=$C$6,allGymnasts!H55,0)","v":""},{"$f":"IF(allGymnasts!D55=$C$6,allGymnasts!M55,0)","v":""},{"$f":"IF(allGymnasts!D55=$C$6,allGymnasts!R55,0)","v":""},{"$f":"IF(allGymnasts!D55=$C$6,allGymnasts!W55,0)","v":""},{"$f":"IF(allGymnasts!D55=$C$7,allGymnasts!H55,0)","v":""},{"$f":"IF(allGymnasts!D55=$C$7,allGymnasts!M55,0)","v":""},{"$f":"IF(allGymnasts!D55=$C$7,allGymnasts!R55,0)","v":""},{"$f":"IF(allGymnasts!D55=$C$7,allGymnasts!W55,0)","v":""},{"$f":"IF(allGymnasts!D55=$C$8,allGymnasts!H55,0)","v":""},{"$f":"IF(allGymnasts!D55=$C$8,allGymnasts!M55,0)","v":""},{"$f":"IF(allGymnasts!D55=$C$8,allGymnasts!R55,0)","v":""},{"$f":"IF(allGymnasts!D55=$C$8,allGymnasts!W55,0)","v":""},{"$f":"IF(allGymnasts!D55=$C$9,allGymnasts!H55,0)","v":""},{"$f":"IF(allGymnasts!D55=$C$9,allGymnasts!M55,0)","v":""},{"$f":"IF(allGymnasts!D55=$C$9,allGymnasts!R55,0)","v":""},{"$f":"IF(allGymnasts!D55=$C$9,allGymnasts!W55,0)","v":""},{"$f":"IF(allGymnasts!D55=$C$10,allGymnasts!H55,0)","v":""},{"$f":"IF(allGymnasts!D55=$C$10,allGymnasts!M55,0)","v":""},{"$f":"IF(allGymnasts!D55=$C$10,allGymnasts!R55,0)","v":""},{"$f":"IF(allGymnasts!D55=$C$10,allGymnasts!W55,0)","v":""},{"$f":"IF(allGymnasts!D55=$C$11,allGymnasts!H55,0)","v":""},{"$f":"IF(allGymnasts!D55=$C$11,allGymnasts!M55,0)","v":""},{"$f":"IF(allGymnasts!D55=$C$11,allGymnasts!R55,0)","v":""},{"$f":"IF(allGymnasts!D55=$C$11,allGymnasts!W55,0)","v":""},{"$f":"IF(allGymnasts!D55=$C$12,allGymnasts!H55,0)","v":""},{"$f":"IF(allGymnasts!D55=$C$12,allGymnasts!M55,0)","v":""},{"$f":"IF(allGymnasts!D55=$C$12,allGymnasts!R55,0)","v":""},{"$f":"IF(allGymnasts!D55=$C$12,allGymnasts!W55,0)","v":""},{"$f":"IF(allGymnasts!D55=$C$13,allGymnasts!H55,0)","v":""},{"$f":"IF(allGymnasts!D55=$C$13,allGymnasts!M55,0)","v":""},{"$f":"IF(allGymnasts!D55=$C$13,allGymnasts!R55,0)","v":""},{"$f":"IF(allGymnasts!D55=$C$13,allGymnasts!W55,0)","v":""},{"$f":"IF(allGymnasts!D55=$C$14,allGymnasts!H55,0)","v":""},{"$f":"IF(allGymnasts!D55=$C$14,allGymnasts!M55,0)","v":""},{"$f":"IF(allGymnasts!D55=$C$14,allGymnasts!R55,0)","v":""},{"$f":"IF(allGymnasts!D55=$C$14,allGymnasts!W55,0)","v":""},{"$f":"IF(allGymnasts!D55=$C$15,allGymnasts!H55,0)","v":""},{"$f":"IF(allGymnasts!D55=$C$15,allGymnasts!M55,0)","v":""},{"$f":"IF(allGymnasts!D55=$C$15,allGymnasts!R55,0)","v":""},{"$f":"IF(allGymnasts!D55=$C$15,allGymnasts!W55,0)","v":""}]
[null,null,null,null,null,null,null,null,null,null,null,null,null,null,{"$f":"IF(allGymnasts!D56=$C$4,allGymnasts!H56,0)","v":""},{"$f":"IF(allGymnasts!D56=$C$4,allGymnasts!M56,0)","v":""},{"$f":"IF(allGymnasts!D56=$C$4,allGymnasts!R56,0)","v":""},{"$f":"IF(allGymnasts!D56=$C$4,allGymnasts!W56,0)","v":""},{"$f":"IF(allGymnasts!D56=$C$5,allGymnasts!H56,0)","v":""},{"$f":"IF(allGymnasts!D56=$C$5,allGymnasts!M56,0)","v":""},{"$f":"IF(allGymnasts!D56=$C$5,allGymnasts!R56,0)","v":""},{"$f":"IF(allGymnasts!D56=$C$5,allGymnasts!W56,0)","v":""},{"$f":"IF(allGymnasts!D56=$C$6,allGymnasts!H56,0)","v":""},{"$f":"IF(allGymnasts!D56=$C$6,allGymnasts!M56,0)","v":""},{"$f":"IF(allGymnasts!D56=$C$6,allGymnasts!R56,0)","v":""},{"$f":"IF(allGymnasts!D56=$C$6,allGymnasts!W56,0)","v":""},{"$f":"IF(allGymnasts!D56=$C$7,allGymnasts!H56,0)","v":""},{"$f":"IF(allGymnasts!D56=$C$7,allGymnasts!M56,0)","v":""},{"$f":"IF(allGymnasts!D56=$C$7,allGymnasts!R56,0)","v":""},{"$f":"IF(allGymnasts!D56=$C$7,allGymnasts!W56,0)","v":""},{"$f":"IF(allGymnasts!D56=$C$8,allGymnasts!H56,0)","v":""},{"$f":"IF(allGymnasts!D56=$C$8,allGymnasts!M56,0)","v":""},{"$f":"IF(allGymnasts!D56=$C$8,allGymnasts!R56,0)","v":""},{"$f":"IF(allGymnasts!D56=$C$8,allGymnasts!W56,0)","v":""},{"$f":"IF(allGymnasts!D56=$C$9,allGymnasts!H56,0)","v":""},{"$f":"IF(allGymnasts!D56=$C$9,allGymnasts!M56,0)","v":""},{"$f":"IF(allGymnasts!D56=$C$9,allGymnasts!R56,0)","v":""},{"$f":"IF(allGymnasts!D56=$C$9,allGymnasts!W56,0)","v":""},{"$f":"IF(allGymnasts!D56=$C$10,allGymnasts!H56,0)","v":""},{"$f":"IF(allGymnasts!D56=$C$10,allGymnasts!M56,0)","v":""},{"$f":"IF(allGymnasts!D56=$C$10,allGymnasts!R56,0)","v":""},{"$f":"IF(allGymnasts!D56=$C$10,allGymnasts!W56,0)","v":""},{"$f":"IF(allGymnasts!D56=$C$11,allGymnasts!H56,0)","v":""},{"$f":"IF(allGymnasts!D56=$C$11,allGymnasts!M56,0)","v":""},{"$f":"IF(allGymnasts!D56=$C$11,allGymnasts!R56,0)","v":""},{"$f":"IF(allGymnasts!D56=$C$11,allGymnasts!W56,0)","v":""},{"$f":"IF(allGymnasts!D56=$C$12,allGymnasts!H56,0)","v":""},{"$f":"IF(allGymnasts!D56=$C$12,allGymnasts!M56,0)","v":""},{"$f":"IF(allGymnasts!D56=$C$12,allGymnasts!R56,0)","v":""},{"$f":"IF(allGymnasts!D56=$C$12,allGymnasts!W56,0)","v":""},{"$f":"IF(allGymnasts!D56=$C$13,allGymnasts!H56,0)","v":""},{"$f":"IF(allGymnasts!D56=$C$13,allGymnasts!M56,0)","v":""},{"$f":"IF(allGymnasts!D56=$C$13,allGymnasts!R56,0)","v":""},{"$f":"IF(allGymnasts!D56=$C$13,allGymnasts!W56,0)","v":""},{"$f":"IF(allGymnasts!D56=$C$14,allGymnasts!H56,0)","v":""},{"$f":"IF(allGymnasts!D56=$C$14,allGymnasts!M56,0)","v":""},{"$f":"IF(allGymnasts!D56=$C$14,allGymnasts!R56,0)","v":""},{"$f":"IF(allGymnasts!D56=$C$14,allGymnasts!W56,0)","v":""},{"$f":"IF(allGymnasts!D56=$C$15,allGymnasts!H56,0)","v":""},{"$f":"IF(allGymnasts!D56=$C$15,allGymnasts!M56,0)","v":""},{"$f":"IF(allGymnasts!D56=$C$15,allGymnasts!R56,0)","v":""},{"$f":"IF(allGymnasts!D56=$C$15,allGymnasts!W56,0)","v":""}]
[null,null,null,null,null,null,null,null,null,null,null,null,null,null,{"$f":"IF(allGymnasts!D57=$C$4,allGymnasts!H57,0)","v":""},{"$f":"IF(allGymnasts!D57=$C$4,allGymnasts!M57,0)","v":""},{"$f":"IF(allGymnasts!D57=$C$4,allGymnasts!R57,0)","v":""},{"$f":"IF(allGymnasts!D57=$C$4,allGymnasts!W57,0)","v":""},{"$f":"IF(allGymnasts!D57=$C$5,allGymnasts!H57,0)","v":""},{"$f":"IF(allGymnasts!D57=$C$5,allGymnasts!M57,0)","v":""},{"$f":"IF(allGymnasts!D57=$C$5,allGymnasts!R57,0)","v":""},{"$f":"IF(allGymnasts!D57=$C$5,allGymnasts!W57,0)","v":""},{"$f":"IF(allGymnasts!D57=$C$6,allGymnasts!H57,0)","v":""},{"$f":"IF(allGymnasts!D57=$C$6,allGymnasts!M57,0)","v":""},{"$f":"IF(allGymnasts!D57=$C$6,allGymnasts!R57,0)","v":""},{"$f":"IF(allGymnasts!D57=$C$6,allGymnasts!W57,0)","v":""},{"$f":"IF(allGymnasts!D57=$C$7,allGymnasts!H57,0)","v":""},{"$f":"IF(allGymnasts!D57=$C$7,allGymnasts!M57,0)","v":""},{"$f":"IF(allGymnasts!D57=$C$7,allGymnasts!R57,0)","v":""},{"$f":"IF(allGymnasts!D57=$C$7,allGymnasts!W57,0)","v":""},{"$f":"IF(allGymnasts!D57=$C$8,allGymnasts!H57,0)","v":""},{"$f":"IF(allGymnasts!D57=$C$8,allGymnasts!M57,0)","v":""},{"$f":"IF(allGymnasts!D57=$C$8,allGymnasts!R57,0)","v":""},{"$f":"IF(allGymnasts!D57=$C$8,allGymnasts!W57,0)","v":""},{"$f":"IF(allGymnasts!D57=$C$9,allGymnasts!H57,0)","v":""},{"$f":"IF(allGymnasts!D57=$C$9,allGymnasts!M57,0)","v":""},{"$f":"IF(allGymnasts!D57=$C$9,allGymnasts!R57,0)","v":""},{"$f":"IF(allGymnasts!D57=$C$9,allGymnasts!W57,0)","v":""},{"$f":"IF(allGymnasts!D57=$C$10,allGymnasts!H57,0)","v":""},{"$f":"IF(allGymnasts!D57=$C$10,allGymnasts!M57,0)","v":""},{"$f":"IF(allGymnasts!D57=$C$10,allGymnasts!R57,0)","v":""},{"$f":"IF(allGymnasts!D57=$C$10,allGymnasts!W57,0)","v":""},{"$f":"IF(allGymnasts!D57=$C$11,allGymnasts!H57,0)","v":""},{"$f":"IF(allGymnasts!D57=$C$11,allGymnasts!M57,0)","v":""},{"$f":"IF(allGymnasts!D57=$C$11,allGymnasts!R57,0)","v":""},{"$f":"IF(allGymnasts!D57=$C$11,allGymnasts!W57,0)","v":""},{"$f":"IF(allGymnasts!D57=$C$12,allGymnasts!H57,0)","v":""},{"$f":"IF(allGymnasts!D57=$C$12,allGymnasts!M57,0)","v":""},{"$f":"IF(allGymnasts!D57=$C$12,allGymnasts!R57,0)","v":""},{"$f":"IF(allGymnasts!D57=$C$12,allGymnasts!W57,0)","v":""},{"$f":"IF(allGymnasts!D57=$C$13,allGymnasts!H57,0)","v":""},{"$f":"IF(allGymnasts!D57=$C$13,allGymnasts!M57,0)","v":""},{"$f":"IF(allGymnasts!D57=$C$13,allGymnasts!R57,0)","v":""},{"$f":"IF(allGymnasts!D57=$C$13,allGymnasts!W57,0)","v":""},{"$f":"IF(allGymnasts!D57=$C$14,allGymnasts!H57,0)","v":""},{"$f":"IF(allGymnasts!D57=$C$14,allGymnasts!M57,0)","v":""},{"$f":"IF(allGymnasts!D57=$C$14,allGymnasts!R57,0)","v":""},{"$f":"IF(allGymnasts!D57=$C$14,allGymnasts!W57,0)","v":""},{"$f":"IF(allGymnasts!D57=$C$15,allGymnasts!H57,0)","v":""},{"$f":"IF(allGymnasts!D57=$C$15,allGymnasts!M57,0)","v":""},{"$f":"IF(allGymnasts!D57=$C$15,allGymnasts!R57,0)","v":""},{"$f":"IF(allGymnasts!D57=$C$15,allGymnasts!W57,0)","v":""}]
[null,null,null,null,null,null,null,null,null,null,null,null,null,null,{"$f":"IF(allGymnasts!D58=$C$4,allGymnasts!H58,0)","v":""},{"$f":"IF(allGymnasts!D58=$C$4,allGymnasts!M58,0)","v":""},{"$f":"IF(allGymnasts!D58=$C$4,allGymnasts!R58,0)","v":""},{"$f":"IF(allGymnasts!D58=$C$4,allGymnasts!W58,0)","v":""},{"$f":"IF(allGymnasts!D58=$C$5,allGymnasts!H58,0)","v":""},{"$f":"IF(allGymnasts!D58=$C$5,allGymnasts!M58,0)","v":""},{"$f":"IF(allGymnasts!D58=$C$5,allGymnasts!R58,0)","v":""},{"$f":"IF(allGymnasts!D58=$C$5,allGymnasts!W58,0)","v":""},{"$f":"IF(allGymnasts!D58=$C$6,allGymnasts!H58,0)","v":""},{"$f":"IF(allGymnasts!D58=$C$6,allGymnasts!M58,0)","v":""},{"$f":"IF(allGymnasts!D58=$C$6,allGymnasts!R58,0)","v":""},{"$f":"IF(allGymnasts!D58=$C$6,allGymnasts!W58,0)","v":""},{"$f":"IF(allGymnasts!D58=$C$7,allGymnasts!H58,0)","v":""},{"$f":"IF(allGymnasts!D58=$C$7,allGymnasts!M58,0)","v":""},{"$f":"IF(allGymnasts!D58=$C$7,allGymnasts!R58,0)","v":""},{"$f":"IF(allGymnasts!D58=$C$7,allGymnasts!W58,0)","v":""},{"$f":"IF(allGymnasts!D58=$C$8,allGymnasts!H58,0)","v":""},{"$f":"IF(allGymnasts!D58=$C$8,allGymnasts!M58,0)","v":""},{"$f":"IF(allGymnasts!D58=$C$8,allGymnasts!R58,0)","v":""},{"$f":"IF(allGymnasts!D58=$C$8,allGymnasts!W58,0)","v":""},{"$f":"IF(allGymnasts!D58=$C$9,allGymnasts!H58,0)","v":""},{"$f":"IF(allGymnasts!D58=$C$9,allGymnasts!M58,0)","v":""},{"$f":"IF(allGymnasts!D58=$C$9,allGymnasts!R58,0)","v":""},{"$f":"IF(allGymnasts!D58=$C$9,allGymnasts!W58,0)","v":""},{"$f":"IF(allGymnasts!D58=$C$10,allGymnasts!H58,0)","v":""},{"$f":"IF(allGymnasts!D58=$C$10,allGymnasts!M58,0)","v":""},{"$f":"IF(allGymnasts!D58=$C$10,allGymnasts!R58,0)","v":""},{"$f":"IF(allGymnasts!D58=$C$10,allGymnasts!W58,0)","v":""},{"$f":"IF(allGymnasts!D58=$C$11,allGymnasts!H58,0)","v":""},{"$f":"IF(allGymnasts!D58=$C$11,allGymnasts!M58,0)","v":""},{"$f":"IF(allGymnasts!D58=$C$11,allGymnasts!R58,0)","v":""},{"$f":"IF(allGymnasts!D58=$C$11,allGymnasts!W58,0)","v":""},{"$f":"IF(allGymnasts!D58=$C$12,allGymnasts!H58,0)","v":""},{"$f":"IF(allGymnasts!D58=$C$12,allGymnasts!M58,0)","v":""},{"$f":"IF(allGymnasts!D58=$C$12,allGymnasts!R58,0)","v":""},{"$f":"IF(allGymnasts!D58=$C$12,allGymnasts!W58,0)","v":""},{"$f":"IF(allGymnasts!D58=$C$13,allGymnasts!H58,0)","v":""},{"$f":"IF(allGymnasts!D58=$C$13,allGymnasts!M58,0)","v":""},{"$f":"IF(allGymnasts!D58=$C$13,allGymnasts!R58,0)","v":""},{"$f":"IF(allGymnasts!D58=$C$13,allGymnasts!W58,0)","v":""},{"$f":"IF(allGymnasts!D58=$C$14,allGymnasts!H58,0)","v":""},{"$f":"IF(allGymnasts!D58=$C$14,allGymnasts!M58,0)","v":""},{"$f":"IF(allGymnasts!D58=$C$14,allGymnasts!R58,0)","v":""},{"$f":"IF(allGymnasts!D58=$C$14,allGymnasts!W58,0)","v":""},{"$f":"IF(allGymnasts!D58=$C$15,allGymnasts!H58,0)","v":""},{"$f":"IF(allGymnasts!D58=$C$15,allGymnasts!M58,0)","v":""},{"$f":"IF(allGymnasts!D58=$C$15,allGymnasts!R58,0)","v":""},{"$f":"IF(allGymnasts!D58=$C$15,allGymnasts!W58,0)","v":""}]
[null,{"$f":"IFERROR(_xlfn.FLOOR.MATH(IF(allGymnasts!A52=\"\",\"\",INDEX(allGymnasts!$Z$4:$Z$33,MATCH(SMALL(allGymnasts!$Z$4:$Z$33,A59),allGymnasts!$Z$4:$Z$33,0)))),\"\")","v":""},null,{"$f":"IF(allGymnasts!A52=\"\",\"\",INDEX(allGymnasts!$A$4:$A$30,MATCH(SMALL(allGymnasts!$Z$4:$Z$33,A59),allGymnasts!$Z$4:$Z$33,0)))","v":""},{"$f":"IF(allGymnasts!B52=\"\",\"\",INDEX(allGymnasts!$B$4:$B$30,MATCH(SMALL(allGymnasts!$Z$4:$Z$33,A59),allGymnasts!$Z$4:$Z$33,0)))","v":""},{"$f":"IF(allGymnasts!C52=\"\",\"\",INDEX(allGymnasts!$C$4:$C$30,MATCH(SMALL(allGymnasts!$Z$4:$Z$33,A59),allGymnasts!$Z$4:$Z$33,0)))","v":""},{"$f":"IF(allGymnasts!D52=\"\",\"\",INDEX(allGymnasts!$D$4:$D$30,MATCH(SMALL(allGymnasts!$Z$4:$Z$33,A59),allGymnasts!$Z$4:$Z$33,0)))","v":""},{"$f":"IF(allGymnasts!E52=\"\",\"\",INDEX(allGymnasts!$J$4:$J$33,MATCH(SMALL(allGymnasts!$N$4:$N$33,A59),allGymnasts!$N$4:$N$33,0)))","v":""},{"$f":"IF(allGymnasts!F52=\"\",\"\",INDEX(allGymnasts!$K$4:$K$33,MATCH(SMALL(allGymnasts!$N$4:$N$33,A59),allGymnasts!$N$4:$N$33,0)))","v":""},{"$f":"IF(allGymnasts!G52=\"\",\"\",INDEX(allGymnasts!$L$4:$L$33,MATCH(SMALL(allGymnasts!$N$4:$N$33,A59),allGymnasts!$N$4:$N$33,0)))","v":""},{"$f":"IF(allGymnasts!H59=\"\",\"\",INDEX(allGymnasts!$Y$4:$Y$33,MATCH(SMALL(allGymnasts!$Z$4:$Z$33,A59),allGymnasts!$Z$4:$Z$33,0)))","v":""},null,null,null,{"$f":"IF(allGymnasts!D59=$C$4,allGymnasts!H59,0)","v":""},{"$f":"IF(allGymnasts!D59=$C$4,allGymnasts!M59,0)","v":""},{"$f":"IF(allGymnasts!D59=$C$4,allGymnasts!R59,0)","v":""},{"$f":"IF(allGymnasts!D59=$C$4,allGymnasts!W59,0)","v":""},{"$f":"IF(allGymnasts!D59=$C$5,allGymnasts!H59,0)","v":""},{"$f":"IF(allGymnasts!D59=$C$5,allGymnasts!M59,0)","v":""},{"$f":"IF(allGymnasts!D59=$C$5,allGymnasts!R59,0)","v":""},{"$f":"IF(allGymnasts!D59=$C$5,allGymnasts!W59,0)","v":""},{"$f":"IF(allGymnasts!D59=$C$6,allGymnasts!H59,0)","v":""},{"$f":"IF(allGymnasts!D59=$C$6,allGymnasts!M59,0)","v":""},{"$f":"IF(allGymnasts!D59=$C$6,allGymnasts!R59,0)","v":""},{"$f":"IF(allGymnasts!D59=$C$6,allGymnasts!W59,0)","v":""},{"$f":"IF(allGymnasts!D59=$C$7,allGymnasts!H59,0)","v":""},{"$f":"IF(allGymnasts!D59=$C$7,allGymnasts!M59,0)","v":""},{"$f":"IF(allGymnasts!D59=$C$7,allGymnasts!R59,0)","v":""},{"$f":"IF(allGymnasts!D59=$C$7,allGymnasts!W59,0)","v":""},{"$f":"IF(allGymnasts!D59=$C$8,allGymnasts!H59,0)","v":""},{"$f":"IF(allGymnasts!D59=$C$8,allGymnasts!M59,0)","v":""},{"$f":"IF(allGymnasts!D59=$C$8,allGymnasts!R59,0)","v":""},{"$f":"IF(allGymnasts!D59=$C$8,allGymnasts!W59,0)","v":""},{"$f":"IF(allGymnasts!D59=$C$9,allGymnasts!H59,0)","v":""},{"$f":"IF(allGymnasts!D59=$C$9,allGymnasts!M59,0)","v":""},{"$f":"IF(allGymnasts!D59=$C$9,allGymnasts!R59,0)","v":""},{"$f":"IF(allGymnasts!D59=$C$9,allGymnasts!W59,0)","v":""},{"$f":"IF(allGymnasts!D59=$C$10,allGymnasts!H59,0)","v":""},{"$f":"IF(allGymnasts!D59=$C$10,allGymnasts!M59,0)","v":""},{"$f":"IF(allGymnasts!D59=$C$10,allGymnasts!R59,0)","v":""},{"$f":"IF(allGymnasts!D59=$C$10,allGymnasts!W59,0)","v":""},{"$f":"IF(allGymnasts!D59=$C$11,allGymnasts!H59,0)","v":""},{"$f":"IF(allGymnasts!D59=$C$11,allGymnasts!M59,0)","v":""},{"$f":"IF(allGymnasts!D59=$C$11,allGymnasts!R59,0)","v":""},{"$f":"IF(allGymnasts!D59=$C$11,allGymnasts!W59,0)","v":""},{"$f":"IF(allGymnasts!D59=$C$12,allGymnasts!H59,0)","v":""},{"$f":"IF(allGymnasts!D59=$C$12,allGymnasts!M59,0)","v":""},{"$f":"IF(allGymnasts!D59=$C$12,allGymnasts!R59,0)","v":""},{"$f":"IF(allGymnasts!D59=$C$12,allGymnasts!W59,0)","v":""},{"$f":"IF(allGymnasts!D59=$C$13,allGymnasts!H59,0)","v":""},{"$f":"IF(allGymnasts!D59=$C$13,allGymnasts!M59,0)","v":""},{"$f":"IF(allGymnasts!D59=$C$13,allGymnasts!R59,0)","v":""},{"$f":"IF(allGymnasts!D59=$C$13,allGymnasts!W59,0)","v":""},{"$f":"IF(allGymnasts!D59=$C$14,allGymnasts!H59,0)","v":""},{"$f":"IF(allGymnasts!D59=$C$14,allGymnasts!M59,0)","v":""},{"$f":"IF(allGymnasts!D59=$C$14,allGymnasts!R59,0)","v":""},{"$f":"IF(allGymnasts!D59=$C$14,allGymnasts!W59,0)","v":""},{"$f":"IF(allGymnasts!D59=$C$15,allGymnasts!H59,0)","v":""},{"$f":"IF(allGymnasts!D59=$C$15,allGymnasts!M59,0)","v":""},{"$f":"IF(allGymnasts!D59=$C$15,allGymnasts!R59,0)","v":""},{"$f":"IF(allGymnasts!D59=$C$15,allGymnasts!W59,0)","v":""}]
[null,{"$f":"IFERROR(_xlfn.FLOOR.MATH(IF(allGymnasts!A53=\"\",\"\",INDEX(allGymnasts!$Z$4:$Z$33,MATCH(SMALL(allGymnasts!$Z$4:$Z$33,A60),allGymnasts!$Z$4:$Z$33,0)))),\"\")","v":""},null,{"$f":"IF(allGymnasts!A53=\"\",\"\",INDEX(allGymnasts!$A$4:$A$30,MATCH(SMALL(allGymnasts!$Z$4:$Z$33,A60),allGymnasts!$Z$4:$Z$33,0)))","v":""},{"$f":"IF(allGymnasts!B53=\"\",\"\",INDEX(allGymnasts!$B$4:$B$30,MATCH(SMALL(allGymnasts!$Z$4:$Z$33,A60),allGymnasts!$Z$4:$Z$33,0)))","v":""},{"$f":"IF(allGymnasts!C53=\"\",\"\",INDEX(allGymnasts!$C$4:$C$30,MATCH(SMALL(allGymnasts!$Z$4:$Z$33,A60),allGymnasts!$Z$4:$Z$33,0)))","v":""},{"$f":"IF(allGymnasts!D53=\"\",\"\",INDEX(allGymnasts!$D$4:$D$30,MATCH(SMALL(allGymnasts!$Z$4:$Z$33,A60),allGymnasts!$Z$4:$Z$33,0)))","v":""},{"$f":"IF(allGymnasts!E53=\"\",\"\",INDEX(allGymnasts!$J$4:$J$33,MATCH(SMALL(allGymnasts!$N$4:$N$33,A60),allGymnasts!$N$4:$N$33,0)))","v":""},{"$f":"IF(allGymnasts!F53=\"\",\"\",INDEX(allGymnasts!$K$4:$K$33,MATCH(SMALL(allGymnasts!$N$4:$N$33,A60),allGymnasts!$N$4:$N$33,0)))","v":""},{"$f":"IF(allGymnasts!G53=\"\",\"\",INDEX(allGymnasts!$L$4:$L$33,MATCH(SMALL(allGymnasts!$N$4:$N$33,A60),allGymnasts!$N$4:$N$33,0)))","v":""},{"$f":"IF(allGymnasts!H60=\"\",\"\",INDEX(allGymnasts!$Y$4:$Y$33,MATCH(SMALL(allGymnasts!$Z$4:$Z$33,A60),allGymnasts!$Z$4:$Z$33,0)))","v":""},null,null,null,{"$f":"IF(allGymnasts!D60=$C$4,allGymnasts!H60,0)","v":""},{"$f":"IF(allGymnasts!D60=$C$4,allGymnasts!M60,0)","v":""},{"$f":"IF(allGymnasts!D60=$C$4,allGymnasts!R60,0)","v":""},{"$f":"IF(allGymnasts!D60=$C$4,allGymnasts!W60,0)","v":""},{"$f":"IF(allGymnasts!D60=$C$5,allGymnasts!H60,0)","v":""},{"$f":"IF(allGymnasts!D60=$C$5,allGymnasts!M60,0)","v":""},{"$f":"IF(allGymnasts!D60=$C$5,allGymnasts!R60,0)","v":""},{"$f":"IF(allGymnasts!D60=$C$5,allGymnasts!W60,0)","v":""},{"$f":"IF(allGymnasts!D60=$C$6,allGymnasts!H60,0)","v":""},{"$f":"IF(allGymnasts!D60=$C$6,allGymnasts!M60,0)","v":""},{"$f":"IF(allGymnasts!D60=$C$6,allGymnasts!R60,0)","v":""},{"$f":"IF(allGymnasts!D60=$C$6,allGymnasts!W60,0)","v":""},{"$f":"IF(allGymnasts!D60=$C$7,allGymnasts!H60,0)","v":""},{"$f":"IF(allGymnasts!D60=$C$7,allGymnasts!M60,0)","v":""},{"$f":"IF(allGymnasts!D60=$C$7,allGymnasts!R60,0)","v":""},{"$f":"IF(allGymnasts!D60=$C$7,allGymnasts!W60,0)","v":""},{"$f":"IF(allGymnasts!D60=$C$8,allGymnasts!H60,0)","v":""},{"$f":"IF(allGymnasts!D60=$C$8,allGymnasts!M60,0)","v":""},{"$f":"IF(allGymnasts!D60=$C$8,allGymnasts!R60,0)","v":""},{"$f":"IF(allGymnasts!D60=$C$8,allGymnasts!W60,0)","v":""},{"$f":"IF(allGymnasts!D60=$C$9,allGymnasts!H60,0)","v":""},{"$f":"IF(allGymnasts!D60=$C$9,allGymnasts!M60,0)","v":""},{"$f":"IF(allGymnasts!D60=$C$9,allGymnasts!R60,0)","v":""},{"$f":"IF(allGymnasts!D60=$C$9,allGymnasts!W60,0)","v":""},{"$f":"IF(allGymnasts!D60=$C$10,allGymnasts!H60,0)","v":""},{"$f":"IF(allGymnasts!D60=$C$10,allGymnasts!M60,0)","v":""},{"$f":"IF(allGymnasts!D60=$C$10,allGymnasts!R60,0)","v":""},{"$f":"IF(allGymnasts!D60=$C$10,allGymnasts!W60,0)","v":""},{"$f":"IF(allGymnasts!D60=$C$11,allGymnasts!H60,0)","v":""},{"$f":"IF(allGymnasts!D60=$C$11,allGymnasts!M60,0)","v":""},{"$f":"IF(allGymnasts!D60=$C$11,allGymnasts!R60,0)","v":""},{"$f":"IF(allGymnasts!D60=$C$11,allGymnasts!W60,0)","v":""},{"$f":"IF(allGymnasts!D60=$C$12,allGymnasts!H60,0)","v":""},{"$f":"IF(allGymnasts!D60=$C$12,allGymnasts!M60,0)","v":""},{"$f":"IF(allGymnasts!D60=$C$12,allGymnasts!R60,0)","v":""},{"$f":"IF(allGymnasts!D60=$C$12,allGymnasts!W60,0)","v":""},{"$f":"IF(allGymnasts!D60=$C$13,allGymnasts!H60,0)","v":""},{"$f":"IF(allGymnasts!D60=$C$13,allGymnasts!M60,0)","v":""},{"$f":"IF(allGymnasts!D60=$C$13,allGymnasts!R60,0)","v":""},{"$f":"IF(allGymnasts!D60=$C$13,allGymnasts!W60,0)","v":""},{"$f":"IF(allGymnasts!D60=$C$14,allGymnasts!H60,0)","v":""},{"$f":"IF(allGymnasts!D60=$C$14,allGymnasts!M60,0)","v":""},{"$f":"IF(allGymnasts!D60=$C$14,allGymnasts!R60,0)","v":""},{"$f":"IF(allGymnasts!D60=$C$14,allGymnasts!W60,0)","v":""},{"$f":"IF(allGymnasts!D60=$C$15,allGymnasts!H60,0)","v":""},{"$f":"IF(allGymnasts!D60=$C$15,allGymnasts!M60,0)","v":""},{"$f":"IF(allGymnasts!D60=$C$15,allGymnasts!R60,0)","v":""},{"$f":"IF(allGymnasts!D60=$C$15,allGymnasts!W60,0)","v":""}]
[null,{"$f":"IFERROR(_xlfn.FLOOR.MATH(IF(allGymnasts!A54=\"\",\"\",INDEX(allGymnasts!$Z$4:$Z$33,MATCH(SMALL(allGymnasts!$Z$4:$Z$33,A61),allGymnasts!$Z$4:$Z$33,0)))),\"\")","v":""},null,{"$f":"IF(allGymnasts!A54=\"\",\"\",INDEX(allGymnasts!$A$4:$A$30,MATCH(SMALL(allGymnasts!$Z$4:$Z$33,A61),allGymnasts!$Z$4:$Z$33,0)))","v":""},{"$f":"IF(allGymnasts!B54=\"\",\"\",INDEX(allGymnasts!$B$4:$B$30,MATCH(SMALL(allGymnasts!$Z$4:$Z$33,A61),allGymnasts!$Z$4:$Z$33,0)))","v":""},{"$f":"IF(allGymnasts!C54=\"\",\"\",INDEX(allGymnasts!$C$4:$C$30,MATCH(SMALL(allGymnasts!$Z$4:$Z$33,A61),allGymnasts!$Z$4:$Z$33,0)))","v":""},{"$f":"IF(allGymnasts!D54=\"\",\"\",INDEX(allGymnasts!$D$4:$D$30,MATCH(SMALL(allGymnasts!$Z$4:$Z$33,A61),allGymnasts!$Z$4:$Z$33,0)))","v":""},{"$f":"IF(allGymnasts!E54=\"\",\"\",INDEX(allGymnasts!$J$4:$J$33,MATCH(SMALL(allGymnasts!$N$4:$N$33,A61),allGymnasts!$N$4:$N$33,0)))","v":""},{"$f":"IF(allGymnasts!F54=\"\",\"\",INDEX(allGymnasts!$K$4:$K$33,MATCH(SMALL(allGymnasts!$N$4:$N$33,A61),allGymnasts!$N$4:$N$33,0)))","v":""},{"$f":"IF(allGymnasts!G54=\"\",\"\",INDEX(allGymnasts!$L$4:$L$33,MATCH(SMALL(allGymnasts!$N$4:$N$33,A61),allGymnasts!$N$4:$N$33,0)))","v":""},{"$f":"IF(allGymnasts!H61=\"\",\"\",INDEX(allGymnasts!$Y$4:$Y$33,MATCH(SMALL(allGymnasts!$Z$4:$Z$33,A61),allGymnasts!$Z$4:$Z$33,0)))","v":""},null,null,null,{"$f":"IF(allGymnasts!D61=$C$4,allGymnasts!H61,0)","v":""},{"$f":"IF(allGymnasts!D61=$C$4,allGymnasts!M61,0)","v":""},{"$f":"IF(allGymnasts!D61=$C$4,allGymnasts!R61,0)","v":""},{"$f":"IF(allGymnasts!D61=$C$4,allGymnasts!W61,0)","v":""},{"$f":"IF(allGymnasts!D61=$C$5,allGymnasts!H61,0)","v":""},{"$f":"IF(allGymnasts!D61=$C$5,allGymnasts!M61,0)","v":""},{"$f":"IF(allGymnasts!D61=$C$5,allGymnasts!R61,0)","v":""},{"$f":"IF(allGymnasts!D61=$C$5,allGymnasts!W61,0)","v":""},{"$f":"IF(allGymnasts!D61=$C$6,allGymnasts!H61,0)","v":""},{"$f":"IF(allGymnasts!D61=$C$6,allGymnasts!M61,0)","v":""},{"$f":"IF(allGymnasts!D61=$C$6,allGymnasts!R61,0)","v":""},{"$f":"IF(allGymnasts!D61=$C$6,allGymnasts!W61,0)","v":""},{"$f":"IF(allGymnasts!D61=$C$7,allGymnasts!H61,0)","v":""},{"$f":"IF(allGymnasts!D61=$C$7,allGymnasts!M61,0)","v":""},{"$f":"IF(allGymnasts!D61=$C$7,allGymnasts!R61,0)","v":""},{"$f":"IF(allGymnasts!D61=$C$7,allGymnasts!W61,0)","v":""},{"$f":"IF(allGymnasts!D61=$C$8,allGymnasts!H61,0)","v":""},{"$f":"IF(allGymnasts!D61=$C$8,allGymnasts!M61,0)","v":""},{"$f":"IF(allGymnasts!D61=$C$8,allGymnasts!R61,0)","v":""},{"$f":"IF(allGymnasts!D61=$C$8,allGymnasts!W61,0)","v":""},{"$f":"IF(allGymnasts!D61=$C$9,allGymnasts!H61,0)","v":""},{"$f":"IF(allGymnasts!D61=$C$9,allGymnasts!M61,0)","v":""},{"$f":"IF(allGymnasts!D61=$C$9,allGymnasts!R61,0)","v":""},{"$f":"IF(allGymnasts!D61=$C$9,allGymnasts!W61,0)","v":""},{"$f":"IF(allGymnasts!D61=$C$10,allGymnasts!H61,0)","v":""},{"$f":"IF(allGymnasts!D61=$C$10,allGymnasts!M61,0)","v":""},{"$f":"IF(allGymnasts!D61=$C$10,allGymnasts!R61,0)","v":""},{"$f":"IF(allGymnasts!D61=$C$10,allGymnasts!W61,0)","v":""},{"$f":"IF(allGymnasts!D61=$C$11,allGymnasts!H61,0)","v":""},{"$f":"IF(allGymnasts!D61=$C$11,allGymnasts!M61,0)","v":""},{"$f":"IF(allGymnasts!D61=$C$11,allGymnasts!R61,0)","v":""},{"$f":"IF(allGymnasts!D61=$C$11,allGymnasts!W61,0)","v":""},{"$f":"IF(allGymnasts!D61=$C$12,allGymnasts!H61,0)","v":""},{"$f":"IF(allGymnasts!D61=$C$12,allGymnasts!M61,0)","v":""},{"$f":"IF(allGymnasts!D61=$C$12,allGymnasts!R61,0)","v":""},{"$f":"IF(allGymnasts!D61=$C$12,allGymnasts!W61,0)","v":""},{"$f":"IF(allGymnasts!D61=$C$13,allGymnasts!H61,0)","v":""},{"$f":"IF(allGymnasts!D61=$C$13,allGymnasts!M61,0)","v":""},{"$f":"IF(allGymnasts!D61=$C$13,allGymnasts!R61,0)","v":""},{"$f":"IF(allGymnasts!D61=$C$13,allGymnasts!W61,0)","v":""},{"$f":"IF(allGymnasts!D61=$C$14,allGymnasts!H61,0)","v":""},{"$f":"IF(allGymnasts!D61=$C$14,allGymnasts!M61,0)","v":""},{"$f":"IF(allGymnasts!D61=$C$14,allGymnasts!R61,0)","v":""},{"$f":"IF(allGymnasts!D61=$C$14,allGymnasts!W61,0)","v":""},{"$f":"IF(allGymnasts!D61=$C$15,allGymnasts!H61,0)","v":""},{"$f":"IF(allGymnasts!D61=$C$15,allGymnasts!M61,0)","v":""},{"$f":"IF(allGymnasts!D61=$C$15,allGymnasts!R61,0)","v":""},{"$f":"IF(allGymnasts!D61=$C$15,allGymnasts!W61,0)","v":""}]
[null,{"$f":"IFERROR(_xlfn.FLOOR.MATH(IF(allGymnasts!A55=\"\",\"\",INDEX(allGymnasts!$Z$4:$Z$33,MATCH(SMALL(allGymnasts!$Z$4:$Z$33,A62),allGymnasts!$Z$4:$Z$33,0)))),\"\")","v":""},null,{"$f":"IF(allGymnasts!A55=\"\",\"\",INDEX(allGymnasts!$A$4:$A$30,MATCH(SMALL(allGymnasts!$Z$4:$Z$33,A62),allGymnasts!$Z$4:$Z$33,0)))","v":""},{"$f":"IF(allGymnasts!B55=\"\",\"\",INDEX(allGymnasts!$B$4:$B$30,MATCH(SMALL(allGymnasts!$Z$4:$Z$33,A62),allGymnasts!$Z$4:$Z$33,0)))","v":""},{"$f":"IF(allGymnasts!C55=\"\",\"\",INDEX(allGymnasts!$C$4:$C$30,MATCH(SMALL(allGymnasts!$Z$4:$Z$33,A62),allGymnasts!$Z$4:$Z$33,0)))","v":""},{"$f":"IF(allGymnasts!D55=\"\",\"\",INDEX(allGymnasts!$D$4:$D$30,MATCH(SMALL(allGymnasts!$Z$4:$Z$33,A62),allGymnasts!$Z$4:$Z$33,0)))","v":""},{"$f":"IF(allGymnasts!E55=\"\",\"\",INDEX(allGymnasts!$J$4:$J$33,MATCH(SMALL(allGymnasts!$N$4:$N$33,A62),allGymnasts!$N$4:$N$33,0)))","v":""},{"$f":"IF(allGymnasts!F55=\"\",\"\",INDEX(allGymnasts!$K$4:$K$33,MATCH(SMALL(allGymnasts!$N$4:$N$33,A62),allGymnasts!$N$4:$N$33,0)))","v":""},{"$f":"IF(allGymnasts!G55=\"\",\"\",INDEX(allGymnasts!$L$4:$L$33,MATCH(SMALL(allGymnasts!$N$4:$N$33,A62),allGymnasts!$N$4:$N$33,0)))","v":""},{"$f":"IF(allGymnasts!H62=\"\",\"\",INDEX(allGymnasts!$Y$4:$Y$33,MATCH(SMALL(allGymnasts!$Z$4:$Z$33,A62),allGymnasts!$Z$4:$Z$33,0)))","v":""},null,null,null,{"$f":"IF(allGymnasts!D62=$C$4,allGymnasts!H62,0)","v":""},{"$f":"IF(allGymnasts!D62=$C$4,allGymnasts!M62,0)","v":""},{"$f":"IF(allGymnasts!D62=$C$4,allGymnasts!R62,0)","v":""},{"$f":"IF(allGymnasts!D62=$C$4,allGymnasts!W62,0)","v":""},{"$f":"IF(allGymnasts!D62=$C$5,allGymnasts!H62,0)","v":""},{"$f":"IF(allGymnasts!D62=$C$5,allGymnasts!M62,0)","v":""},{"$f":"IF(allGymnasts!D62=$C$5,allGymnasts!R62,0)","v":""},{"$f":"IF(allGymnasts!D62=$C$5,allGymnasts!W62,0)","v":""},{"$f":"IF(allGymnasts!D62=$C$6,allGymnasts!H62,0)","v":""},{"$f":"IF(allGymnasts!D62=$C$6,allGymnasts!M62,0)","v":""},{"$f":"IF(allGymnasts!D62=$C$6,allGymnasts!R62,0)","v":""},{"$f":"IF(allGymnasts!D62=$C$6,allGymnasts!W62,0)","v":""},{"$f":"IF(allGymnasts!D62=$C$7,allGymnasts!H62,0)","v":""},{"$f":"IF(allGymnasts!D62=$C$7,allGymnasts!M62,0)","v":""},{"$f":"IF(allGymnasts!D62=$C$7,allGymnasts!R62,0)","v":""},{"$f":"IF(allGymnasts!D62=$C$7,allGymnasts!W62,0)","v":""},{"$f":"IF(allGymnasts!D62=$C$8,allGymnasts!H62,0)","v":""},{"$f":"IF(allGymnasts!D62=$C$8,allGymnasts!M62,0)","v":""},{"$f":"IF(allGymnasts!D62=$C$8,allGymnasts!R62,0)","v":""},{"$f":"IF(allGymnasts!D62=$C$8,allGymnasts!W62,0)","v":""},{"$f":"IF(allGymnasts!D62=$C$9,allGymnasts!H62,0)","v":""},{"$f":"IF(allGymnasts!D62=$C$9,allGymnasts!M62,0)","v":""},{"$f":"IF(allGymnasts!D62=$C$9,allGymnasts!R62,0)","v":""},{"$f":"IF(allGymnasts!D62=$C$9,allGymnasts!W62,0)","v":""},{"$f":"IF(allGymnasts!D62=$C$10,allGymnasts!H62,0)","v":""},{"$f":"IF(allGymnasts!D62=$C$10,allGymnasts!M62,0)","v":""},{"$f":"IF(allGymnasts!D62=$C$10,allGymnasts!R62,0)","v":""},{"$f":"IF(allGymnasts!D62=$C$10,allGymnasts!W62,0)","v":""},{"$f":"IF(allGymnasts!D62=$C$11,allGymnasts!H62,0)","v":""},{"$f":"IF(allGymnasts!D62=$C$11,allGymnasts!M62,0)","v":""},{"$f":"IF(allGymnasts!D62=$C$11,allGymnasts!R62,0)","v":""},{"$f":"IF(allGymnasts!D62=$C$11,allGymnasts!W62,0)","v":""},{"$f":"IF(allGymnasts!D62=$C$12,allGymnasts!H62,0)","v":""},{"$f":"IF(allGymnasts!D62=$C$12,allGymnasts!M62,0)","v":""},{"$f":"IF(allGymnasts!D62=$C$12,allGymnasts!R62,0)","v":""},{"$f":"IF(allGymnasts!D62=$C$12,allGymnasts!W62,0)","v":""},{"$f":"IF(allGymnasts!D62=$C$13,allGymnasts!H62,0)","v":""},{"$f":"IF(allGymnasts!D62=$C$13,allGymnasts!M62,0)","v":""},{"$f":"IF(allGymnasts!D62=$C$13,allGymnasts!R62,0)","v":""},{"$f":"IF(allGymnasts!D62=$C$13,allGymnasts!W62,0)","v":""},{"$f":"IF(allGymnasts!D62=$C$14,allGymnasts!H62,0)","v":""},{"$f":"IF(allGymnasts!D62=$C$14,allGymnasts!M62,0)","v":""},{"$f":"IF(allGymnasts!D62=$C$14,allGymnasts!R62,0)","v":""},{"$f":"IF(allGymnasts!D62=$C$14,allGymnasts!W62,0)","v":""},{"$f":"IF(allGymnasts!D62=$C$15,allGymnasts!H62,0)","v":""},{"$f":"IF(allGymnasts!D62=$C$15,allGymnasts!M62,0)","v":""},{"$f":"IF(allGymnasts!D62=$C$15,allGymnasts!R62,0)","v":""},{"$f":"IF(allGymnasts!D62=$C$15,allGymnasts!W62,0)","v":""}]
[null,{"$f":"IFERROR(_xlfn.FLOOR.MATH(IF(allGymnasts!A56=\"\",\"\",INDEX(allGymnasts!$Z$4:$Z$33,MATCH(SMALL(allGymnasts!$Z$4:$Z$33,A63),allGymnasts!$Z$4:$Z$33,0)))),\"\")","v":""},null,{"$f":"IF(allGymnasts!A56=\"\",\"\",INDEX(allGymnasts!$A$4:$A$30,MATCH(SMALL(allGymnasts!$Z$4:$Z$33,A63),allGymnasts!$Z$4:$Z$33,0)))","v":""},{"$f":"IF(allGymnasts!B56=\"\",\"\",INDEX(allGymnasts!$B$4:$B$30,MATCH(SMALL(allGymnasts!$Z$4:$Z$33,A63),allGymnasts!$Z$4:$Z$33,0)))","v":""},{"$f":"IF(allGymnasts!C56=\"\",\"\",INDEX(allGymnasts!$C$4:$C$30,MATCH(SMALL(allGymnasts!$Z$4:$Z$33,A63),allGymnasts!$Z$4:$Z$33,0)))","v":""},{"$f":"IF(allGymnasts!D56=\"\",\"\",INDEX(allGymnasts!$D$4:$D$30,MATCH(SMALL(allGymnasts!$Z$4:$Z$33,A63),allGymnasts!$Z$4:$Z$33,0)))","v":""},{"$f":"IF(allGymnasts!E56=\"\",\"\",INDEX(allGymnasts!$J$4:$J$33,MATCH(SMALL(allGymnasts!$N$4:$N$33,A63),allGymnasts!$N$4:$N$33,0)))","v":""},{"$f":"IF(allGymnasts!F56=\"\",\"\",INDEX(allGymnasts!$K$4:$K$33,MATCH(SMALL(allGymnasts!$N$4:$N$33,A63),allGymnasts!$N$4:$N$33,0)))","v":""},{"$f":"IF(allGymnasts!G56=\"\",\"\",INDEX(allGymnasts!$L$4:$L$33,MATCH(SMALL(allGymnasts!$N$4:$N$33,A63),allGymnasts!$N$4:$N$33,0)))","v":""},{"$f":"IF(allGymnasts!H63=\"\",\"\",INDEX(allGymnasts!$Y$4:$Y$33,MATCH(SMALL(allGymnasts!$Z$4:$Z$33,A63),allGymnasts!$Z$4:$Z$33,0)))","v":""},null,null,null,{"$f":"IF(allGymnasts!D63=$C$4,allGymnasts!H63,0)","v":""},{"$f":"IF(allGymnasts!D63=$C$4,allGymnasts!M63,0)","v":""},{"$f":"IF(allGymnasts!D63=$C$4,allGymnasts!R63,0)","v":""},{"$f":"IF(allGymnasts!D63=$C$4,allGymnasts!W63,0)","v":""},{"$f":"IF(allGymnasts!D63=$C$5,allGymnasts!H63,0)","v":""},{"$f":"IF(allGymnasts!D63=$C$5,allGymnasts!M63,0)","v":""},{"$f":"IF(allGymnasts!D63=$C$5,allGymnasts!R63,0)","v":""},{"$f":"IF(allGymnasts!D63=$C$5,allGymnasts!W63,0)","v":""},{"$f":"IF(allGymnasts!D63=$C$6,allGymnasts!H63,0)","v":""},{"$f":"IF(allGymnasts!D63=$C$6,allGymnasts!M63,0)","v":""},{"$f":"IF(allGymnasts!D63=$C$6,allGymnasts!R63,0)","v":""},{"$f":"IF(allGymnasts!D63=$C$6,allGymnasts!W63,0)","v":""},{"$f":"IF(allGymnasts!D63=$C$7,allGymnasts!H63,0)","v":""},{"$f":"IF(allGymnasts!D63=$C$7,allGymnasts!M63,0)","v":""},{"$f":"IF(allGymnasts!D63=$C$7,allGymnasts!R63,0)","v":""},{"$f":"IF(allGymnasts!D63=$C$7,allGymnasts!W63,0)","v":""},{"$f":"IF(allGymnasts!D63=$C$8,allGymnasts!H63,0)","v":""},{"$f":"IF(allGymnasts!D63=$C$8,allGymnasts!M63,0)","v":""},{"$f":"IF(allGymnasts!D63=$C$8,allGymnasts!R63,0)","v":""},{"$f":"IF(allGymnasts!D63=$C$8,allGymnasts!W63,0)","v":""},{"$f":"IF(allGymnasts!D63=$C$9,allGymnasts!H63,0)","v":""},{"$f":"IF(allGymnasts!D63=$C$9,allGymnasts!M63,0)","v":""},{"$f":"IF(allGymnasts!D63=$C$9,allGymnasts!R63,0)","v":""},{"$f":"IF(allGymnasts!D63=$C$9,allGymnasts!W63,0)","v":""},{"$f":"IF(allGymnasts!D63=$C$10,allGymnasts!H63,0)","v":""},{"$f":"IF(allGymnasts!D63=$C$10,allGymnasts!M63,0)","v":""},{"$f":"IF(allGymnasts!D63=$C$10,allGymnasts!R63,0)","v":""},{"$f":"IF(allGymnasts!D63=$C$10,allGymnasts!W63,0)","v":""},{"$f":"IF(allGymnasts!D63=$C$11,allGymnasts!H63,0)","v":""},{"$f":"IF(allGymnasts!D63=$C$11,allGymnasts!M63,0)","v":""},{"$f":"IF(allGymnasts!D63=$C$11,allGymnasts!R63,0)","v":""},{"$f":"IF(allGymnasts!D63=$C$11,allGymnasts!W63,0)","v":""},{"$f":"IF(allGymnasts!D63=$C$12,allGymnasts!H63,0)","v":""},{"$f":"IF(allGymnasts!D63=$C$12,allGymnasts!M63,0)","v":""},{"$f":"IF(allGymnasts!D63=$C$12,allGymnasts!R63,0)","v":""},{"$f":"IF(allGymnasts!D63=$C$12,allGymnasts!W63,0)","v":""},{"$f":"IF(allGymnasts!D63=$C$13,allGymnasts!H63,0)","v":""},{"$f":"IF(allGymnasts!D63=$C$13,allGymnasts!M63,0)","v":""},{"$f":"IF(allGymnasts!D63=$C$13,allGymnasts!R63,0)","v":""},{"$f":"IF(allGymnasts!D63=$C$13,allGymnasts!W63,0)","v":""},{"$f":"IF(allGymnasts!D63=$C$14,allGymnasts!H63,0)","v":""},{"$f":"IF(allGymnasts!D63=$C$14,allGymnasts!M63,0)","v":""},{"$f":"IF(allGymnasts!D63=$C$14,allGymnasts!R63,0)","v":""},{"$f":"IF(allGymnasts!D63=$C$14,allGymnasts!W63,0)","v":""},{"$f":"IF(allGymnasts!D63=$C$15,allGymnasts!H63,0)","v":""},{"$f":"IF(allGymnasts!D63=$C$15,allGymnasts!M63,0)","v":""},{"$f":"IF(allGymnasts!D63=$C$15,allGymnasts!R63,0)","v":""},{"$f":"IF(allGymnasts!D63=$C$15,allGymnasts!W63,0)","v":""}]
[null,{"$f":"IFERROR(_xlfn.FLOOR.MATH(IF(allGymnasts!A57=\"\",\"\",INDEX(allGymnasts!$Z$4:$Z$33,MATCH(SMALL(allGymnasts!$Z$4:$Z$33,A64),allGymnasts!$Z$4:$Z$33,0)))),\"\")","v":""},null,{"$f":"IF(allGymnasts!A57=\"\",\"\",INDEX(allGymnasts!$A$4:$A$30,MATCH(SMALL(allGymnasts!$Z$4:$Z$33,A64),allGymnasts!$Z$4:$Z$33,0)))","v":""},{"$f":"IF(allGymnasts!B57=\"\",\"\",INDEX(allGymnasts!$B$4:$B$30,MATCH(SMALL(allGymnasts!$Z$4:$Z$33,A64),allGymnasts!$Z$4:$Z$33,0)))","v":""},{"$f":"IF(allGymnasts!C57=\"\",\"\",INDEX(allGymnasts!$C$4:$C$30,MATCH(SMALL(allGymnasts!$Z$4:$Z$33,A64),allGymnasts!$Z$4:$Z$33,0)))","v":""},{"$f":"IF(allGymnasts!D57=\"\",\"\",INDEX(allGymnasts!$D$4:$D$30,MATCH(SMALL(allGymnasts!$Z$4:$Z$33,A64),allGymnasts!$Z$4:$Z$33,0)))","v":""},{"$f":"IF(allGymnasts!E57=\"\",\"\",INDEX(allGymnasts!$J$4:$J$33,MATCH(SMALL(allGymnasts!$N$4:$N$33,A64),allGymnasts!$N$4:$N$33,0)))","v":""},{"$f":"IF(allGymnasts!F57=\"\",\"\",INDEX(allGymnasts!$K$4:$K$33,MATCH(SMALL(allGymnasts!$N$4:$N$33,A64),allGymnasts!$N$4:$N$33,0)))","v":""},{"$f":"IF(allGymnasts!G57=\"\",\"\",INDEX(allGymnasts!$L$4:$L$33,MATCH(SMALL(allGymnasts!$N$4:$N$33,A64),allGymnasts!$N$4:$N$33,0)))","v":""},{"$f":"IF(allGymnasts!H64=\"\",\"\",INDEX(allGymnasts!$Y$4:$Y$33,MATCH(SMALL(allGymnasts!$Z$4:$Z$33,A64),allGymnasts!$Z$4:$Z$33,0)))","v":""},null,null,null,{"$f":"IF(allGymnasts!D64=$C$4,allGymnasts!H64,0)","v":""},{"$f":"IF(allGymnasts!D64=$C$4,allGymnasts!M64,0)","v":""},{"$f":"IF(allGymnasts!D64=$C$4,allGymnasts!R64,0)","v":""},{"$f":"IF(allGymnasts!D64=$C$4,allGymnasts!W64,0)","v":""},{"$f":"IF(allGymnasts!D64=$C$5,allGymnasts!H64,0)","v":""},{"$f":"IF(allGymnasts!D64=$C$5,allGymnasts!M64,0)","v":""},{"$f":"IF(allGymnasts!D64=$C$5,allGymnasts!R64,0)","v":""},{"$f":"IF(allGymnasts!D64=$C$5,allGymnasts!W64,0)","v":""},{"$f":"IF(allGymnasts!D64=$C$6,allGymnasts!H64,0)","v":""},{"$f":"IF(allGymnasts!D64=$C$6,allGymnasts!M64,0)","v":""},{"$f":"IF(allGymnasts!D64=$C$6,allGymnasts!R64,0)","v":""},{"$f":"IF(allGymnasts!D64=$C$6,allGymnasts!W64,0)","v":""},{"$f":"IF(allGymnasts!D64=$C$7,allGymnasts!H64,0)","v":""},{"$f":"IF(allGymnasts!D64=$C$7,allGymnasts!M64,0)","v":""},{"$f":"IF(allGymnasts!D64=$C$7,allGymnasts!R64,0)","v":""},{"$f":"IF(allGymnasts!D64=$C$7,allGymnasts!W64,0)","v":""},{"$f":"IF(allGymnasts!D64=$C$8,allGymnasts!H64,0)","v":""},{"$f":"IF(allGymnasts!D64=$C$8,allGymnasts!M64,0)","v":""},{"$f":"IF(allGymnasts!D64=$C$8,allGymnasts!R64,0)","v":""},{"$f":"IF(allGymnasts!D64=$C$8,allGymnasts!W64,0)","v":""},{"$f":"IF(allGymnasts!D64=$C$9,allGymnasts!H64,0)","v":""},{"$f":"IF(allGymnasts!D64=$C$9,allGymnasts!M64,0)","v":""},{"$f":"IF(allGymnasts!D64=$C$9,allGymnasts!R64,0)","v":""},{"$f":"IF(allGymnasts!D64=$C$9,allGymnasts!W64,0)","v":""},{"$f":"IF(allGymnasts!D64=$C$10,allGymnasts!H64,0)","v":""},{"$f":"IF(allGymnasts!D64=$C$10,allGymnasts!M64,0)","v":""},{"$f":"IF(allGymnasts!D64=$C$10,allGymnasts!R64,0)","v":""},{"$f":"IF(allGymnasts!D64=$C$10,allGymnasts!W64,0)","v":""},{"$f":"IF(allGymnasts!D64=$C$11,allGymnasts!H64,0)","v":""},{"$f":"IF(allGymnasts!D64=$C$11,allGymnasts!M64,0)","v":""},{"$f":"IF(allGymnasts!D64=$C$11,allGymnasts!R64,0)","v":""},{"$f":"IF(allGymnasts!D64=$C$11,allGymnasts!W64,0)","v":""},{"$f":"IF(allGymnasts!D64=$C$12,allGymnasts!H64,0)","v":""},{"$f":"IF(allGymnasts!D64=$C$12,allGymnasts!M64,0)","v":""},{"$f":"IF(allGymnasts!D64=$C$12,allGymnasts!R64,0)","v":""},{"$f":"IF(allGymnasts!D64=$C$12,allGymnasts!W64,0)","v":""},{"$f":"IF(allGymnasts!D64=$C$13,allGymnasts!H64,0)","v":""},{"$f":"IF(allGymnasts!D64=$C$13,allGymnasts!M64,0)","v":""},{"$f":"IF(allGymnasts!D64=$C$13,allGymnasts!R64,0)","v":""},{"$f":"IF(allGymnasts!D64=$C$13,allGymnasts!W64,0)","v":""},{"$f":"IF(allGymnasts!D64=$C$14,allGymnasts!H64,0)","v":""},{"$f":"IF(allGymnasts!D64=$C$14,allGymnasts!M64,0)","v":""},{"$f":"IF(allGymnasts!D64=$C$14,allGymnasts!R64,0)","v":""},{"$f":"IF(allGymnasts!D64=$C$14,allGymnasts!W64,0)","v":""},{"$f":"IF(allGymnasts!D64=$C$15,allGymnasts!H64,0)","v":""},{"$f":"IF(allGymnasts!D64=$C$15,allGymnasts!M64,0)","v":""},{"$f":"IF(allGymnasts!D64=$C$15,allGymnasts!R64,0)","v":""},{"$f":"IF(allGymnasts!D64=$C$15,allGymnasts!W64,0)","v":""}]
[null,{"$f":"IFERROR(_xlfn.FLOOR.MATH(IF(allGymnasts!A65=\"\",\"\",INDEX(allGymnasts!$Z$4:$Z$33,MATCH(SMALL(allGymnasts!$Z$4:$Z$33,A65),allGymnasts!$Z$4:$Z$33,0)))),\"\")","v":""},null,{"$f":"IF(allGymnasts!A65=\"\",\"\",INDEX(allGymnasts!$A$4:$A$30,MATCH(SMALL(allGymnasts!$Z$4:$Z$33,A65),allGymnasts!$Z$4:$Z$33,0)))","v":""},{"$f":"IF(allGymnasts!B65=\"\",\"\",INDEX(allGymnasts!$B$4:$B$30,MATCH(SMALL(allGymnasts!$Z$4:$Z$33,A65),allGymnasts!$Z$4:$Z$33,0)))","v":""},{"$f":"IF(allGymnasts!C65=\"\",\"\",INDEX(allGymnasts!$C$4:$C$30,MATCH(SMALL(allGymnasts!$Z$4:$Z$33,A65),allGymnasts!$Z$4:$Z$33,0)))","v":""},{"$f":"IF(allGymnasts!D65=\"\",\"\",INDEX(allGymnasts!$D$4:$D$30,MATCH(SMALL(allGymnasts!$Z$4:$Z$33,A65),allGymnasts!$Z$4:$Z$33,0)))","v":""},{"$f":"IF(allGymnasts!E65=\"\",\"\",INDEX(allGymnasts!$J$4:$J$33,MATCH(SMALL(allGymnasts!$N$4:$N$33,A65),allGymnasts!$N$4:$N$33,0)))","v":""},{"$f":"IF(allGymnasts!F65=\"\",\"\",INDEX(allGymnasts!$K$4:$K$33,MATCH(SMALL(allGymnasts!$N$4:$N$33,A65),allGymnasts!$N$4:$N$33,0)))","v":""},{"$f":"IF(allGymnasts!G65=\"\",\"\",INDEX(allGymnasts!$L$4:$L$33,MATCH(SMALL(allGymnasts!$N$4:$N$33,A65),allGymnasts!$N$4:$N$33,0)))","v":""},{"$f":"IF(allGymnasts!H65=\"\",\"\",INDEX(allGymnasts!$Y$4:$Y$33,MATCH(SMALL(allGymnasts!$Z$4:$Z$33,A65),allGymnasts!$Z$4:$Z$33,0)))","v":""},null,null,null,{"$f":"IF(allGymnasts!D65=$C$4,allGymnasts!H65,0)","v":""},{"$f":"IF(allGymnasts!D65=$C$4,allGymnasts!M65,0)","v":""},{"$f":"IF(allGymnasts!D65=$C$4,allGymnasts!R65,0)","v":""},{"$f":"IF(allGymnasts!D65=$C$4,allGymnasts!W65,0)","v":""},{"$f":"IF(allGymnasts!D65=$C$5,allGymnasts!H65,0)","v":""},{"$f":"IF(allGymnasts!D65=$C$5,allGymnasts!M65,0)","v":""},{"$f":"IF(allGymnasts!D65=$C$5,allGymnasts!R65,0)","v":""},{"$f":"IF(allGymnasts!D65=$C$5,allGymnasts!W65,0)","v":""},{"$f":"IF(allGymnasts!D65=$C$6,allGymnasts!H65,0)","v":""},{"$f":"IF(allGymnasts!D65=$C$6,allGymnasts!M65,0)","v":""},{"$f":"IF(allGymnasts!D65=$C$6,allGymnasts!R65,0)","v":""},{"$f":"IF(allGymnasts!D65=$C$6,allGymnasts!W65,0)","v":""},{"$f":"IF(allGymnasts!D65=$C$7,allGymnasts!H65,0)","v":""},{"$f":"IF(allGymnasts!D65=$C$7,allGymnasts!M65,0)","v":""},{"$f":"IF(allGymnasts!D65=$C$7,allGymnasts!R65,0)","v":""},{"$f":"IF(allGymnasts!D65=$C$7,allGymnasts!W65,0)","v":""},{"$f":"IF(allGymnasts!D65=$C$8,allGymnasts!H65,0)","v":""},{"$f":"IF(allGymnasts!D65=$C$8,allGymnasts!M65,0)","v":""},{"$f":"IF(allGymnasts!D65=$C$8,allGymnasts!R65,0)","v":""},{"$f":"IF(allGymnasts!D65=$C$8,allGymnasts!W65,0)","v":""},{"$f":"IF(allGymnasts!D65=$C$9,allGymnasts!H65,0)","v":""},{"$f":"IF(allGymnasts!D65=$C$9,allGymnasts!M65,0)","v":""},{"$f":"IF(allGymnasts!D65=$C$9,allGymnasts!R65,0)","v":""},{"$f":"IF(allGymnasts!D65=$C$9,allGymnasts!W65,0)","v":""},{"$f":"IF(allGymnasts!D65=$C$10,allGymnasts!H65,0)","v":""},{"$f":"IF(allGymnasts!D65=$C$10,allGymnasts!M65,0)","v":""},{"$f":"IF(allGymnasts!D65=$C$10,allGymnasts!R65,0)","v":""},{"$f":"IF(allGymnasts!D65=$C$10,allGymnasts!W65,0)","v":""},{"$f":"IF(allGymnasts!D65=$C$11,allGymnasts!H65,0)","v":""},{"$f":"IF(allGymnasts!D65=$C$11,allGymnasts!M65,0)","v":""},{"$f":"IF(allGymnasts!D65=$C$11,allGymnasts!R65,0)","v":""},{"$f":"IF(allGymnasts!D65=$C$11,allGymnasts!W65,0)","v":""},{"$f":"IF(allGymnasts!D65=$C$12,allGymnasts!H65,0)","v":""},{"$f":"IF(allGymnasts!D65=$C$12,allGymnasts!M65,0)","v":""},{"$f":"IF(allGymnasts!D65=$C$12,allGymnasts!R65,0)","v":""},{"$f":"IF(allGymnasts!D65=$C$12,allGymnasts!W65,0)","v":""},{"$f":"IF(allGymnasts!D65=$C$13,allGymnasts!H65,0)","v":""},{"$f":"IF(allGymnasts!D65=$C$13,allGymnasts!M65,0)","v":""},{"$f":"IF(allGymnasts!D65=$C$13,allGymnasts!R65,0)","v":""},{"$f":"IF(allGymnasts!D65=$C$13,allGymnasts!W65,0)","v":""},{"$f":"IF(allGymnasts!D65=$C$14,allGymnasts!H65,0)","v":""},{"$f":"IF(allGymnasts!D65=$C$14,allGymnasts!M65,0)","v":""},{"$f":"IF(allGymnasts!D65=$C$14,allGymnasts!R65,0)","v":""},{"$f":"IF(allGymnasts!D65=$C$14,allGymnasts!W65,0)","v":""},{"$f":"IF(allGymnasts!D65=$C$15,allGymnasts!H65,0)","v":""},{"$f":"IF(allGymnasts!D65=$C$15,allGymnasts!M65,0)","v":""},{"$f":"IF(allGymnasts!D65=$C$15,allGymnasts!R65,0)","v":""},{"$f":"IF(allGymnasts!D65=$C$15,allGymnasts!W65,0)","v":""}]
[null,{"$f":"IFERROR(_xlfn.FLOOR.MATH(IF(allGymnasts!A66=\"\",\"\",INDEX(allGymnasts!$Z$4:$Z$33,MATCH(SMALL(allGymnasts!$Z$4:$Z$33,A66),allGymnasts!$Z$4:$Z$33,0)))),\"\")","v":""},null,{"$f":"IF(allGymnasts!A66=\"\",\"\",INDEX(allGymnasts!$A$4:$A$30,MATCH(SMALL(allGymnasts!$Z$4:$Z$33,A66),allGymnasts!$Z$4:$Z$33,0)))","v":""},{"$f":"IF(allGymnasts!B66=\"\",\"\",INDEX(allGymnasts!$B$4:$B$30,MATCH(SMALL(allGymnasts!$Z$4:$Z$33,A66),allGymnasts!$Z$4:$Z$33,0)))","v":""},{"$f":"IF(allGymnasts!C66=\"\",\"\",INDEX(allGymnasts!$C$4:$C$30,MATCH(SMALL(allGymnasts!$Z$4:$Z$33,A66),allGymnasts!$Z$4:$Z$33,0)))","v":""},{"$f":"IF(allGymnasts!D66=\"\",\"\",INDEX(allGymnasts!$D$4:$D$30,MATCH(SMALL(allGymnasts!$Z$4:$Z$33,A66),allGymnasts!$Z$4:$Z$33,0)))","v":""},{"$f":"IF(allGymnasts!E66=\"\",\"\",INDEX(allGymnasts!$J$4:$J$33,MATCH(SMALL(allGymnasts!$N$4:$N$33,A66),allGymnasts!$N$4:$N$33,0)))","v":""},{"$f":"IF(allGymnasts!F66=\"\",\"\",INDEX(allGymnasts!$K$4:$K$33,MATCH(SMALL(allGymnasts!$N$4:$N$33,A66),allGymnasts!$N$4:$N$33,0)))","v":""},{"$f":"IF(allGymnasts!G66=\"\",\"\",INDEX(allGymnasts!$L$4:$L$33,MATCH(SMALL(allGymnasts!$N$4:$N$33,A66),allGymnasts!$N$4:$N$33,0)))","v":""},{"$f":"IF(allGymnasts!H66=\"\",\"\",INDEX(allGymnasts!$Y$4:$Y$33,MATCH(SMALL(allGymnasts!$Z$4:$Z$33,A66),allGymnasts!$Z$4:$Z$33,0)))","v":""},null,null,null,{"$f":"IF(allGymnasts!D66=$C$4,allGymnasts!H66,0)","v":""},{"$f":"IF(allGymnasts!D66=$C$4,allGymnasts!M66,0)","v":""},{"$f":"IF(allGymnasts!D66=$C$4,allGymnasts!R66,0)","v":""},{"$f":"IF(allGymnasts!D66=$C$4,allGymnasts!W66,0)","v":""},{"$f":"IF(allGymnasts!D66=$C$5,allGymnasts!H66,0)","v":""},{"$f":"IF(allGymnasts!D66=$C$5,allGymnasts!M66,0)","v":""},{"$f":"IF(allGymnasts!D66=$C$5,allGymnasts!R66,0)","v":""},{"$f":"IF(allGymnasts!D66=$C$5,allGymnasts!W66,0)","v":""},{"$f":"IF(allGymnasts!D66=$C$6,allGymnasts!H66,0)","v":""},{"$f":"IF(allGymnasts!D66=$C$6,allGymnasts!M66,0)","v":""},{"$f":"IF(allGymnasts!D66=$C$6,allGymnasts!R66,0)","v":""},{"$f":"IF(allGymnasts!D66=$C$6,allGymnasts!W66,0)","v":""},{"$f":"IF(allGymnasts!D66=$C$7,allGymnasts!H66,0)","v":""},{"$f":"IF(allGymnasts!D66=$C$7,allGymnasts!M66,0)","v":""},{"$f":"IF(allGymnasts!D66=$C$7,allGymnasts!R66,0)","v":""},{"$f":"IF(allGymnasts!D66=$C$7,allGymnasts!W66,0)","v":""},{"$f":"IF(allGymnasts!D66=$C$8,allGymnasts!H66,0)","v":""},{"$f":"IF(allGymnasts!D66=$C$8,allGymnasts!M66,0)","v":""},{"$f":"IF(allGymnasts!D66=$C$8,allGymnasts!R66,0)","v":""},{"$f":"IF(allGymnasts!D66=$C$8,allGymnasts!W66,0)","v":""},{"$f":"IF(allGymnasts!D66=$C$9,allGymnasts!H66,0)","v":""},{"$f":"IF(allGymnasts!D66=$C$9,allGymnasts!M66,0)","v":""},{"$f":"IF(allGymnasts!D66=$C$9,allGymnasts!R66,0)","v":""},{"$f":"IF(allGymnasts!D66=$C$9,allGymnasts!W66,0)","v":""},{"$f":"IF(allGymnasts!D66=$C$10,allGymnasts!H66,0)","v":""},{"$f":"IF(allGymnasts!D66=$C$10,allGymnasts!M66,0)","v":""},{"$f":"IF(allGymnasts!D66=$C$10,allGymnasts!R66,0)","v":""},{"$f":"IF(allGymnasts!D66=$C$10,allGymnasts!W66,0)","v":""},{"$f":"IF(allGymnasts!D66=$C$11,allGymnasts!H66,0)","v":""},{"$f":"IF(allGymnasts!D66=$C$11,allGymnasts!M66,0)","v":""},{"$f":"IF(allGymnasts!D66=$C$11,allGymnasts!R66,0)","v":""},{"$f":"IF(allGymnasts!D66=$C$11,allGymnasts!W66,0)","v":""},{"$f":"IF(allGymnasts!D66=$C$12,allGymnasts!H66,0)","v":""},{"$f":"IF(allGymnasts!D66=$C$12,allGymnasts!M66,0)","v":""},{"$f":"IF(allGymnasts!D66=$C$12,allGymnasts!R66,0)","v":""},{"$f":"IF(allGymnasts!D66=$C$12,allGymnasts!W66,0)","v":""},{"$f":"IF(allGymnasts!D66=$C$13,allGymnasts!H66,0)","v":""},{"$f":"IF(allGymnasts!D66=$C$13,allGymnasts!M66,0)","v":""},{"$f":"IF(allGymnasts!D66=$C$13,allGymnasts!R66,0)","v":""},{"$f":"IF(allGymnasts!D66=$C$13,allGymnasts!W66,0)","v":""},{"$f":"IF(allGymnasts!D66=$C$14,allGymnasts!H66,0)","v":""},{"$f":"IF(allGymnasts!D66=$C$14,allGymnasts!M66,0)","v":""},{"$f":"IF(allGymnasts!D66=$C$14,allGymnasts!R66,0)","v":""},{"$f":"IF(allGymnasts!D66=$C$14,allGymnasts!W66,0)","v":""},{"$f":"IF(allGymnasts!D66=$C$15,allGymnasts!H66,0)","v":""},{"$f":"IF(allGymnasts!D66=$C$15,allGymnasts!M66,0)","v":""},{"$f":"IF(allGymnasts!D66=$C$15,allGymnasts!R66,0)","v":""},{"$f":"IF(allGymnasts!D66=$C$15,allGymnasts!W66,0)","v":""}]
[null,{"$f":"IFERROR(_xlfn.FLOOR.MATH(IF(allGymnasts!A67=\"\",\"\",INDEX(allGymnasts!$Z$4:$Z$33,MATCH(SMALL(allGymnasts!$Z$4:$Z$33,A67),allGymnasts!$Z$4:$Z$33,0)))),\"\")","v":""},null,{"$f":"IF(allGymnasts!A67=\"\",\"\",INDEX(allGymnasts!$A$4:$A$30,MATCH(SMALL(allGymnasts!$Z$4:$Z$33,A67),allGymnasts!$Z$4:$Z$33,0)))","v":""},{"$f":"IF(allGymnasts!B67=\"\",\"\",INDEX(allGymnasts!$B$4:$B$30,MATCH(SMALL(allGymnasts!$Z$4:$Z$33,A67),allGymnasts!$Z$4:$Z$33,0)))","v":""},{"$f":"IF(allGymnasts!C67=\"\",\"\",INDEX(allGymnasts!$C$4:$C$30,MATCH(SMALL(allGymnasts!$Z$4:$Z$33,A67),allGymnasts!$Z$4:$Z$33,0)))","v":""},{"$f":"IF(allGymnasts!D67=\"\",\"\",INDEX(allGymnasts!$D$4:$D$30,MATCH(SMALL(allGymnasts!$Z$4:$Z$33,A67),allGymnasts!$Z$4:$Z$33,0)))","v":""},{"$f":"IF(allGymnasts!E67=\"\",\"\",INDEX(allGymnasts!$J$4:$J$33,MATCH(SMALL(allGymnasts!$N$4:$N$33,A67),allGymnasts!$N$4:$N$33,0)))","v":""},{"$f":"IF(allGymnasts!F67=\"\",\"\",INDEX(allGymnasts!$K$4:$K$33,MATCH(SMALL(allGymnasts!$N$4:$N$33,A67),allGymnasts!$N$4:$N$33,0)))","v":""},{"$f":"IF(allGymnasts!G67=\"\",\"\",INDEX(allGymnasts!$L$4:$L$33,MATCH(SMALL(allGymnasts!$N$4:$N$33,A67),allGymnasts!$N$4:$N$33,0)))","v":""},{"$f":"IF(allGymnasts!H67=\"\",\"\",INDEX(allGymnasts!$Y$4:$Y$33,MATCH(SMALL(allGymnasts!$Z$4:$Z$33,A67),allGymnasts!$Z$4:$Z$33,0)))","v":""},null,null,null,{"$f":"IF(allGymnasts!D67=$C$4,allGymnasts!H67,0)","v":""},{"$f":"IF(allGymnasts!D67=$C$4,allGymnasts!M67,0)","v":""},{"$f":"IF(allGymnasts!D67=$C$4,allGymnasts!R67,0)","v":""},{"$f":"IF(allGymnasts!D67=$C$4,allGymnasts!W67,0)","v":""},{"$f":"IF(allGymnasts!D67=$C$5,allGymnasts!H67,0)","v":""},{"$f":"IF(allGymnasts!D67=$C$5,allGymnasts!M67,0)","v":""},{"$f":"IF(allGymnasts!D67=$C$5,allGymnasts!R67,0)","v":""},{"$f":"IF(allGymnasts!D67=$C$5,allGymnasts!W67,0)","v":""},{"$f":"IF(allGymnasts!D67=$C$6,allGymnasts!H67,0)","v":""},{"$f":"IF(allGymnasts!D67=$C$6,allGymnasts!M67,0)","v":""},{"$f":"IF(allGymnasts!D67=$C$6,allGymnasts!R67,0)","v":""},{"$f":"IF(allGymnasts!D67=$C$6,allGymnasts!W67,0)","v":""},{"$f":"IF(allGymnasts!D67=$C$7,allGymnasts!H67,0)","v":""},{"$f":"IF(allGymnasts!D67=$C$7,allGymnasts!M67,0)","v":""},{"$f":"IF(allGymnasts!D67=$C$7,allGymnasts!R67,0)","v":""},{"$f":"IF(allGymnasts!D67=$C$7,allGymnasts!W67,0)","v":""},{"$f":"IF(allGymnasts!D67=$C$8,allGymnasts!H67,0)","v":""},{"$f":"IF(allGymnasts!D67=$C$8,allGymnasts!M67,0)","v":""},{"$f":"IF(allGymnasts!D67=$C$8,allGymnasts!R67,0)","v":""},{"$f":"IF(allGymnasts!D67=$C$8,allGymnasts!W67,0)","v":""},{"$f":"IF(allGymnasts!D67=$C$9,allGymnasts!H67,0)","v":""},{"$f":"IF(allGymnasts!D67=$C$9,allGymnasts!M67,0)","v":""},{"$f":"IF(allGymnasts!D67=$C$9,allGymnasts!R67,0)","v":""},{"$f":"IF(allGymnasts!D67=$C$9,allGymnasts!W67,0)","v":""},{"$f":"IF(allGymnasts!D67=$C$10,allGymnasts!H67,0)","v":""},{"$f":"IF(allGymnasts!D67=$C$10,allGymnasts!M67,0)","v":""},{"$f":"IF(allGymnasts!D67=$C$10,allGymnasts!R67,0)","v":""},{"$f":"IF(allGymnasts!D67=$C$10,allGymnasts!W67,0)","v":""},{"$f":"IF(allGymnasts!D67=$C$11,allGymnasts!H67,0)","v":""},{"$f":"IF(allGymnasts!D67=$C$11,allGymnasts!M67,0)","v":""},{"$f":"IF(allGymnasts!D67=$C$11,allGymnasts!R67,0)","v":""},{"$f":"IF(allGymnasts!D67=$C$11,allGymnasts!W67,0)","v":""},{"$f":"IF(allGymnasts!D67=$C$12,allGymnasts!H67,0)","v":""},{"$f":"IF(allGymnasts!D67=$C$12,allGymnasts!M67,0)","v":""},{"$f":"IF(allGymnasts!D67=$C$12,allGymnasts!R67,0)","v":""},{"$f":"IF(allGymnasts!D67=$C$12,allGymnasts!W67,0)","v":""},{"$f":"IF(allGymnasts!D67=$C$13,allGymnasts!H67,0)","v":""},{"$f":"IF(allGymnasts!D67=$C$13,allGymnasts!M67,0)","v":""},{"$f":"IF(allGymnasts!D67=$C$13,allGymnasts!R67,0)","v":""},{"$f":"IF(allGymnasts!D67=$C$13,allGymnasts!W67,0)","v":""},{"$f":"IF(allGymnasts!D67=$C$14,allGymnasts!H67,0)","v":""},{"$f":"IF(allGymnasts!D67=$C$14,allGymnasts!M67,0)","v":""},{"$f":"IF(allGymnasts!D67=$C$14,allGymnasts!R67,0)","v":""},{"$f":"IF(allGymnasts!D67=$C$14,allGymnasts!W67,0)","v":""},{"$f":"IF(allGymnasts!D67=$C$15,allGymnasts!H67,0)","v":""},{"$f":"IF(allGymnasts!D67=$C$15,allGymnasts!M67,0)","v":""},{"$f":"IF(allGymnasts!D67=$C$15,allGymnasts!R67,0)","v":""},{"$f":"IF(allGymnasts!D67=$C$15,allGymnasts!W67,0)","v":""}]
[null,{"$f":"IFERROR(_xlfn.FLOOR.MATH(IF(allGymnasts!A68=\"\",\"\",INDEX(allGymnasts!$Z$4:$Z$33,MATCH(SMALL(allGymnasts!$Z$4:$Z$33,A68),allGymnasts!$Z$4:$Z$33,0)))),\"\")","v":""},null,{"$f":"IF(allGymnasts!A68=\"\",\"\",INDEX(allGymnasts!$A$4:$A$30,MATCH(SMALL(allGymnasts!$Z$4:$Z$33,A68),allGymnasts!$Z$4:$Z$33,0)))","v":""},{"$f":"IF(allGymnasts!B68=\"\",\"\",INDEX(allGymnasts!$B$4:$B$30,MATCH(SMALL(allGymnasts!$Z$4:$Z$33,A68),allGymnasts!$Z$4:$Z$33,0)))","v":""},{"$f":"IF(allGymnasts!C68=\"\",\"\",INDEX(allGymnasts!$C$4:$C$30,MATCH(SMALL(allGymnasts!$Z$4:$Z$33,A68),allGymnasts!$Z$4:$Z$33,0)))","v":""},{"$f":"IF(allGymnasts!D68=\"\",\"\",INDEX(allGymnasts!$D$4:$D$30,MATCH(SMALL(allGymnasts!$Z$4:$Z$33,A68),allGymnasts!$Z$4:$Z$33,0)))","v":""},{"$f":"IF(allGymnasts!E68=\"\",\"\",INDEX(allGymnasts!$J$4:$J$33,MATCH(SMALL(allGymnasts!$N$4:$N$33,A68),allGymnasts!$N$4:$N$33,0)))","v":""},{"$f":"IF(allGymnasts!F68=\"\",\"\",INDEX(allGymnasts!$K$4:$K$33,MATCH(SMALL(allGymnasts!$N$4:$N$33,A68),allGymnasts!$N$4:$N$33,0)))","v":""},{"$f":"IF(allGymnasts!G68=\"\",\"\",INDEX(allGymnasts!$L$4:$L$33,MATCH(SMALL(allGymnasts!$N$4:$N$33,A68),allGymnasts!$N$4:$N$33,0)))","v":""},{"$f":"IF(allGymnasts!H68=\"\",\"\",INDEX(allGymnasts!$Y$4:$Y$33,MATCH(SMALL(allGymnasts!$Z$4:$Z$33,A68),allGymnasts!$Z$4:$Z$33,0)))","v":""},null,null,null,{"$f":"IF(allGymnasts!D68=$C$4,allGymnasts!H68,0)","v":""},{"$f":"IF(allGymnasts!D68=$C$4,allGymnasts!M68,0)","v":""},{"$f":"IF(allGymnasts!D68=$C$4,allGymnasts!R68,0)","v":""},{"$f":"IF(allGymnasts!D68=$C$4,allGymnasts!W68,0)","v":""},{"$f":"IF(allGymnasts!D68=$C$5,allGymnasts!H68,0)","v":""},{"$f":"IF(allGymnasts!D68=$C$5,allGymnasts!M68,0)","v":""},{"$f":"IF(allGymnasts!D68=$C$5,allGymnasts!R68,0)","v":""},{"$f":"IF(allGymnasts!D68=$C$5,allGymnasts!W68,0)","v":""},{"$f":"IF(allGymnasts!D68=$C$6,allGymnasts!H68,0)","v":""},{"$f":"IF(allGymnasts!D68=$C$6,allGymnasts!M68,0)","v":""},{"$f":"IF(allGymnasts!D68=$C$6,allGymnasts!R68,0)","v":""},{"$f":"IF(allGymnasts!D68=$C$6,allGymnasts!W68,0)","v":""},{"$f":"IF(allGymnasts!D68=$C$7,allGymnasts!H68,0)","v":""},{"$f":"IF(allGymnasts!D68=$C$7,allGymnasts!M68,0)","v":""},{"$f":"IF(allGymnasts!D68=$C$7,allGymnasts!R68,0)","v":""},{"$f":"IF(allGymnasts!D68=$C$7,allGymnasts!W68,0)","v":""},{"$f":"IF(allGymnasts!D68=$C$8,allGymnasts!H68,0)","v":""},{"$f":"IF(allGymnasts!D68=$C$8,allGymnasts!M68,0)","v":""},{"$f":"IF(allGymnasts!D68=$C$8,allGymnasts!R68,0)","v":""},{"$f":"IF(allGymnasts!D68=$C$8,allGymnasts!W68,0)","v":""},{"$f":"IF(allGymnasts!D68=$C$9,allGymnasts!H68,0)","v":""},{"$f":"IF(allGymnasts!D68=$C$9,allGymnasts!M68,0)","v":""},{"$f":"IF(allGymnasts!D68=$C$9,allGymnasts!R68,0)","v":""},{"$f":"IF(allGymnasts!D68=$C$9,allGymnasts!W68,0)","v":""},{"$f":"IF(allGymnasts!D68=$C$10,allGymnasts!H68,0)","v":""},{"$f":"IF(allGymnasts!D68=$C$10,allGymnasts!M68,0)","v":""},{"$f":"IF(allGymnasts!D68=$C$10,allGymnasts!R68,0)","v":""},{"$f":"IF(allGymnasts!D68=$C$10,allGymnasts!W68,0)","v":""},{"$f":"IF(allGymnasts!D68=$C$11,allGymnasts!H68,0)","v":""},{"$f":"IF(allGymnasts!D68=$C$11,allGymnasts!M68,0)","v":""},{"$f":"IF(allGymnasts!D68=$C$11,allGymnasts!R68,0)","v":""},{"$f":"IF(allGymnasts!D68=$C$11,allGymnasts!W68,0)","v":""},{"$f":"IF(allGymnasts!D68=$C$12,allGymnasts!H68,0)","v":""},{"$f":"IF(allGymnasts!D68=$C$12,allGymnasts!M68,0)","v":""},{"$f":"IF(allGymnasts!D68=$C$12,allGymnasts!R68,0)","v":""},{"$f":"IF(allGymnasts!D68=$C$12,allGymnasts!W68,0)","v":""},{"$f":"IF(allGymnasts!D68=$C$13,allGymnasts!H68,0)","v":""},{"$f":"IF(allGymnasts!D68=$C$13,allGymnasts!M68,0)","v":""},{"$f":"IF(allGymnasts!D68=$C$13,allGymnasts!R68,0)","v":""},{"$f":"IF(allGymnasts!D68=$C$13,allGymnasts!W68,0)","v":""},{"$f":"IF(allGymnasts!D68=$C$14,allGymnasts!H68,0)","v":""},{"$f":"IF(allGymnasts!D68=$C$14,allGymnasts!M68,0)","v":""},{"$f":"IF(allGymnasts!D68=$C$14,allGymnasts!R68,0)","v":""},{"$f":"IF(allGymnasts!D68=$C$14,allGymnasts!W68,0)","v":""},{"$f":"IF(allGymnasts!D68=$C$15,allGymnasts!H68,0)","v":""},{"$f":"IF(allGymnasts!D68=$C$15,allGymnasts!M68,0)","v":""},{"$f":"IF(allGymnasts!D68=$C$15,allGymnasts!R68,0)","v":""},{"$f":"IF(allGymnasts!D68=$C$15,allGymnasts!W68,0)","v":""}]
[null,{"$f":"IFERROR(_xlfn.FLOOR.MATH(IF(allGymnasts!A69=\"\",\"\",INDEX(allGymnasts!$Z$4:$Z$33,MATCH(SMALL(allGymnasts!$Z$4:$Z$33,A69),allGymnasts!$Z$4:$Z$33,0)))),\"\")","v":""},null,{"$f":"IF(allGymnasts!A69=\"\",\"\",INDEX(allGymnasts!$A$4:$A$30,MATCH(SMALL(allGymnasts!$Z$4:$Z$33,A69),allGymnasts!$Z$4:$Z$33,0)))","v":""},{"$f":"IF(allGymnasts!B69=\"\",\"\",INDEX(allGymnasts!$B$4:$B$30,MATCH(SMALL(allGymnasts!$Z$4:$Z$33,A69),allGymnasts!$Z$4:$Z$33,0)))","v":""},{"$f":"IF(allGymnasts!C69=\"\",\"\",INDEX(allGymnasts!$C$4:$C$30,MATCH(SMALL(allGymnasts!$Z$4:$Z$33,A69),allGymnasts!$Z$4:$Z$33,0)))","v":""},{"$f":"IF(allGymnasts!D69=\"\",\"\",INDEX(allGymnasts!$D$4:$D$30,MATCH(SMALL(allGymnasts!$Z$4:$Z$33,A69),allGymnasts!$Z$4:$Z$33,0)))","v":""},{"$f":"IF(allGymnasts!E69=\"\",\"\",INDEX(allGymnasts!$J$4:$J$33,MATCH(SMALL(allGymnasts!$N$4:$N$33,A69),allGymnasts!$N$4:$N$33,0)))","v":""},{"$f":"IF(allGymnasts!F69=\"\",\"\",INDEX(allGymnasts!$K$4:$K$33,MATCH(SMALL(allGymnasts!$N$4:$N$33,A69),allGymnasts!$N$4:$N$33,0)))","v":""},{"$f":"IF(allGymnasts!G69=\"\",\"\",INDEX(allGymnasts!$L$4:$L$33,MATCH(SMALL(allGymnasts!$N$4:$N$33,A69),allGymnasts!$N$4:$N$33,0)))","v":""},{"$f":"IF(allGymnasts!H69=\"\",\"\",INDEX(allGymnasts!$Y$4:$Y$33,MATCH(SMALL(allGymnasts!$Z$4:$Z$33,A69),allGymnasts!$Z$4:$Z$33,0)))","v":""},null,null,null,{"$f":"IF(allGymnasts!D69=$C$4,allGymnasts!H69,0)","v":""},{"$f":"IF(allGymnasts!D69=$C$4,allGymnasts!M69,0)","v":""},{"$f":"IF(allGymnasts!D69=$C$4,allGymnasts!R69,0)","v":""},{"$f":"IF(allGymnasts!D69=$C$4,allGymnasts!W69,0)","v":""},{"$f":"IF(allGymnasts!D69=$C$5,allGymnasts!H69,0)","v":""},{"$f":"IF(allGymnasts!D69=$C$5,allGymnasts!M69,0)","v":""},{"$f":"IF(allGymnasts!D69=$C$5,allGymnasts!R69,0)","v":""},{"$f":"IF(allGymnasts!D69=$C$5,allGymnasts!W69,0)","v":""},{"$f":"IF(allGymnasts!D69=$C$6,allGymnasts!H69,0)","v":""},{"$f":"IF(allGymnasts!D69=$C$6,allGymnasts!M69,0)","v":""},{"$f":"IF(allGymnasts!D69=$C$6,allGymnasts!R69,0)","v":""},{"$f":"IF(allGymnasts!D69=$C$6,allGymnasts!W69,0)","v":""},{"$f":"IF(allGymnasts!D69=$C$7,allGymnasts!H69,0)","v":""},{"$f":"IF(allGymnasts!D69=$C$7,allGymnasts!M69,0)","v":""},{"$f":"IF(allGymnasts!D69=$C$7,allGymnasts!R69,0)","v":""},{"$f":"IF(allGymnasts!D69=$C$7,allGymnasts!W69,0)","v":""},{"$f":"IF(allGymnasts!D69=$C$8,allGymnasts!H69,0)","v":""},{"$f":"IF(allGymnasts!D69=$C$8,allGymnasts!M69,0)","v":""},{"$f":"IF(allGymnasts!D69=$C$8,allGymnasts!R69,0)","v":""},{"$f":"IF(allGymnasts!D69=$C$8,allGymnasts!W69,0)","v":""},{"$f":"IF(allGymnasts!D69=$C$9,allGymnasts!H69,0)","v":""},{"$f":"IF(allGymnasts!D69=$C$9,allGymnasts!M69,0)","v":""},{"$f":"IF(allGymnasts!D69=$C$9,allGymnasts!R69,0)","v":""},{"$f":"IF(allGymnasts!D69=$C$9,allGymnasts!W69,0)","v":""},{"$f":"IF(allGymnasts!D69=$C$10,allGymnasts!H69,0)","v":""},{"$f":"IF(allGymnasts!D69=$C$10,allGymnasts!M69,0)","v":""},{"$f":"IF(allGymnasts!D69=$C$10,allGymnasts!R69,0)","v":""},{"$f":"IF(allGymnasts!D69=$C$10,allGymnasts!W69,0)","v":""},{"$f":"IF(allGymnasts!D69=$C$11,allGymnasts!H69,0)","v":""},{"$f":"IF(allGymnasts!D69=$C$11,allGymnasts!M69,0)","v":""},{"$f":"IF(allGymnasts!D69=$C$11,allGymnasts!R69,0)","v":""},{"$f":"IF(allGymnasts!D69=$C$11,allGymnasts!W69,0)","v":""},{"$f":"IF(allGymnasts!D69=$C$12,allGymnasts!H69,0)","v":""},{"$f":"IF(allGymnasts!D69=$C$12,allGymnasts!M69,0)","v":""},{"$f":"IF(allGymnasts!D69=$C$12,allGymnasts!R69,0)","v":""},{"$f":"IF(allGymnasts!D69=$C$12,allGymnasts!W69,0)","v":""},{"$f":"IF(allGymnasts!D69=$C$13,allGymnasts!H69,0)","v":""},{"$f":"IF(allGymnasts!D69=$C$13,allGymnasts!M69,0)","v":""},{"$f":"IF(allGymnasts!D69=$C$13,allGymnasts!R69,0)","v":""},{"$f":"IF(allGymnasts!D69=$C$13,allGymnasts!W69,0)","v":""},{"$f":"IF(allGymnasts!D69=$C$14,allGymnasts!H69,0)","v":""},{"$f":"IF(allGymnasts!D69=$C$14,allGymnasts!M69,0)","v":""},{"$f":"IF(allGymnasts!D69=$C$14,allGymnasts!R69,0)","v":""},{"$f":"IF(allGymnasts!D69=$C$14,allGymnasts!W69,0)","v":""},{"$f":"IF(allGymnasts!D69=$C$15,allGymnasts!H69,0)","v":""},{"$f":"IF(allGymnasts!D69=$C$15,allGymnasts!M69,0)","v":""},{"$f":"IF(allGymnasts!D69=$C$15,allGymnasts!R69,0)","v":""},{"$f":"IF(allGymnasts!D69=$C$15,allGymnasts!W69,0)","v":""}]
[null,{"$f":"IFERROR(_xlfn.FLOOR.MATH(IF(allGymnasts!A70=\"\",\"\",INDEX(allGymnasts!$Z$4:$Z$33,MATCH(SMALL(allGymnasts!$Z$4:$Z$33,A70),allGymnasts!$Z$4:$Z$33,0)))),\"\")","v":""},null,{"$f":"IF(allGymnasts!A70=\"\",\"\",INDEX(allGymnasts!$A$4:$A$30,MATCH(SMALL(allGymnasts!$Z$4:$Z$33,A70),allGymnasts!$Z$4:$Z$33,0)))","v":""},{"$f":"IF(allGymnasts!B70=\"\",\"\",INDEX(allGymnasts!$B$4:$B$30,MATCH(SMALL(allGymnasts!$Z$4:$Z$33,A70),allGymnasts!$Z$4:$Z$33,0)))","v":""},{"$f":"IF(allGymnasts!C70=\"\",\"\",INDEX(allGymnasts!$C$4:$C$30,MATCH(SMALL(allGymnasts!$Z$4:$Z$33,A70),allGymnasts!$Z$4:$Z$33,0)))","v":""},{"$f":"IF(allGymnasts!D70=\"\",\"\",INDEX(allGymnasts!$D$4:$D$30,MATCH(SMALL(allGymnasts!$Z$4:$Z$33,A70),allGymnasts!$Z$4:$Z$33,0)))","v":""},{"$f":"IF(allGymnasts!E70=\"\",\"\",INDEX(allGymnasts!$J$4:$J$33,MATCH(SMALL(allGymnasts!$N$4:$N$33,A70),allGymnasts!$N$4:$N$33,0)))","v":""},{"$f":"IF(allGymnasts!F70=\"\",\"\",INDEX(allGymnasts!$K$4:$K$33,MATCH(SMALL(allGymnasts!$N$4:$N$33,A70),allGymnasts!$N$4:$N$33,0)))","v":""},{"$f":"IF(allGymnasts!G70=\"\",\"\",INDEX(allGymnasts!$L$4:$L$33,MATCH(SMALL(allGymnasts!$N$4:$N$33,A70),allGymnasts!$N$4:$N$33,0)))","v":""},{"$f":"IF(allGymnasts!H70=\"\",\"\",INDEX(allGymnasts!$Y$4:$Y$33,MATCH(SMALL(allGymnasts!$Z$4:$Z$33,A70),allGymnasts!$Z$4:$Z$33,0)))","v":""},null,null,null,{"$f":"IF(allGymnasts!D70=$C$4,allGymnasts!H70,0)","v":""},{"$f":"IF(allGymnasts!D70=$C$4,allGymnasts!M70,0)","v":""},{"$f":"IF(allGymnasts!D70=$C$4,allGymnasts!R70,0)","v":""},{"$f":"IF(allGymnasts!D70=$C$4,allGymnasts!W70,0)","v":""},{"$f":"IF(allGymnasts!D70=$C$5,allGymnasts!H70,0)","v":""},{"$f":"IF(allGymnasts!D70=$C$5,allGymnasts!M70,0)","v":""},{"$f":"IF(allGymnasts!D70=$C$5,allGymnasts!R70,0)","v":""},{"$f":"IF(allGymnasts!D70=$C$5,allGymnasts!W70,0)","v":""},{"$f":"IF(allGymnasts!D70=$C$6,allGymnasts!H70,0)","v":""},{"$f":"IF(allGymnasts!D70=$C$6,allGymnasts!M70,0)","v":""},{"$f":"IF(allGymnasts!D70=$C$6,allGymnasts!R70,0)","v":""},{"$f":"IF(allGymnasts!D70=$C$6,allGymnasts!W70,0)","v":""},{"$f":"IF(allGymnasts!D70=$C$7,allGymnasts!H70,0)","v":""},{"$f":"IF(allGymnasts!D70=$C$7,allGymnasts!M70,0)","v":""},{"$f":"IF(allGymnasts!D70=$C$7,allGymnasts!R70,0)","v":""},{"$f":"IF(allGymnasts!D70=$C$7,allGymnasts!W70,0)","v":""},{"$f":"IF(allGymnasts!D70=$C$8,allGymnasts!H70,0)","v":""},{"$f":"IF(allGymnasts!D70=$C$8,allGymnasts!M70,0)","v":""},{"$f":"IF(allGymnasts!D70=$C$8,allGymnasts!R70,0)","v":""},{"$f":"IF(allGymnasts!D70=$C$8,allGymnasts!W70,0)","v":""},{"$f":"IF(allGymnasts!D70=$C$9,allGymnasts!H70,0)","v":""},{"$f":"IF(allGymnasts!D70=$C$9,allGymnasts!M70,0)","v":""},{"$f":"IF(allGymnasts!D70=$C$9,allGymnasts!R70,0)","v":""},{"$f":"IF(allGymnasts!D70=$C$9,allGymnasts!W70,0)","v":""},{"$f":"IF(allGymnasts!D70=$C$10,allGymnasts!H70,0)","v":""},{"$f":"IF(allGymnasts!D70=$C$10,allGymnasts!M70,0)","v":""},{"$f":"IF(allGymnasts!D70=$C$10,allGymnasts!R70,0)","v":""},{"$f":"IF(allGymnasts!D70=$C$10,allGymnasts!W70,0)","v":""},{"$f":"IF(allGymnasts!D70=$C$11,allGymnasts!H70,0)","v":""},{"$f":"IF(allGymnasts!D70=$C$11,allGymnasts!M70,0)","v":""},{"$f":"IF(allGymnasts!D70=$C$11,allGymnasts!R70,0)","v":""},{"$f":"IF(allGymnasts!D70=$C$11,allGymnasts!W70,0)","v":""},{"$f":"IF(allGymnasts!D70=$C$12,allGymnasts!H70,0)","v":""},{"$f":"IF(allGymnasts!D70=$C$12,allGymnasts!M70,0)","v":""},{"$f":"IF(allGymnasts!D70=$C$12,allGymnasts!R70,0)","v":""},{"$f":"IF(allGymnasts!D70=$C$12,allGymnasts!W70,0)","v":""},{"$f":"IF(allGymnasts!D70=$C$13,allGymnasts!H70,0)","v":""},{"$f":"IF(allGymnasts!D70=$C$13,allGymnasts!M70,0)","v":""},{"$f":"IF(allGymnasts!D70=$C$13,allGymnasts!R70,0)","v":""},{"$f":"IF(allGymnasts!D70=$C$13,allGymnasts!W70,0)","v":""},{"$f":"IF(allGymnasts!D70=$C$14,allGymnasts!H70,0)","v":""},{"$f":"IF(allGymnasts!D70=$C$14,allGymnasts!M70,0)","v":""},{"$f":"IF(allGymnasts!D70=$C$14,allGymnasts!R70,0)","v":""},{"$f":"IF(allGymnasts!D70=$C$14,allGymnasts!W70,0)","v":""},{"$f":"IF(allGymnasts!D70=$C$15,allGymnasts!H70,0)","v":""},{"$f":"IF(allGymnasts!D70=$C$15,allGymnasts!M70,0)","v":""},{"$f":"IF(allGymnasts!D70=$C$15,allGymnasts!R70,0)","v":""},{"$f":"IF(allGymnasts!D70=$C$15,allGymnasts!W70,0)","v":""}]
[null,{"$f":"IFERROR(_xlfn.FLOOR.MATH(IF(allGymnasts!A71=\"\",\"\",INDEX(allGymnasts!$Z$4:$Z$33,MATCH(SMALL(allGymnasts!$Z$4:$Z$33,A71),allGymnasts!$Z$4:$Z$33,0)))),\"\")","v":""},null,{"$f":"IF(allGymnasts!A71=\"\",\"\",INDEX(allGymnasts!$A$4:$A$30,MATCH(SMALL(allGymnasts!$Z$4:$Z$33,A71),allGymnasts!$Z$4:$Z$33,0)))","v":""},{"$f":"IF(allGymnasts!B71=\"\",\"\",INDEX(allGymnasts!$B$4:$B$30,MATCH(SMALL(allGymnasts!$Z$4:$Z$33,A71),allGymnasts!$Z$4:$Z$33,0)))","v":""},{"$f":"IF(allGymnasts!C71=\"\",\"\",INDEX(allGymnasts!$C$4:$C$30,MATCH(SMALL(allGymnasts!$Z$4:$Z$33,A71),allGymnasts!$Z$4:$Z$33,0)))","v":""},{"$f":"IF(allGymnasts!D71=\"\",\"\",INDEX(allGymnasts!$D$4:$D$30,MATCH(SMALL(allGymnasts!$Z$4:$Z$33,A71),allGymnasts!$Z$4:$Z$33,0)))","v":""},{"$f":"IF(allGymnasts!E71=\"\",\"\",INDEX(allGymnasts!$J$4:$J$33,MATCH(SMALL(allGymnasts!$N$4:$N$33,A71),allGymnasts!$N$4:$N$33,0)))","v":""},{"$f":"IF(allGymnasts!F71=\"\",\"\",INDEX(allGymnasts!$K$4:$K$33,MATCH(SMALL(allGymnasts!$N$4:$N$33,A71),allGymnasts!$N$4:$N$33,0)))","v":""},{"$f":"IF(allGymnasts!G71=\"\",\"\",INDEX(allGymnasts!$L$4:$L$33,MATCH(SMALL(allGymnasts!$N$4:$N$33,A71),allGymnasts!$N$4:$N$33,0)))","v":""},{"$f":"IF(allGymnasts!H71=\"\",\"\",INDEX(allGymnasts!$Y$4:$Y$33,MATCH(SMALL(allGymnasts!$Z$4:$Z$33,A71),allGymnasts!$Z$4:$Z$33,0)))","v":""},null,null,null,{"$f":"IF(allGymnasts!D71=$C$4,allGymnasts!H71,0)","v":""},{"$f":"IF(allGymnasts!D71=$C$4,allGymnasts!M71,0)","v":""},{"$f":"IF(allGymnasts!D71=$C$4,allGymnasts!R71,0)","v":""},{"$f":"IF(allGymnasts!D71=$C$4,allGymnasts!W71,0)","v":""},{"$f":"IF(allGymnasts!D71=$C$5,allGymnasts!H71,0)","v":""},{"$f":"IF(allGymnasts!D71=$C$5,allGymnasts!M71,0)","v":""},{"$f":"IF(allGymnasts!D71=$C$5,allGymnasts!R71,0)","v":""},{"$f":"IF(allGymnasts!D71=$C$5,allGymnasts!W71,0)","v":""},{"$f":"IF(allGymnasts!D71=$C$6,allGymnasts!H71,0)","v":""},{"$f":"IF(allGymnasts!D71=$C$6,allGymnasts!M71,0)","v":""},{"$f":"IF(allGymnasts!D71=$C$6,allGymnasts!R71,0)","v":""},{"$f":"IF(allGymnasts!D71=$C$6,allGymnasts!W71,0)","v":""},{"$f":"IF(allGymnasts!D71=$C$7,allGymnasts!H71,0)","v":""},{"$f":"IF(allGymnasts!D71=$C$7,allGymnasts!M71,0)","v":""},{"$f":"IF(allGymnasts!D71=$C$7,allGymnasts!R71,0)","v":""},{"$f":"IF(allGymnasts!D71=$C$7,allGymnasts!W71,0)","v":""},{"$f":"IF(allGymnasts!D71=$C$8,allGymnasts!H71,0)","v":""},{"$f":"IF(allGymnasts!D71=$C$8,allGymnasts!M71,0)","v":""},{"$f":"IF(allGymnasts!D71=$C$8,allGymnasts!R71,0)","v":""},{"$f":"IF(allGymnasts!D71=$C$8,allGymnasts!W71,0)","v":""},{"$f":"IF(allGymnasts!D71=$C$9,allGymnasts!H71,0)","v":""},{"$f":"IF(allGymnasts!D71=$C$9,allGymnasts!M71,0)","v":""},{"$f":"IF(allGymnasts!D71=$C$9,allGymnasts!R71,0)","v":""},{"$f":"IF(allGymnasts!D71=$C$9,allGymnasts!W71,0)","v":""},{"$f":"IF(allGymnasts!D71=$C$10,allGymnasts!H71,0)","v":""},{"$f":"IF(allGymnasts!D71=$C$10,allGymnasts!M71,0)","v":""},{"$f":"IF(allGymnasts!D71=$C$10,allGymnasts!R71,0)","v":""},{"$f":"IF(allGymnasts!D71=$C$10,allGymnasts!W71,0)","v":""},{"$f":"IF(allGymnasts!D71=$C$11,allGymnasts!H71,0)","v":""},{"$f":"IF(allGymnasts!D71=$C$11,allGymnasts!M71,0)","v":""},{"$f":"IF(allGymnasts!D71=$C$11,allGymnasts!R71,0)","v":""},{"$f":"IF(allGymnasts!D71=$C$11,allGymnasts!W71,0)","v":""},{"$f":"IF(allGymnasts!D71=$C$12,allGymnasts!H71,0)","v":""},{"$f":"IF(allGymnasts!D71=$C$12,allGymnasts!M71,0)","v":""},{"$f":"IF(allGymnasts!D71=$C$12,allGymnasts!R71,0)","v":""},{"$f":"IF(allGymnasts!D71=$C$12,allGymnasts!W71,0)","v":""},{"$f":"IF(allGymnasts!D71=$C$13,allGymnasts!H71,0)","v":""},{"$f":"IF(allGymnasts!D71=$C$13,allGymnasts!M71,0)","v":""},{"$f":"IF(allGymnasts!D71=$C$13,allGymnasts!R71,0)","v":""},{"$f":"IF(allGymnasts!D71=$C$13,allGymnasts!W71,0)","v":""},{"$f":"IF(allGymnasts!D71=$C$14,allGymnasts!H71,0)","v":""},{"$f":"IF(allGymnasts!D71=$C$14,allGymnasts!M71,0)","v":""},{"$f":"IF(allGymnasts!D71=$C$14,allGymnasts!R71,0)","v":""},{"$f":"IF(allGymnasts!D71=$C$14,allGymnasts!W71,0)","v":""},{"$f":"IF(allGymnasts!D71=$C$15,allGymnasts!H71,0)","v":""},{"$f":"IF(allGymnasts!D71=$C$15,allGymnasts!M71,0)","v":""},{"$f":"IF(allGymnasts!D71=$C$15,allGymnasts!R71,0)","v":""},{"$f":"IF(allGymnasts!D71=$C$15,allGymnasts!W71,0)","v":""}]
[null,{"$f":"IFERROR(_xlfn.FLOOR.MATH(IF(allGymnasts!A72=\"\",\"\",INDEX(allGymnasts!$Z$4:$Z$33,MATCH(SMALL(allGymnasts!$Z$4:$Z$33,A72),allGymnasts!$Z$4:$Z$33,0)))),\"\")","v":""},null,{"$f":"IF(allGymnasts!A72=\"\",\"\",INDEX(allGymnasts!$A$4:$A$30,MATCH(SMALL(allGymnasts!$Z$4:$Z$33,A72),allGymnasts!$Z$4:$Z$33,0)))","v":""},{"$f":"IF(allGymnasts!B72=\"\",\"\",INDEX(allGymnasts!$B$4:$B$30,MATCH(SMALL(allGymnasts!$Z$4:$Z$33,A72),allGymnasts!$Z$4:$Z$33,0)))","v":""},{"$f":"IF(allGymnasts!C72=\"\",\"\",INDEX(allGymnasts!$C$4:$C$30,MATCH(SMALL(allGymnasts!$Z$4:$Z$33,A72),allGymnasts!$Z$4:$Z$33,0)))","v":""},{"$f":"IF(allGymnasts!D72=\"\",\"\",INDEX(allGymnasts!$D$4:$D$30,MATCH(SMALL(allGymnasts!$Z$4:$Z$33,A72),allGymnasts!$Z$4:$Z$33,0)))","v":""},{"$f":"IF(allGymnasts!E72=\"\",\"\",INDEX(allGymnasts!$J$4:$J$33,MATCH(SMALL(allGymnasts!$N$4:$N$33,A72),allGymnasts!$N$4:$N$33,0)))","v":""},{"$f":"IF(allGymnasts!F72=\"\",\"\",INDEX(allGymnasts!$K$4:$K$33,MATCH(SMALL(allGymnasts!$N$4:$N$33,A72),allGymnasts!$N$4:$N$33,0)))","v":""},{"$f":"IF(allGymnasts!G72=\"\",\"\",INDEX(allGymnasts!$L$4:$L$33,MATCH(SMALL(allGymnasts!$N$4:$N$33,A72),allGymnasts!$N$4:$N$33,0)))","v":""},{"$f":"IF(allGymnasts!H72=\"\",\"\",INDEX(allGymnasts!$Y$4:$Y$33,MATCH(SMALL(allGymnasts!$Z$4:$Z$33,A72),allGymnasts!$Z$4:$Z$33,0)))","v":""},null,null,null,{"$f":"IF(allGymnasts!D72=$C$4,allGymnasts!H72,0)","v":""},{"$f":"IF(allGymnasts!D72=$C$4,allGymnasts!M72,0)","v":""},{"$f":"IF(allGymnasts!D72=$C$4,allGymnasts!R72,0)","v":""},{"$f":"IF(allGymnasts!D72=$C$4,allGymnasts!W72,0)","v":""},{"$f":"IF(allGymnasts!D72=$C$5,allGymnasts!H72,0)","v":""},{"$f":"IF(allGymnasts!D72=$C$5,allGymnasts!M72,0)","v":""},{"$f":"IF(allGymnasts!D72=$C$5,allGymnasts!R72,0)","v":""},{"$f":"IF(allGymnasts!D72=$C$5,allGymnasts!W72,0)","v":""},{"$f":"IF(allGymnasts!D72=$C$6,allGymnasts!H72,0)","v":""},{"$f":"IF(allGymnasts!D72=$C$6,allGymnasts!M72,0)","v":""},{"$f":"IF(allGymnasts!D72=$C$6,allGymnasts!R72,0)","v":""},{"$f":"IF(allGymnasts!D72=$C$6,allGymnasts!W72,0)","v":""},{"$f":"IF(allGymnasts!D72=$C$7,allGymnasts!H72,0)","v":""},{"$f":"IF(allGymnasts!D72=$C$7,allGymnasts!M72,0)","v":""},{"$f":"IF(allGymnasts!D72=$C$7,allGymnasts!R72,0)","v":""},{"$f":"IF(allGymnasts!D72=$C$7,allGymnasts!W72,0)","v":""},{"$f":"IF(allGymnasts!D72=$C$8,allGymnasts!H72,0)","v":""},{"$f":"IF(allGymnasts!D72=$C$8,allGymnasts!M72,0)","v":""},{"$f":"IF(allGymnasts!D72=$C$8,allGymnasts!R72,0)","v":""},{"$f":"IF(allGymnasts!D72=$C$8,allGymnasts!W72,0)","v":""},{"$f":"IF(allGymnasts!D72=$C$9,allGymnasts!H72,0)","v":""},{"$f":"IF(allGymnasts!D72=$C$9,allGymnasts!M72,0)","v":""},{"$f":"IF(allGymnasts!D72=$C$9,allGymnasts!R72,0)","v":""},{"$f":"IF(allGymnasts!D72=$C$9,allGymnasts!W72,0)","v":""},{"$f":"IF(allGymnasts!D72=$C$10,allGymnasts!H72,0)","v":""},{"$f":"IF(allGymnasts!D72=$C$10,allGymnasts!M72,0)","v":""},{"$f":"IF(allGymnasts!D72=$C$10,allGymnasts!R72,0)","v":""},{"$f":"IF(allGymnasts!D72=$C$10,allGymnasts!W72,0)","v":""},{"$f":"IF(allGymnasts!D72=$C$11,allGymnasts!H72,0)","v":""},{"$f":"IF(allGymnasts!D72=$C$11,allGymnasts!M72,0)","v":""},{"$f":"IF(allGymnasts!D72=$C$11,allGymnasts!R72,0)","v":""},{"$f":"IF(allGymnasts!D72=$C$11,allGymnasts!W72,0)","v":""},{"$f":"IF(allGymnasts!D72=$C$12,allGymnasts!H72,0)","v":""},{"$f":"IF(allGymnasts!D72=$C$12,allGymnasts!M72,0)","v":""},{"$f":"IF(allGymnasts!D72=$C$12,allGymnasts!R72,0)","v":""},{"$f":"IF(allGymnasts!D72=$C$12,allGymnasts!W72,0)","v":""},{"$f":"IF(allGymnasts!D72=$C$13,allGymnasts!H72,0)","v":""},{"$f":"IF(allGymnasts!D72=$C$13,allGymnasts!M72,0)","v":""},{"$f":"IF(allGymnasts!D72=$C$13,allGymnasts!R72,0)","v":""},{"$f":"IF(allGymnasts!D72=$C$13,allGymnasts!W72,0)","v":""},{"$f":"IF(allGymnasts!D72=$C$14,allGymnasts!H72,0)","v":""},{"$f":"IF(allGymnasts!D72=$C$14,allGymnasts!M72,0)","v":""},{"$f":"IF(allGymnasts!D72=$C$14,allGymnasts!R72,0)","v":""},{"$f":"IF(allGymnasts!D72=$C$14,allGymnasts!W72,0)","v":""},{"$f":"IF(allGymnasts!D72=$C$15,allGymnasts!H72,0)","v":""},{"$f":"IF(allGymnasts!D72=$C$15,allGymnasts!M72,0)","v":""},{"$f":"IF(allGymnasts!D72=$C$15,allGymnasts!R72,0)","v":""},{"$f":"IF(allGymnasts!D72=$C$15,allGymnasts!W72,0)","v":""}]
[null,{"$f":"IFERROR(_xlfn.FLOOR.MATH(IF(allGymnasts!A73=\"\",\"\",INDEX(allGymnasts!$Z$4:$Z$33,MATCH(SMALL(allGymnasts!$Z$4:$Z$33,A73),allGymnasts!$Z$4:$Z$33,0)))),\"\")","v":""},null,{"$f":"IF(allGymnasts!A73=\"\",\"\",INDEX(allGymnasts!$A$4:$A$30,MATCH(SMALL(allGymnasts!$Z$4:$Z$33,A73),allGymnasts!$Z$4:$Z$33,0)))","v":""},{"$f":"IF(allGymnasts!B73=\"\",\"\",INDEX(allGymnasts!$B$4:$B$30,MATCH(SMALL(allGymnasts!$Z$4:$Z$33,A73),allGymnasts!$Z$4:$Z$33,0)))","v":""},{"$f":"IF(allGymnasts!C73=\"\",\"\",INDEX(allGymnasts!$C$4:$C$30,MATCH(SMALL(allGymnasts!$Z$4:$Z$33,A73),allGymnasts!$Z$4:$Z$33,0)))","v":""},{"$f":"IF(allGymnasts!D73=\"\",\"\",INDEX(allGymnasts!$D$4:$D$30,MATCH(SMALL(allGymnasts!$Z$4:$Z$33,A73),allGymnasts!$Z$4:$Z$33,0)))","v":""},{"$f":"IF(allGymnasts!E73=\"\",\"\",INDEX(allGymnasts!$J$4:$J$33,MATCH(SMALL(allGymnasts!$N$4:$N$33,A73),allGymnasts!$N$4:$N$33,0)))","v":""},{"$f":"IF(allGymnasts!F73=\"\",\"\",INDEX(allGymnasts!$K$4:$K$33,MATCH(SMALL(allGymnasts!$N$4:$N$33,A73),allGymnasts!$N$4:$N$33,0)))","v":""},{"$f":"IF(allGymnasts!G73=\"\",\"\",INDEX(allGymnasts!$L$4:$L$33,MATCH(SMALL(allGymnasts!$N$4:$N$33,A73),allGymnasts!$N$4:$N$33,0)))","v":""},{"$f":"IF(allGymnasts!H73=\"\",\"\",INDEX(allGymnasts!$Y$4:$Y$33,MATCH(SMALL(allGymnasts!$Z$4:$Z$33,A73),allGymnasts!$Z$4:$Z$33,0)))","v":""},null,null,null,{"$f":"IF(allGymnasts!D73=$C$4,allGymnasts!H73,0)","v":""},{"$f":"IF(allGymnasts!D73=$C$4,allGymnasts!M73,0)","v":""},{"$f":"IF(allGymnasts!D73=$C$4,allGymnasts!R73,0)","v":""},{"$f":"IF(allGymnasts!D73=$C$4,allGymnasts!W73,0)","v":""},{"$f":"IF(allGymnasts!D73=$C$5,allGymnasts!H73,0)","v":""},{"$f":"IF(allGymnasts!D73=$C$5,allGymnasts!M73,0)","v":""},{"$f":"IF(allGymnasts!D73=$C$5,allGymnasts!R73,0)","v":""},{"$f":"IF(allGymnasts!D73=$C$5,allGymnasts!W73,0)","v":""},{"$f":"IF(allGymnasts!D73=$C$6,allGymnasts!H73,0)","v":""},{"$f":"IF(allGymnasts!D73=$C$6,allGymnasts!M73,0)","v":""},{"$f":"IF(allGymnasts!D73=$C$6,allGymnasts!R73,0)","v":""},{"$f":"IF(allGymnasts!D73=$C$6,allGymnasts!W73,0)","v":""},{"$f":"IF(allGymnasts!D73=$C$7,allGymnasts!H73,0)","v":""},{"$f":"IF(allGymnasts!D73=$C$7,allGymnasts!M73,0)","v":""},{"$f":"IF(allGymnasts!D73=$C$7,allGymnasts!R73,0)","v":""},{"$f":"IF(allGymnasts!D73=$C$7,allGymnasts!W73,0)","v":""},{"$f":"IF(allGymnasts!D73=$C$8,allGymnasts!H73,0)","v":""},{"$f":"IF(allGymnasts!D73=$C$8,allGymnasts!M73,0)","v":""},{"$f":"IF(allGymnasts!D73=$C$8,allGymnasts!R73,0)","v":""},{"$f":"IF(allGymnasts!D73=$C$8,allGymnasts!W73,0)","v":""},{"$f":"IF(allGymnasts!D73=$C$9,allGymnasts!H73,0)","v":""},{"$f":"IF(allGymnasts!D73=$C$9,allGymnasts!M73,0)","v":""},{"$f":"IF(allGymnasts!D73=$C$9,allGymnasts!R73,0)","v":""},{"$f":"IF(allGymnasts!D73=$C$9,allGymnasts!W73,0)","v":""},{"$f":"IF(allGymnasts!D73=$C$10,allGymnasts!H73,0)","v":""},{"$f":"IF(allGymnasts!D73=$C$10,allGymnasts!M73,0)","v":""},{"$f":"IF(allGymnasts!D73=$C$10,allGymnasts!R73,0)","v":""},{"$f":"IF(allGymnasts!D73=$C$10,allGymnasts!W73,0)","v":""},{"$f":"IF(allGymnasts!D73=$C$11,allGymnasts!H73,0)","v":""},{"$f":"IF(allGymnasts!D73=$C$11,allGymnasts!M73,0)","v":""},{"$f":"IF(allGymnasts!D73=$C$11,allGymnasts!R73,0)","v":""},{"$f":"IF(allGymnasts!D73=$C$11,allGymnasts!W73,0)","v":""},{"$f":"IF(allGymnasts!D73=$C$12,allGymnasts!H73,0)","v":""},{"$f":"IF(allGymnasts!D73=$C$12,allGymnasts!M73,0)","v":""},{"$f":"IF(allGymnasts!D73=$C$12,allGymnasts!R73,0)","v":""},{"$f":"IF(allGymnasts!D73=$C$12,allGymnasts!W73,0)","v":""},{"$f":"IF(allGymnasts!D73=$C$13,allGymnasts!H73,0)","v":""},{"$f":"IF(allGymnasts!D73=$C$13,allGymnasts!M73,0)","v":""},{"$f":"IF(allGymnasts!D73=$C$13,allGymnasts!R73,0)","v":""},{"$f":"IF(allGymnasts!D73=$C$13,allGymnasts!W73,0)","v":""},{"$f":"IF(allGymnasts!D73=$C$14,allGymnasts!H73,0)","v":""},{"$f":"IF(allGymnasts!D73=$C$14,allGymnasts!M73,0)","v":""},{"$f":"IF(allGymnasts!D73=$C$14,allGymnasts!R73,0)","v":""},{"$f":"IF(allGymnasts!D73=$C$14,allGymnasts!W73,0)","v":""},{"$f":"IF(allGymnasts!D73=$C$15,allGymnasts!H73,0)","v":""},{"$f":"IF(allGymnasts!D73=$C$15,allGymnasts!M73,0)","v":""},{"$f":"IF(allGymnasts!D73=$C$15,allGymnasts!R73,0)","v":""},{"$f":"IF(allGymnasts!D73=$C$15,allGymnasts!W73,0)","v":""}]
[null,{"$f":"IFERROR(_xlfn.FLOOR.MATH(IF(allGymnasts!A74=\"\",\"\",INDEX(allGymnasts!$Z$4:$Z$33,MATCH(SMALL(allGymnasts!$Z$4:$Z$33,A74),allGymnasts!$Z$4:$Z$33,0)))),\"\")","v":""},null,{"$f":"IF(allGymnasts!A74=\"\",\"\",INDEX(allGymnasts!$A$4:$A$30,MATCH(SMALL(allGymnasts!$Z$4:$Z$33,A74),allGymnasts!$Z$4:$Z$33,0)))","v":""},{"$f":"IF(allGymnasts!B74=\"\",\"\",INDEX(allGymnasts!$B$4:$B$30,MATCH(SMALL(allGymnasts!$Z$4:$Z$33,A74),allGymnasts!$Z$4:$Z$33,0)))","v":""},{"$f":"IF(allGymnasts!C74=\"\",\"\",INDEX(allGymnasts!$C$4:$C$30,MATCH(SMALL(allGymnasts!$Z$4:$Z$33,A74),allGymnasts!$Z$4:$Z$33,0)))","v":""},{"$f":"IF(allGymnasts!D74=\"\",\"\",INDEX(allGymnasts!$D$4:$D$30,MATCH(SMALL(allGymnasts!$Z$4:$Z$33,A74),allGymnasts!$Z$4:$Z$33,0)))","v":""},{"$f":"IF(allGymnasts!E74=\"\",\"\",INDEX(allGymnasts!$J$4:$J$33,MATCH(SMALL(allGymnasts!$N$4:$N$33,A74),allGymnasts!$N$4:$N$33,0)))","v":""},{"$f":"IF(allGymnasts!F74=\"\",\"\",INDEX(allGymnasts!$K$4:$K$33,MATCH(SMALL(allGymnasts!$N$4:$N$33,A74),allGymnasts!$N$4:$N$33,0)))","v":""},{"$f":"IF(allGymnasts!G74=\"\",\"\",INDEX(allGymnasts!$L$4:$L$33,MATCH(SMALL(allGymnasts!$N$4:$N$33,A74),allGymnasts!$N$4:$N$33,0)))","v":""},{"$f":"IF(allGymnasts!H74=\"\",\"\",INDEX(allGymnasts!$Y$4:$Y$33,MATCH(SMALL(allGymnasts!$Z$4:$Z$33,A74),allGymnasts!$Z$4:$Z$33,0)))","v":""},null,null,null,{"$f":"IF(allGymnasts!D74=$C$4,allGymnasts!H74,0)","v":""},{"$f":"IF(allGymnasts!D74=$C$4,allGymnasts!M74,0)","v":""},{"$f":"IF(allGymnasts!D74=$C$4,allGymnasts!R74,0)","v":""},{"$f":"IF(allGymnasts!D74=$C$4,allGymnasts!W74,0)","v":""},{"$f":"IF(allGymnasts!D74=$C$5,allGymnasts!H74,0)","v":""},{"$f":"IF(allGymnasts!D74=$C$5,allGymnasts!M74,0)","v":""},{"$f":"IF(allGymnasts!D74=$C$5,allGymnasts!R74,0)","v":""},{"$f":"IF(allGymnasts!D74=$C$5,allGymnasts!W74,0)","v":""},{"$f":"IF(allGymnasts!D74=$C$6,allGymnasts!H74,0)","v":""},{"$f":"IF(allGymnasts!D74=$C$6,allGymnasts!M74,0)","v":""},{"$f":"IF(allGymnasts!D74=$C$6,allGymnasts!R74,0)","v":""},{"$f":"IF(allGymnasts!D74=$C$6,allGymnasts!W74,0)","v":""},{"$f":"IF(allGymnasts!D74=$C$7,allGymnasts!H74,0)","v":""},{"$f":"IF(allGymnasts!D74=$C$7,allGymnasts!M74,0)","v":""},{"$f":"IF(allGymnasts!D74=$C$7,allGymnasts!R74,0)","v":""},{"$f":"IF(allGymnasts!D74=$C$7,allGymnasts!W74,0)","v":""},{"$f":"IF(allGymnasts!D74=$C$8,allGymnasts!H74,0)","v":""},{"$f":"IF(allGymnasts!D74=$C$8,allGymnasts!M74,0)","v":""},{"$f":"IF(allGymnasts!D74=$C$8,allGymnasts!R74,0)","v":""},{"$f":"IF(allGymnasts!D74=$C$8,allGymnasts!W74,0)","v":""},{"$f":"IF(allGymnasts!D74=$C$9,allGymnasts!H74,0)","v":""},{"$f":"IF(allGymnasts!D74=$C$9,allGymnasts!M74,0)","v":""},{"$f":"IF(allGymnasts!D74=$C$9,allGymnasts!R74,0)","v":""},{"$f":"IF(allGymnasts!D74=$C$9,allGymnasts!W74,0)","v":""},{"$f":"IF(allGymnasts!D74=$C$10,allGymnasts!H74,0)","v":""},{"$f":"IF(allGymnasts!D74=$C$10,allGymnasts!M74,0)","v":""},{"$f":"IF(allGymnasts!D74=$C$10,allGymnasts!R74,0)","v":""},{"$f":"IF(allGymnasts!D74=$C$10,allGymnasts!W74,0)","v":""},{"$f":"IF(allGymnasts!D74=$C$11,allGymnasts!H74,0)","v":""},{"$f":"IF(allGymnasts!D74=$C$11,allGymnasts!M74,0)","v":""},{"$f":"IF(allGymnasts!D74=$C$11,allGymnasts!R74,0)","v":""},{"$f":"IF(allGymnasts!D74=$C$11,allGymnasts!W74,0)","v":""},{"$f":"IF(allGymnasts!D74=$C$12,allGymnasts!H74,0)","v":""},{"$f":"IF(allGymnasts!D74=$C$12,allGymnasts!M74,0)","v":""},{"$f":"IF(allGymnasts!D74=$C$12,allGymnasts!R74,0)","v":""},{"$f":"IF(allGymnasts!D74=$C$12,allGymnasts!W74,0)","v":""},{"$f":"IF(allGymnasts!D74=$C$13,allGymnasts!H74,0)","v":""},{"$f":"IF(allGymnasts!D74=$C$13,allGymnasts!M74,0)","v":""},{"$f":"IF(allGymnasts!D74=$C$13,allGymnasts!R74,0)","v":""},{"$f":"IF(allGymnasts!D74=$C$13,allGymnasts!W74,0)","v":""},{"$f":"IF(allGymnasts!D74=$C$14,allGymnasts!H74,0)","v":""},{"$f":"IF(allGymnasts!D74=$C$14,allGymnasts!M74,0)","v":""},{"$f":"IF(allGymnasts!D74=$C$14,allGymnasts!R74,0)","v":""},{"$f":"IF(allGymnasts!D74=$C$14,allGymnasts!W74,0)","v":""},{"$f":"IF(allGymnasts!D74=$C$15,allGymnasts!H74,0)","v":""},{"$f":"IF(allGymnasts!D74=$C$15,allGymnasts!M74,0)","v":""},{"$f":"IF(allGymnasts!D74=$C$15,allGymnasts!R74,0)","v":""},{"$f":"IF(allGymnasts!D74=$C$15,allGymnasts!W74,0)","v":""}]
[null,{"$f":"IFERROR(_xlfn.FLOOR.MATH(IF(allGymnasts!A75=\"\",\"\",INDEX(allGymnasts!$Z$4:$Z$33,MATCH(SMALL(allGymnasts!$Z$4:$Z$33,A75),allGymnasts!$Z$4:$Z$33,0)))),\"\")","v":""},null,{"$f":"IF(allGymnasts!A75=\"\",\"\",INDEX(allGymnasts!$A$4:$A$30,MATCH(SMALL(allGymnasts!$Z$4:$Z$33,A75),allGymnasts!$Z$4:$Z$33,0)))","v":""},{"$f":"IF(allGymnasts!B75=\"\",\"\",INDEX(allGymnasts!$B$4:$B$30,MATCH(SMALL(allGymnasts!$Z$4:$Z$33,A75),allGymnasts!$Z$4:$Z$33,0)))","v":""},{"$f":"IF(allGymnasts!C75=\"\",\"\",INDEX(allGymnasts!$C$4:$C$30,MATCH(SMALL(allGymnasts!$Z$4:$Z$33,A75),allGymnasts!$Z$4:$Z$33,0)))","v":""},{"$f":"IF(allGymnasts!D75=\"\",\"\",INDEX(allGymnasts!$D$4:$D$30,MATCH(SMALL(allGymnasts!$Z$4:$Z$33,A75),allGymnasts!$Z$4:$Z$33,0)))","v":""},{"$f":"IF(allGymnasts!E75=\"\",\"\",INDEX(allGymnasts!$J$4:$J$33,MATCH(SMALL(allGymnasts!$N$4:$N$33,A75),allGymnasts!$N$4:$N$33,0)))","v":""},{"$f":"IF(allGymnasts!F75=\"\",\"\",INDEX(allGymnasts!$K$4:$K$33,MATCH(SMALL(allGymnasts!$N$4:$N$33,A75),allGymnasts!$N$4:$N$33,0)))","v":""},{"$f":"IF(allGymnasts!G75=\"\",\"\",INDEX(allGymnasts!$L$4:$L$33,MATCH(SMALL(allGymnasts!$N$4:$N$33,A75),allGymnasts!$N$4:$N$33,0)))","v":""},{"$f":"IF(allGymnasts!H75=\"\",\"\",INDEX(allGymnasts!$Y$4:$Y$33,MATCH(SMALL(allGymnasts!$Z$4:$Z$33,A75),allGymnasts!$Z$4:$Z$33,0)))","v":""},null,null,null,{"$f":"IF(allGymnasts!D75=$C$4,allGymnasts!H75,0)","v":""},{"$f":"IF(allGymnasts!D75=$C$4,allGymnasts!M75,0)","v":""},{"$f":"IF(allGymnasts!D75=$C$4,allGymnasts!R75,0)","v":""},{"$f":"IF(allGymnasts!D75=$C$4,allGymnasts!W75,0)","v":""},{"$f":"IF(allGymnasts!D75=$C$5,allGymnasts!H75,0)","v":""},{"$f":"IF(allGymnasts!D75=$C$5,allGymnasts!M75,0)","v":""},{"$f":"IF(allGymnasts!D75=$C$5,allGymnasts!R75,0)","v":""},{"$f":"IF(allGymnasts!D75=$C$5,allGymnasts!W75,0)","v":""},{"$f":"IF(allGymnasts!D75=$C$6,allGymnasts!H75,0)","v":""},{"$f":"IF(allGymnasts!D75=$C$6,allGymnasts!M75,0)","v":""},{"$f":"IF(allGymnasts!D75=$C$6,allGymnasts!R75,0)","v":""},{"$f":"IF(allGymnasts!D75=$C$6,allGymnasts!W75,0)","v":""},{"$f":"IF(allGymnasts!D75=$C$7,allGymnasts!H75,0)","v":""},{"$f":"IF(allGymnasts!D75=$C$7,allGymnasts!M75,0)","v":""},{"$f":"IF(allGymnasts!D75=$C$7,allGymnasts!R75,0)","v":""},{"$f":"IF(allGymnasts!D75=$C$7,allGymnasts!W75,0)","v":""},{"$f":"IF(allGymnasts!D75=$C$8,allGymnasts!H75,0)","v":""},{"$f":"IF(allGymnasts!D75=$C$8,allGymnasts!M75,0)","v":""},{"$f":"IF(allGymnasts!D75=$C$8,allGymnasts!R75,0)","v":""},{"$f":"IF(allGymnasts!D75=$C$8,allGymnasts!W75,0)","v":""},{"$f":"IF(allGymnasts!D75=$C$9,allGymnasts!H75,0)","v":""},{"$f":"IF(allGymnasts!D75=$C$9,allGymnasts!M75,0)","v":""},{"$f":"IF(allGymnasts!D75=$C$9,allGymnasts!R75,0)","v":""},{"$f":"IF(allGymnasts!D75=$C$9,allGymnasts!W75,0)","v":""},{"$f":"IF(allGymnasts!D75=$C$10,allGymnasts!H75,0)","v":""},{"$f":"IF(allGymnasts!D75=$C$10,allGymnasts!M75,0)","v":""},{"$f":"IF(allGymnasts!D75=$C$10,allGymnasts!R75,0)","v":""},{"$f":"IF(allGymnasts!D75=$C$10,allGymnasts!W75,0)","v":""},{"$f":"IF(allGymnasts!D75=$C$11,allGymnasts!H75,0)","v":""},{"$f":"IF(allGymnasts!D75=$C$11,allGymnasts!M75,0)","v":""},{"$f":"IF(allGymnasts!D75=$C$11,allGymnasts!R75,0)","v":""},{"$f":"IF(allGymnasts!D75=$C$11,allGymnasts!W75,0)","v":""},{"$f":"IF(allGymnasts!D75=$C$12,allGymnasts!H75,0)","v":""},{"$f":"IF(allGymnasts!D75=$C$12,allGymnasts!M75,0)","v":""},{"$f":"IF(allGymnasts!D75=$C$12,allGymnasts!R75,0)","v":""},{"$f":"IF(allGymnasts!D75=$C$12,allGymnasts!W75,0)","v":""},{"$f":"IF(allGymnasts!D75=$C$13,allGymnasts!H75,0)","v":""},{"$f":"IF(allGymnasts!D75=$C$13,allGymnasts!M75,0)","v":""},{"$f":"IF(allGymnasts!D75=$C$13,allGymnasts!R75,0)","v":""},{"$f":"IF(allGymnasts!D75=$C$13,allGymnasts!W75,0)","v":""},{"$f":"IF(allGymnasts!D75=$C$14,allGymnasts!H75,0)","v":""},{"$f":"IF(allGymnasts!D75=$C$14,allGymnasts!M75,0)","v":""},{"$f":"IF(allGymnasts!D75=$C$14,allGymnasts!R75,0)","v":""},{"$f":"IF(allGymnasts!D75=$C$14,allGymnasts!W75,0)","v":""},{"$f":"IF(allGymnasts!D75=$C$15,allGymnasts!H75,0)","v":""},{"$f":"IF(allGymnasts!D75=$C$15,allGymnasts!M75,0)","v":""},{"$f":"IF(allGymnasts!D75=$C$15,allGymnasts!R75,0)","v":""},{"$f":"IF(allGymnasts!D75=$C$15,allGymnasts!W75,0)","v":""}]
[null,{"$f":"IFERROR(_xlfn.FLOOR.MATH(IF(allGymnasts!A76=\"\",\"\",INDEX(allGymnasts!$Z$4:$Z$33,MATCH(SMALL(allGymnasts!$Z$4:$Z$33,A76),allGymnasts!$Z$4:$Z$33,0)))),\"\")","v":""},null,{"$f":"IF(allGymnasts!A76=\"\",\"\",INDEX(allGymnasts!$A$4:$A$30,MATCH(SMALL(allGymnasts!$Z$4:$Z$33,A76),allGymnasts!$Z$4:$Z$33,0)))","v":""},{"$f":"IF(allGymnasts!B76=\"\",\"\",INDEX(allGymnasts!$B$4:$B$30,MATCH(SMALL(allGymnasts!$Z$4:$Z$33,A76),allGymnasts!$Z$4:$Z$33,0)))","v":""},{"$f":"IF(allGymnasts!C76=\"\",\"\",INDEX(allGymnasts!$C$4:$C$30,MATCH(SMALL(allGymnasts!$Z$4:$Z$33,A76),allGymnasts!$Z$4:$Z$33,0)))","v":""},{"$f":"IF(allGymnasts!D76=\"\",\"\",INDEX(allGymnasts!$D$4:$D$30,MATCH(SMALL(allGymnasts!$Z$4:$Z$33,A76),allGymnasts!$Z$4:$Z$33,0)))","v":""},{"$f":"IF(allGymnasts!E76=\"\",\"\",INDEX(allGymnasts!$J$4:$J$33,MATCH(SMALL(allGymnasts!$N$4:$N$33,A76),allGymnasts!$N$4:$N$33,0)))","v":""},{"$f":"IF(allGymnasts!F76=\"\",\"\",INDEX(allGymnasts!$K$4:$K$33,MATCH(SMALL(allGymnasts!$N$4:$N$33,A76),allGymnasts!$N$4:$N$33,0)))","v":""},{"$f":"IF(allGymnasts!G76=\"\",\"\",INDEX(allGymnasts!$L$4:$L$33,MATCH(SMALL(allGymnasts!$N$4:$N$33,A76),allGymnasts!$N$4:$N$33,0)))","v":""},{"$f":"IF(allGymnasts!H76=\"\",\"\",INDEX(allGymnasts!$Y$4:$Y$33,MATCH(SMALL(allGymnasts!$Z$4:$Z$33,A76),allGymnasts!$Z$4:$Z$33,0)))","v":""},null,null,null,{"$f":"IF(allGymnasts!D76=$C$4,allGymnasts!H76,0)","v":""},{"$f":"IF(allGymnasts!D76=$C$4,allGymnasts!M76,0)","v":""},{"$f":"IF(allGymnasts!D76=$C$4,allGymnasts!R76,0)","v":""},{"$f":"IF(allGymnasts!D76=$C$4,allGymnasts!W76,0)","v":""},{"$f":"IF(allGymnasts!D76=$C$5,allGymnasts!H76,0)","v":""},{"$f":"IF(allGymnasts!D76=$C$5,allGymnasts!M76,0)","v":""},{"$f":"IF(allGymnasts!D76=$C$5,allGymnasts!R76,0)","v":""},{"$f":"IF(allGymnasts!D76=$C$5,allGymnasts!W76,0)","v":""},{"$f":"IF(allGymnasts!D76=$C$6,allGymnasts!H76,0)","v":""},{"$f":"IF(allGymnasts!D76=$C$6,allGymnasts!M76,0)","v":""},{"$f":"IF(allGymnasts!D76=$C$6,allGymnasts!R76,0)","v":""},{"$f":"IF(allGymnasts!D76=$C$6,allGymnasts!W76,0)","v":""},{"$f":"IF(allGymnasts!D76=$C$7,allGymnasts!H76,0)","v":""},{"$f":"IF(allGymnasts!D76=$C$7,allGymnasts!M76,0)","v":""},{"$f":"IF(allGymnasts!D76=$C$7,allGymnasts!R76,0)","v":""},{"$f":"IF(allGymnasts!D76=$C$7,allGymnasts!W76,0)","v":""},{"$f":"IF(allGymnasts!D76=$C$8,allGymnasts!H76,0)","v":""},{"$f":"IF(allGymnasts!D76=$C$8,allGymnasts!M76,0)","v":""},{"$f":"IF(allGymnasts!D76=$C$8,allGymnasts!R76,0)","v":""},{"$f":"IF(allGymnasts!D76=$C$8,allGymnasts!W76,0)","v":""},{"$f":"IF(allGymnasts!D76=$C$9,allGymnasts!H76,0)","v":""},{"$f":"IF(allGymnasts!D76=$C$9,allGymnasts!M76,0)","v":""},{"$f":"IF(allGymnasts!D76=$C$9,allGymnasts!R76,0)","v":""},{"$f":"IF(allGymnasts!D76=$C$9,allGymnasts!W76,0)","v":""},{"$f":"IF(allGymnasts!D76=$C$10,allGymnasts!H76,0)","v":""},{"$f":"IF(allGymnasts!D76=$C$10,allGymnasts!M76,0)","v":""},{"$f":"IF(allGymnasts!D76=$C$10,allGymnasts!R76,0)","v":""},{"$f":"IF(allGymnasts!D76=$C$10,allGymnasts!W76,0)","v":""},{"$f":"IF(allGymnasts!D76=$C$11,allGymnasts!H76,0)","v":""},{"$f":"IF(allGymnasts!D76=$C$11,allGymnasts!M76,0)","v":""},{"$f":"IF(allGymnasts!D76=$C$11,allGymnasts!R76,0)","v":""},{"$f":"IF(allGymnasts!D76=$C$11,allGymnasts!W76,0)","v":""},{"$f":"IF(allGymnasts!D76=$C$12,allGymnasts!H76,0)","v":""},{"$f":"IF(allGymnasts!D76=$C$12,allGymnasts!M76,0)","v":""},{"$f":"IF(allGymnasts!D76=$C$12,allGymnasts!R76,0)","v":""},{"$f":"IF(allGymnasts!D76=$C$12,allGymnasts!W76,0)","v":""},{"$f":"IF(allGymnasts!D76=$C$13,allGymnasts!H76,0)","v":""},{"$f":"IF(allGymnasts!D76=$C$13,allGymnasts!M76,0)","v":""},{"$f":"IF(allGymnasts!D76=$C$13,allGymnasts!R76,0)","v":""},{"$f":"IF(allGymnasts!D76=$C$13,allGymnasts!W76,0)","v":""},{"$f":"IF(allGymnasts!D76=$C$14,allGymnasts!H76,0)","v":""},{"$f":"IF(allGymnasts!D76=$C$14,allGymnasts!M76,0)","v":""},{"$f":"IF(allGymnasts!D76=$C$14,allGymnasts!R76,0)","v":""},{"$f":"IF(allGymnasts!D76=$C$14,allGymnasts!W76,0)","v":""},{"$f":"IF(allGymnasts!D76=$C$15,allGymnasts!H76,0)","v":""},{"$f":"IF(allGymnasts!D76=$C$15,allGymnasts!M76,0)","v":""},{"$f":"IF(allGymnasts!D76=$C$15,allGymnasts!R76,0)","v":""},{"$f":"IF(allGymnasts!D76=$C$15,allGymnasts!W76,0)","v":""}]
[null,{"$f":"IFERROR(_xlfn.FLOOR.MATH(IF(allGymnasts!A77=\"\",\"\",INDEX(allGymnasts!$Z$4:$Z$33,MATCH(SMALL(allGymnasts!$Z$4:$Z$33,A77),allGymnasts!$Z$4:$Z$33,0)))),\"\")","v":""},null,{"$f":"IF(allGymnasts!A77=\"\",\"\",INDEX(allGymnasts!$A$4:$A$30,MATCH(SMALL(allGymnasts!$Z$4:$Z$33,A77),allGymnasts!$Z$4:$Z$33,0)))","v":""},{"$f":"IF(allGymnasts!B77=\"\",\"\",INDEX(allGymnasts!$B$4:$B$30,MATCH(SMALL(allGymnasts!$Z$4:$Z$33,A77),allGymnasts!$Z$4:$Z$33,0)))","v":""},{"$f":"IF(allGymnasts!C77=\"\",\"\",INDEX(allGymnasts!$C$4:$C$30,MATCH(SMALL(allGymnasts!$Z$4:$Z$33,A77),allGymnasts!$Z$4:$Z$33,0)))","v":""},{"$f":"IF(allGymnasts!D77=\"\",\"\",INDEX(allGymnasts!$D$4:$D$30,MATCH(SMALL(allGymnasts!$Z$4:$Z$33,A77),allGymnasts!$Z$4:$Z$33,0)))","v":""},{"$f":"IF(allGymnasts!E77=\"\",\"\",INDEX(allGymnasts!$J$4:$J$33,MATCH(SMALL(allGymnasts!$N$4:$N$33,A77),allGymnasts!$N$4:$N$33,0)))","v":""},{"$f":"IF(allGymnasts!F77=\"\",\"\",INDEX(allGymnasts!$K$4:$K$33,MATCH(SMALL(allGymnasts!$N$4:$N$33,A77),allGymnasts!$N$4:$N$33,0)))","v":""},{"$f":"IF(allGymnasts!G77=\"\",\"\",INDEX(allGymnasts!$L$4:$L$33,MATCH(SMALL(allGymnasts!$N$4:$N$33,A77),allGymnasts!$N$4:$N$33,0)))","v":""},{"$f":"IF(allGymnasts!H77=\"\",\"\",INDEX(allGymnasts!$Y$4:$Y$33,MATCH(SMALL(allGymnasts!$Z$4:$Z$33,A77),allGymnasts!$Z$4:$Z$33,0)))","v":""},null,null,null,{"$f":"IF(allGymnasts!D77=$C$4,allGymnasts!H77,0)","v":""},{"$f":"IF(allGymnasts!D77=$C$4,allGymnasts!M77,0)","v":""},{"$f":"IF(allGymnasts!D77=$C$4,allGymnasts!R77,0)","v":""},{"$f":"IF(allGymnasts!D77=$C$4,allGymnasts!W77,0)","v":""},{"$f":"IF(allGymnasts!D77=$C$5,allGymnasts!H77,0)","v":""},{"$f":"IF(allGymnasts!D77=$C$5,allGymnasts!M77,0)","v":""},{"$f":"IF(allGymnasts!D77=$C$5,allGymnasts!R77,0)","v":""},{"$f":"IF(allGymnasts!D77=$C$5,allGymnasts!W77,0)","v":""},{"$f":"IF(allGymnasts!D77=$C$6,allGymnasts!H77,0)","v":""},{"$f":"IF(allGymnasts!D77=$C$6,allGymnasts!M77,0)","v":""},{"$f":"IF(allGymnasts!D77=$C$6,allGymnasts!R77,0)","v":""},{"$f":"IF(allGymnasts!D77=$C$6,allGymnasts!W77,0)","v":""},{"$f":"IF(allGymnasts!D77=$C$7,allGymnasts!H77,0)","v":""},{"$f":"IF(allGymnasts!D77=$C$7,allGymnasts!M77,0)","v":""},{"$f":"IF(allGymnasts!D77=$C$7,allGymnasts!R77,0)","v":""},{"$f":"IF(allGymnasts!D77=$C$7,allGymnasts!W77,0)","v":""},{"$f":"IF(allGymnasts!D77=$C$8,allGymnasts!H77,0)","v":""},{"$f":"IF(allGymnasts!D77=$C$8,allGymnasts!M77,0)","v":""},{"$f":"IF(allGymnasts!D77=$C$8,allGymnasts!R77,0)","v":""},{"$f":"IF(allGymnasts!D77=$C$8,allGymnasts!W77,0)","v":""},{"$f":"IF(allGymnasts!D77=$C$9,allGymnasts!H77,0)","v":""},{"$f":"IF(allGymnasts!D77=$C$9,allGymnasts!M77,0)","v":""},{"$f":"IF(allGymnasts!D77=$C$9,allGymnasts!R77,0)","v":""},{"$f":"IF(allGymnasts!D77=$C$9,allGymnasts!W77,0)","v":""},{"$f":"IF(allGymnasts!D77=$C$10,allGymnasts!H77,0)","v":""},{"$f":"IF(allGymnasts!D77=$C$10,allGymnasts!M77,0)","v":""},{"$f":"IF(allGymnasts!D77=$C$10,allGymnasts!R77,0)","v":""},{"$f":"IF(allGymnasts!D77=$C$10,allGymnasts!W77,0)","v":""},{"$f":"IF(allGymnasts!D77=$C$11,allGymnasts!H77,0)","v":""},{"$f":"IF(allGymnasts!D77=$C$11,allGymnasts!M77,0)","v":""},{"$f":"IF(allGymnasts!D77=$C$11,allGymnasts!R77,0)","v":""},{"$f":"IF(allGymnasts!D77=$C$11,allGymnasts!W77,0)","v":""},{"$f":"IF(allGymnasts!D77=$C$12,allGymnasts!H77,0)","v":""},{"$f":"IF(allGymnasts!D77=$C$12,allGymnasts!M77,0)","v":""},{"$f":"IF(allGymnasts!D77=$C$12,allGymnasts!R77,0)","v":""},{"$f":"IF(allGymnasts!D77=$C$12,allGymnasts!W77,0)","v":""},{"$f":"IF(allGymnasts!D77=$C$13,allGymnasts!H77,0)","v":""},{"$f":"IF(allGymnasts!D77=$C$13,allGymnasts!M77,0)","v":""},{"$f":"IF(allGymnasts!D77=$C$13,allGymnasts!R77,0)","v":""},{"$f":"IF(allGymnasts!D77=$C$13,allGymnasts!W77,0)","v":""},{"$f":"IF(allGymnasts!D77=$C$14,allGymnasts!H77,0)","v":""},{"$f":"IF(allGymnasts!D77=$C$14,allGymnasts!M77,0)","v":""},{"$f":"IF(allGymnasts!D77=$C$14,allGymnasts!R77,0)","v":""},{"$f":"IF(allGymnasts!D77=$C$14,allGymnasts!W77,0)","v":""},{"$f":"IF(allGymnasts!D77=$C$15,allGymnasts!H77,0)","v":""},{"$f":"IF(allGymnasts!D77=$C$15,allGymnasts!M77,0)","v":""},{"$f":"IF(allGymnasts!D77=$C$15,allGymnasts!R77,0)","v":""},{"$f":"IF(allGymnasts!D77=$C$15,allGymnasts!W77,0)","v":""}]
[null,{"$f":"IFERROR(_xlfn.FLOOR.MATH(IF(allGymnasts!A78=\"\",\"\",INDEX(allGymnasts!$Z$4:$Z$33,MATCH(SMALL(allGymnasts!$Z$4:$Z$33,A78),allGymnasts!$Z$4:$Z$33,0)))),\"\")","v":""},null,{"$f":"IF(allGymnasts!A78=\"\",\"\",INDEX(allGymnasts!$A$4:$A$30,MATCH(SMALL(allGymnasts!$Z$4:$Z$33,A78),allGymnasts!$Z$4:$Z$33,0)))","v":""},{"$f":"IF(allGymnasts!B78=\"\",\"\",INDEX(allGymnasts!$B$4:$B$30,MATCH(SMALL(allGymnasts!$Z$4:$Z$33,A78),allGymnasts!$Z$4:$Z$33,0)))","v":""},{"$f":"IF(allGymnasts!C78=\"\",\"\",INDEX(allGymnasts!$C$4:$C$30,MATCH(SMALL(allGymnasts!$Z$4:$Z$33,A78),allGymnasts!$Z$4:$Z$33,0)))","v":""},{"$f":"IF(allGymnasts!D78=\"\",\"\",INDEX(allGymnasts!$D$4:$D$30,MATCH(SMALL(allGymnasts!$Z$4:$Z$33,A78),allGymnasts!$Z$4:$Z$33,0)))","v":""},{"$f":"IF(allGymnasts!E78=\"\",\"\",INDEX(allGymnasts!$J$4:$J$33,MATCH(SMALL(allGymnasts!$N$4:$N$33,A78),allGymnasts!$N$4:$N$33,0)))","v":""},{"$f":"IF(allGymnasts!F78=\"\",\"\",INDEX(allGymnasts!$K$4:$K$33,MATCH(SMALL(allGymnasts!$N$4:$N$33,A78),allGymnasts!$N$4:$N$33,0)))","v":""},{"$f":"IF(allGymnasts!G78=\"\",\"\",INDEX(allGymnasts!$L$4:$L$33,MATCH(SMALL(allGymnasts!$N$4:$N$33,A78),allGymnasts!$N$4:$N$33,0)))","v":""},{"$f":"IF(allGymnasts!H78=\"\",\"\",INDEX(allGymnasts!$Y$4:$Y$33,MATCH(SMALL(allGymnasts!$Z$4:$Z$33,A78),allGymnasts!$Z$4:$Z$33,0)))","v":""},null,null,null,{"$f":"IF(allGymnasts!D78=$C$4,allGymnasts!H78,0)","v":""},{"$f":"IF(allGymnasts!D78=$C$4,allGymnasts!M78,0)","v":""},{"$f":"IF(allGymnasts!D78=$C$4,allGymnasts!R78,0)","v":""},{"$f":"IF(allGymnasts!D78=$C$4,allGymnasts!W78,0)","v":""},{"$f":"IF(allGymnasts!D78=$C$5,allGymnasts!H78,0)","v":""},{"$f":"IF(allGymnasts!D78=$C$5,allGymnasts!M78,0)","v":""},{"$f":"IF(allGymnasts!D78=$C$5,allGymnasts!R78,0)","v":""},{"$f":"IF(allGymnasts!D78=$C$5,allGymnasts!W78,0)","v":""},{"$f":"IF(allGymnasts!D78=$C$6,allGymnasts!H78,0)","v":""},{"$f":"IF(allGymnasts!D78=$C$6,allGymnasts!M78,0)","v":""},{"$f":"IF(allGymnasts!D78=$C$6,allGymnasts!R78,0)","v":""},{"$f":"IF(allGymnasts!D78=$C$6,allGymnasts!W78,0)","v":""},{"$f":"IF(allGymnasts!D78=$C$7,allGymnasts!H78,0)","v":""},{"$f":"IF(allGymnasts!D78=$C$7,allGymnasts!M78,0)","v":""},{"$f":"IF(allGymnasts!D78=$C$7,allGymnasts!R78,0)","v":""},{"$f":"IF(allGymnasts!D78=$C$7,allGymnasts!W78,0)","v":""},{"$f":"IF(allGymnasts!D78=$C$8,allGymnasts!H78,0)","v":""},{"$f":"IF(allGymnasts!D78=$C$8,allGymnasts!M78,0)","v":""},{"$f":"IF(allGymnasts!D78=$C$8,allGymnasts!R78,0)","v":""},{"$f":"IF(allGymnasts!D78=$C$8,allGymnasts!W78,0)","v":""},{"$f":"IF(allGymnasts!D78=$C$9,allGymnasts!H78,0)","v":""},{"$f":"IF(allGymnasts!D78=$C$9,allGymnasts!M78,0)","v":""},{"$f":"IF(allGymnasts!D78=$C$9,allGymnasts!R78,0)","v":""},{"$f":"IF(allGymnasts!D78=$C$9,allGymnasts!W78,0)","v":""},{"$f":"IF(allGymnasts!D78=$C$10,allGymnasts!H78,0)","v":""},{"$f":"IF(allGymnasts!D78=$C$10,allGymnasts!M78,0)","v":""},{"$f":"IF(allGymnasts!D78=$C$10,allGymnasts!R78,0)","v":""},{"$f":"IF(allGymnasts!D78=$C$10,allGymnasts!W78,0)","v":""},{"$f":"IF(allGymnasts!D78=$C$11,allGymnasts!H78,0)","v":""},{"$f":"IF(allGymnasts!D78=$C$11,allGymnasts!M78,0)","v":""},{"$f":"IF(allGymnasts!D78=$C$11,allGymnasts!R78,0)","v":""},{"$f":"IF(allGymnasts!D78=$C$11,allGymnasts!W78,0)","v":""},{"$f":"IF(allGymnasts!D78=$C$12,allGymnasts!H78,0)","v":""},{"$f":"IF(allGymnasts!D78=$C$12,allGymnasts!M78,0)","v":""},{"$f":"IF(allGymnasts!D78=$C$12,allGymnasts!R78,0)","v":""},{"$f":"IF(allGymnasts!D78=$C$12,allGymnasts!W78,0)","v":""},{"$f":"IF(allGymnasts!D78=$C$13,allGymnasts!H78,0)","v":""},{"$f":"IF(allGymnasts!D78=$C$13,allGymnasts!M78,0)","v":""},{"$f":"IF(allGymnasts!D78=$C$13,allGymnasts!R78,0)","v":""},{"$f":"IF(allGymnasts!D78=$C$13,allGymnasts!W78,0)","v":""},{"$f":"IF(allGymnasts!D78=$C$14,allGymnasts!H78,0)","v":""},{"$f":"IF(allGymnasts!D78=$C$14,allGymnasts!M78,0)","v":""},{"$f":"IF(allGymnasts!D78=$C$14,allGymnasts!R78,0)","v":""},{"$f":"IF(allGymnasts!D78=$C$14,allGymnasts!W78,0)","v":""},{"$f":"IF(allGymnasts!D78=$C$15,allGymnasts!H78,0)","v":""},{"$f":"IF(allGymnasts!D78=$C$15,allGymnasts!M78,0)","v":""},{"$f":"IF(allGymnasts!D78=$C$15,allGymnasts!R78,0)","v":""},{"$f":"IF(allGymnasts!D78=$C$15,allGymnasts!W78,0)","v":""}]
[null,{"$f":"IFERROR(_xlfn.FLOOR.MATH(IF(allGymnasts!A79=\"\",\"\",INDEX(allGymnasts!$Z$4:$Z$33,MATCH(SMALL(allGymnasts!$Z$4:$Z$33,A79),allGymnasts!$Z$4:$Z$33,0)))),\"\")","v":""},null,{"$f":"IF(allGymnasts!A79=\"\",\"\",INDEX(allGymnasts!$A$4:$A$30,MATCH(SMALL(allGymnasts!$Z$4:$Z$33,A79),allGymnasts!$Z$4:$Z$33,0)))","v":""},{"$f":"IF(allGymnasts!B79=\"\",\"\",INDEX(allGymnasts!$B$4:$B$30,MATCH(SMALL(allGymnasts!$Z$4:$Z$33,A79),allGymnasts!$Z$4:$Z$33,0)))","v":""},{"$f":"IF(allGymnasts!C79=\"\",\"\",INDEX(allGymnasts!$C$4:$C$30,MATCH(SMALL(allGymnasts!$Z$4:$Z$33,A79),allGymnasts!$Z$4:$Z$33,0)))","v":""},{"$f":"IF(allGymnasts!D79=\"\",\"\",INDEX(allGymnasts!$D$4:$D$30,MATCH(SMALL(allGymnasts!$Z$4:$Z$33,A79),allGymnasts!$Z$4:$Z$33,0)))","v":""},{"$f":"IF(allGymnasts!E79=\"\",\"\",INDEX(allGymnasts!$J$4:$J$33,MATCH(SMALL(allGymnasts!$N$4:$N$33,A79),allGymnasts!$N$4:$N$33,0)))","v":""},{"$f":"IF(allGymnasts!F79=\"\",\"\",INDEX(allGymnasts!$K$4:$K$33,MATCH(SMALL(allGymnasts!$N$4:$N$33,A79),allGymnasts!$N$4:$N$33,0)))","v":""},{"$f":"IF(allGymnasts!G79=\"\",\"\",INDEX(allGymnasts!$L$4:$L$33,MATCH(SMALL(allGymnasts!$N$4:$N$33,A79),allGymnasts!$N$4:$N$33,0)))","v":""},{"$f":"IF(allGymnasts!H79=\"\",\"\",INDEX(allGymnasts!$Y$4:$Y$33,MATCH(SMALL(allGymnasts!$Z$4:$Z$33,A79),allGymnasts!$Z$4:$Z$33,0)))","v":""},null,null,null,{"$f":"IF(allGymnasts!D79=$C$4,allGymnasts!H79,0)","v":""},{"$f":"IF(allGymnasts!D79=$C$4,allGymnasts!M79,0)","v":""},{"$f":"IF(allGymnasts!D79=$C$4,allGymnasts!R79,0)","v":""},{"$f":"IF(allGymnasts!D79=$C$4,allGymnasts!W79,0)","v":""},{"$f":"IF(allGymnasts!D79=$C$5,allGymnasts!H79,0)","v":""},{"$f":"IF(allGymnasts!D79=$C$5,allGymnasts!M79,0)","v":""},{"$f":"IF(allGymnasts!D79=$C$5,allGymnasts!R79,0)","v":""},{"$f":"IF(allGymnasts!D79=$C$5,allGymnasts!W79,0)","v":""},{"$f":"IF(allGymnasts!D79=$C$6,allGymnasts!H79,0)","v":""},{"$f":"IF(allGymnasts!D79=$C$6,allGymnasts!M79,0)","v":""},{"$f":"IF(allGymnasts!D79=$C$6,allGymnasts!R79,0)","v":""},{"$f":"IF(allGymnasts!D79=$C$6,allGymnasts!W79,0)","v":""},{"$f":"IF(allGymnasts!D79=$C$7,allGymnasts!H79,0)","v":""},{"$f":"IF(allGymnasts!D79=$C$7,allGymnasts!M79,0)","v":""},{"$f":"IF(allGymnasts!D79=$C$7,allGymnasts!R79,0)","v":""},{"$f":"IF(allGymnasts!D79=$C$7,allGymnasts!W79,0)","v":""},{"$f":"IF(allGymnasts!D79=$C$8,allGymnasts!H79,0)","v":""},{"$f":"IF(allGymnasts!D79=$C$8,allGymnasts!M79,0)","v":""},{"$f":"IF(allGymnasts!D79=$C$8,allGymnasts!R79,0)","v":""},{"$f":"IF(allGymnasts!D79=$C$8,allGymnasts!W79,0)","v":""},{"$f":"IF(allGymnasts!D79=$C$9,allGymnasts!H79,0)","v":""},{"$f":"IF(allGymnasts!D79=$C$9,allGymnasts!M79,0)","v":""},{"$f":"IF(allGymnasts!D79=$C$9,allGymnasts!R79,0)","v":""},{"$f":"IF(allGymnasts!D79=$C$9,allGymnasts!W79,0)","v":""},{"$f":"IF(allGymnasts!D79=$C$10,allGymnasts!H79,0)","v":""},{"$f":"IF(allGymnasts!D79=$C$10,allGymnasts!M79,0)","v":""},{"$f":"IF(allGymnasts!D79=$C$10,allGymnasts!R79,0)","v":""},{"$f":"IF(allGymnasts!D79=$C$10,allGymnasts!W79,0)","v":""},{"$f":"IF(allGymnasts!D79=$C$11,allGymnasts!H79,0)","v":""},{"$f":"IF(allGymnasts!D79=$C$11,allGymnasts!M79,0)","v":""},{"$f":"IF(allGymnasts!D79=$C$11,allGymnasts!R79,0)","v":""},{"$f":"IF(allGymnasts!D79=$C$11,allGymnasts!W79,0)","v":""},{"$f":"IF(allGymnasts!D79=$C$12,allGymnasts!H79,0)","v":""},{"$f":"IF(allGymnasts!D79=$C$12,allGymnasts!M79,0)","v":""},{"$f":"IF(allGymnasts!D79=$C$12,allGymnasts!R79,0)","v":""},{"$f":"IF(allGymnasts!D79=$C$12,allGymnasts!W79,0)","v":""},{"$f":"IF(allGymnasts!D79=$C$13,allGymnasts!H79,0)","v":""},{"$f":"IF(allGymnasts!D79=$C$13,allGymnasts!M79,0)","v":""},{"$f":"IF(allGymnasts!D79=$C$13,allGymnasts!R79,0)","v":""},{"$f":"IF(allGymnasts!D79=$C$13,allGymnasts!W79,0)","v":""},{"$f":"IF(allGymnasts!D79=$C$14,allGymnasts!H79,0)","v":""},{"$f":"IF(allGymnasts!D79=$C$14,allGymnasts!M79,0)","v":""},{"$f":"IF(allGymnasts!D79=$C$14,allGymnasts!R79,0)","v":""},{"$f":"IF(allGymnasts!D79=$C$14,allGymnasts!W79,0)","v":""},{"$f":"IF(allGymnasts!D79=$C$15,allGymnasts!H79,0)","v":""},{"$f":"IF(allGymnasts!D79=$C$15,allGymnasts!M79,0)","v":""},{"$f":"IF(allGymnasts!D79=$C$15,allGymnasts!R79,0)","v":""},{"$f":"IF(allGymnasts!D79=$C$15,allGymnasts!W79,0)","v":""}]
[null,{"$f":"IFERROR(_xlfn.FLOOR.MATH(IF(allGymnasts!A80=\"\",\"\",INDEX(allGymnasts!$Z$4:$Z$33,MATCH(SMALL(allGymnasts!$Z$4:$Z$33,A80),allGymnasts!$Z$4:$Z$33,0)))),\"\")","v":""},null,{"$f":"IF(allGymnasts!A80=\"\",\"\",INDEX(allGymnasts!$A$4:$A$30,MATCH(SMALL(allGymnasts!$Z$4:$Z$33,A80),allGymnasts!$Z$4:$Z$33,0)))","v":""},{"$f":"IF(allGymnasts!B80=\"\",\"\",INDEX(allGymnasts!$B$4:$B$30,MATCH(SMALL(allGymnasts!$Z$4:$Z$33,A80),allGymnasts!$Z$4:$Z$33,0)))","v":""},{"$f":"IF(allGymnasts!C80=\"\",\"\",INDEX(allGymnasts!$C$4:$C$30,MATCH(SMALL(allGymnasts!$Z$4:$Z$33,A80),allGymnasts!$Z$4:$Z$33,0)))","v":""},{"$f":"IF(allGymnasts!D80=\"\",\"\",INDEX(allGymnasts!$D$4:$D$30,MATCH(SMALL(allGymnasts!$Z$4:$Z$33,A80),allGymnasts!$Z$4:$Z$33,0)))","v":""},{"$f":"IF(allGymnasts!E80=\"\",\"\",INDEX(allGymnasts!$J$4:$J$33,MATCH(SMALL(allGymnasts!$N$4:$N$33,A80),allGymnasts!$N$4:$N$33,0)))","v":""},{"$f":"IF(allGymnasts!F80=\"\",\"\",INDEX(allGymnasts!$K$4:$K$33,MATCH(SMALL(allGymnasts!$N$4:$N$33,A80),allGymnasts!$N$4:$N$33,0)))","v":""},{"$f":"IF(allGymnasts!G80=\"\",\"\",INDEX(allGymnasts!$L$4:$L$33,MATCH(SMALL(allGymnasts!$N$4:$N$33,A80),allGymnasts!$N$4:$N$33,0)))","v":""},{"$f":"IF(allGymnasts!H80=\"\",\"\",INDEX(allGymnasts!$Y$4:$Y$33,MATCH(SMALL(allGymnasts!$Z$4:$Z$33,A80),allGymnasts!$Z$4:$Z$33,0)))","v":""},null,null,null,{"$f":"IF(allGymnasts!D80=$C$4,allGymnasts!H80,0)","v":""},{"$f":"IF(allGymnasts!D80=$C$4,allGymnasts!M80,0)","v":""},{"$f":"IF(allGymnasts!D80=$C$4,allGymnasts!R80,0)","v":""},{"$f":"IF(allGymnasts!D80=$C$4,allGymnasts!W80,0)","v":""},{"$f":"IF(allGymnasts!D80=$C$5,allGymnasts!H80,0)","v":""},{"$f":"IF(allGymnasts!D80=$C$5,allGymnasts!M80,0)","v":""},{"$f":"IF(allGymnasts!D80=$C$5,allGymnasts!R80,0)","v":""},{"$f":"IF(allGymnasts!D80=$C$5,allGymnasts!W80,0)","v":""},{"$f":"IF(allGymnasts!D80=$C$6,allGymnasts!H80,0)","v":""},{"$f":"IF(allGymnasts!D80=$C$6,allGymnasts!M80,0)","v":""},{"$f":"IF(allGymnasts!D80=$C$6,allGymnasts!R80,0)","v":""},{"$f":"IF(allGymnasts!D80=$C$6,allGymnasts!W80,0)","v":""},{"$f":"IF(allGymnasts!D80=$C$7,allGymnasts!H80,0)","v":""},{"$f":"IF(allGymnasts!D80=$C$7,allGymnasts!M80,0)","v":""},{"$f":"IF(allGymnasts!D80=$C$7,allGymnasts!R80,0)","v":""},{"$f":"IF(allGymnasts!D80=$C$7,allGymnasts!W80,0)","v":""},{"$f":"IF(allGymnasts!D80=$C$8,allGymnasts!H80,0)","v":""},{"$f":"IF(allGymnasts!D80=$C$8,allGymnasts!M80,0)","v":""},{"$f":"IF(allGymnasts!D80=$C$8,allGymnasts!R80,0)","v":""},{"$f":"IF(allGymnasts!D80=$C$8,allGymnasts!W80,0)","v":""},{"$f":"IF(allGymnasts!D80=$C$9,allGymnasts!H80,0)","v":""},{"$f":"IF(allGymnasts!D80=$C$9,allGymnasts!M80,0)","v":""},{"$f":"IF(allGymnasts!D80=$C$9,allGymnasts!R80,0)","v":""},{"$f":"IF(allGymnasts!D80=$C$9,allGymnasts!W80,0)","v":""},{"$f":"IF(allGymnasts!D80=$C$10,allGymnasts!H80,0)","v":""},{"$f":"IF(allGymnasts!D80=$C$10,allGymnasts!M80,0)","v":""},{"$f":"IF(allGymnasts!D80=$C$10,allGymnasts!R80,0)","v":""},{"$f":"IF(allGymnasts!D80=$C$10,allGymnasts!W80,0)","v":""},{"$f":"IF(allGymnasts!D80=$C$11,allGymnasts!H80,0)","v":""},{"$f":"IF(allGymnasts!D80=$C$11,allGymnasts!M80,0)","v":""},{"$f":"IF(allGymnasts!D80=$C$11,allGymnasts!R80,0)","v":""},{"$f":"IF(allGymnasts!D80=$C$11,allGymnasts!W80,0)","v":""},{"$f":"IF(allGymnasts!D80=$C$12,allGymnasts!H80,0)","v":""},{"$f":"IF(allGymnasts!D80=$C$12,allGymnasts!M80,0)","v":""},{"$f":"IF(allGymnasts!D80=$C$12,allGymnasts!R80,0)","v":""},{"$f":"IF(allGymnasts!D80=$C$12,allGymnasts!W80,0)","v":""},{"$f":"IF(allGymnasts!D80=$C$13,allGymnasts!H80,0)","v":""},{"$f":"IF(allGymnasts!D80=$C$13,allGymnasts!M80,0)","v":""},{"$f":"IF(allGymnasts!D80=$C$13,allGymnasts!R80,0)","v":""},{"$f":"IF(allGymnasts!D80=$C$13,allGymnasts!W80,0)","v":""},{"$f":"IF(allGymnasts!D80=$C$14,allGymnasts!H80,0)","v":""},{"$f":"IF(allGymnasts!D80=$C$14,allGymnasts!M80,0)","v":""},{"$f":"IF(allGymnasts!D80=$C$14,allGymnasts!R80,0)","v":""},{"$f":"IF(allGymnasts!D80=$C$14,allGymnasts!W80,0)","v":""},{"$f":"IF(allGymnasts!D80=$C$15,allGymnasts!H80,0)","v":""},{"$f":"IF(allGymnasts!D80=$C$15,allGymnasts!M80,0)","v":""},{"$f":"IF(allGymnasts!D80=$C$15,allGymnasts!R80,0)","v":""},{"$f":"IF(allGymnasts!D80=$C$15,allGymnasts!W80,0)","v":""}]
[null,{"$f":"IFERROR(_xlfn.FLOOR.MATH(IF(allGymnasts!A81=\"\",\"\",INDEX(allGymnasts!$Z$4:$Z$33,MATCH(SMALL(allGymnasts!$Z$4:$Z$33,A81),allGymnasts!$Z$4:$Z$33,0)))),\"\")","v":""},null,{"$f":"IF(allGymnasts!A81=\"\",\"\",INDEX(allGymnasts!$A$4:$A$30,MATCH(SMALL(allGymnasts!$Z$4:$Z$33,A81),allGymnasts!$Z$4:$Z$33,0)))","v":""},{"$f":"IF(allGymnasts!B81=\"\",\"\",INDEX(allGymnasts!$B$4:$B$30,MATCH(SMALL(allGymnasts!$Z$4:$Z$33,A81),allGymnasts!$Z$4:$Z$33,0)))","v":""},{"$f":"IF(allGymnasts!C81=\"\",\"\",INDEX(allGymnasts!$C$4:$C$30,MATCH(SMALL(allGymnasts!$Z$4:$Z$33,A81),allGymnasts!$Z$4:$Z$33,0)))","v":""},{"$f":"IF(allGymnasts!D81=\"\",\"\",INDEX(allGymnasts!$D$4:$D$30,MATCH(SMALL(allGymnasts!$Z$4:$Z$33,A81),allGymnasts!$Z$4:$Z$33,0)))","v":""},{"$f":"IF(allGymnasts!E81=\"\",\"\",INDEX(allGymnasts!$J$4:$J$33,MATCH(SMALL(allGymnasts!$N$4:$N$33,A81),allGymnasts!$N$4:$N$33,0)))","v":""},{"$f":"IF(allGymnasts!F81=\"\",\"\",INDEX(allGymnasts!$K$4:$K$33,MATCH(SMALL(allGymnasts!$N$4:$N$33,A81),allGymnasts!$N$4:$N$33,0)))","v":""},{"$f":"IF(allGymnasts!G81=\"\",\"\",INDEX(allGymnasts!$L$4:$L$33,MATCH(SMALL(allGymnasts!$N$4:$N$33,A81),allGymnasts!$N$4:$N$33,0)))","v":""},{"$f":"IF(allGymnasts!H81=\"\",\"\",INDEX(allGymnasts!$Y$4:$Y$33,MATCH(SMALL(allGymnasts!$Z$4:$Z$33,A81),allGymnasts!$Z$4:$Z$33,0)))","v":""},null,null,null,{"$f":"IF(allGymnasts!D81=$C$4,allGymnasts!H81,0)","v":""},{"$f":"IF(allGymnasts!D81=$C$4,allGymnasts!M81,0)","v":""},{"$f":"IF(allGymnasts!D81=$C$4,allGymnasts!R81,0)","v":""},{"$f":"IF(allGymnasts!D81=$C$4,allGymnasts!W81,0)","v":""},{"$f":"IF(allGymnasts!D81=$C$5,allGymnasts!H81,0)","v":""},{"$f":"IF(allGymnasts!D81=$C$5,allGymnasts!M81,0)","v":""},{"$f":"IF(allGymnasts!D81=$C$5,allGymnasts!R81,0)","v":""},{"$f":"IF(allGymnasts!D81=$C$5,allGymnasts!W81,0)","v":""},{"$f":"IF(allGymnasts!D81=$C$6,allGymnasts!H81,0)","v":""},{"$f":"IF(allGymnasts!D81=$C$6,allGymnasts!M81,0)","v":""},{"$f":"IF(allGymnasts!D81=$C$6,allGymnasts!R81,0)","v":""},{"$f":"IF(allGymnasts!D81=$C$6,allGymnasts!W81,0)","v":""},{"$f":"IF(allGymnasts!D81=$C$7,allGymnasts!H81,0)","v":""},{"$f":"IF(allGymnasts!D81=$C$7,allGymnasts!M81,0)","v":""},{"$f":"IF(allGymnasts!D81=$C$7,allGymnasts!R81,0)","v":""},{"$f":"IF(allGymnasts!D81=$C$7,allGymnasts!W81,0)","v":""},{"$f":"IF(allGymnasts!D81=$C$8,allGymnasts!H81,0)","v":""},{"$f":"IF(allGymnasts!D81=$C$8,allGymnasts!M81,0)","v":""},{"$f":"IF(allGymnasts!D81=$C$8,allGymnasts!R81,0)","v":""},{"$f":"IF(allGymnasts!D81=$C$8,allGymnasts!W81,0)","v":""},{"$f":"IF(allGymnasts!D81=$C$9,allGymnasts!H81,0)","v":""},{"$f":"IF(allGymnasts!D81=$C$9,allGymnasts!M81,0)","v":""},{"$f":"IF(allGymnasts!D81=$C$9,allGymnasts!R81,0)","v":""},{"$f":"IF(allGymnasts!D81=$C$9,allGymnasts!W81,0)","v":""},{"$f":"IF(allGymnasts!D81=$C$10,allGymnasts!H81,0)","v":""},{"$f":"IF(allGymnasts!D81=$C$10,allGymnasts!M81,0)","v":""},{"$f":"IF(allGymnasts!D81=$C$10,allGymnasts!R81,0)","v":""},{"$f":"IF(allGymnasts!D81=$C$10,allGymnasts!W81,0)","v":""},{"$f":"IF(allGymnasts!D81=$C$11,allGymnasts!H81,0)","v":""},{"$f":"IF(allGymnasts!D81=$C$11,allGymnasts!M81,0)","v":""},{"$f":"IF(allGymnasts!D81=$C$11,allGymnasts!R81,0)","v":""},{"$f":"IF(allGymnasts!D81=$C$11,allGymnasts!W81,0)","v":""},{"$f":"IF(allGymnasts!D81=$C$12,allGymnasts!H81,0)","v":""},{"$f":"IF(allGymnasts!D81=$C$12,allGymnasts!M81,0)","v":""},{"$f":"IF(allGymnasts!D81=$C$12,allGymnasts!R81,0)","v":""},{"$f":"IF(allGymnasts!D81=$C$12,allGymnasts!W81,0)","v":""},{"$f":"IF(allGymnasts!D81=$C$13,allGymnasts!H81,0)","v":""},{"$f":"IF(allGymnasts!D81=$C$13,allGymnasts!M81,0)","v":""},{"$f":"IF(allGymnasts!D81=$C$13,allGymnasts!R81,0)","v":""},{"$f":"IF(allGymnasts!D81=$C$13,allGymnasts!W81,0)","v":""},{"$f":"IF(allGymnasts!D81=$C$14,allGymnasts!H81,0)","v":""},{"$f":"IF(allGymnasts!D81=$C$14,allGymnasts!M81,0)","v":""},{"$f":"IF(allGymnasts!D81=$C$14,allGymnasts!R81,0)","v":""},{"$f":"IF(allGymnasts!D81=$C$14,allGymnasts!W81,0)","v":""},{"$f":"IF(allGymnasts!D81=$C$15,allGymnasts!H81,0)","v":""},{"$f":"IF(allGymnasts!D81=$C$15,allGymnasts!M81,0)","v":""},{"$f":"IF(allGymnasts!D81=$C$15,allGymnasts!R81,0)","v":""},{"$f":"IF(allGymnasts!D81=$C$15,allGymnasts!W81,0)","v":""}]
[null,{"$f":"IFERROR(_xlfn.FLOOR.MATH(IF(allGymnasts!A82=\"\",\"\",INDEX(allGymnasts!$Z$4:$Z$33,MATCH(SMALL(allGymnasts!$Z$4:$Z$33,A82),allGymnasts!$Z$4:$Z$33,0)))),\"\")","v":""},null,{"$f":"IF(allGymnasts!A82=\"\",\"\",INDEX(allGymnasts!$A$4:$A$30,MATCH(SMALL(allGymnasts!$Z$4:$Z$33,A82),allGymnasts!$Z$4:$Z$33,0)))","v":""},{"$f":"IF(allGymnasts!B82=\"\",\"\",INDEX(allGymnasts!$B$4:$B$30,MATCH(SMALL(allGymnasts!$Z$4:$Z$33,A82),allGymnasts!$Z$4:$Z$33,0)))","v":""},{"$f":"IF(allGymnasts!C82=\"\",\"\",INDEX(allGymnasts!$C$4:$C$30,MATCH(SMALL(allGymnasts!$Z$4:$Z$33,A82),allGymnasts!$Z$4:$Z$33,0)))","v":""},{"$f":"IF(allGymnasts!D82=\"\",\"\",INDEX(allGymnasts!$D$4:$D$30,MATCH(SMALL(allGymnasts!$Z$4:$Z$33,A82),allGymnasts!$Z$4:$Z$33,0)))","v":""},{"$f":"IF(allGymnasts!E82=\"\",\"\",INDEX(allGymnasts!$J$4:$J$33,MATCH(SMALL(allGymnasts!$N$4:$N$33,A82),allGymnasts!$N$4:$N$33,0)))","v":""},{"$f":"IF(allGymnasts!F82=\"\",\"\",INDEX(allGymnasts!$K$4:$K$33,MATCH(SMALL(allGymnasts!$N$4:$N$33,A82),allGymnasts!$N$4:$N$33,0)))","v":""},{"$f":"IF(allGymnasts!G82=\"\",\"\",INDEX(allGymnasts!$L$4:$L$33,MATCH(SMALL(allGymnasts!$N$4:$N$33,A82),allGymnasts!$N$4:$N$33,0)))","v":""},{"$f":"IF(allGymnasts!H82=\"\",\"\",INDEX(allGymnasts!$Y$4:$Y$33,MATCH(SMALL(allGymnasts!$Z$4:$Z$33,A82),allGymnasts!$Z$4:$Z$33,0)))","v":""},null,null,null,{"$f":"IF(allGymnasts!D82=$C$4,allGymnasts!H82,0)","v":""},{"$f":"IF(allGymnasts!D82=$C$4,allGymnasts!M82,0)","v":""},{"$f":"IF(allGymnasts!D82=$C$4,allGymnasts!R82,0)","v":""},{"$f":"IF(allGymnasts!D82=$C$4,allGymnasts!W82,0)","v":""},{"$f":"IF(allGymnasts!D82=$C$5,allGymnasts!H82,0)","v":""},{"$f":"IF(allGymnasts!D82=$C$5,allGymnasts!M82,0)","v":""},{"$f":"IF(allGymnasts!D82=$C$5,allGymnasts!R82,0)","v":""},{"$f":"IF(allGymnasts!D82=$C$5,allGymnasts!W82,0)","v":""},{"$f":"IF(allGymnasts!D82=$C$6,allGymnasts!H82,0)","v":""},{"$f":"IF(allGymnasts!D82=$C$6,allGymnasts!M82,0)","v":""},{"$f":"IF(allGymnasts!D82=$C$6,allGymnasts!R82,0)","v":""},{"$f":"IF(allGymnasts!D82=$C$6,allGymnasts!W82,0)","v":""},{"$f":"IF(allGymnasts!D82=$C$7,allGymnasts!H82,0)","v":""},{"$f":"IF(allGymnasts!D82=$C$7,allGymnasts!M82,0)","v":""},{"$f":"IF(allGymnasts!D82=$C$7,allGymnasts!R82,0)","v":""},{"$f":"IF(allGymnasts!D82=$C$7,allGymnasts!W82,0)","v":""},{"$f":"IF(allGymnasts!D82=$C$8,allGymnasts!H82,0)","v":""},{"$f":"IF(allGymnasts!D82=$C$8,allGymnasts!M82,0)","v":""},{"$f":"IF(allGymnasts!D82=$C$8,allGymnasts!R82,0)","v":""},{"$f":"IF(allGymnasts!D82=$C$8,allGymnasts!W82,0)","v":""},{"$f":"IF(allGymnasts!D82=$C$9,allGymnasts!H82,0)","v":""},{"$f":"IF(allGymnasts!D82=$C$9,allGymnasts!M82,0)","v":""},{"$f":"IF(allGymnasts!D82=$C$9,allGymnasts!R82,0)","v":""},{"$f":"IF(allGymnasts!D82=$C$9,allGymnasts!W82,0)","v":""},{"$f":"IF(allGymnasts!D82=$C$10,allGymnasts!H82,0)","v":""},{"$f":"IF(allGymnasts!D82=$C$10,allGymnasts!M82,0)","v":""},{"$f":"IF(allGymnasts!D82=$C$10,allGymnasts!R82,0)","v":""},{"$f":"IF(allGymnasts!D82=$C$10,allGymnasts!W82,0)","v":""},{"$f":"IF(allGymnasts!D82=$C$11,allGymnasts!H82,0)","v":""},{"$f":"IF(allGymnasts!D82=$C$11,allGymnasts!M82,0)","v":""},{"$f":"IF(allGymnasts!D82=$C$11,allGymnasts!R82,0)","v":""},{"$f":"IF(allGymnasts!D82=$C$11,allGymnasts!W82,0)","v":""},{"$f":"IF(allGymnasts!D82=$C$12,allGymnasts!H82,0)","v":""},{"$f":"IF(allGymnasts!D82=$C$12,allGymnasts!M82,0)","v":""},{"$f":"IF(allGymnasts!D82=$C$12,allGymnasts!R82,0)","v":""},{"$f":"IF(allGymnasts!D82=$C$12,allGymnasts!W82,0)","v":""},{"$f":"IF(allGymnasts!D82=$C$13,allGymnasts!H82,0)","v":""},{"$f":"IF(allGymnasts!D82=$C$13,allGymnasts!M82,0)","v":""},{"$f":"IF(allGymnasts!D82=$C$13,allGymnasts!R82,0)","v":""},{"$f":"IF(allGymnasts!D82=$C$13,allGymnasts!W82,0)","v":""},{"$f":"IF(allGymnasts!D82=$C$14,allGymnasts!H82,0)","v":""},{"$f":"IF(allGymnasts!D82=$C$14,allGymnasts!M82,0)","v":""},{"$f":"IF(allGymnasts!D82=$C$14,allGymnasts!R82,0)","v":""},{"$f":"IF(allGymnasts!D82=$C$14,allGymnasts!W82,0)","v":""},{"$f":"IF(allGymnasts!D82=$C$15,allGymnasts!H82,0)","v":""},{"$f":"IF(allGymnasts!D82=$C$15,allGymnasts!M82,0)","v":""},{"$f":"IF(allGymnasts!D82=$C$15,allGymnasts!R82,0)","v":""},{"$f":"IF(allGymnasts!D82=$C$15,allGymnasts!W82,0)","v":""}]
[null,{"$f":"IFERROR(_xlfn.FLOOR.MATH(IF(allGymnasts!A83=\"\",\"\",INDEX(allGymnasts!$Z$4:$Z$33,MATCH(SMALL(allGymnasts!$Z$4:$Z$33,A83),allGymnasts!$Z$4:$Z$33,0)))),\"\")","v":""},null,{"$f":"IF(allGymnasts!A83=\"\",\"\",INDEX(allGymnasts!$A$4:$A$30,MATCH(SMALL(allGymnasts!$Z$4:$Z$33,A83),allGymnasts!$Z$4:$Z$33,0)))","v":""},{"$f":"IF(allGymnasts!B83=\"\",\"\",INDEX(allGymnasts!$B$4:$B$30,MATCH(SMALL(allGymnasts!$Z$4:$Z$33,A83),allGymnasts!$Z$4:$Z$33,0)))","v":""},{"$f":"IF(allGymnasts!C83=\"\",\"\",INDEX(allGymnasts!$C$4:$C$30,MATCH(SMALL(allGymnasts!$Z$4:$Z$33,A83),allGymnasts!$Z$4:$Z$33,0)))","v":""},{"$f":"IF(allGymnasts!D83=\"\",\"\",INDEX(allGymnasts!$D$4:$D$30,MATCH(SMALL(allGymnasts!$Z$4:$Z$33,A83),allGymnasts!$Z$4:$Z$33,0)))","v":""},{"$f":"IF(allGymnasts!E83=\"\",\"\",INDEX(allGymnasts!$J$4:$J$33,MATCH(SMALL(allGymnasts!$N$4:$N$33,A83),allGymnasts!$N$4:$N$33,0)))","v":""},{"$f":"IF(allGymnasts!F83=\"\",\"\",INDEX(allGymnasts!$K$4:$K$33,MATCH(SMALL(allGymnasts!$N$4:$N$33,A83),allGymnasts!$N$4:$N$33,0)))","v":""},{"$f":"IF(allGymnasts!G83=\"\",\"\",INDEX(allGymnasts!$L$4:$L$33,MATCH(SMALL(allGymnasts!$N$4:$N$33,A83),allGymnasts!$N$4:$N$33,0)))","v":""},{"$f":"IF(allGymnasts!H83=\"\",\"\",INDEX(allGymnasts!$Y$4:$Y$33,MATCH(SMALL(allGymnasts!$Z$4:$Z$33,A83),allGymnasts!$Z$4:$Z$33,0)))","v":""},null,null,null,{"$f":"IF(allGymnasts!D83=$C$4,allGymnasts!H83,0)","v":""},{"$f":"IF(allGymnasts!D83=$C$4,allGymnasts!M83,0)","v":""},{"$f":"IF(allGymnasts!D83=$C$4,allGymnasts!R83,0)","v":""},{"$f":"IF(allGymnasts!D83=$C$4,allGymnasts!W83,0)","v":""},{"$f":"IF(allGymnasts!D83=$C$5,allGymnasts!H83,0)","v":""},{"$f":"IF(allGymnasts!D83=$C$5,allGymnasts!M83,0)","v":""},{"$f":"IF(allGymnasts!D83=$C$5,allGymnasts!R83,0)","v":""},{"$f":"IF(allGymnasts!D83=$C$5,allGymnasts!W83,0)","v":""},{"$f":"IF(allGymnasts!D83=$C$6,allGymnasts!H83,0)","v":""},{"$f":"IF(allGymnasts!D83=$C$6,allGymnasts!M83,0)","v":""},{"$f":"IF(allGymnasts!D83=$C$6,allGymnasts!R83,0)","v":""},{"$f":"IF(allGymnasts!D83=$C$6,allGymnasts!W83,0)","v":""},{"$f":"IF(allGymnasts!D83=$C$7,allGymnasts!H83,0)","v":""},{"$f":"IF(allGymnasts!D83=$C$7,allGymnasts!M83,0)","v":""},{"$f":"IF(allGymnasts!D83=$C$7,allGymnasts!R83,0)","v":""},{"$f":"IF(allGymnasts!D83=$C$7,allGymnasts!W83,0)","v":""},{"$f":"IF(allGymnasts!D83=$C$8,allGymnasts!H83,0)","v":""},{"$f":"IF(allGymnasts!D83=$C$8,allGymnasts!M83,0)","v":""},{"$f":"IF(allGymnasts!D83=$C$8,allGymnasts!R83,0)","v":""},{"$f":"IF(allGymnasts!D83=$C$8,allGymnasts!W83,0)","v":""},{"$f":"IF(allGymnasts!D83=$C$9,allGymnasts!H83,0)","v":""},{"$f":"IF(allGymnasts!D83=$C$9,allGymnasts!M83,0)","v":""},{"$f":"IF(allGymnasts!D83=$C$9,allGymnasts!R83,0)","v":""},{"$f":"IF(allGymnasts!D83=$C$9,allGymnasts!W83,0)","v":""},{"$f":"IF(allGymnasts!D83=$C$10,allGymnasts!H83,0)","v":""},{"$f":"IF(allGymnasts!D83=$C$10,allGymnasts!M83,0)","v":""},{"$f":"IF(allGymnasts!D83=$C$10,allGymnasts!R83,0)","v":""},{"$f":"IF(allGymnasts!D83=$C$10,allGymnasts!W83,0)","v":""},{"$f":"IF(allGymnasts!D83=$C$11,allGymnasts!H83,0)","v":""},{"$f":"IF(allGymnasts!D83=$C$11,allGymnasts!M83,0)","v":""},{"$f":"IF(allGymnasts!D83=$C$11,allGymnasts!R83,0)","v":""},{"$f":"IF(allGymnasts!D83=$C$11,allGymnasts!W83,0)","v":""},{"$f":"IF(allGymnasts!D83=$C$12,allGymnasts!H83,0)","v":""},{"$f":"IF(allGymnasts!D83=$C$12,allGymnasts!M83,0)","v":""},{"$f":"IF(allGymnasts!D83=$C$12,allGymnasts!R83,0)","v":""},{"$f":"IF(allGymnasts!D83=$C$12,allGymnasts!W83,0)","v":""},{"$f":"IF(allGymnasts!D83=$C$13,allGymnasts!H83,0)","v":""},{"$f":"IF(allGymnasts!D83=$C$13,allGymnasts!M83,0)","v":""},{"$f":"IF(allGymnasts!D83=$C$13,allGymnasts!R83,0)","v":""},{"$f":"IF(allGymnasts!D83=$C$13,allGymnasts!W83,0)","v":""},{"$f":"IF(allGymnasts!D83=$C$14,allGymnasts!H83,0)","v":""},{"$f":"IF(allGymnasts!D83=$C$14,allGymnasts!M83,0)","v":""},{"$f":"IF(allGymnasts!D83=$C$14,allGymnasts!R83,0)","v":""},{"$f":"IF(allGymnasts!D83=$C$14,allGymnasts!W83,0)","v":""},{"$f":"IF(allGymnasts!D83=$C$15,allGymnasts!H83,0)","v":""},{"$f":"IF(allGymnasts!D83=$C$15,allGymnasts!M83,0)","v":""},{"$f":"IF(allGymnasts!D83=$C$15,allGymnasts!R83,0)","v":""},{"$f":"IF(allGymnasts!D83=$C$15,allGymnasts!W83,0)","v":""}]
[null,{"$f":"IFERROR(_xlfn.FLOOR.MATH(IF(allGymnasts!A84=\"\",\"\",INDEX(allGymnasts!$Z$4:$Z$33,MATCH(SMALL(allGymnasts!$Z$4:$Z$33,A84),allGymnasts!$Z$4:$Z$33,0)))),\"\")","v":""},null,{"$f":"IF(allGymnasts!A84=\"\",\"\",INDEX(allGymnasts!$A$4:$A$30,MATCH(SMALL(allGymnasts!$Z$4:$Z$33,A84),allGymnasts!$Z$4:$Z$33,0)))","v":""},{"$f":"IF(allGymnasts!B84=\"\",\"\",INDEX(allGymnasts!$B$4:$B$30,MATCH(SMALL(allGymnasts!$Z$4:$Z$33,A84),allGymnasts!$Z$4:$Z$33,0)))","v":""},{"$f":"IF(allGymnasts!C84=\"\",\"\",INDEX(allGymnasts!$C$4:$C$30,MATCH(SMALL(allGymnasts!$Z$4:$Z$33,A84),allGymnasts!$Z$4:$Z$33,0)))","v":""},{"$f":"IF(allGymnasts!D84=\"\",\"\",INDEX(allGymnasts!$D$4:$D$30,MATCH(SMALL(allGymnasts!$Z$4:$Z$33,A84),allGymnasts!$Z$4:$Z$33,0)))","v":""},{"$f":"IF(allGymnasts!E84=\"\",\"\",INDEX(allGymnasts!$J$4:$J$33,MATCH(SMALL(allGymnasts!$N$4:$N$33,A84),allGymnasts!$N$4:$N$33,0)))","v":""},{"$f":"IF(allGymnasts!F84=\"\",\"\",INDEX(allGymnasts!$K$4:$K$33,MATCH(SMALL(allGymnasts!$N$4:$N$33,A84),allGymnasts!$N$4:$N$33,0)))","v":""},{"$f":"IF(allGymnasts!G84=\"\",\"\",INDEX(allGymnasts!$L$4:$L$33,MATCH(SMALL(allGymnasts!$N$4:$N$33,A84),allGymnasts!$N$4:$N$33,0)))","v":""},{"$f":"IF(allGymnasts!H84=\"\",\"\",INDEX(allGymnasts!$Y$4:$Y$33,MATCH(SMALL(allGymnasts!$Z$4:$Z$33,A84),allGymnasts!$Z$4:$Z$33,0)))","v":""},null,null,null,{"$f":"IF(allGymnasts!D84=$C$4,allGymnasts!H84,0)","v":""},{"$f":"IF(allGymnasts!D84=$C$4,allGymnasts!M84,0)","v":""},{"$f":"IF(allGymnasts!D84=$C$4,allGymnasts!R84,0)","v":""},{"$f":"IF(allGymnasts!D84=$C$4,allGymnasts!W84,0)","v":""},{"$f":"IF(allGymnasts!D84=$C$5,allGymnasts!H84,0)","v":""},{"$f":"IF(allGymnasts!D84=$C$5,allGymnasts!M84,0)","v":""},{"$f":"IF(allGymnasts!D84=$C$5,allGymnasts!R84,0)","v":""},{"$f":"IF(allGymnasts!D84=$C$5,allGymnasts!W84,0)","v":""},{"$f":"IF(allGymnasts!D84=$C$6,allGymnasts!H84,0)","v":""},{"$f":"IF(allGymnasts!D84=$C$6,allGymnasts!M84,0)","v":""},{"$f":"IF(allGymnasts!D84=$C$6,allGymnasts!R84,0)","v":""},{"$f":"IF(allGymnasts!D84=$C$6,allGymnasts!W84,0)","v":""},{"$f":"IF(allGymnasts!D84=$C$7,allGymnasts!H84,0)","v":""},{"$f":"IF(allGymnasts!D84=$C$7,allGymnasts!M84,0)","v":""},{"$f":"IF(allGymnasts!D84=$C$7,allGymnasts!R84,0)","v":""},{"$f":"IF(allGymnasts!D84=$C$7,allGymnasts!W84,0)","v":""},{"$f":"IF(allGymnasts!D84=$C$8,allGymnasts!H84,0)","v":""},{"$f":"IF(allGymnasts!D84=$C$8,allGymnasts!M84,0)","v":""},{"$f":"IF(allGymnasts!D84=$C$8,allGymnasts!R84,0)","v":""},{"$f":"IF(allGymnasts!D84=$C$8,allGymnasts!W84,0)","v":""},{"$f":"IF(allGymnasts!D84=$C$9,allGymnasts!H84,0)","v":""},{"$f":"IF(allGymnasts!D84=$C$9,allGymnasts!M84,0)","v":""},{"$f":"IF(allGymnasts!D84=$C$9,allGymnasts!R84,0)","v":""},{"$f":"IF(allGymnasts!D84=$C$9,allGymnasts!W84,0)","v":""},{"$f":"IF(allGymnasts!D84=$C$10,allGymnasts!H84,0)","v":""},{"$f":"IF(allGymnasts!D84=$C$10,allGymnasts!M84,0)","v":""},{"$f":"IF(allGymnasts!D84=$C$10,allGymnasts!R84,0)","v":""},{"$f":"IF(allGymnasts!D84=$C$10,allGymnasts!W84,0)","v":""},{"$f":"IF(allGymnasts!D84=$C$11,allGymnasts!H84,0)","v":""},{"$f":"IF(allGymnasts!D84=$C$11,allGymnasts!M84,0)","v":""},{"$f":"IF(allGymnasts!D84=$C$11,allGymnasts!R84,0)","v":""},{"$f":"IF(allGymnasts!D84=$C$11,allGymnasts!W84,0)","v":""},{"$f":"IF(allGymnasts!D84=$C$12,allGymnasts!H84,0)","v":""},{"$f":"IF(allGymnasts!D84=$C$12,allGymnasts!M84,0)","v":""},{"$f":"IF(allGymnasts!D84=$C$12,allGymnasts!R84,0)","v":""},{"$f":"IF(allGymnasts!D84=$C$12,allGymnasts!W84,0)","v":""},{"$f":"IF(allGymnasts!D84=$C$13,allGymnasts!H84,0)","v":""},{"$f":"IF(allGymnasts!D84=$C$13,allGymnasts!M84,0)","v":""},{"$f":"IF(allGymnasts!D84=$C$13,allGymnasts!R84,0)","v":""},{"$f":"IF(allGymnasts!D84=$C$13,allGymnasts!W84,0)","v":""},{"$f":"IF(allGymnasts!D84=$C$14,allGymnasts!H84,0)","v":""},{"$f":"IF(allGymnasts!D84=$C$14,allGymnasts!M84,0)","v":""},{"$f":"IF(allGymnasts!D84=$C$14,allGymnasts!R84,0)","v":""},{"$f":"IF(allGymnasts!D84=$C$14,allGymnasts!W84,0)","v":""},{"$f":"IF(allGymnasts!D84=$C$15,allGymnasts!H84,0)","v":""},{"$f":"IF(allGymnasts!D84=$C$15,allGymnasts!M84,0)","v":""},{"$f":"IF(allGymnasts!D84=$C$15,allGymnasts!R84,0)","v":""},{"$f":"IF(allGymnasts!D84=$C$15,allGymnasts!W84,0)","v":""}]
[null,{"$f":"IFERROR(_xlfn.FLOOR.MATH(IF(allGymnasts!A85=\"\",\"\",INDEX(allGymnasts!$Z$4:$Z$33,MATCH(SMALL(allGymnasts!$Z$4:$Z$33,A85),allGymnasts!$Z$4:$Z$33,0)))),\"\")","v":""},null,{"$f":"IF(allGymnasts!A85=\"\",\"\",INDEX(allGymnasts!$A$4:$A$30,MATCH(SMALL(allGymnasts!$Z$4:$Z$33,A85),allGymnasts!$Z$4:$Z$33,0)))","v":""},{"$f":"IF(allGymnasts!B85=\"\",\"\",INDEX(allGymnasts!$B$4:$B$30,MATCH(SMALL(allGymnasts!$Z$4:$Z$33,A85),allGymnasts!$Z$4:$Z$33,0)))","v":""},{"$f":"IF(allGymnasts!C85=\"\",\"\",INDEX(allGymnasts!$C$4:$C$30,MATCH(SMALL(allGymnasts!$Z$4:$Z$33,A85),allGymnasts!$Z$4:$Z$33,0)))","v":""},{"$f":"IF(allGymnasts!D85=\"\",\"\",INDEX(allGymnasts!$D$4:$D$30,MATCH(SMALL(allGymnasts!$Z$4:$Z$33,A85),allGymnasts!$Z$4:$Z$33,0)))","v":""},{"$f":"IF(allGymnasts!E85=\"\",\"\",INDEX(allGymnasts!$J$4:$J$33,MATCH(SMALL(allGymnasts!$N$4:$N$33,A85),allGymnasts!$N$4:$N$33,0)))","v":""},{"$f":"IF(allGymnasts!F85=\"\",\"\",INDEX(allGymnasts!$K$4:$K$33,MATCH(SMALL(allGymnasts!$N$4:$N$33,A85),allGymnasts!$N$4:$N$33,0)))","v":""},{"$f":"IF(allGymnasts!G85=\"\",\"\",INDEX(allGymnasts!$L$4:$L$33,MATCH(SMALL(allGymnasts!$N$4:$N$33,A85),allGymnasts!$N$4:$N$33,0)))","v":""},{"$f":"IF(allGymnasts!H85=\"\",\"\",INDEX(allGymnasts!$Y$4:$Y$33,MATCH(SMALL(allGymnasts!$Z$4:$Z$33,A85),allGymnasts!$Z$4:$Z$33,0)))","v":""},null,null,null,{"$f":"IF(allGymnasts!D85=$C$4,allGymnasts!H85,0)","v":""},{"$f":"IF(allGymnasts!D85=$C$4,allGymnasts!M85,0)","v":""},{"$f":"IF(allGymnasts!D85=$C$4,allGymnasts!R85,0)","v":""},{"$f":"IF(allGymnasts!D85=$C$4,allGymnasts!W85,0)","v":""},{"$f":"IF(allGymnasts!D85=$C$5,allGymnasts!H85,0)","v":""},{"$f":"IF(allGymnasts!D85=$C$5,allGymnasts!M85,0)","v":""},{"$f":"IF(allGymnasts!D85=$C$5,allGymnasts!R85,0)","v":""},{"$f":"IF(allGymnasts!D85=$C$5,allGymnasts!W85,0)","v":""},{"$f":"IF(allGymnasts!D85=$C$6,allGymnasts!H85,0)","v":""},{"$f":"IF(allGymnasts!D85=$C$6,allGymnasts!M85,0)","v":""},{"$f":"IF(allGymnasts!D85=$C$6,allGymnasts!R85,0)","v":""},{"$f":"IF(allGymnasts!D85=$C$6,allGymnasts!W85,0)","v":""},{"$f":"IF(allGymnasts!D85=$C$7,allGymnasts!H85,0)","v":""},{"$f":"IF(allGymnasts!D85=$C$7,allGymnasts!M85,0)","v":""},{"$f":"IF(allGymnasts!D85=$C$7,allGymnasts!R85,0)","v":""},{"$f":"IF(allGymnasts!D85=$C$7,allGymnasts!W85,0)","v":""},{"$f":"IF(allGymnasts!D85=$C$8,allGymnasts!H85,0)","v":""},{"$f":"IF(allGymnasts!D85=$C$8,allGymnasts!M85,0)","v":""},{"$f":"IF(allGymnasts!D85=$C$8,allGymnasts!R85,0)","v":""},{"$f":"IF(allGymnasts!D85=$C$8,allGymnasts!W85,0)","v":""},{"$f":"IF(allGymnasts!D85=$C$9,allGymnasts!H85,0)","v":""},{"$f":"IF(allGymnasts!D85=$C$9,allGymnasts!M85,0)","v":""},{"$f":"IF(allGymnasts!D85=$C$9,allGymnasts!R85,0)","v":""},{"$f":"IF(allGymnasts!D85=$C$9,allGymnasts!W85,0)","v":""},{"$f":"IF(allGymnasts!D85=$C$10,allGymnasts!H85,0)","v":""},{"$f":"IF(allGymnasts!D85=$C$10,allGymnasts!M85,0)","v":""},{"$f":"IF(allGymnasts!D85=$C$10,allGymnasts!R85,0)","v":""},{"$f":"IF(allGymnasts!D85=$C$10,allGymnasts!W85,0)","v":""},{"$f":"IF(allGymnasts!D85=$C$11,allGymnasts!H85,0)","v":""},{"$f":"IF(allGymnasts!D85=$C$11,allGymnasts!M85,0)","v":""},{"$f":"IF(allGymnasts!D85=$C$11,allGymnasts!R85,0)","v":""},{"$f":"IF(allGymnasts!D85=$C$11,allGymnasts!W85,0)","v":""},{"$f":"IF(allGymnasts!D85=$C$12,allGymnasts!H85,0)","v":""},{"$f":"IF(allGymnasts!D85=$C$12,allGymnasts!M85,0)","v":""},{"$f":"IF(allGymnasts!D85=$C$12,allGymnasts!R85,0)","v":""},{"$f":"IF(allGymnasts!D85=$C$12,allGymnasts!W85,0)","v":""},{"$f":"IF(allGymnasts!D85=$C$13,allGymnasts!H85,0)","v":""},{"$f":"IF(allGymnasts!D85=$C$13,allGymnasts!M85,0)","v":""},{"$f":"IF(allGymnasts!D85=$C$13,allGymnasts!R85,0)","v":""},{"$f":"IF(allGymnasts!D85=$C$13,allGymnasts!W85,0)","v":""},{"$f":"IF(allGymnasts!D85=$C$14,allGymnasts!H85,0)","v":""},{"$f":"IF(allGymnasts!D85=$C$14,allGymnasts!M85,0)","v":""},{"$f":"IF(allGymnasts!D85=$C$14,allGymnasts!R85,0)","v":""},{"$f":"IF(allGymnasts!D85=$C$14,allGymnasts!W85,0)","v":""},{"$f":"IF(allGymnasts!D85=$C$15,allGymnasts!H85,0)","v":""},{"$f":"IF(allGymnasts!D85=$C$15,allGymnasts!M85,0)","v":""},{"$f":"IF(allGymnasts!D85=$C$15,allGymnasts!R85,0)","v":""},{"$f":"IF(allGymnasts!D85=$C$15,allGymnasts!W85,0)","v":""}]
[null,{"$f":"IFERROR(_xlfn.FLOOR.MATH(IF(allGymnasts!A86=\"\",\"\",INDEX(allGymnasts!$Z$4:$Z$33,MATCH(SMALL(allGymnasts!$Z$4:$Z$33,A86),allGymnasts!$Z$4:$Z$33,0)))),\"\")","v":""},null,{"$f":"IF(allGymnasts!A86=\"\",\"\",INDEX(allGymnasts!$A$4:$A$30,MATCH(SMALL(allGymnasts!$Z$4:$Z$33,A86),allGymnasts!$Z$4:$Z$33,0)))","v":""},{"$f":"IF(allGymnasts!B86=\"\",\"\",INDEX(allGymnasts!$B$4:$B$30,MATCH(SMALL(allGymnasts!$Z$4:$Z$33,A86),allGymnasts!$Z$4:$Z$33,0)))","v":""},{"$f":"IF(allGymnasts!C86=\"\",\"\",INDEX(allGymnasts!$C$4:$C$30,MATCH(SMALL(allGymnasts!$Z$4:$Z$33,A86),allGymnasts!$Z$4:$Z$33,0)))","v":""},{"$f":"IF(allGymnasts!D86=\"\",\"\",INDEX(allGymnasts!$D$4:$D$30,MATCH(SMALL(allGymnasts!$Z$4:$Z$33,A86),allGymnasts!$Z$4:$Z$33,0)))","v":""},{"$f":"IF(allGymnasts!E86=\"\",\"\",INDEX(allGymnasts!$J$4:$J$33,MATCH(SMALL(allGymnasts!$N$4:$N$33,A86),allGymnasts!$N$4:$N$33,0)))","v":""},{"$f":"IF(allGymnasts!F86=\"\",\"\",INDEX(allGymnasts!$K$4:$K$33,MATCH(SMALL(allGymnasts!$N$4:$N$33,A86),allGymnasts!$N$4:$N$33,0)))","v":""},{"$f":"IF(allGymnasts!G86=\"\",\"\",INDEX(allGymnasts!$L$4:$L$33,MATCH(SMALL(allGymnasts!$N$4:$N$33,A86),allGymnasts!$N$4:$N$33,0)))","v":""},{"$f":"IF(allGymnasts!H86=\"\",\"\",INDEX(allGymnasts!$Y$4:$Y$33,MATCH(SMALL(allGymnasts!$Z$4:$Z$33,A86),allGymnasts!$Z$4:$Z$33,0)))","v":""},null,null,null,{"$f":"IF(allGymnasts!D86=$C$4,allGymnasts!H86,0)","v":""},{"$f":"IF(allGymnasts!D86=$C$4,allGymnasts!M86,0)","v":""},{"$f":"IF(allGymnasts!D86=$C$4,allGymnasts!R86,0)","v":""},{"$f":"IF(allGymnasts!D86=$C$4,allGymnasts!W86,0)","v":""},{"$f":"IF(allGymnasts!D86=$C$5,allGymnasts!H86,0)","v":""},{"$f":"IF(allGymnasts!D86=$C$5,allGymnasts!M86,0)","v":""},{"$f":"IF(allGymnasts!D86=$C$5,allGymnasts!R86,0)","v":""},{"$f":"IF(allGymnasts!D86=$C$5,allGymnasts!W86,0)","v":""},{"$f":"IF(allGymnasts!D86=$C$6,allGymnasts!H86,0)","v":""},{"$f":"IF(allGymnasts!D86=$C$6,allGymnasts!M86,0)","v":""},{"$f":"IF(allGymnasts!D86=$C$6,allGymnasts!R86,0)","v":""},{"$f":"IF(allGymnasts!D86=$C$6,allGymnasts!W86,0)","v":""},{"$f":"IF(allGymnasts!D86=$C$7,allGymnasts!H86,0)","v":""},{"$f":"IF(allGymnasts!D86=$C$7,allGymnasts!M86,0)","v":""},{"$f":"IF(allGymnasts!D86=$C$7,allGymnasts!R86,0)","v":""},{"$f":"IF(allGymnasts!D86=$C$7,allGymnasts!W86,0)","v":""},{"$f":"IF(allGymnasts!D86=$C$8,allGymnasts!H86,0)","v":""},{"$f":"IF(allGymnasts!D86=$C$8,allGymnasts!M86,0)","v":""},{"$f":"IF(allGymnasts!D86=$C$8,allGymnasts!R86,0)","v":""},{"$f":"IF(allGymnasts!D86=$C$8,allGymnasts!W86,0)","v":""},{"$f":"IF(allGymnasts!D86=$C$9,allGymnasts!H86,0)","v":""},{"$f":"IF(allGymnasts!D86=$C$9,allGymnasts!M86,0)","v":""},{"$f":"IF(allGymnasts!D86=$C$9,allGymnasts!R86,0)","v":""},{"$f":"IF(allGymnasts!D86=$C$9,allGymnasts!W86,0)","v":""},{"$f":"IF(allGymnasts!D86=$C$10,allGymnasts!H86,0)","v":""},{"$f":"IF(allGymnasts!D86=$C$10,allGymnasts!M86,0)","v":""},{"$f":"IF(allGymnasts!D86=$C$10,allGymnasts!R86,0)","v":""},{"$f":"IF(allGymnasts!D86=$C$10,allGymnasts!W86,0)","v":""},{"$f":"IF(allGymnasts!D86=$C$11,allGymnasts!H86,0)","v":""},{"$f":"IF(allGymnasts!D86=$C$11,allGymnasts!M86,0)","v":""},{"$f":"IF(allGymnasts!D86=$C$11,allGymnasts!R86,0)","v":""},{"$f":"IF(allGymnasts!D86=$C$11,allGymnasts!W86,0)","v":""},{"$f":"IF(allGymnasts!D86=$C$12,allGymnasts!H86,0)","v":""},{"$f":"IF(allGymnasts!D86=$C$12,allGymnasts!M86,0)","v":""},{"$f":"IF(allGymnasts!D86=$C$12,allGymnasts!R86,0)","v":""},{"$f":"IF(allGymnasts!D86=$C$12,allGymnasts!W86,0)","v":""},{"$f":"IF(allGymnasts!D86=$C$13,allGymnasts!H86,0)","v":""},{"$f":"IF(allGymnasts!D86=$C$13,allGymnasts!M86,0)","v":""},{"$f":"IF(allGymnasts!D86=$C$13,allGymnasts!R86,0)","v":""},{"$f":"IF(allGymnasts!D86=$C$13,allGymnasts!W86,0)","v":""},{"$f":"IF(allGymnasts!D86=$C$14,allGymnasts!H86,0)","v":""},{"$f":"IF(allGymnasts!D86=$C$14,allGymnasts!M86,0)","v":""},{"$f":"IF(allGymnasts!D86=$C$14,allGymnasts!R86,0)","v":""},{"$f":"IF(allGymnasts!D86=$C$14,allGymnasts!W86,0)","v":""},{"$f":"IF(allGymnasts!D86=$C$15,allGymnasts!H86,0)","v":""},{"$f":"IF(allGymnasts!D86=$C$15,allGymnasts!M86,0)","v":""},{"$f":"IF(allGymnasts!D86=$C$15,allGymnasts!R86,0)","v":""},{"$f":"IF(allGymnasts!D86=$C$15,allGymnasts!W86,0)","v":""}]
[null,{"$f":"IFERROR(_xlfn.FLOOR.MATH(IF(allGymnasts!A87=\"\",\"\",INDEX(allGymnasts!$Z$4:$Z$33,MATCH(SMALL(allGymnasts!$Z$4:$Z$33,A87),allGymnasts!$Z$4:$Z$33,0)))),\"\")","v":""},null,{"$f":"IF(allGymnasts!A87=\"\",\"\",INDEX(allGymnasts!$A$4:$A$30,MATCH(SMALL(allGymnasts!$Z$4:$Z$33,A87),allGymnasts!$Z$4:$Z$33,0)))","v":""},{"$f":"IF(allGymnasts!B87=\"\",\"\",INDEX(allGymnasts!$B$4:$B$30,MATCH(SMALL(allGymnasts!$Z$4:$Z$33,A87),allGymnasts!$Z$4:$Z$33,0)))","v":""},{"$f":"IF(allGymnasts!C87=\"\",\"\",INDEX(allGymnasts!$C$4:$C$30,MATCH(SMALL(allGymnasts!$Z$4:$Z$33,A87),allGymnasts!$Z$4:$Z$33,0)))","v":""},{"$f":"IF(allGymnasts!D87=\"\",\"\",INDEX(allGymnasts!$D$4:$D$30,MATCH(SMALL(allGymnasts!$Z$4:$Z$33,A87),allGymnasts!$Z$4:$Z$33,0)))","v":""},{"$f":"IF(allGymnasts!E87=\"\",\"\",INDEX(allGymnasts!$J$4:$J$33,MATCH(SMALL(allGymnasts!$N$4:$N$33,A87),allGymnasts!$N$4:$N$33,0)))","v":""},{"$f":"IF(allGymnasts!F87=\"\",\"\",INDEX(allGymnasts!$K$4:$K$33,MATCH(SMALL(allGymnasts!$N$4:$N$33,A87),allGymnasts!$N$4:$N$33,0)))","v":""},{"$f":"IF(allGymnasts!G87=\"\",\"\",INDEX(allGymnasts!$L$4:$L$33,MATCH(SMALL(allGymnasts!$N$4:$N$33,A87),allGymnasts!$N$4:$N$33,0)))","v":""},{"$f":"IF(allGymnasts!H87=\"\",\"\",INDEX(allGymnasts!$Y$4:$Y$33,MATCH(SMALL(allGymnasts!$Z$4:$Z$33,A87),allGymnasts!$Z$4:$Z$33,0)))","v":""},null,null,null,{"$f":"IF(allGymnasts!D87=$C$4,allGymnasts!H87,0)","v":""},{"$f":"IF(allGymnasts!D87=$C$4,allGymnasts!M87,0)","v":""},{"$f":"IF(allGymnasts!D87=$C$4,allGymnasts!R87,0)","v":""},{"$f":"IF(allGymnasts!D87=$C$4,allGymnasts!W87,0)","v":""},{"$f":"IF(allGymnasts!D87=$C$5,allGymnasts!H87,0)","v":""},{"$f":"IF(allGymnasts!D87=$C$5,allGymnasts!M87,0)","v":""},{"$f":"IF(allGymnasts!D87=$C$5,allGymnasts!R87,0)","v":""},{"$f":"IF(allGymnasts!D87=$C$5,allGymnasts!W87,0)","v":""},{"$f":"IF(allGymnasts!D87=$C$6,allGymnasts!H87,0)","v":""},{"$f":"IF(allGymnasts!D87=$C$6,allGymnasts!M87,0)","v":""},{"$f":"IF(allGymnasts!D87=$C$6,allGymnasts!R87,0)","v":""},{"$f":"IF(allGymnasts!D87=$C$6,allGymnasts!W87,0)","v":""},{"$f":"IF(allGymnasts!D87=$C$7,allGymnasts!H87,0)","v":""},{"$f":"IF(allGymnasts!D87=$C$7,allGymnasts!M87,0)","v":""},{"$f":"IF(allGymnasts!D87=$C$7,allGymnasts!R87,0)","v":""},{"$f":"IF(allGymnasts!D87=$C$7,allGymnasts!W87,0)","v":""},{"$f":"IF(allGymnasts!D87=$C$8,allGymnasts!H87,0)","v":""},{"$f":"IF(allGymnasts!D87=$C$8,allGymnasts!M87,0)","v":""},{"$f":"IF(allGymnasts!D87=$C$8,allGymnasts!R87,0)","v":""},{"$f":"IF(allGymnasts!D87=$C$8,allGymnasts!W87,0)","v":""},{"$f":"IF(allGymnasts!D87=$C$9,allGymnasts!H87,0)","v":""},{"$f":"IF(allGymnasts!D87=$C$9,allGymnasts!M87,0)","v":""},{"$f":"IF(allGymnasts!D87=$C$9,allGymnasts!R87,0)","v":""},{"$f":"IF(allGymnasts!D87=$C$9,allGymnasts!W87,0)","v":""},{"$f":"IF(allGymnasts!D87=$C$10,allGymnasts!H87,0)","v":""},{"$f":"IF(allGymnasts!D87=$C$10,allGymnasts!M87,0)","v":""},{"$f":"IF(allGymnasts!D87=$C$10,allGymnasts!R87,0)","v":""},{"$f":"IF(allGymnasts!D87=$C$10,allGymnasts!W87,0)","v":""},{"$f":"IF(allGymnasts!D87=$C$11,allGymnasts!H87,0)","v":""},{"$f":"IF(allGymnasts!D87=$C$11,allGymnasts!M87,0)","v":""},{"$f":"IF(allGymnasts!D87=$C$11,allGymnasts!R87,0)","v":""},{"$f":"IF(allGymnasts!D87=$C$11,allGymnasts!W87,0)","v":""},{"$f":"IF(allGymnasts!D87=$C$12,allGymnasts!H87,0)","v":""},{"$f":"IF(allGymnasts!D87=$C$12,allGymnasts!M87,0)","v":""},{"$f":"IF(allGymnasts!D87=$C$12,allGymnasts!R87,0)","v":""},{"$f":"IF(allGymnasts!D87=$C$12,allGymnasts!W87,0)","v":""},{"$f":"IF(allGymnasts!D87=$C$13,allGymnasts!H87,0)","v":""},{"$f":"IF(allGymnasts!D87=$C$13,allGymnasts!M87,0)","v":""},{"$f":"IF(allGymnasts!D87=$C$13,allGymnasts!R87,0)","v":""},{"$f":"IF(allGymnasts!D87=$C$13,allGymnasts!W87,0)","v":""},{"$f":"IF(allGymnasts!D87=$C$14,allGymnasts!H87,0)","v":""},{"$f":"IF(allGymnasts!D87=$C$14,allGymnasts!M87,0)","v":""},{"$f":"IF(allGymnasts!D87=$C$14,allGymnasts!R87,0)","v":""},{"$f":"IF(allGymnasts!D87=$C$14,allGymnasts!W87,0)","v":""},{"$f":"IF(allGymnasts!D87=$C$15,allGymnasts!H87,0)","v":""},{"$f":"IF(allGymnasts!D87=$C$15,allGymnasts!M87,0)","v":""},{"$f":"IF(allGymnasts!D87=$C$15,allGymnasts!R87,0)","v":""},{"$f":"IF(allGymnasts!D87=$C$15,allGymnasts!W87,0)","v":""}]
[null,{"$f":"IFERROR(_xlfn.FLOOR.MATH(IF(allGymnasts!A88=\"\",\"\",INDEX(allGymnasts!$Z$4:$Z$33,MATCH(SMALL(allGymnasts!$Z$4:$Z$33,A88),allGymnasts!$Z$4:$Z$33,0)))),\"\")","v":""},null,{"$f":"IF(allGymnasts!A88=\"\",\"\",INDEX(allGymnasts!$A$4:$A$30,MATCH(SMALL(allGymnasts!$Z$4:$Z$33,A88),allGymnasts!$Z$4:$Z$33,0)))","v":""},{"$f":"IF(allGymnasts!B88=\"\",\"\",INDEX(allGymnasts!$B$4:$B$30,MATCH(SMALL(allGymnasts!$Z$4:$Z$33,A88),allGymnasts!$Z$4:$Z$33,0)))","v":""},{"$f":"IF(allGymnasts!C88=\"\",\"\",INDEX(allGymnasts!$C$4:$C$30,MATCH(SMALL(allGymnasts!$Z$4:$Z$33,A88),allGymnasts!$Z$4:$Z$33,0)))","v":""},{"$f":"IF(allGymnasts!D88=\"\",\"\",INDEX(allGymnasts!$D$4:$D$30,MATCH(SMALL(allGymnasts!$Z$4:$Z$33,A88),allGymnasts!$Z$4:$Z$33,0)))","v":""},{"$f":"IF(allGymnasts!E88=\"\",\"\",INDEX(allGymnasts!$J$4:$J$33,MATCH(SMALL(allGymnasts!$N$4:$N$33,A88),allGymnasts!$N$4:$N$33,0)))","v":""},{"$f":"IF(allGymnasts!F88=\"\",\"\",INDEX(allGymnasts!$K$4:$K$33,MATCH(SMALL(allGymnasts!$N$4:$N$33,A88),allGymnasts!$N$4:$N$33,0)))","v":""},{"$f":"IF(allGymnasts!G88=\"\",\"\",INDEX(allGymnasts!$L$4:$L$33,MATCH(SMALL(allGymnasts!$N$4:$N$33,A88),allGymnasts!$N$4:$N$33,0)))","v":""},{"$f":"IF(allGymnasts!H88=\"\",\"\",INDEX(allGymnasts!$Y$4:$Y$33,MATCH(SMALL(allGymnasts!$Z$4:$Z$33,A88),allGymnasts!$Z$4:$Z$33,0)))","v":""},null,null,null,{"$f":"IF(allGymnasts!D88=$C$4,allGymnasts!H88,0)","v":""},{"$f":"IF(allGymnasts!D88=$C$4,allGymnasts!M88,0)","v":""},{"$f":"IF(allGymnasts!D88=$C$4,allGymnasts!R88,0)","v":""},{"$f":"IF(allGymnasts!D88=$C$4,allGymnasts!W88,0)","v":""},{"$f":"IF(allGymnasts!D88=$C$5,allGymnasts!H88,0)","v":""},{"$f":"IF(allGymnasts!D88=$C$5,allGymnasts!M88,0)","v":""},{"$f":"IF(allGymnasts!D88=$C$5,allGymnasts!R88,0)","v":""},{"$f":"IF(allGymnasts!D88=$C$5,allGymnasts!W88,0)","v":""},{"$f":"IF(allGymnasts!D88=$C$6,allGymnasts!H88,0)","v":""},{"$f":"IF(allGymnasts!D88=$C$6,allGymnasts!M88,0)","v":""},{"$f":"IF(allGymnasts!D88=$C$6,allGymnasts!R88,0)","v":""},{"$f":"IF(allGymnasts!D88=$C$6,allGymnasts!W88,0)","v":""},{"$f":"IF(allGymnasts!D88=$C$7,allGymnasts!H88,0)","v":""},{"$f":"IF(allGymnasts!D88=$C$7,allGymnasts!M88,0)","v":""},{"$f":"IF(allGymnasts!D88=$C$7,allGymnasts!R88,0)","v":""},{"$f":"IF(allGymnasts!D88=$C$7,allGymnasts!W88,0)","v":""},{"$f":"IF(allGymnasts!D88=$C$8,allGymnasts!H88,0)","v":""},{"$f":"IF(allGymnasts!D88=$C$8,allGymnasts!M88,0)","v":""},{"$f":"IF(allGymnasts!D88=$C$8,allGymnasts!R88,0)","v":""},{"$f":"IF(allGymnasts!D88=$C$8,allGymnasts!W88,0)","v":""},{"$f":"IF(allGymnasts!D88=$C$9,allGymnasts!H88,0)","v":""},{"$f":"IF(allGymnasts!D88=$C$9,allGymnasts!M88,0)","v":""},{"$f":"IF(allGymnasts!D88=$C$9,allGymnasts!R88,0)","v":""},{"$f":"IF(allGymnasts!D88=$C$9,allGymnasts!W88,0)","v":""},{"$f":"IF(allGymnasts!D88=$C$10,allGymnasts!H88,0)","v":""},{"$f":"IF(allGymnasts!D88=$C$10,allGymnasts!M88,0)","v":""},{"$f":"IF(allGymnasts!D88=$C$10,allGymnasts!R88,0)","v":""},{"$f":"IF(allGymnasts!D88=$C$10,allGymnasts!W88,0)","v":""},{"$f":"IF(allGymnasts!D88=$C$11,allGymnasts!H88,0)","v":""},{"$f":"IF(allGymnasts!D88=$C$11,allGymnasts!M88,0)","v":""},{"$f":"IF(allGymnasts!D88=$C$11,allGymnasts!R88,0)","v":""},{"$f":"IF(allGymnasts!D88=$C$11,allGymnasts!W88,0)","v":""},{"$f":"IF(allGymnasts!D88=$C$12,allGymnasts!H88,0)","v":""},{"$f":"IF(allGymnasts!D88=$C$12,allGymnasts!M88,0)","v":""},{"$f":"IF(allGymnasts!D88=$C$12,allGymnasts!R88,0)","v":""},{"$f":"IF(allGymnasts!D88=$C$12,allGymnasts!W88,0)","v":""},{"$f":"IF(allGymnasts!D88=$C$13,allGymnasts!H88,0)","v":""},{"$f":"IF(allGymnasts!D88=$C$13,allGymnasts!M88,0)","v":""},{"$f":"IF(allGymnasts!D88=$C$13,allGymnasts!R88,0)","v":""},{"$f":"IF(allGymnasts!D88=$C$13,allGymnasts!W88,0)","v":""},{"$f":"IF(allGymnasts!D88=$C$14,allGymnasts!H88,0)","v":""},{"$f":"IF(allGymnasts!D88=$C$14,allGymnasts!M88,0)","v":""},{"$f":"IF(allGymnasts!D88=$C$14,allGymnasts!R88,0)","v":""},{"$f":"IF(allGymnasts!D88=$C$14,allGymnasts!W88,0)","v":""},{"$f":"IF(allGymnasts!D88=$C$15,allGymnasts!H88,0)","v":""},{"$f":"IF(allGymnasts!D88=$C$15,allGymnasts!M88,0)","v":""},{"$f":"IF(allGymnasts!D88=$C$15,allGymnasts!R88,0)","v":""},{"$f":"IF(allGymnasts!D88=$C$15,allGymnasts!W88,0)","v":""}]
[null,{"$f":"IFERROR(_xlfn.FLOOR.MATH(IF(allGymnasts!A89=\"\",\"\",INDEX(allGymnasts!$Z$4:$Z$33,MATCH(SMALL(allGymnasts!$Z$4:$Z$33,A89),allGymnasts!$Z$4:$Z$33,0)))),\"\")","v":""},null,{"$f":"IF(allGymnasts!A89=\"\",\"\",INDEX(allGymnasts!$A$4:$A$30,MATCH(SMALL(allGymnasts!$Z$4:$Z$33,A89),allGymnasts!$Z$4:$Z$33,0)))","v":""},{"$f":"IF(allGymnasts!B89=\"\",\"\",INDEX(allGymnasts!$B$4:$B$30,MATCH(SMALL(allGymnasts!$Z$4:$Z$33,A89),allGymnasts!$Z$4:$Z$33,0)))","v":""},{"$f":"IF(allGymnasts!C89=\"\",\"\",INDEX(allGymnasts!$C$4:$C$30,MATCH(SMALL(allGymnasts!$Z$4:$Z$33,A89),allGymnasts!$Z$4:$Z$33,0)))","v":""},{"$f":"IF(allGymnasts!D89=\"\",\"\",INDEX(allGymnasts!$D$4:$D$30,MATCH(SMALL(allGymnasts!$Z$4:$Z$33,A89),allGymnasts!$Z$4:$Z$33,0)))","v":""},{"$f":"IF(allGymnasts!E89=\"\",\"\",INDEX(allGymnasts!$J$4:$J$33,MATCH(SMALL(allGymnasts!$N$4:$N$33,A89),allGymnasts!$N$4:$N$33,0)))","v":""},{"$f":"IF(allGymnasts!F89=\"\",\"\",INDEX(allGymnasts!$K$4:$K$33,MATCH(SMALL(allGymnasts!$N$4:$N$33,A89),allGymnasts!$N$4:$N$33,0)))","v":""},{"$f":"IF(allGymnasts!G89=\"\",\"\",INDEX(allGymnasts!$L$4:$L$33,MATCH(SMALL(allGymnasts!$N$4:$N$33,A89),allGymnasts!$N$4:$N$33,0)))","v":""},{"$f":"IF(allGymnasts!H89=\"\",\"\",INDEX(allGymnasts!$Y$4:$Y$33,MATCH(SMALL(allGymnasts!$Z$4:$Z$33,A89),allGymnasts!$Z$4:$Z$33,0)))","v":""},null,null,null,{"$f":"IF(allGymnasts!D89=$C$4,allGymnasts!H89,0)","v":""},{"$f":"IF(allGymnasts!D89=$C$4,allGymnasts!M89,0)","v":""},{"$f":"IF(allGymnasts!D89=$C$4,allGymnasts!R89,0)","v":""},{"$f":"IF(allGymnasts!D89=$C$4,allGymnasts!W89,0)","v":""},{"$f":"IF(allGymnasts!D89=$C$5,allGymnasts!H89,0)","v":""},{"$f":"IF(allGymnasts!D89=$C$5,allGymnasts!M89,0)","v":""},{"$f":"IF(allGymnasts!D89=$C$5,allGymnasts!R89,0)","v":""},{"$f":"IF(allGymnasts!D89=$C$5,allGymnasts!W89,0)","v":""},{"$f":"IF(allGymnasts!D89=$C$6,allGymnasts!H89,0)","v":""},{"$f":"IF(allGymnasts!D89=$C$6,allGymnasts!M89,0)","v":""},{"$f":"IF(allGymnasts!D89=$C$6,allGymnasts!R89,0)","v":""},{"$f":"IF(allGymnasts!D89=$C$6,allGymnasts!W89,0)","v":""},{"$f":"IF(allGymnasts!D89=$C$7,allGymnasts!H89,0)","v":""},{"$f":"IF(allGymnasts!D89=$C$7,allGymnasts!M89,0)","v":""},{"$f":"IF(allGymnasts!D89=$C$7,allGymnasts!R89,0)","v":""},{"$f":"IF(allGymnasts!D89=$C$7,allGymnasts!W89,0)","v":""},{"$f":"IF(allGymnasts!D89=$C$8,allGymnasts!H89,0)","v":""},{"$f":"IF(allGymnasts!D89=$C$8,allGymnasts!M89,0)","v":""},{"$f":"IF(allGymnasts!D89=$C$8,allGymnasts!R89,0)","v":""},{"$f":"IF(allGymnasts!D89=$C$8,allGymnasts!W89,0)","v":""},{"$f":"IF(allGymnasts!D89=$C$9,allGymnasts!H89,0)","v":""},{"$f":"IF(allGymnasts!D89=$C$9,allGymnasts!M89,0)","v":""},{"$f":"IF(allGymnasts!D89=$C$9,allGymnasts!R89,0)","v":""},{"$f":"IF(allGymnasts!D89=$C$9,allGymnasts!W89,0)","v":""},{"$f":"IF(allGymnasts!D89=$C$10,allGymnasts!H89,0)","v":""},{"$f":"IF(allGymnasts!D89=$C$10,allGymnasts!M89,0)","v":""},{"$f":"IF(allGymnasts!D89=$C$10,allGymnasts!R89,0)","v":""},{"$f":"IF(allGymnasts!D89=$C$10,allGymnasts!W89,0)","v":""},{"$f":"IF(allGymnasts!D89=$C$11,allGymnasts!H89,0)","v":""},{"$f":"IF(allGymnasts!D89=$C$11,allGymnasts!M89,0)","v":""},{"$f":"IF(allGymnasts!D89=$C$11,allGymnasts!R89,0)","v":""},{"$f":"IF(allGymnasts!D89=$C$11,allGymnasts!W89,0)","v":""},{"$f":"IF(allGymnasts!D89=$C$12,allGymnasts!H89,0)","v":""},{"$f":"IF(allGymnasts!D89=$C$12,allGymnasts!M89,0)","v":""},{"$f":"IF(allGymnasts!D89=$C$12,allGymnasts!R89,0)","v":""},{"$f":"IF(allGymnasts!D89=$C$12,allGymnasts!W89,0)","v":""},{"$f":"IF(allGymnasts!D89=$C$13,allGymnasts!H89,0)","v":""},{"$f":"IF(allGymnasts!D89=$C$13,allGymnasts!M89,0)","v":""},{"$f":"IF(allGymnasts!D89=$C$13,allGymnasts!R89,0)","v":""},{"$f":"IF(allGymnasts!D89=$C$13,allGymnasts!W89,0)","v":""},{"$f":"IF(allGymnasts!D89=$C$14,allGymnasts!H89,0)","v":""},{"$f":"IF(allGymnasts!D89=$C$14,allGymnasts!M89,0)","v":""},{"$f":"IF(allGymnasts!D89=$C$14,allGymnasts!R89,0)","v":""},{"$f":"IF(allGymnasts!D89=$C$14,allGymnasts!W89,0)","v":""},{"$f":"IF(allGymnasts!D89=$C$15,allGymnasts!H89,0)","v":""},{"$f":"IF(allGymnasts!D89=$C$15,allGymnasts!M89,0)","v":""},{"$f":"IF(allGymnasts!D89=$C$15,allGymnasts!R89,0)","v":""},{"$f":"IF(allGymnasts!D89=$C$15,allGymnasts!W89,0)","v":""}]
[null,{"$f":"IFERROR(_xlfn.FLOOR.MATH(IF(allGymnasts!A90=\"\",\"\",INDEX(allGymnasts!$Z$4:$Z$33,MATCH(SMALL(allGymnasts!$Z$4:$Z$33,A90),allGymnasts!$Z$4:$Z$33,0)))),\"\")","v":""},null,{"$f":"IF(allGymnasts!A90=\"\",\"\",INDEX(allGymnasts!$A$4:$A$30,MATCH(SMALL(allGymnasts!$Z$4:$Z$33,A90),allGymnasts!$Z$4:$Z$33,0)))","v":""},{"$f":"IF(allGymnasts!B90=\"\",\"\",INDEX(allGymnasts!$B$4:$B$30,MATCH(SMALL(allGymnasts!$Z$4:$Z$33,A90),allGymnasts!$Z$4:$Z$33,0)))","v":""},{"$f":"IF(allGymnasts!C90=\"\",\"\",INDEX(allGymnasts!$C$4:$C$30,MATCH(SMALL(allGymnasts!$Z$4:$Z$33,A90),allGymnasts!$Z$4:$Z$33,0)))","v":""},{"$f":"IF(allGymnasts!D90=\"\",\"\",INDEX(allGymnasts!$D$4:$D$30,MATCH(SMALL(allGymnasts!$Z$4:$Z$33,A90),allGymnasts!$Z$4:$Z$33,0)))","v":""},{"$f":"IF(allGymnasts!E90=\"\",\"\",INDEX(allGymnasts!$J$4:$J$33,MATCH(SMALL(allGymnasts!$N$4:$N$33,A90),allGymnasts!$N$4:$N$33,0)))","v":""},{"$f":"IF(allGymnasts!F90=\"\",\"\",INDEX(allGymnasts!$K$4:$K$33,MATCH(SMALL(allGymnasts!$N$4:$N$33,A90),allGymnasts!$N$4:$N$33,0)))","v":""},{"$f":"IF(allGymnasts!G90=\"\",\"\",INDEX(allGymnasts!$L$4:$L$33,MATCH(SMALL(allGymnasts!$N$4:$N$33,A90),allGymnasts!$N$4:$N$33,0)))","v":""},{"$f":"IF(allGymnasts!H90=\"\",\"\",INDEX(allGymnasts!$Y$4:$Y$33,MATCH(SMALL(allGymnasts!$Z$4:$Z$33,A90),allGymnasts!$Z$4:$Z$33,0)))","v":""},null,null,null,{"$f":"IF(allGymnasts!D90=$C$4,allGymnasts!H90,0)","v":""},{"$f":"IF(allGymnasts!D90=$C$4,allGymnasts!M90,0)","v":""},{"$f":"IF(allGymnasts!D90=$C$4,allGymnasts!R90,0)","v":""},{"$f":"IF(allGymnasts!D90=$C$4,allGymnasts!W90,0)","v":""},{"$f":"IF(allGymnasts!D90=$C$5,allGymnasts!H90,0)","v":""},{"$f":"IF(allGymnasts!D90=$C$5,allGymnasts!M90,0)","v":""},{"$f":"IF(allGymnasts!D90=$C$5,allGymnasts!R90,0)","v":""},{"$f":"IF(allGymnasts!D90=$C$5,allGymnasts!W90,0)","v":""},{"$f":"IF(allGymnasts!D90=$C$6,allGymnasts!H90,0)","v":""},{"$f":"IF(allGymnasts!D90=$C$6,allGymnasts!M90,0)","v":""},{"$f":"IF(allGymnasts!D90=$C$6,allGymnasts!R90,0)","v":""},{"$f":"IF(allGymnasts!D90=$C$6,allGymnasts!W90,0)","v":""},{"$f":"IF(allGymnasts!D90=$C$7,allGymnasts!H90,0)","v":""},{"$f":"IF(allGymnasts!D90=$C$7,allGymnasts!M90,0)","v":""},{"$f":"IF(allGymnasts!D90=$C$7,allGymnasts!R90,0)","v":""},{"$f":"IF(allGymnasts!D90=$C$7,allGymnasts!W90,0)","v":""},{"$f":"IF(allGymnasts!D90=$C$8,allGymnasts!H90,0)","v":""},{"$f":"IF(allGymnasts!D90=$C$8,allGymnasts!M90,0)","v":""},{"$f":"IF(allGymnasts!D90=$C$8,allGymnasts!R90,0)","v":""},{"$f":"IF(allGymnasts!D90=$C$8,allGymnasts!W90,0)","v":""},{"$f":"IF(allGymnasts!D90=$C$9,allGymnasts!H90,0)","v":""},{"$f":"IF(allGymnasts!D90=$C$9,allGymnasts!M90,0)","v":""},{"$f":"IF(allGymnasts!D90=$C$9,allGymnasts!R90,0)","v":""},{"$f":"IF(allGymnasts!D90=$C$9,allGymnasts!W90,0)","v":""},{"$f":"IF(allGymnasts!D90=$C$10,allGymnasts!H90,0)","v":""},{"$f":"IF(allGymnasts!D90=$C$10,allGymnasts!M90,0)","v":""},{"$f":"IF(allGymnasts!D90=$C$10,allGymnasts!R90,0)","v":""},{"$f":"IF(allGymnasts!D90=$C$10,allGymnasts!W90,0)","v":""},{"$f":"IF(allGymnasts!D90=$C$11,allGymnasts!H90,0)","v":""},{"$f":"IF(allGymnasts!D90=$C$11,allGymnasts!M90,0)","v":""},{"$f":"IF(allGymnasts!D90=$C$11,allGymnasts!R90,0)","v":""},{"$f":"IF(allGymnasts!D90=$C$11,allGymnasts!W90,0)","v":""},{"$f":"IF(allGymnasts!D90=$C$12,allGymnasts!H90,0)","v":""},{"$f":"IF(allGymnasts!D90=$C$12,allGymnasts!M90,0)","v":""},{"$f":"IF(allGymnasts!D90=$C$12,allGymnasts!R90,0)","v":""},{"$f":"IF(allGymnasts!D90=$C$12,allGymnasts!W90,0)","v":""},{"$f":"IF(allGymnasts!D90=$C$13,allGymnasts!H90,0)","v":""},{"$f":"IF(allGymnasts!D90=$C$13,allGymnasts!M90,0)","v":""},{"$f":"IF(allGymnasts!D90=$C$13,allGymnasts!R90,0)","v":""},{"$f":"IF(allGymnasts!D90=$C$13,allGymnasts!W90,0)","v":""},{"$f":"IF(allGymnasts!D90=$C$14,allGymnasts!H90,0)","v":""},{"$f":"IF(allGymnasts!D90=$C$14,allGymnasts!M90,0)","v":""},{"$f":"IF(allGymnasts!D90=$C$14,allGymnasts!R90,0)","v":""},{"$f":"IF(allGymnasts!D90=$C$14,allGymnasts!W90,0)","v":""},{"$f":"IF(allGymnasts!D90=$C$15,allGymnasts!H90,0)","v":""},{"$f":"IF(allGymnasts!D90=$C$15,allGymnasts!M90,0)","v":""},{"$f":"IF(allGymnasts!D90=$C$15,allGymnasts!R90,0)","v":""},{"$f":"IF(allGymnasts!D90=$C$15,allGymnasts!W90,0)","v":""}]
[null,{"$f":"IFERROR(_xlfn.FLOOR.MATH(IF(allGymnasts!A91=\"\",\"\",INDEX(allGymnasts!$Z$4:$Z$33,MATCH(SMALL(allGymnasts!$Z$4:$Z$33,A91),allGymnasts!$Z$4:$Z$33,0)))),\"\")","v":""},null,{"$f":"IF(allGymnasts!A91=\"\",\"\",INDEX(allGymnasts!$A$4:$A$30,MATCH(SMALL(allGymnasts!$Z$4:$Z$33,A91),allGymnasts!$Z$4:$Z$33,0)))","v":""},{"$f":"IF(allGymnasts!B91=\"\",\"\",INDEX(allGymnasts!$B$4:$B$30,MATCH(SMALL(allGymnasts!$Z$4:$Z$33,A91),allGymnasts!$Z$4:$Z$33,0)))","v":""},{"$f":"IF(allGymnasts!C91=\"\",\"\",INDEX(allGymnasts!$C$4:$C$30,MATCH(SMALL(allGymnasts!$Z$4:$Z$33,A91),allGymnasts!$Z$4:$Z$33,0)))","v":""},{"$f":"IF(allGymnasts!D91=\"\",\"\",INDEX(allGymnasts!$D$4:$D$30,MATCH(SMALL(allGymnasts!$Z$4:$Z$33,A91),allGymnasts!$Z$4:$Z$33,0)))","v":""},{"$f":"IF(allGymnasts!E91=\"\",\"\",INDEX(allGymnasts!$J$4:$J$33,MATCH(SMALL(allGymnasts!$N$4:$N$33,A91),allGymnasts!$N$4:$N$33,0)))","v":""},{"$f":"IF(allGymnasts!F91=\"\",\"\",INDEX(allGymnasts!$K$4:$K$33,MATCH(SMALL(allGymnasts!$N$4:$N$33,A91),allGymnasts!$N$4:$N$33,0)))","v":""},{"$f":"IF(allGymnasts!G91=\"\",\"\",INDEX(allGymnasts!$L$4:$L$33,MATCH(SMALL(allGymnasts!$N$4:$N$33,A91),allGymnasts!$N$4:$N$33,0)))","v":""},{"$f":"IF(allGymnasts!H91=\"\",\"\",INDEX(allGymnasts!$Y$4:$Y$33,MATCH(SMALL(allGymnasts!$Z$4:$Z$33,A91),allGymnasts!$Z$4:$Z$33,0)))","v":""},null,null,null,{"$f":"IF(allGymnasts!D91=$C$4,allGymnasts!H91,0)","v":""},{"$f":"IF(allGymnasts!D91=$C$4,allGymnasts!M91,0)","v":""},{"$f":"IF(allGymnasts!D91=$C$4,allGymnasts!R91,0)","v":""},{"$f":"IF(allGymnasts!D91=$C$4,allGymnasts!W91,0)","v":""},{"$f":"IF(allGymnasts!D91=$C$5,allGymnasts!H91,0)","v":""},{"$f":"IF(allGymnasts!D91=$C$5,allGymnasts!M91,0)","v":""},{"$f":"IF(allGymnasts!D91=$C$5,allGymnasts!R91,0)","v":""},{"$f":"IF(allGymnasts!D91=$C$5,allGymnasts!W91,0)","v":""},{"$f":"IF(allGymnasts!D91=$C$6,allGymnasts!H91,0)","v":""},{"$f":"IF(allGymnasts!D91=$C$6,allGymnasts!M91,0)","v":""},{"$f":"IF(allGymnasts!D91=$C$6,allGymnasts!R91,0)","v":""},{"$f":"IF(allGymnasts!D91=$C$6,allGymnasts!W91,0)","v":""},{"$f":"IF(allGymnasts!D91=$C$7,allGymnasts!H91,0)","v":""},{"$f":"IF(allGymnasts!D91=$C$7,allGymnasts!M91,0)","v":""},{"$f":"IF(allGymnasts!D91=$C$7,allGymnasts!R91,0)","v":""},{"$f":"IF(allGymnasts!D91=$C$7,allGymnasts!W91,0)","v":""},{"$f":"IF(allGymnasts!D91=$C$8,allGymnasts!H91,0)","v":""},{"$f":"IF(allGymnasts!D91=$C$8,allGymnasts!M91,0)","v":""},{"$f":"IF(allGymnasts!D91=$C$8,allGymnasts!R91,0)","v":""},{"$f":"IF(allGymnasts!D91=$C$8,allGymnasts!W91,0)","v":""},{"$f":"IF(allGymnasts!D91=$C$9,allGymnasts!H91,0)","v":""},{"$f":"IF(allGymnasts!D91=$C$9,allGymnasts!M91,0)","v":""},{"$f":"IF(allGymnasts!D91=$C$9,allGymnasts!R91,0)","v":""},{"$f":"IF(allGymnasts!D91=$C$9,allGymnasts!W91,0)","v":""},{"$f":"IF(allGymnasts!D91=$C$10,allGymnasts!H91,0)","v":""},{"$f":"IF(allGymnasts!D91=$C$10,allGymnasts!M91,0)","v":""},{"$f":"IF(allGymnasts!D91=$C$10,allGymnasts!R91,0)","v":""},{"$f":"IF(allGymnasts!D91=$C$10,allGymnasts!W91,0)","v":""},{"$f":"IF(allGymnasts!D91=$C$11,allGymnasts!H91,0)","v":""},{"$f":"IF(allGymnasts!D91=$C$11,allGymnasts!M91,0)","v":""},{"$f":"IF(allGymnasts!D91=$C$11,allGymnasts!R91,0)","v":""},{"$f":"IF(allGymnasts!D91=$C$11,allGymnasts!W91,0)","v":""},{"$f":"IF(allGymnasts!D91=$C$12,allGymnasts!H91,0)","v":""},{"$f":"IF(allGymnasts!D91=$C$12,allGymnasts!M91,0)","v":""},{"$f":"IF(allGymnasts!D91=$C$12,allGymnasts!R91,0)","v":""},{"$f":"IF(allGymnasts!D91=$C$12,allGymnasts!W91,0)","v":""},{"$f":"IF(allGymnasts!D91=$C$13,allGymnasts!H91,0)","v":""},{"$f":"IF(allGymnasts!D91=$C$13,allGymnasts!M91,0)","v":""},{"$f":"IF(allGymnasts!D91=$C$13,allGymnasts!R91,0)","v":""},{"$f":"IF(allGymnasts!D91=$C$13,allGymnasts!W91,0)","v":""},{"$f":"IF(allGymnasts!D91=$C$14,allGymnasts!H91,0)","v":""},{"$f":"IF(allGymnasts!D91=$C$14,allGymnasts!M91,0)","v":""},{"$f":"IF(allGymnasts!D91=$C$14,allGymnasts!R91,0)","v":""},{"$f":"IF(allGymnasts!D91=$C$14,allGymnasts!W91,0)","v":""},{"$f":"IF(allGymnasts!D91=$C$15,allGymnasts!H91,0)","v":""},{"$f":"IF(allGymnasts!D91=$C$15,allGymnasts!M91,0)","v":""},{"$f":"IF(allGymnasts!D91=$C$15,allGymnasts!R91,0)","v":""},{"$f":"IF(allGymnasts!D91=$C$15,allGymnasts!W91,0)","v":""}]
[null,{"$f":"IFERROR(_xlfn.FLOOR.MATH(IF(allGymnasts!A92=\"\",\"\",INDEX(allGymnasts!$Z$4:$Z$33,MATCH(SMALL(allGymnasts!$Z$4:$Z$33,A92),allGymnasts!$Z$4:$Z$33,0)))),\"\")","v":""},null,{"$f":"IF(allGymnasts!A92=\"\",\"\",INDEX(allGymnasts!$A$4:$A$30,MATCH(SMALL(allGymnasts!$Z$4:$Z$33,A92),allGymnasts!$Z$4:$Z$33,0)))","v":""},{"$f":"IF(allGymnasts!B92=\"\",\"\",INDEX(allGymnasts!$B$4:$B$30,MATCH(SMALL(allGymnasts!$Z$4:$Z$33,A92),allGymnasts!$Z$4:$Z$33,0)))","v":""},{"$f":"IF(allGymnasts!C92=\"\",\"\",INDEX(allGymnasts!$C$4:$C$30,MATCH(SMALL(allGymnasts!$Z$4:$Z$33,A92),allGymnasts!$Z$4:$Z$33,0)))","v":""},{"$f":"IF(allGymnasts!D92=\"\",\"\",INDEX(allGymnasts!$D$4:$D$30,MATCH(SMALL(allGymnasts!$Z$4:$Z$33,A92),allGymnasts!$Z$4:$Z$33,0)))","v":""},{"$f":"IF(allGymnasts!E92=\"\",\"\",INDEX(allGymnasts!$J$4:$J$33,MATCH(SMALL(allGymnasts!$N$4:$N$33,A92),allGymnasts!$N$4:$N$33,0)))","v":""},{"$f":"IF(allGymnasts!F92=\"\",\"\",INDEX(allGymnasts!$K$4:$K$33,MATCH(SMALL(allGymnasts!$N$4:$N$33,A92),allGymnasts!$N$4:$N$33,0)))","v":""},{"$f":"IF(allGymnasts!G92=\"\",\"\",INDEX(allGymnasts!$L$4:$L$33,MATCH(SMALL(allGymnasts!$N$4:$N$33,A92),allGymnasts!$N$4:$N$33,0)))","v":""},{"$f":"IF(allGymnasts!H92=\"\",\"\",INDEX(allGymnasts!$Y$4:$Y$33,MATCH(SMALL(allGymnasts!$Z$4:$Z$33,A92),allGymnasts!$Z$4:$Z$33,0)))","v":""},null,null,null,{"$f":"IF(allGymnasts!D92=$C$4,allGymnasts!H92,0)","v":""},{"$f":"IF(allGymnasts!D92=$C$4,allGymnasts!M92,0)","v":""},{"$f":"IF(allGymnasts!D92=$C$4,allGymnasts!R92,0)","v":""},{"$f":"IF(allGymnasts!D92=$C$4,allGymnasts!W92,0)","v":""},{"$f":"IF(allGymnasts!D92=$C$5,allGymnasts!H92,0)","v":""},{"$f":"IF(allGymnasts!D92=$C$5,allGymnasts!M92,0)","v":""},{"$f":"IF(allGymnasts!D92=$C$5,allGymnasts!R92,0)","v":""},{"$f":"IF(allGymnasts!D92=$C$5,allGymnasts!W92,0)","v":""},{"$f":"IF(allGymnasts!D92=$C$6,allGymnasts!H92,0)","v":""},{"$f":"IF(allGymnasts!D92=$C$6,allGymnasts!M92,0)","v":""},{"$f":"IF(allGymnasts!D92=$C$6,allGymnasts!R92,0)","v":""},{"$f":"IF(allGymnasts!D92=$C$6,allGymnasts!W92,0)","v":""},{"$f":"IF(allGymnasts!D92=$C$7,allGymnasts!H92,0)","v":""},{"$f":"IF(allGymnasts!D92=$C$7,allGymnasts!M92,0)","v":""},{"$f":"IF(allGymnasts!D92=$C$7,allGymnasts!R92,0)","v":""},{"$f":"IF(allGymnasts!D92=$C$7,allGymnasts!W92,0)","v":""},{"$f":"IF(allGymnasts!D92=$C$8,allGymnasts!H92,0)","v":""},{"$f":"IF(allGymnasts!D92=$C$8,allGymnasts!M92,0)","v":""},{"$f":"IF(allGymnasts!D92=$C$8,allGymnasts!R92,0)","v":""},{"$f":"IF(allGymnasts!D92=$C$8,allGymnasts!W92,0)","v":""},{"$f":"IF(allGymnasts!D92=$C$9,allGymnasts!H92,0)","v":""},{"$f":"IF(allGymnasts!D92=$C$9,allGymnasts!M92,0)","v":""},{"$f":"IF(allGymnasts!D92=$C$9,allGymnasts!R92,0)","v":""},{"$f":"IF(allGymnasts!D92=$C$9,allGymnasts!W92,0)","v":""},{"$f":"IF(allGymnasts!D92=$C$10,allGymnasts!H92,0)","v":""},{"$f":"IF(allGymnasts!D92=$C$10,allGymnasts!M92,0)","v":""},{"$f":"IF(allGymnasts!D92=$C$10,allGymnasts!R92,0)","v":""},{"$f":"IF(allGymnasts!D92=$C$10,allGymnasts!W92,0)","v":""},{"$f":"IF(allGymnasts!D92=$C$11,allGymnasts!H92,0)","v":""},{"$f":"IF(allGymnasts!D92=$C$11,allGymnasts!M92,0)","v":""},{"$f":"IF(allGymnasts!D92=$C$11,allGymnasts!R92,0)","v":""},{"$f":"IF(allGymnasts!D92=$C$11,allGymnasts!W92,0)","v":""},{"$f":"IF(allGymnasts!D92=$C$12,allGymnasts!H92,0)","v":""},{"$f":"IF(allGymnasts!D92=$C$12,allGymnasts!M92,0)","v":""},{"$f":"IF(allGymnasts!D92=$C$12,allGymnasts!R92,0)","v":""},{"$f":"IF(allGymnasts!D92=$C$12,allGymnasts!W92,0)","v":""},{"$f":"IF(allGymnasts!D92=$C$13,allGymnasts!H92,0)","v":""},{"$f":"IF(allGymnasts!D92=$C$13,allGymnasts!M92,0)","v":""},{"$f":"IF(allGymnasts!D92=$C$13,allGymnasts!R92,0)","v":""},{"$f":"IF(allGymnasts!D92=$C$13,allGymnasts!W92,0)","v":""},{"$f":"IF(allGymnasts!D92=$C$14,allGymnasts!H92,0)","v":""},{"$f":"IF(allGymnasts!D92=$C$14,allGymnasts!M92,0)","v":""},{"$f":"IF(allGymnasts!D92=$C$14,allGymnasts!R92,0)","v":""},{"$f":"IF(allGymnasts!D92=$C$14,allGymnasts!W92,0)","v":""},{"$f":"IF(allGymnasts!D92=$C$15,allGymnasts!H92,0)","v":""},{"$f":"IF(allGymnasts!D92=$C$15,allGymnasts!M92,0)","v":""},{"$f":"IF(allGymnasts!D92=$C$15,allGymnasts!R92,0)","v":""},{"$f":"IF(allGymnasts!D92=$C$15,allGymnasts!W92,0)","v":""}]
[null,{"$f":"IFERROR(_xlfn.FLOOR.MATH(IF(allGymnasts!A93=\"\",\"\",INDEX(allGymnasts!$Z$4:$Z$33,MATCH(SMALL(allGymnasts!$Z$4:$Z$33,A93),allGymnasts!$Z$4:$Z$33,0)))),\"\")","v":""},null,{"$f":"IF(allGymnasts!A93=\"\",\"\",INDEX(allGymnasts!$A$4:$A$30,MATCH(SMALL(allGymnasts!$Z$4:$Z$33,A93),allGymnasts!$Z$4:$Z$33,0)))","v":""},{"$f":"IF(allGymnasts!B93=\"\",\"\",INDEX(allGymnasts!$B$4:$B$30,MATCH(SMALL(allGymnasts!$Z$4:$Z$33,A93),allGymnasts!$Z$4:$Z$33,0)))","v":""},{"$f":"IF(allGymnasts!C93=\"\",\"\",INDEX(allGymnasts!$C$4:$C$30,MATCH(SMALL(allGymnasts!$Z$4:$Z$33,A93),allGymnasts!$Z$4:$Z$33,0)))","v":""},{"$f":"IF(allGymnasts!D93=\"\",\"\",INDEX(allGymnasts!$D$4:$D$30,MATCH(SMALL(allGymnasts!$Z$4:$Z$33,A93),allGymnasts!$Z$4:$Z$33,0)))","v":""},{"$f":"IF(allGymnasts!E93=\"\",\"\",INDEX(allGymnasts!$J$4:$J$33,MATCH(SMALL(allGymnasts!$N$4:$N$33,A93),allGymnasts!$N$4:$N$33,0)))","v":""},{"$f":"IF(allGymnasts!F93=\"\",\"\",INDEX(allGymnasts!$K$4:$K$33,MATCH(SMALL(allGymnasts!$N$4:$N$33,A93),allGymnasts!$N$4:$N$33,0)))","v":""},{"$f":"IF(allGymnasts!G93=\"\",\"\",INDEX(allGymnasts!$L$4:$L$33,MATCH(SMALL(allGymnasts!$N$4:$N$33,A93),allGymnasts!$N$4:$N$33,0)))","v":""},{"$f":"IF(allGymnasts!H93=\"\",\"\",INDEX(allGymnasts!$Y$4:$Y$33,MATCH(SMALL(allGymnasts!$Z$4:$Z$33,A93),allGymnasts!$Z$4:$Z$33,0)))","v":""},null,null,null,{"$f":"IF(allGymnasts!D93=$C$4,allGymnasts!H93,0)","v":""},{"$f":"IF(allGymnasts!D93=$C$4,allGymnasts!M93,0)","v":""},{"$f":"IF(allGymnasts!D93=$C$4,allGymnasts!R93,0)","v":""},{"$f":"IF(allGymnasts!D93=$C$4,allGymnasts!W93,0)","v":""},{"$f":"IF(allGymnasts!D93=$C$5,allGymnasts!H93,0)","v":""},{"$f":"IF(allGymnasts!D93=$C$5,allGymnasts!M93,0)","v":""},{"$f":"IF(allGymnasts!D93=$C$5,allGymnasts!R93,0)","v":""},{"$f":"IF(allGymnasts!D93=$C$5,allGymnasts!W93,0)","v":""},{"$f":"IF(allGymnasts!D93=$C$6,allGymnasts!H93,0)","v":""},{"$f":"IF(allGymnasts!D93=$C$6,allGymnasts!M93,0)","v":""},{"$f":"IF(allGymnasts!D93=$C$6,allGymnasts!R93,0)","v":""},{"$f":"IF(allGymnasts!D93=$C$6,allGymnasts!W93,0)","v":""},{"$f":"IF(allGymnasts!D93=$C$7,allGymnasts!H93,0)","v":""},{"$f":"IF(allGymnasts!D93=$C$7,allGymnasts!M93,0)","v":""},{"$f":"IF(allGymnasts!D93=$C$7,allGymnasts!R93,0)","v":""},{"$f":"IF(allGymnasts!D93=$C$7,allGymnasts!W93,0)","v":""},{"$f":"IF(allGymnasts!D93=$C$8,allGymnasts!H93,0)","v":""},{"$f":"IF(allGymnasts!D93=$C$8,allGymnasts!M93,0)","v":""},{"$f":"IF(allGymnasts!D93=$C$8,allGymnasts!R93,0)","v":""},{"$f":"IF(allGymnasts!D93=$C$8,allGymnasts!W93,0)","v":""},{"$f":"IF(allGymnasts!D93=$C$9,allGymnasts!H93,0)","v":""},{"$f":"IF(allGymnasts!D93=$C$9,allGymnasts!M93,0)","v":""},{"$f":"IF(allGymnasts!D93=$C$9,allGymnasts!R93,0)","v":""},{"$f":"IF(allGymnasts!D93=$C$9,allGymnasts!W93,0)","v":""},{"$f":"IF(allGymnasts!D93=$C$10,allGymnasts!H93,0)","v":""},{"$f":"IF(allGymnasts!D93=$C$10,allGymnasts!M93,0)","v":""},{"$f":"IF(allGymnasts!D93=$C$10,allGymnasts!R93,0)","v":""},{"$f":"IF(allGymnasts!D93=$C$10,allGymnasts!W93,0)","v":""},{"$f":"IF(allGymnasts!D93=$C$11,allGymnasts!H93,0)","v":""},{"$f":"IF(allGymnasts!D93=$C$11,allGymnasts!M93,0)","v":""},{"$f":"IF(allGymnasts!D93=$C$11,allGymnasts!R93,0)","v":""},{"$f":"IF(allGymnasts!D93=$C$11,allGymnasts!W93,0)","v":""},{"$f":"IF(allGymnasts!D93=$C$12,allGymnasts!H93,0)","v":""},{"$f":"IF(allGymnasts!D93=$C$12,allGymnasts!M93,0)","v":""},{"$f":"IF(allGymnasts!D93=$C$12,allGymnasts!R93,0)","v":""},{"$f":"IF(allGymnasts!D93=$C$12,allGymnasts!W93,0)","v":""},{"$f":"IF(allGymnasts!D93=$C$13,allGymnasts!H93,0)","v":""},{"$f":"IF(allGymnasts!D93=$C$13,allGymnasts!M93,0)","v":""},{"$f":"IF(allGymnasts!D93=$C$13,allGymnasts!R93,0)","v":""},{"$f":"IF(allGymnasts!D93=$C$13,allGymnasts!W93,0)","v":""},{"$f":"IF(allGymnasts!D93=$C$14,allGymnasts!H93,0)","v":""},{"$f":"IF(allGymnasts!D93=$C$14,allGymnasts!M93,0)","v":""},{"$f":"IF(allGymnasts!D93=$C$14,allGymnasts!R93,0)","v":""},{"$f":"IF(allGymnasts!D93=$C$14,allGymnasts!W93,0)","v":""},{"$f":"IF(allGymnasts!D93=$C$15,allGymnasts!H93,0)","v":""},{"$f":"IF(allGymnasts!D93=$C$15,allGymnasts!M93,0)","v":""},{"$f":"IF(allGymnasts!D93=$C$15,allGymnasts!R93,0)","v":""},{"$f":"IF(allGymnasts!D93=$C$15,allGymnasts!W93,0)","v":""}]
[null,{"$f":"IFERROR(_xlfn.FLOOR.MATH(IF(allGymnasts!A94=\"\",\"\",INDEX(allGymnasts!$Z$4:$Z$33,MATCH(SMALL(allGymnasts!$Z$4:$Z$33,A94),allGymnasts!$Z$4:$Z$33,0)))),\"\")","v":""},null,{"$f":"IF(allGymnasts!A94=\"\",\"\",INDEX(allGymnasts!$A$4:$A$30,MATCH(SMALL(allGymnasts!$Z$4:$Z$33,A94),allGymnasts!$Z$4:$Z$33,0)))","v":""},{"$f":"IF(allGymnasts!B94=\"\",\"\",INDEX(allGymnasts!$B$4:$B$30,MATCH(SMALL(allGymnasts!$Z$4:$Z$33,A94),allGymnasts!$Z$4:$Z$33,0)))","v":""},{"$f":"IF(allGymnasts!C94=\"\",\"\",INDEX(allGymnasts!$C$4:$C$30,MATCH(SMALL(allGymnasts!$Z$4:$Z$33,A94),allGymnasts!$Z$4:$Z$33,0)))","v":""},{"$f":"IF(allGymnasts!D94=\"\",\"\",INDEX(allGymnasts!$D$4:$D$30,MATCH(SMALL(allGymnasts!$Z$4:$Z$33,A94),allGymnasts!$Z$4:$Z$33,0)))","v":""},{"$f":"IF(allGymnasts!E94=\"\",\"\",INDEX(allGymnasts!$J$4:$J$33,MATCH(SMALL(allGymnasts!$N$4:$N$33,A94),allGymnasts!$N$4:$N$33,0)))","v":""},{"$f":"IF(allGymnasts!F94=\"\",\"\",INDEX(allGymnasts!$K$4:$K$33,MATCH(SMALL(allGymnasts!$N$4:$N$33,A94),allGymnasts!$N$4:$N$33,0)))","v":""},{"$f":"IF(allGymnasts!G94=\"\",\"\",INDEX(allGymnasts!$L$4:$L$33,MATCH(SMALL(allGymnasts!$N$4:$N$33,A94),allGymnasts!$N$4:$N$33,0)))","v":""},{"$f":"IF(allGymnasts!H94=\"\",\"\",INDEX(allGymnasts!$Y$4:$Y$33,MATCH(SMALL(allGymnasts!$Z$4:$Z$33,A94),allGymnasts!$Z$4:$Z$33,0)))","v":""},null,null,null,{"$f":"IF(allGymnasts!D94=$C$4,allGymnasts!H94,0)","v":""},{"$f":"IF(allGymnasts!D94=$C$4,allGymnasts!M94,0)","v":""},{"$f":"IF(allGymnasts!D94=$C$4,allGymnasts!R94,0)","v":""},{"$f":"IF(allGymnasts!D94=$C$4,allGymnasts!W94,0)","v":""},{"$f":"IF(allGymnasts!D94=$C$5,allGymnasts!H94,0)","v":""},{"$f":"IF(allGymnasts!D94=$C$5,allGymnasts!M94,0)","v":""},{"$f":"IF(allGymnasts!D94=$C$5,allGymnasts!R94,0)","v":""},{"$f":"IF(allGymnasts!D94=$C$5,allGymnasts!W94,0)","v":""},{"$f":"IF(allGymnasts!D94=$C$6,allGymnasts!H94,0)","v":""},{"$f":"IF(allGymnasts!D94=$C$6,allGymnasts!M94,0)","v":""},{"$f":"IF(allGymnasts!D94=$C$6,allGymnasts!R94,0)","v":""},{"$f":"IF(allGymnasts!D94=$C$6,allGymnasts!W94,0)","v":""},{"$f":"IF(allGymnasts!D94=$C$7,allGymnasts!H94,0)","v":""},{"$f":"IF(allGymnasts!D94=$C$7,allGymnasts!M94,0)","v":""},{"$f":"IF(allGymnasts!D94=$C$7,allGymnasts!R94,0)","v":""},{"$f":"IF(allGymnasts!D94=$C$7,allGymnasts!W94,0)","v":""},{"$f":"IF(allGymnasts!D94=$C$8,allGymnasts!H94,0)","v":""},{"$f":"IF(allGymnasts!D94=$C$8,allGymnasts!M94,0)","v":""},{"$f":"IF(allGymnasts!D94=$C$8,allGymnasts!R94,0)","v":""},{"$f":"IF(allGymnasts!D94=$C$8,allGymnasts!W94,0)","v":""},{"$f":"IF(allGymnasts!D94=$C$9,allGymnasts!H94,0)","v":""},{"$f":"IF(allGymnasts!D94=$C$9,allGymnasts!M94,0)","v":""},{"$f":"IF(allGymnasts!D94=$C$9,allGymnasts!R94,0)","v":""},{"$f":"IF(allGymnasts!D94=$C$9,allGymnasts!W94,0)","v":""},{"$f":"IF(allGymnasts!D94=$C$10,allGymnasts!H94,0)","v":""},{"$f":"IF(allGymnasts!D94=$C$10,allGymnasts!M94,0)","v":""},{"$f":"IF(allGymnasts!D94=$C$10,allGymnasts!R94,0)","v":""},{"$f":"IF(allGymnasts!D94=$C$10,allGymnasts!W94,0)","v":""},{"$f":"IF(allGymnasts!D94=$C$11,allGymnasts!H94,0)","v":""},{"$f":"IF(allGymnasts!D94=$C$11,allGymnasts!M94,0)","v":""},{"$f":"IF(allGymnasts!D94=$C$11,allGymnasts!R94,0)","v":""},{"$f":"IF(allGymnasts!D94=$C$11,allGymnasts!W94,0)","v":""},{"$f":"IF(allGymnasts!D94=$C$12,allGymnasts!H94,0)","v":""},{"$f":"IF(allGymnasts!D94=$C$12,allGymnasts!M94,0)","v":""},{"$f":"IF(allGymnasts!D94=$C$12,allGymnasts!R94,0)","v":""},{"$f":"IF(allGymnasts!D94=$C$12,allGymnasts!W94,0)","v":""},{"$f":"IF(allGymnasts!D94=$C$13,allGymnasts!H94,0)","v":""},{"$f":"IF(allGymnasts!D94=$C$13,allGymnasts!M94,0)","v":""},{"$f":"IF(allGymnasts!D94=$C$13,allGymnasts!R94,0)","v":""},{"$f":"IF(allGymnasts!D94=$C$13,allGymnasts!W94,0)","v":""},{"$f":"IF(allGymnasts!D94=$C$14,allGymnasts!H94,0)","v":""},{"$f":"IF(allGymnasts!D94=$C$14,allGymnasts!M94,0)","v":""},{"$f":"IF(allGymnasts!D94=$C$14,allGymnasts!R94,0)","v":""},{"$f":"IF(allGymnasts!D94=$C$14,allGymnasts!W94,0)","v":""},{"$f":"IF(allGymnasts!D94=$C$15,allGymnasts!H94,0)","v":""},{"$f":"IF(allGymnasts!D94=$C$15,allGymnasts!M94,0)","v":""},{"$f":"IF(allGymnasts!D94=$C$15,allGymnasts!R94,0)","v":""},{"$f":"IF(allGymnasts!D94=$C$15,allGymnasts!W94,0)","v":""}]
[null,{"$f":"IFERROR(_xlfn.FLOOR.MATH(IF(allGymnasts!A95=\"\",\"\",INDEX(allGymnasts!$Z$4:$Z$33,MATCH(SMALL(allGymnasts!$Z$4:$Z$33,A95),allGymnasts!$Z$4:$Z$33,0)))),\"\")","v":""},null,{"$f":"IF(allGymnasts!A95=\"\",\"\",INDEX(allGymnasts!$A$4:$A$30,MATCH(SMALL(allGymnasts!$Z$4:$Z$33,A95),allGymnasts!$Z$4:$Z$33,0)))","v":""},{"$f":"IF(allGymnasts!B95=\"\",\"\",INDEX(allGymnasts!$B$4:$B$30,MATCH(SMALL(allGymnasts!$Z$4:$Z$33,A95),allGymnasts!$Z$4:$Z$33,0)))","v":""},{"$f":"IF(allGymnasts!C95=\"\",\"\",INDEX(allGymnasts!$C$4:$C$30,MATCH(SMALL(allGymnasts!$Z$4:$Z$33,A95),allGymnasts!$Z$4:$Z$33,0)))","v":""},{"$f":"IF(allGymnasts!D95=\"\",\"\",INDEX(allGymnasts!$D$4:$D$30,MATCH(SMALL(allGymnasts!$Z$4:$Z$33,A95),allGymnasts!$Z$4:$Z$33,0)))","v":""},{"$f":"IF(allGymnasts!E95=\"\",\"\",INDEX(allGymnasts!$J$4:$J$33,MATCH(SMALL(allGymnasts!$N$4:$N$33,A95),allGymnasts!$N$4:$N$33,0)))","v":""},{"$f":"IF(allGymnasts!F95=\"\",\"\",INDEX(allGymnasts!$K$4:$K$33,MATCH(SMALL(allGymnasts!$N$4:$N$33,A95),allGymnasts!$N$4:$N$33,0)))","v":""},{"$f":"IF(allGymnasts!G95=\"\",\"\",INDEX(allGymnasts!$L$4:$L$33,MATCH(SMALL(allGymnasts!$N$4:$N$33,A95),allGymnasts!$N$4:$N$33,0)))","v":""},{"$f":"IF(allGymnasts!H95=\"\",\"\",INDEX(allGymnasts!$Y$4:$Y$33,MATCH(SMALL(allGymnasts!$Z$4:$Z$33,A95),allGymnasts!$Z$4:$Z$33,0)))","v":""},null,null,null,{"$f":"IF(allGymnasts!D95=$C$4,allGymnasts!H95,0)","v":""},{"$f":"IF(allGymnasts!D95=$C$4,allGymnasts!M95,0)","v":""},{"$f":"IF(allGymnasts!D95=$C$4,allGymnasts!R95,0)","v":""},{"$f":"IF(allGymnasts!D95=$C$4,allGymnasts!W95,0)","v":""},{"$f":"IF(allGymnasts!D95=$C$5,allGymnasts!H95,0)","v":""},{"$f":"IF(allGymnasts!D95=$C$5,allGymnasts!M95,0)","v":""},{"$f":"IF(allGymnasts!D95=$C$5,allGymnasts!R95,0)","v":""},{"$f":"IF(allGymnasts!D95=$C$5,allGymnasts!W95,0)","v":""},{"$f":"IF(allGymnasts!D95=$C$6,allGymnasts!H95,0)","v":""},{"$f":"IF(allGymnasts!D95=$C$6,allGymnasts!M95,0)","v":""},{"$f":"IF(allGymnasts!D95=$C$6,allGymnasts!R95,0)","v":""},{"$f":"IF(allGymnasts!D95=$C$6,allGymnasts!W95,0)","v":""},{"$f":"IF(allGymnasts!D95=$C$7,allGymnasts!H95,0)","v":""},{"$f":"IF(allGymnasts!D95=$C$7,allGymnasts!M95,0)","v":""},{"$f":"IF(allGymnasts!D95=$C$7,allGymnasts!R95,0)","v":""},{"$f":"IF(allGymnasts!D95=$C$7,allGymnasts!W95,0)","v":""},{"$f":"IF(allGymnasts!D95=$C$8,allGymnasts!H95,0)","v":""},{"$f":"IF(allGymnasts!D95=$C$8,allGymnasts!M95,0)","v":""},{"$f":"IF(allGymnasts!D95=$C$8,allGymnasts!R95,0)","v":""},{"$f":"IF(allGymnasts!D95=$C$8,allGymnasts!W95,0)","v":""},{"$f":"IF(allGymnasts!D95=$C$9,allGymnasts!H95,0)","v":""},{"$f":"IF(allGymnasts!D95=$C$9,allGymnasts!M95,0)","v":""},{"$f":"IF(allGymnasts!D95=$C$9,allGymnasts!R95,0)","v":""},{"$f":"IF(allGymnasts!D95=$C$9,allGymnasts!W95,0)","v":""},{"$f":"IF(allGymnasts!D95=$C$10,allGymnasts!H95,0)","v":""},{"$f":"IF(allGymnasts!D95=$C$10,allGymnasts!M95,0)","v":""},{"$f":"IF(allGymnasts!D95=$C$10,allGymnasts!R95,0)","v":""},{"$f":"IF(allGymnasts!D95=$C$10,allGymnasts!W95,0)","v":""},{"$f":"IF(allGymnasts!D95=$C$11,allGymnasts!H95,0)","v":""},{"$f":"IF(allGymnasts!D95=$C$11,allGymnasts!M95,0)","v":""},{"$f":"IF(allGymnasts!D95=$C$11,allGymnasts!R95,0)","v":""},{"$f":"IF(allGymnasts!D95=$C$11,allGymnasts!W95,0)","v":""},{"$f":"IF(allGymnasts!D95=$C$12,allGymnasts!H95,0)","v":""},{"$f":"IF(allGymnasts!D95=$C$12,allGymnasts!M95,0)","v":""},{"$f":"IF(allGymnasts!D95=$C$12,allGymnasts!R95,0)","v":""},{"$f":"IF(allGymnasts!D95=$C$12,allGymnasts!W95,0)","v":""},{"$f":"IF(allGymnasts!D95=$C$13,allGymnasts!H95,0)","v":""},{"$f":"IF(allGymnasts!D95=$C$13,allGymnasts!M95,0)","v":""},{"$f":"IF(allGymnasts!D95=$C$13,allGymnasts!R95,0)","v":""},{"$f":"IF(allGymnasts!D95=$C$13,allGymnasts!W95,0)","v":""},{"$f":"IF(allGymnasts!D95=$C$14,allGymnasts!H95,0)","v":""},{"$f":"IF(allGymnasts!D95=$C$14,allGymnasts!M95,0)","v":""},{"$f":"IF(allGymnasts!D95=$C$14,allGymnasts!R95,0)","v":""},{"$f":"IF(allGymnasts!D95=$C$14,allGymnasts!W95,0)","v":""},{"$f":"IF(allGymnasts!D95=$C$15,allGymnasts!H95,0)","v":""},{"$f":"IF(allGymnasts!D95=$C$15,allGymnasts!M95,0)","v":""},{"$f":"IF(allGymnasts!D95=$C$15,allGymnasts!R95,0)","v":""},{"$f":"IF(allGymnasts!D95=$C$15,allGymnasts!W95,0)","v":""}]
[null,{"$f":"IFERROR(_xlfn.FLOOR.MATH(IF(allGymnasts!A96=\"\",\"\",INDEX(allGymnasts!$Z$4:$Z$33,MATCH(SMALL(allGymnasts!$Z$4:$Z$33,A96),allGymnasts!$Z$4:$Z$33,0)))),\"\")","v":""},null,{"$f":"IF(allGymnasts!A96=\"\",\"\",INDEX(allGymnasts!$A$4:$A$30,MATCH(SMALL(allGymnasts!$Z$4:$Z$33,A96),allGymnasts!$Z$4:$Z$33,0)))","v":""},{"$f":"IF(allGymnasts!B96=\"\",\"\",INDEX(allGymnasts!$B$4:$B$30,MATCH(SMALL(allGymnasts!$Z$4:$Z$33,A96),allGymnasts!$Z$4:$Z$33,0)))","v":""},{"$f":"IF(allGymnasts!C96=\"\",\"\",INDEX(allGymnasts!$C$4:$C$30,MATCH(SMALL(allGymnasts!$Z$4:$Z$33,A96),allGymnasts!$Z$4:$Z$33,0)))","v":""},{"$f":"IF(allGymnasts!D96=\"\",\"\",INDEX(allGymnasts!$D$4:$D$30,MATCH(SMALL(allGymnasts!$Z$4:$Z$33,A96),allGymnasts!$Z$4:$Z$33,0)))","v":""},{"$f":"IF(allGymnasts!E96=\"\",\"\",INDEX(allGymnasts!$J$4:$J$33,MATCH(SMALL(allGymnasts!$N$4:$N$33,A96),allGymnasts!$N$4:$N$33,0)))","v":""},{"$f":"IF(allGymnasts!F96=\"\",\"\",INDEX(allGymnasts!$K$4:$K$33,MATCH(SMALL(allGymnasts!$N$4:$N$33,A96),allGymnasts!$N$4:$N$33,0)))","v":""},{"$f":"IF(allGymnasts!G96=\"\",\"\",INDEX(allGymnasts!$L$4:$L$33,MATCH(SMALL(allGymnasts!$N$4:$N$33,A96),allGymnasts!$N$4:$N$33,0)))","v":""},{"$f":"IF(allGymnasts!H96=\"\",\"\",INDEX(allGymnasts!$Y$4:$Y$33,MATCH(SMALL(allGymnasts!$Z$4:$Z$33,A96),allGymnasts!$Z$4:$Z$33,0)))","v":""},null,null,null,{"$f":"IF(allGymnasts!D96=$C$4,allGymnasts!H96,0)","v":""},{"$f":"IF(allGymnasts!D96=$C$4,allGymnasts!M96,0)","v":""},{"$f":"IF(allGymnasts!D96=$C$4,allGymnasts!R96,0)","v":""},{"$f":"IF(allGymnasts!D96=$C$4,allGymnasts!W96,0)","v":""},{"$f":"IF(allGymnasts!D96=$C$5,allGymnasts!H96,0)","v":""},{"$f":"IF(allGymnasts!D96=$C$5,allGymnasts!M96,0)","v":""},{"$f":"IF(allGymnasts!D96=$C$5,allGymnasts!R96,0)","v":""},{"$f":"IF(allGymnasts!D96=$C$5,allGymnasts!W96,0)","v":""},{"$f":"IF(allGymnasts!D96=$C$6,allGymnasts!H96,0)","v":""},{"$f":"IF(allGymnasts!D96=$C$6,allGymnasts!M96,0)","v":""},{"$f":"IF(allGymnasts!D96=$C$6,allGymnasts!R96,0)","v":""},{"$f":"IF(allGymnasts!D96=$C$6,allGymnasts!W96,0)","v":""},{"$f":"IF(allGymnasts!D96=$C$7,allGymnasts!H96,0)","v":""},{"$f":"IF(allGymnasts!D96=$C$7,allGymnasts!M96,0)","v":""},{"$f":"IF(allGymnasts!D96=$C$7,allGymnasts!R96,0)","v":""},{"$f":"IF(allGymnasts!D96=$C$7,allGymnasts!W96,0)","v":""},{"$f":"IF(allGymnasts!D96=$C$8,allGymnasts!H96,0)","v":""},{"$f":"IF(allGymnasts!D96=$C$8,allGymnasts!M96,0)","v":""},{"$f":"IF(allGymnasts!D96=$C$8,allGymnasts!R96,0)","v":""},{"$f":"IF(allGymnasts!D96=$C$8,allGymnasts!W96,0)","v":""},{"$f":"IF(allGymnasts!D96=$C$9,allGymnasts!H96,0)","v":""},{"$f":"IF(allGymnasts!D96=$C$9,allGymnasts!M96,0)","v":""},{"$f":"IF(allGymnasts!D96=$C$9,allGymnasts!R96,0)","v":""},{"$f":"IF(allGymnasts!D96=$C$9,allGymnasts!W96,0)","v":""},{"$f":"IF(allGymnasts!D96=$C$10,allGymnasts!H96,0)","v":""},{"$f":"IF(allGymnasts!D96=$C$10,allGymnasts!M96,0)","v":""},{"$f":"IF(allGymnasts!D96=$C$10,allGymnasts!R96,0)","v":""},{"$f":"IF(allGymnasts!D96=$C$10,allGymnasts!W96,0)","v":""},{"$f":"IF(allGymnasts!D96=$C$11,allGymnasts!H96,0)","v":""},{"$f":"IF(allGymnasts!D96=$C$11,allGymnasts!M96,0)","v":""},{"$f":"IF(allGymnasts!D96=$C$11,allGymnasts!R96,0)","v":""},{"$f":"IF(allGymnasts!D96=$C$11,allGymnasts!W96,0)","v":""},{"$f":"IF(allGymnasts!D96=$C$12,allGymnasts!H96,0)","v":""},{"$f":"IF(allGymnasts!D96=$C$12,allGymnasts!M96,0)","v":""},{"$f":"IF(allGymnasts!D96=$C$12,allGymnasts!R96,0)","v":""},{"$f":"IF(allGymnasts!D96=$C$12,allGymnasts!W96,0)","v":""},{"$f":"IF(allGymnasts!D96=$C$13,allGymnasts!H96,0)","v":""},{"$f":"IF(allGymnasts!D96=$C$13,allGymnasts!M96,0)","v":""},{"$f":"IF(allGymnasts!D96=$C$13,allGymnasts!R96,0)","v":""},{"$f":"IF(allGymnasts!D96=$C$13,allGymnasts!W96,0)","v":""},{"$f":"IF(allGymnasts!D96=$C$14,allGymnasts!H96,0)","v":""},{"$f":"IF(allGymnasts!D96=$C$14,allGymnasts!M96,0)","v":""},{"$f":"IF(allGymnasts!D96=$C$14,allGymnasts!R96,0)","v":""},{"$f":"IF(allGymnasts!D96=$C$14,allGymnasts!W96,0)","v":""},{"$f":"IF(allGymnasts!D96=$C$15,allGymnasts!H96,0)","v":""},{"$f":"IF(allGymnasts!D96=$C$15,allGymnasts!M96,0)","v":""},{"$f":"IF(allGymnasts!D96=$C$15,allGymnasts!R96,0)","v":""},{"$f":"IF(allGymnasts!D96=$C$15,allGymnasts!W96,0)","v":""}]
[null,{"$f":"IFERROR(_xlfn.FLOOR.MATH(IF(allGymnasts!A97=\"\",\"\",INDEX(allGymnasts!$Z$4:$Z$33,MATCH(SMALL(allGymnasts!$Z$4:$Z$33,A97),allGymnasts!$Z$4:$Z$33,0)))),\"\")","v":""},null,{"$f":"IF(allGymnasts!A97=\"\",\"\",INDEX(allGymnasts!$A$4:$A$30,MATCH(SMALL(allGymnasts!$Z$4:$Z$33,A97),allGymnasts!$Z$4:$Z$33,0)))","v":""},{"$f":"IF(allGymnasts!B97=\"\",\"\",INDEX(allGymnasts!$B$4:$B$30,MATCH(SMALL(allGymnasts!$Z$4:$Z$33,A97),allGymnasts!$Z$4:$Z$33,0)))","v":""},{"$f":"IF(allGymnasts!C97=\"\",\"\",INDEX(allGymnasts!$C$4:$C$30,MATCH(SMALL(allGymnasts!$Z$4:$Z$33,A97),allGymnasts!$Z$4:$Z$33,0)))","v":""},{"$f":"IF(allGymnasts!D97=\"\",\"\",INDEX(allGymnasts!$D$4:$D$30,MATCH(SMALL(allGymnasts!$Z$4:$Z$33,A97),allGymnasts!$Z$4:$Z$33,0)))","v":""},{"$f":"IF(allGymnasts!E97=\"\",\"\",INDEX(allGymnasts!$J$4:$J$33,MATCH(SMALL(allGymnasts!$N$4:$N$33,A97),allGymnasts!$N$4:$N$33,0)))","v":""},{"$f":"IF(allGymnasts!F97=\"\",\"\",INDEX(allGymnasts!$K$4:$K$33,MATCH(SMALL(allGymnasts!$N$4:$N$33,A97),allGymnasts!$N$4:$N$33,0)))","v":""},{"$f":"IF(allGymnasts!G97=\"\",\"\",INDEX(allGymnasts!$L$4:$L$33,MATCH(SMALL(allGymnasts!$N$4:$N$33,A97),allGymnasts!$N$4:$N$33,0)))","v":""},{"$f":"IF(allGymnasts!H97=\"\",\"\",INDEX(allGymnasts!$Y$4:$Y$33,MATCH(SMALL(allGymnasts!$Z$4:$Z$33,A97),allGymnasts!$Z$4:$Z$33,0)))","v":""},null,null,null,{"$f":"IF(allGymnasts!D97=$C$4,allGymnasts!H97,0)","v":""},{"$f":"IF(allGymnasts!D97=$C$4,allGymnasts!M97,0)","v":""},{"$f":"IF(allGymnasts!D97=$C$4,allGymnasts!R97,0)","v":""},{"$f":"IF(allGymnasts!D97=$C$4,allGymnasts!W97,0)","v":""},{"$f":"IF(allGymnasts!D97=$C$5,allGymnasts!H97,0)","v":""},{"$f":"IF(allGymnasts!D97=$C$5,allGymnasts!M97,0)","v":""},{"$f":"IF(allGymnasts!D97=$C$5,allGymnasts!R97,0)","v":""},{"$f":"IF(allGymnasts!D97=$C$5,allGymnasts!W97,0)","v":""},{"$f":"IF(allGymnasts!D97=$C$6,allGymnasts!H97,0)","v":""},{"$f":"IF(allGymnasts!D97=$C$6,allGymnasts!M97,0)","v":""},{"$f":"IF(allGymnasts!D97=$C$6,allGymnasts!R97,0)","v":""},{"$f":"IF(allGymnasts!D97=$C$6,allGymnasts!W97,0)","v":""},{"$f":"IF(allGymnasts!D97=$C$7,allGymnasts!H97,0)","v":""},{"$f":"IF(allGymnasts!D97=$C$7,allGymnasts!M97,0)","v":""},{"$f":"IF(allGymnasts!D97=$C$7,allGymnasts!R97,0)","v":""},{"$f":"IF(allGymnasts!D97=$C$7,allGymnasts!W97,0)","v":""},{"$f":"IF(allGymnasts!D97=$C$8,allGymnasts!H97,0)","v":""},{"$f":"IF(allGymnasts!D97=$C$8,allGymnasts!M97,0)","v":""},{"$f":"IF(allGymnasts!D97=$C$8,allGymnasts!R97,0)","v":""},{"$f":"IF(allGymnasts!D97=$C$8,allGymnasts!W97,0)","v":""},{"$f":"IF(allGymnasts!D97=$C$9,allGymnasts!H97,0)","v":""},{"$f":"IF(allGymnasts!D97=$C$9,allGymnasts!M97,0)","v":""},{"$f":"IF(allGymnasts!D97=$C$9,allGymnasts!R97,0)","v":""},{"$f":"IF(allGymnasts!D97=$C$9,allGymnasts!W97,0)","v":""},{"$f":"IF(allGymnasts!D97=$C$10,allGymnasts!H97,0)","v":""},{"$f":"IF(allGymnasts!D97=$C$10,allGymnasts!M97,0)","v":""},{"$f":"IF(allGymnasts!D97=$C$10,allGymnasts!R97,0)","v":""},{"$f":"IF(allGymnasts!D97=$C$10,allGymnasts!W97,0)","v":""},{"$f":"IF(allGymnasts!D97=$C$11,allGymnasts!H97,0)","v":""},{"$f":"IF(allGymnasts!D97=$C$11,allGymnasts!M97,0)","v":""},{"$f":"IF(allGymnasts!D97=$C$11,allGymnasts!R97,0)","v":""},{"$f":"IF(allGymnasts!D97=$C$11,allGymnasts!W97,0)","v":""},{"$f":"IF(allGymnasts!D97=$C$12,allGymnasts!H97,0)","v":""},{"$f":"IF(allGymnasts!D97=$C$12,allGymnasts!M97,0)","v":""},{"$f":"IF(allGymnasts!D97=$C$12,allGymnasts!R97,0)","v":""},{"$f":"IF(allGymnasts!D97=$C$12,allGymnasts!W97,0)","v":""},{"$f":"IF(allGymnasts!D97=$C$13,allGymnasts!H97,0)","v":""},{"$f":"IF(allGymnasts!D97=$C$13,allGymnasts!M97,0)","v":""},{"$f":"IF(allGymnasts!D97=$C$13,allGymnasts!R97,0)","v":""},{"$f":"IF(allGymnasts!D97=$C$13,allGymnasts!W97,0)","v":""},{"$f":"IF(allGymnasts!D97=$C$14,allGymnasts!H97,0)","v":""},{"$f":"IF(allGymnasts!D97=$C$14,allGymnasts!M97,0)","v":""},{"$f":"IF(allGymnasts!D97=$C$14,allGymnasts!R97,0)","v":""},{"$f":"IF(allGymnasts!D97=$C$14,allGymnasts!W97,0)","v":""},{"$f":"IF(allGymnasts!D97=$C$15,allGymnasts!H97,0)","v":""},{"$f":"IF(allGymnasts!D97=$C$15,allGymnasts!M97,0)","v":""},{"$f":"IF(allGymnasts!D97=$C$15,allGymnasts!R97,0)","v":""},{"$f":"IF(allGymnasts!D97=$C$15,allGymnasts!W97,0)","v":""}]
[null,{"$f":"IFERROR(_xlfn.FLOOR.MATH(IF(allGymnasts!A98=\"\",\"\",INDEX(allGymnasts!$Z$4:$Z$33,MATCH(SMALL(allGymnasts!$Z$4:$Z$33,A98),allGymnasts!$Z$4:$Z$33,0)))),\"\")","v":""},null,{"$f":"IF(allGymnasts!A98=\"\",\"\",INDEX(allGymnasts!$A$4:$A$30,MATCH(SMALL(allGymnasts!$Z$4:$Z$33,A98),allGymnasts!$Z$4:$Z$33,0)))","v":""},{"$f":"IF(allGymnasts!B98=\"\",\"\",INDEX(allGymnasts!$B$4:$B$30,MATCH(SMALL(allGymnasts!$Z$4:$Z$33,A98),allGymnasts!$Z$4:$Z$33,0)))","v":""},{"$f":"IF(allGymnasts!C98=\"\",\"\",INDEX(allGymnasts!$C$4:$C$30,MATCH(SMALL(allGymnasts!$Z$4:$Z$33,A98),allGymnasts!$Z$4:$Z$33,0)))","v":""},{"$f":"IF(allGymnasts!D98=\"\",\"\",INDEX(allGymnasts!$D$4:$D$30,MATCH(SMALL(allGymnasts!$Z$4:$Z$33,A98),allGymnasts!$Z$4:$Z$33,0)))","v":""},{"$f":"IF(allGymnasts!E98=\"\",\"\",INDEX(allGymnasts!$J$4:$J$33,MATCH(SMALL(allGymnasts!$N$4:$N$33,A98),allGymnasts!$N$4:$N$33,0)))","v":""},{"$f":"IF(allGymnasts!F98=\"\",\"\",INDEX(allGymnasts!$K$4:$K$33,MATCH(SMALL(allGymnasts!$N$4:$N$33,A98),allGymnasts!$N$4:$N$33,0)))","v":""},{"$f":"IF(allGymnasts!G98=\"\",\"\",INDEX(allGymnasts!$L$4:$L$33,MATCH(SMALL(allGymnasts!$N$4:$N$33,A98),allGymnasts!$N$4:$N$33,0)))","v":""},{"$f":"IF(allGymnasts!H98=\"\",\"\",INDEX(allGymnasts!$Y$4:$Y$33,MATCH(SMALL(allGymnasts!$Z$4:$Z$33,A98),allGymnasts!$Z$4:$Z$33,0)))","v":""},null,null,null,{"$f":"IF(allGymnasts!D98=$C$4,allGymnasts!H98,0)","v":""},{"$f":"IF(allGymnasts!D98=$C$4,allGymnasts!M98,0)","v":""},{"$f":"IF(allGymnasts!D98=$C$4,allGymnasts!R98,0)","v":""},{"$f":"IF(allGymnasts!D98=$C$4,allGymnasts!W98,0)","v":""},{"$f":"IF(allGymnasts!D98=$C$5,allGymnasts!H98,0)","v":""},{"$f":"IF(allGymnasts!D98=$C$5,allGymnasts!M98,0)","v":""},{"$f":"IF(allGymnasts!D98=$C$5,allGymnasts!R98,0)","v":""},{"$f":"IF(allGymnasts!D98=$C$5,allGymnasts!W98,0)","v":""},{"$f":"IF(allGymnasts!D98=$C$6,allGymnasts!H98,0)","v":""},{"$f":"IF(allGymnasts!D98=$C$6,allGymnasts!M98,0)","v":""},{"$f":"IF(allGymnasts!D98=$C$6,allGymnasts!R98,0)","v":""},{"$f":"IF(allGymnasts!D98=$C$6,allGymnasts!W98,0)","v":""},{"$f":"IF(allGymnasts!D98=$C$7,allGymnasts!H98,0)","v":""},{"$f":"IF(allGymnasts!D98=$C$7,allGymnasts!M98,0)","v":""},{"$f":"IF(allGymnasts!D98=$C$7,allGymnasts!R98,0)","v":""},{"$f":"IF(allGymnasts!D98=$C$7,allGymnasts!W98,0)","v":""},{"$f":"IF(allGymnasts!D98=$C$8,allGymnasts!H98,0)","v":""},{"$f":"IF(allGymnasts!D98=$C$8,allGymnasts!M98,0)","v":""},{"$f":"IF(allGymnasts!D98=$C$8,allGymnasts!R98,0)","v":""},{"$f":"IF(allGymnasts!D98=$C$8,allGymnasts!W98,0)","v":""},{"$f":"IF(allGymnasts!D98=$C$9,allGymnasts!H98,0)","v":""},{"$f":"IF(allGymnasts!D98=$C$9,allGymnasts!M98,0)","v":""},{"$f":"IF(allGymnasts!D98=$C$9,allGymnasts!R98,0)","v":""},{"$f":"IF(allGymnasts!D98=$C$9,allGymnasts!W98,0)","v":""},{"$f":"IF(allGymnasts!D98=$C$10,allGymnasts!H98,0)","v":""},{"$f":"IF(allGymnasts!D98=$C$10,allGymnasts!M98,0)","v":""},{"$f":"IF(allGymnasts!D98=$C$10,allGymnasts!R98,0)","v":""},{"$f":"IF(allGymnasts!D98=$C$10,allGymnasts!W98,0)","v":""},{"$f":"IF(allGymnasts!D98=$C$11,allGymnasts!H98,0)","v":""},{"$f":"IF(allGymnasts!D98=$C$11,allGymnasts!M98,0)","v":""},{"$f":"IF(allGymnasts!D98=$C$11,allGymnasts!R98,0)","v":""},{"$f":"IF(allGymnasts!D98=$C$11,allGymnasts!W98,0)","v":""},{"$f":"IF(allGymnasts!D98=$C$12,allGymnasts!H98,0)","v":""},{"$f":"IF(allGymnasts!D98=$C$12,allGymnasts!M98,0)","v":""},{"$f":"IF(allGymnasts!D98=$C$12,allGymnasts!R98,0)","v":""},{"$f":"IF(allGymnasts!D98=$C$12,allGymnasts!W98,0)","v":""},{"$f":"IF(allGymnasts!D98=$C$13,allGymnasts!H98,0)","v":""},{"$f":"IF(allGymnasts!D98=$C$13,allGymnasts!M98,0)","v":""},{"$f":"IF(allGymnasts!D98=$C$13,allGymnasts!R98,0)","v":""},{"$f":"IF(allGymnasts!D98=$C$13,allGymnasts!W98,0)","v":""},{"$f":"IF(allGymnasts!D98=$C$14,allGymnasts!H98,0)","v":""},{"$f":"IF(allGymnasts!D98=$C$14,allGymnasts!M98,0)","v":""},{"$f":"IF(allGymnasts!D98=$C$14,allGymnasts!R98,0)","v":""},{"$f":"IF(allGymnasts!D98=$C$14,allGymnasts!W98,0)","v":""},{"$f":"IF(allGymnasts!D98=$C$15,allGymnasts!H98,0)","v":""},{"$f":"IF(allGymnasts!D98=$C$15,allGymnasts!M98,0)","v":""},{"$f":"IF(allGymnasts!D98=$C$15,allGymnasts!R98,0)","v":""},{"$f":"IF(allGymnasts!D98=$C$15,allGymnasts!W98,0)","v":""}]
[null,{"$f":"IFERROR(_xlfn.FLOOR.MATH(IF(allGymnasts!A99=\"\",\"\",INDEX(allGymnasts!$Z$4:$Z$33,MATCH(SMALL(allGymnasts!$Z$4:$Z$33,A99),allGymnasts!$Z$4:$Z$33,0)))),\"\")","v":""},null,{"$f":"IF(allGymnasts!A99=\"\",\"\",INDEX(allGymnasts!$A$4:$A$30,MATCH(SMALL(allGymnasts!$Z$4:$Z$33,A99),allGymnasts!$Z$4:$Z$33,0)))","v":""},{"$f":"IF(allGymnasts!B99=\"\",\"\",INDEX(allGymnasts!$B$4:$B$30,MATCH(SMALL(allGymnasts!$Z$4:$Z$33,A99),allGymnasts!$Z$4:$Z$33,0)))","v":""},{"$f":"IF(allGymnasts!C99=\"\",\"\",INDEX(allGymnasts!$C$4:$C$30,MATCH(SMALL(allGymnasts!$Z$4:$Z$33,A99),allGymnasts!$Z$4:$Z$33,0)))","v":""},{"$f":"IF(allGymnasts!D99=\"\",\"\",INDEX(allGymnasts!$D$4:$D$30,MATCH(SMALL(allGymnasts!$Z$4:$Z$33,A99),allGymnasts!$Z$4:$Z$33,0)))","v":""},{"$f":"IF(allGymnasts!E99=\"\",\"\",INDEX(allGymnasts!$J$4:$J$33,MATCH(SMALL(allGymnasts!$N$4:$N$33,A99),allGymnasts!$N$4:$N$33,0)))","v":""},{"$f":"IF(allGymnasts!F99=\"\",\"\",INDEX(allGymnasts!$K$4:$K$33,MATCH(SMALL(allGymnasts!$N$4:$N$33,A99),allGymnasts!$N$4:$N$33,0)))","v":""},{"$f":"IF(allGymnasts!G99=\"\",\"\",INDEX(allGymnasts!$L$4:$L$33,MATCH(SMALL(allGymnasts!$N$4:$N$33,A99),allGymnasts!$N$4:$N$33,0)))","v":""},{"$f":"IF(allGymnasts!H99=\"\",\"\",INDEX(allGymnasts!$Y$4:$Y$33,MATCH(SMALL(allGymnasts!$Z$4:$Z$33,A99),allGymnasts!$Z$4:$Z$33,0)))","v":""},null,null,null,{"$f":"IF(allGymnasts!D99=$C$4,allGymnasts!H99,0)","v":""},{"$f":"IF(allGymnasts!D99=$C$4,allGymnasts!M99,0)","v":""},{"$f":"IF(allGymnasts!D99=$C$4,allGymnasts!R99,0)","v":""},{"$f":"IF(allGymnasts!D99=$C$4,allGymnasts!W99,0)","v":""},{"$f":"IF(allGymnasts!D99=$C$5,allGymnasts!H99,0)","v":""},{"$f":"IF(allGymnasts!D99=$C$5,allGymnasts!M99,0)","v":""},{"$f":"IF(allGymnasts!D99=$C$5,allGymnasts!R99,0)","v":""},{"$f":"IF(allGymnasts!D99=$C$5,allGymnasts!W99,0)","v":""},{"$f":"IF(allGymnasts!D99=$C$6,allGymnasts!H99,0)","v":""},{"$f":"IF(allGymnasts!D99=$C$6,allGymnasts!M99,0)","v":""},{"$f":"IF(allGymnasts!D99=$C$6,allGymnasts!R99,0)","v":""},{"$f":"IF(allGymnasts!D99=$C$6,allGymnasts!W99,0)","v":""},{"$f":"IF(allGymnasts!D99=$C$7,allGymnasts!H99,0)","v":""},{"$f":"IF(allGymnasts!D99=$C$7,allGymnasts!M99,0)","v":""},{"$f":"IF(allGymnasts!D99=$C$7,allGymnasts!R99,0)","v":""},{"$f":"IF(allGymnasts!D99=$C$7,allGymnasts!W99,0)","v":""},{"$f":"IF(allGymnasts!D99=$C$8,allGymnasts!H99,0)","v":""},{"$f":"IF(allGymnasts!D99=$C$8,allGymnasts!M99,0)","v":""},{"$f":"IF(allGymnasts!D99=$C$8,allGymnasts!R99,0)","v":""},{"$f":"IF(allGymnasts!D99=$C$8,allGymnasts!W99,0)","v":""},{"$f":"IF(allGymnasts!D99=$C$9,allGymnasts!H99,0)","v":""},{"$f":"IF(allGymnasts!D99=$C$9,allGymnasts!M99,0)","v":""},{"$f":"IF(allGymnasts!D99=$C$9,allGymnasts!R99,0)","v":""},{"$f":"IF(allGymnasts!D99=$C$9,allGymnasts!W99,0)","v":""},{"$f":"IF(allGymnasts!D99=$C$10,allGymnasts!H99,0)","v":""},{"$f":"IF(allGymnasts!D99=$C$10,allGymnasts!M99,0)","v":""},{"$f":"IF(allGymnasts!D99=$C$10,allGymnasts!R99,0)","v":""},{"$f":"IF(allGymnasts!D99=$C$10,allGymnasts!W99,0)","v":""},{"$f":"IF(allGymnasts!D99=$C$11,allGymnasts!H99,0)","v":""},{"$f":"IF(allGymnasts!D99=$C$11,allGymnasts!M99,0)","v":""},{"$f":"IF(allGymnasts!D99=$C$11,allGymnasts!R99,0)","v":""},{"$f":"IF(allGymnasts!D99=$C$11,allGymnasts!W99,0)","v":""},{"$f":"IF(allGymnasts!D99=$C$12,allGymnasts!H99,0)","v":""},{"$f":"IF(allGymnasts!D99=$C$12,allGymnasts!M99,0)","v":""},{"$f":"IF(allGymnasts!D99=$C$12,allGymnasts!R99,0)","v":""},{"$f":"IF(allGymnasts!D99=$C$12,allGymnasts!W99,0)","v":""},{"$f":"IF(allGymnasts!D99=$C$13,allGymnasts!H99,0)","v":""},{"$f":"IF(allGymnasts!D99=$C$13,allGymnasts!M99,0)","v":""},{"$f":"IF(allGymnasts!D99=$C$13,allGymnasts!R99,0)","v":""},{"$f":"IF(allGymnasts!D99=$C$13,allGymnasts!W99,0)","v":""},{"$f":"IF(allGymnasts!D99=$C$14,allGymnasts!H99,0)","v":""},{"$f":"IF(allGymnasts!D99=$C$14,allGymnasts!M99,0)","v":""},{"$f":"IF(allGymnasts!D99=$C$14,allGymnasts!R99,0)","v":""},{"$f":"IF(allGymnasts!D99=$C$14,allGymnasts!W99,0)","v":""},{"$f":"IF(allGymnasts!D99=$C$15,allGymnasts!H99,0)","v":""},{"$f":"IF(allGymnasts!D99=$C$15,allGymnasts!M99,0)","v":""},{"$f":"IF(allGymnasts!D99=$C$15,allGymnasts!R99,0)","v":""},{"$f":"IF(allGymnasts!D99=$C$15,allGymnasts!W99,0)","v":""}]
[null,{"$f":"IFERROR(_xlfn.FLOOR.MATH(IF(allGymnasts!A100=\"\",\"\",INDEX(allGymnasts!$Z$4:$Z$33,MATCH(SMALL(allGymnasts!$Z$4:$Z$33,A100),allGymnasts!$Z$4:$Z$33,0)))),\"\")","v":""},null,{"$f":"IF(allGymnasts!A100=\"\",\"\",INDEX(allGymnasts!$A$4:$A$30,MATCH(SMALL(allGymnasts!$Z$4:$Z$33,A100),allGymnasts!$Z$4:$Z$33,0)))","v":""},{"$f":"IF(allGymnasts!B100=\"\",\"\",INDEX(allGymnasts!$B$4:$B$30,MATCH(SMALL(allGymnasts!$Z$4:$Z$33,A100),allGymnasts!$Z$4:$Z$33,0)))","v":""},{"$f":"IF(allGymnasts!C100=\"\",\"\",INDEX(allGymnasts!$C$4:$C$30,MATCH(SMALL(allGymnasts!$Z$4:$Z$33,A100),allGymnasts!$Z$4:$Z$33,0)))","v":""},{"$f":"IF(allGymnasts!D100=\"\",\"\",INDEX(allGymnasts!$D$4:$D$30,MATCH(SMALL(allGymnasts!$Z$4:$Z$33,A100),allGymnasts!$Z$4:$Z$33,0)))","v":""},{"$f":"IF(allGymnasts!E100=\"\",\"\",INDEX(allGymnasts!$J$4:$J$33,MATCH(SMALL(allGymnasts!$N$4:$N$33,A100),allGymnasts!$N$4:$N$33,0)))","v":""},{"$f":"IF(allGymnasts!F100=\"\",\"\",INDEX(allGymnasts!$K$4:$K$33,MATCH(SMALL(allGymnasts!$N$4:$N$33,A100),allGymnasts!$N$4:$N$33,0)))","v":""},{"$f":"IF(allGymnasts!G100=\"\",\"\",INDEX(allGymnasts!$L$4:$L$33,MATCH(SMALL(allGymnasts!$N$4:$N$33,A100),allGymnasts!$N$4:$N$33,0)))","v":""},{"$f":"IF(allGymnasts!H100=\"\",\"\",INDEX(allGymnasts!$Y$4:$Y$33,MATCH(SMALL(allGymnasts!$Z$4:$Z$33,A100),allGymnasts!$Z$4:$Z$33,0)))","v":""},null,null,null,{"$f":"IF(allGymnasts!D100=$C$4,allGymnasts!H100,0)","v":""},{"$f":"IF(allGymnasts!D100=$C$4,allGymnasts!M100,0)","v":""},{"$f":"IF(allGymnasts!D100=$C$4,allGymnasts!R100,0)","v":""},{"$f":"IF(allGymnasts!D100=$C$4,allGymnasts!W100,0)","v":""},{"$f":"IF(allGymnasts!D100=$C$5,allGymnasts!H100,0)","v":""},{"$f":"IF(allGymnasts!D100=$C$5,allGymnasts!M100,0)","v":""},{"$f":"IF(allGymnasts!D100=$C$5,allGymnasts!R100,0)","v":""},{"$f":"IF(allGymnasts!D100=$C$5,allGymnasts!W100,0)","v":""},{"$f":"IF(allGymnasts!D100=$C$6,allGymnasts!H100,0)","v":""},{"$f":"IF(allGymnasts!D100=$C$6,allGymnasts!M100,0)","v":""},{"$f":"IF(allGymnasts!D100=$C$6,allGymnasts!R100,0)","v":""},{"$f":"IF(allGymnasts!D100=$C$6,allGymnasts!W100,0)","v":""},{"$f":"IF(allGymnasts!D100=$C$7,allGymnasts!H100,0)","v":""},{"$f":"IF(allGymnasts!D100=$C$7,allGymnasts!M100,0)","v":""},{"$f":"IF(allGymnasts!D100=$C$7,allGymnasts!R100,0)","v":""},{"$f":"IF(allGymnasts!D100=$C$7,allGymnasts!W100,0)","v":""},{"$f":"IF(allGymnasts!D100=$C$8,allGymnasts!H100,0)","v":""},{"$f":"IF(allGymnasts!D100=$C$8,allGymnasts!M100,0)","v":""},{"$f":"IF(allGymnasts!D100=$C$8,allGymnasts!R100,0)","v":""},{"$f":"IF(allGymnasts!D100=$C$8,allGymnasts!W100,0)","v":""},{"$f":"IF(allGymnasts!D100=$C$9,allGymnasts!H100,0)","v":""},{"$f":"IF(allGymnasts!D100=$C$9,allGymnasts!M100,0)","v":""},{"$f":"IF(allGymnasts!D100=$C$9,allGymnasts!R100,0)","v":""},{"$f":"IF(allGymnasts!D100=$C$9,allGymnasts!W100,0)","v":""},{"$f":"IF(allGymnasts!D100=$C$10,allGymnasts!H100,0)","v":""},{"$f":"IF(allGymnasts!D100=$C$10,allGymnasts!M100,0)","v":""},{"$f":"IF(allGymnasts!D100=$C$10,allGymnasts!R100,0)","v":""},{"$f":"IF(allGymnasts!D100=$C$10,allGymnasts!W100,0)","v":""},{"$f":"IF(allGymnasts!D100=$C$11,allGymnasts!H100,0)","v":""},{"$f":"IF(allGymnasts!D100=$C$11,allGymnasts!M100,0)","v":""},{"$f":"IF(allGymnasts!D100=$C$11,allGymnasts!R100,0)","v":""},{"$f":"IF(allGymnasts!D100=$C$11,allGymnasts!W100,0)","v":""},{"$f":"IF(allGymnasts!D100=$C$12,allGymnasts!H100,0)","v":""},{"$f":"IF(allGymnasts!D100=$C$12,allGymnasts!M100,0)","v":""},{"$f":"IF(allGymnasts!D100=$C$12,allGymnasts!R100,0)","v":""},{"$f":"IF(allGymnasts!D100=$C$12,allGymnasts!W100,0)","v":""},{"$f":"IF(allGymnasts!D100=$C$13,allGymnasts!H100,0)","v":""},{"$f":"IF(allGymnasts!D100=$C$13,allGymnasts!M100,0)","v":""},{"$f":"IF(allGymnasts!D100=$C$13,allGymnasts!R100,0)","v":""},{"$f":"IF(allGymnasts!D100=$C$13,allGymnasts!W100,0)","v":""},{"$f":"IF(allGymnasts!D100=$C$14,allGymnasts!H100,0)","v":""},{"$f":"IF(allGymnasts!D100=$C$14,allGymnasts!M100,0)","v":""},{"$f":"IF(allGymnasts!D100=$C$14,allGymnasts!R100,0)","v":""},{"$f":"IF(allGymnasts!D100=$C$14,allGymnasts!W100,0)","v":""},{"$f":"IF(allGymnasts!D100=$C$15,allGymnasts!H100,0)","v":""},{"$f":"IF(allGymnasts!D100=$C$15,allGymnasts!M100,0)","v":""},{"$f":"IF(allGymnasts!D100=$C$15,allGymnasts!R100,0)","v":""},{"$f":"IF(allGymnasts!D100=$C$15,allGymnasts!W100,0)","v":""}]
[null,{"$f":"IFERROR(_xlfn.FLOOR.MATH(IF(allGymnasts!A101=\"\",\"\",INDEX(allGymnasts!$Z$4:$Z$33,MATCH(SMALL(allGymnasts!$Z$4:$Z$33,A101),allGymnasts!$Z$4:$Z$33,0)))),\"\")","v":""},null,{"$f":"IF(allGymnasts!A101=\"\",\"\",INDEX(allGymnasts!$A$4:$A$30,MATCH(SMALL(allGymnasts!$Z$4:$Z$33,A101),allGymnasts!$Z$4:$Z$33,0)))","v":""},{"$f":"IF(allGymnasts!B101=\"\",\"\",INDEX(allGymnasts!$B$4:$B$30,MATCH(SMALL(allGymnasts!$Z$4:$Z$33,A101),allGymnasts!$Z$4:$Z$33,0)))","v":""},{"$f":"IF(allGymnasts!C101=\"\",\"\",INDEX(allGymnasts!$C$4:$C$30,MATCH(SMALL(allGymnasts!$Z$4:$Z$33,A101),allGymnasts!$Z$4:$Z$33,0)))","v":""},{"$f":"IF(allGymnasts!D101=\"\",\"\",INDEX(allGymnasts!$D$4:$D$30,MATCH(SMALL(allGymnasts!$Z$4:$Z$33,A101),allGymnasts!$Z$4:$Z$33,0)))","v":""},{"$f":"IF(allGymnasts!E101=\"\",\"\",INDEX(allGymnasts!$J$4:$J$33,MATCH(SMALL(allGymnasts!$N$4:$N$33,A101),allGymnasts!$N$4:$N$33,0)))","v":""},{"$f":"IF(allGymnasts!F101=\"\",\"\",INDEX(allGymnasts!$K$4:$K$33,MATCH(SMALL(allGymnasts!$N$4:$N$33,A101),allGymnasts!$N$4:$N$33,0)))","v":""},{"$f":"IF(allGymnasts!G101=\"\",\"\",INDEX(allGymnasts!$L$4:$L$33,MATCH(SMALL(allGymnasts!$N$4:$N$33,A101),allGymnasts!$N$4:$N$33,0)))","v":""},{"$f":"IF(allGymnasts!H101=\"\",\"\",INDEX(allGymnasts!$Y$4:$Y$33,MATCH(SMALL(allGymnasts!$Z$4:$Z$33,A101),allGymnasts!$Z$4:$Z$33,0)))","v":""},null,null,null,{"$f":"IF(allGymnasts!D101=$C$4,allGymnasts!H101,0)","v":""},{"$f":"IF(allGymnasts!D101=$C$4,allGymnasts!M101,0)","v":""},{"$f":"IF(allGymnasts!D101=$C$4,allGymnasts!R101,0)","v":""},{"$f":"IF(allGymnasts!D101=$C$4,allGymnasts!W101,0)","v":""},{"$f":"IF(allGymnasts!D101=$C$5,allGymnasts!H101,0)","v":""},{"$f":"IF(allGymnasts!D101=$C$5,allGymnasts!M101,0)","v":""},{"$f":"IF(allGymnasts!D101=$C$5,allGymnasts!R101,0)","v":""},{"$f":"IF(allGymnasts!D101=$C$5,allGymnasts!W101,0)","v":""},{"$f":"IF(allGymnasts!D101=$C$6,allGymnasts!H101,0)","v":""},{"$f":"IF(allGymnasts!D101=$C$6,allGymnasts!M101,0)","v":""},{"$f":"IF(allGymnasts!D101=$C$6,allGymnasts!R101,0)","v":""},{"$f":"IF(allGymnasts!D101=$C$6,allGymnasts!W101,0)","v":""},{"$f":"IF(allGymnasts!D101=$C$7,allGymnasts!H101,0)","v":""},{"$f":"IF(allGymnasts!D101=$C$7,allGymnasts!M101,0)","v":""},{"$f":"IF(allGymnasts!D101=$C$7,allGymnasts!R101,0)","v":""},{"$f":"IF(allGymnasts!D101=$C$7,allGymnasts!W101,0)","v":""},{"$f":"IF(allGymnasts!D101=$C$8,allGymnasts!H101,0)","v":""},{"$f":"IF(allGymnasts!D101=$C$8,allGymnasts!M101,0)","v":""},{"$f":"IF(allGymnasts!D101=$C$8,allGymnasts!R101,0)","v":""},{"$f":"IF(allGymnasts!D101=$C$8,allGymnasts!W101,0)","v":""},{"$f":"IF(allGymnasts!D101=$C$9,allGymnasts!H101,0)","v":""},{"$f":"IF(allGymnasts!D101=$C$9,allGymnasts!M101,0)","v":""},{"$f":"IF(allGymnasts!D101=$C$9,allGymnasts!R101,0)","v":""},{"$f":"IF(allGymnasts!D101=$C$9,allGymnasts!W101,0)","v":""},{"$f":"IF(allGymnasts!D101=$C$10,allGymnasts!H101,0)","v":""},{"$f":"IF(allGymnasts!D101=$C$10,allGymnasts!M101,0)","v":""},{"$f":"IF(allGymnasts!D101=$C$10,allGymnasts!R101,0)","v":""},{"$f":"IF(allGymnasts!D101=$C$10,allGymnasts!W101,0)","v":""},{"$f":"IF(allGymnasts!D101=$C$11,allGymnasts!H101,0)","v":""},{"$f":"IF(allGymnasts!D101=$C$11,allGymnasts!M101,0)","v":""},{"$f":"IF(allGymnasts!D101=$C$11,allGymnasts!R101,0)","v":""},{"$f":"IF(allGymnasts!D101=$C$11,allGymnasts!W101,0)","v":""},{"$f":"IF(allGymnasts!D101=$C$12,allGymnasts!H101,0)","v":""},{"$f":"IF(allGymnasts!D101=$C$12,allGymnasts!M101,0)","v":""},{"$f":"IF(allGymnasts!D101=$C$12,allGymnasts!R101,0)","v":""},{"$f":"IF(allGymnasts!D101=$C$12,allGymnasts!W101,0)","v":""},{"$f":"IF(allGymnasts!D101=$C$13,allGymnasts!H101,0)","v":""},{"$f":"IF(allGymnasts!D101=$C$13,allGymnasts!M101,0)","v":""},{"$f":"IF(allGymnasts!D101=$C$13,allGymnasts!R101,0)","v":""},{"$f":"IF(allGymnasts!D101=$C$13,allGymnasts!W101,0)","v":""},{"$f":"IF(allGymnasts!D101=$C$14,allGymnasts!H101,0)","v":""},{"$f":"IF(allGymnasts!D101=$C$14,allGymnasts!M101,0)","v":""},{"$f":"IF(allGymnasts!D101=$C$14,allGymnasts!R101,0)","v":""},{"$f":"IF(allGymnasts!D101=$C$14,allGymnasts!W101,0)","v":""},{"$f":"IF(allGymnasts!D101=$C$15,allGymnasts!H101,0)","v":""},{"$f":"IF(allGymnasts!D101=$C$15,allGymnasts!M101,0)","v":""},{"$f":"IF(allGymnasts!D101=$C$15,allGymnasts!R101,0)","v":""},{"$f":"IF(allGymnasts!D101=$C$15,allGymnasts!W101,0)","v":""}]
[null,{"$f":"IFERROR(_xlfn.FLOOR.MATH(IF(allGymnasts!A102=\"\",\"\",INDEX(allGymnasts!$Z$4:$Z$33,MATCH(SMALL(allGymnasts!$Z$4:$Z$33,A102),allGymnasts!$Z$4:$Z$33,0)))),\"\")","v":""},null,{"$f":"IF(allGymnasts!A102=\"\",\"\",INDEX(allGymnasts!$A$4:$A$30,MATCH(SMALL(allGymnasts!$Z$4:$Z$33,A102),allGymnasts!$Z$4:$Z$33,0)))","v":""},{"$f":"IF(allGymnasts!B102=\"\",\"\",INDEX(allGymnasts!$B$4:$B$30,MATCH(SMALL(allGymnasts!$Z$4:$Z$33,A102),allGymnasts!$Z$4:$Z$33,0)))","v":""},{"$f":"IF(allGymnasts!C102=\"\",\"\",INDEX(allGymnasts!$C$4:$C$30,MATCH(SMALL(allGymnasts!$Z$4:$Z$33,A102),allGymnasts!$Z$4:$Z$33,0)))","v":""},{"$f":"IF(allGymnasts!D102=\"\",\"\",INDEX(allGymnasts!$D$4:$D$30,MATCH(SMALL(allGymnasts!$Z$4:$Z$33,A102),allGymnasts!$Z$4:$Z$33,0)))","v":""},{"$f":"IF(allGymnasts!E102=\"\",\"\",INDEX(allGymnasts!$J$4:$J$33,MATCH(SMALL(allGymnasts!$N$4:$N$33,A102),allGymnasts!$N$4:$N$33,0)))","v":""},{"$f":"IF(allGymnasts!F102=\"\",\"\",INDEX(allGymnasts!$K$4:$K$33,MATCH(SMALL(allGymnasts!$N$4:$N$33,A102),allGymnasts!$N$4:$N$33,0)))","v":""},{"$f":"IF(allGymnasts!G102=\"\",\"\",INDEX(allGymnasts!$L$4:$L$33,MATCH(SMALL(allGymnasts!$N$4:$N$33,A102),allGymnasts!$N$4:$N$33,0)))","v":""},{"$f":"IF(allGymnasts!H102=\"\",\"\",INDEX(allGymnasts!$Y$4:$Y$33,MATCH(SMALL(allGymnasts!$Z$4:$Z$33,A102),allGymnasts!$Z$4:$Z$33,0)))","v":""},null,null,null,{"$f":"IF(allGymnasts!D102=$C$4,allGymnasts!H102,0)","v":""},{"$f":"IF(allGymnasts!D102=$C$4,allGymnasts!M102,0)","v":""},{"$f":"IF(allGymnasts!D102=$C$4,allGymnasts!R102,0)","v":""},{"$f":"IF(allGymnasts!D102=$C$4,allGymnasts!W102,0)","v":""},{"$f":"IF(allGymnasts!D102=$C$5,allGymnasts!H102,0)","v":""},{"$f":"IF(allGymnasts!D102=$C$5,allGymnasts!M102,0)","v":""},{"$f":"IF(allGymnasts!D102=$C$5,allGymnasts!R102,0)","v":""},{"$f":"IF(allGymnasts!D102=$C$5,allGymnasts!W102,0)","v":""},{"$f":"IF(allGymnasts!D102=$C$6,allGymnasts!H102,0)","v":""},{"$f":"IF(allGymnasts!D102=$C$6,allGymnasts!M102,0)","v":""},{"$f":"IF(allGymnasts!D102=$C$6,allGymnasts!R102,0)","v":""},{"$f":"IF(allGymnasts!D102=$C$6,allGymnasts!W102,0)","v":""},{"$f":"IF(allGymnasts!D102=$C$7,allGymnasts!H102,0)","v":""},{"$f":"IF(allGymnasts!D102=$C$7,allGymnasts!M102,0)","v":""},{"$f":"IF(allGymnasts!D102=$C$7,allGymnasts!R102,0)","v":""},{"$f":"IF(allGymnasts!D102=$C$7,allGymnasts!W102,0)","v":""},{"$f":"IF(allGymnasts!D102=$C$8,allGymnasts!H102,0)","v":""},{"$f":"IF(allGymnasts!D102=$C$8,allGymnasts!M102,0)","v":""},{"$f":"IF(allGymnasts!D102=$C$8,allGymnasts!R102,0)","v":""},{"$f":"IF(allGymnasts!D102=$C$8,allGymnasts!W102,0)","v":""},{"$f":"IF(allGymnasts!D102=$C$9,allGymnasts!H102,0)","v":""},{"$f":"IF(allGymnasts!D102=$C$9,allGymnasts!M102,0)","v":""},{"$f":"IF(allGymnasts!D102=$C$9,allGymnasts!R102,0)","v":""},{"$f":"IF(allGymnasts!D102=$C$9,allGymnasts!W102,0)","v":""},{"$f":"IF(allGymnasts!D102=$C$10,allGymnasts!H102,0)","v":""},{"$f":"IF(allGymnasts!D102=$C$10,allGymnasts!M102,0)","v":""},{"$f":"IF(allGymnasts!D102=$C$10,allGymnasts!R102,0)","v":""},{"$f":"IF(allGymnasts!D102=$C$10,allGymnasts!W102,0)","v":""},{"$f":"IF(allGymnasts!D102=$C$11,allGymnasts!H102,0)","v":""},{"$f":"IF(allGymnasts!D102=$C$11,allGymnasts!M102,0)","v":""},{"$f":"IF(allGymnasts!D102=$C$11,allGymnasts!R102,0)","v":""},{"$f":"IF(allGymnasts!D102=$C$11,allGymnasts!W102,0)","v":""},{"$f":"IF(allGymnasts!D102=$C$12,allGymnasts!H102,0)","v":""},{"$f":"IF(allGymnasts!D102=$C$12,allGymnasts!M102,0)","v":""},{"$f":"IF(allGymnasts!D102=$C$12,allGymnasts!R102,0)","v":""},{"$f":"IF(allGymnasts!D102=$C$12,allGymnasts!W102,0)","v":""},{"$f":"IF(allGymnasts!D102=$C$13,allGymnasts!H102,0)","v":""},{"$f":"IF(allGymnasts!D102=$C$13,allGymnasts!M102,0)","v":""},{"$f":"IF(allGymnasts!D102=$C$13,allGymnasts!R102,0)","v":""},{"$f":"IF(allGymnasts!D102=$C$13,allGymnasts!W102,0)","v":""},{"$f":"IF(allGymnasts!D102=$C$14,allGymnasts!H102,0)","v":""},{"$f":"IF(allGymnasts!D102=$C$14,allGymnasts!M102,0)","v":""},{"$f":"IF(allGymnasts!D102=$C$14,allGymnasts!R102,0)","v":""},{"$f":"IF(allGymnasts!D102=$C$14,allGymnasts!W102,0)","v":""},{"$f":"IF(allGymnasts!D102=$C$15,allGymnasts!H102,0)","v":""},{"$f":"IF(allGymnasts!D102=$C$15,allGymnasts!M102,0)","v":""},{"$f":"IF(allGymnasts!D102=$C$15,allGymnasts!R102,0)","v":""},{"$f":"IF(allGymnasts!D102=$C$15,allGymnasts!W102,0)","v":""}]
[null,{"$f":"IFERROR(_xlfn.FLOOR.MATH(IF(allGymnasts!A103=\"\",\"\",INDEX(allGymnasts!$Z$4:$Z$33,MATCH(SMALL(allGymnasts!$Z$4:$Z$33,A103),allGymnasts!$Z$4:$Z$33,0)))),\"\")","v":""},null,{"$f":"IF(allGymnasts!A103=\"\",\"\",INDEX(allGymnasts!$A$4:$A$30,MATCH(SMALL(allGymnasts!$Z$4:$Z$33,A103),allGymnasts!$Z$4:$Z$33,0)))","v":""},{"$f":"IF(allGymnasts!B103=\"\",\"\",INDEX(allGymnasts!$B$4:$B$30,MATCH(SMALL(allGymnasts!$Z$4:$Z$33,A103),allGymnasts!$Z$4:$Z$33,0)))","v":""},{"$f":"IF(allGymnasts!C103=\"\",\"\",INDEX(allGymnasts!$C$4:$C$30,MATCH(SMALL(allGymnasts!$Z$4:$Z$33,A103),allGymnasts!$Z$4:$Z$33,0)))","v":""},{"$f":"IF(allGymnasts!D103=\"\",\"\",INDEX(allGymnasts!$D$4:$D$30,MATCH(SMALL(allGymnasts!$Z$4:$Z$33,A103),allGymnasts!$Z$4:$Z$33,0)))","v":""},{"$f":"IF(allGymnasts!E103=\"\",\"\",INDEX(allGymnasts!$J$4:$J$33,MATCH(SMALL(allGymnasts!$N$4:$N$33,A103),allGymnasts!$N$4:$N$33,0)))","v":""},{"$f":"IF(allGymnasts!F103=\"\",\"\",INDEX(allGymnasts!$K$4:$K$33,MATCH(SMALL(allGymnasts!$N$4:$N$33,A103),allGymnasts!$N$4:$N$33,0)))","v":""},{"$f":"IF(allGymnasts!G103=\"\",\"\",INDEX(allGymnasts!$L$4:$L$33,MATCH(SMALL(allGymnasts!$N$4:$N$33,A103),allGymnasts!$N$4:$N$33,0)))","v":""},{"$f":"IF(allGymnasts!H103=\"\",\"\",INDEX(allGymnasts!$Y$4:$Y$33,MATCH(SMALL(allGymnasts!$Z$4:$Z$33,A103),allGymnasts!$Z$4:$Z$33,0)))","v":""},null,null,null,{"$f":"IF(allGymnasts!D103=$C$4,allGymnasts!H103,0)","v":""},{"$f":"IF(allGymnasts!D103=$C$4,allGymnasts!M103,0)","v":""},{"$f":"IF(allGymnasts!D103=$C$4,allGymnasts!R103,0)","v":""},{"$f":"IF(allGymnasts!D103=$C$4,allGymnasts!W103,0)","v":""},{"$f":"IF(allGymnasts!D103=$C$5,allGymnasts!H103,0)","v":""},{"$f":"IF(allGymnasts!D103=$C$5,allGymnasts!M103,0)","v":""},{"$f":"IF(allGymnasts!D103=$C$5,allGymnasts!R103,0)","v":""},{"$f":"IF(allGymnasts!D103=$C$5,allGymnasts!W103,0)","v":""},{"$f":"IF(allGymnasts!D103=$C$6,allGymnasts!H103,0)","v":""},{"$f":"IF(allGymnasts!D103=$C$6,allGymnasts!M103,0)","v":""},{"$f":"IF(allGymnasts!D103=$C$6,allGymnasts!R103,0)","v":""},{"$f":"IF(allGymnasts!D103=$C$6,allGymnasts!W103,0)","v":""},{"$f":"IF(allGymnasts!D103=$C$7,allGymnasts!H103,0)","v":""},{"$f":"IF(allGymnasts!D103=$C$7,allGymnasts!M103,0)","v":""},{"$f":"IF(allGymnasts!D103=$C$7,allGymnasts!R103,0)","v":""},{"$f":"IF(allGymnasts!D103=$C$7,allGymnasts!W103,0)","v":""},{"$f":"IF(allGymnasts!D103=$C$8,allGymnasts!H103,0)","v":""},{"$f":"IF(allGymnasts!D103=$C$8,allGymnasts!M103,0)","v":""},{"$f":"IF(allGymnasts!D103=$C$8,allGymnasts!R103,0)","v":""},{"$f":"IF(allGymnasts!D103=$C$8,allGymnasts!W103,0)","v":""},{"$f":"IF(allGymnasts!D103=$C$9,allGymnasts!H103,0)","v":""},{"$f":"IF(allGymnasts!D103=$C$9,allGymnasts!M103,0)","v":""},{"$f":"IF(allGymnasts!D103=$C$9,allGymnasts!R103,0)","v":""},{"$f":"IF(allGymnasts!D103=$C$9,allGymnasts!W103,0)","v":""},{"$f":"IF(allGymnasts!D103=$C$10,allGymnasts!H103,0)","v":""},{"$f":"IF(allGymnasts!D103=$C$10,allGymnasts!M103,0)","v":""},{"$f":"IF(allGymnasts!D103=$C$10,allGymnasts!R103,0)","v":""},{"$f":"IF(allGymnasts!D103=$C$10,allGymnasts!W103,0)","v":""},{"$f":"IF(allGymnasts!D103=$C$11,allGymnasts!H103,0)","v":""},{"$f":"IF(allGymnasts!D103=$C$11,allGymnasts!M103,0)","v":""},{"$f":"IF(allGymnasts!D103=$C$11,allGymnasts!R103,0)","v":""},{"$f":"IF(allGymnasts!D103=$C$11,allGymnasts!W103,0)","v":""},{"$f":"IF(allGymnasts!D103=$C$12,allGymnasts!H103,0)","v":""},{"$f":"IF(allGymnasts!D103=$C$12,allGymnasts!M103,0)","v":""},{"$f":"IF(allGymnasts!D103=$C$12,allGymnasts!R103,0)","v":""},{"$f":"IF(allGymnasts!D103=$C$12,allGymnasts!W103,0)","v":""},{"$f":"IF(allGymnasts!D103=$C$13,allGymnasts!H103,0)","v":""},{"$f":"IF(allGymnasts!D103=$C$13,allGymnasts!M103,0)","v":""},{"$f":"IF(allGymnasts!D103=$C$13,allGymnasts!R103,0)","v":""},{"$f":"IF(allGymnasts!D103=$C$13,allGymnasts!W103,0)","v":""},{"$f":"IF(allGymnasts!D103=$C$14,allGymnasts!H103,0)","v":""},{"$f":"IF(allGymnasts!D103=$C$14,allGymnasts!M103,0)","v":""},{"$f":"IF(allGymnasts!D103=$C$14,allGymnasts!R103,0)","v":""},{"$f":"IF(allGymnasts!D103=$C$14,allGymnasts!W103,0)","v":""},{"$f":"IF(allGymnasts!D103=$C$15,allGymnasts!H103,0)","v":""},{"$f":"IF(allGymnasts!D103=$C$15,allGymnasts!M103,0)","v":""},{"$f":"IF(allGymnasts!D103=$C$15,allGymnasts!R103,0)","v":""},{"$f":"IF(allGymnasts!D103=$C$15,allGymnasts!W103,0)","v":""}]

{"sheet":"Team","index":8,"n_rows":103,"n_cols":11,"rows_kept":103,"cut":false,"hidden":false,"merged":[[0,1,0,2],[0,5,0,10]]}
[null,{"$f":"TODAY()","v":"2024-09-01"},null,null,null,"Varsity Team Results"]
[]
["Rank","Rank","Team","Vault","Bars","Beam","Floor","Judge 1","Judge 2","Penalty","Score"]
[1,{"$f":"IFERROR(_xlfn.FLOOR.MATH(IF(_xlfn.FLOOR.MATH(allTeams!A4)>allGymnasts!$AC$4,\"\",INDEX(allTeams!$A$4:$A$15,MATCH(SMALL(allTeams!$A$4:$A$15,A4),allTeams!$A$4:$A$15,0)))),\"\")","v":""},{"$f":"IF(allTeams!B4=\"\",\"\",INDEX(allTeams!$C$4:$C$15,MATCH(SMALL(allTeams!$A$4:$A$15,A4),allTeams!$A$4:$A$15,0)))","v":""},{"$f":"IF(allTeams!B4=\"\",\"\",INDEX(allTeams!$D$4:$D$15,MATCH(SMALL(allTeams!$A$4:$A$15,B4),allTeams!$A$4:$A$15,0)))","v":""},{"$f":"IF(allTeams!B4=\"\",\"\",INDEX(allTeams!$E$4:$E$15,MATCH(SMALL(allTeams!$A$4:$A$15,B4),allTeams!$A$4:$A$15,0)))","v":""},{"$f":"IF(allTeams!B4=\"\",\"\",INDEX(allTeams!$F$4:$F$15,MATCH(SMALL(allTeams!$A$4:$A$15,B4),allTeams!$A$4:$A$15,0)))","v":""},{"$f":"IF(allTeams!B4=\"\",\"\",INDEX(allTeams!$G$4:$G$15,MATCH(SMALL(allTeams!$A$4:$A$15,B4),allTeams!$A$4:$A$15,0)))","v":""},{"$f":"IF(allTeams!G4=\"\",\"\",INDEX(allTeams!$C$4:$C$15,MATCH(SMALL(allTeams!$A$4:$A$15,F4),allTeams!$A$4:$A$15,0)))","v":{"$error":"#NUM!"}},{"$f":"IF(allTeams!H4=\"\",\"\",INDEX(allTeams!$C$4:$C$15,MATCH(SMALL(allTeams!$A$4:$A$15,G4),allTeams!$A$4:$A$15,0)))","v":""},{"$f":"IF(allTeams!I4=\"\",\"\",INDEX(allTeams!$C$4:$C$15,MATCH(SMALL(allTeams!$A$4:$A$15,H4),allTeams!$A$4:$A$15,0)))","v":""},{"$f":"IF(allTeams!B4=\"\",\"\",INDEX(allTeams!$K$4:$K$15,MATCH(SMALL(allTeams!$A$4:$A$15,B4),allTeams!$A$4:$A$15,0)))","v":""}]
[2,{"$f":"IFERROR(_xlfn.FLOOR.MATH(IF(_xlfn.FLOOR.MATH(allTeams!A5)>allGymnasts!$AC$4,\"\",INDEX(allTeams!$A$4:$A$15,MATCH(SMALL(allTeams!$A$4:$A$15,A5),allTeams!$A$4:$A$15,0)))),\"\")","v":""},{"$f":"IF(allTeams!B5=\"\",\"\",INDEX(allTeams!$C$4:$C$15,MATCH(SMALL(allTeams!$A$4:$A$15,A5),allTeams!$A$4:$A$15,0)))","v":""},{"$f":"IF(allTeams!B5=\"\",\"\",INDEX(allTeams!$D$4:$D$15,MATCH(SMALL(allTeams!$A$4:$A$15,B5),allTeams!$A$4:$A$15,0)))","v":""},{"$f":"IF(allTeams!B5=\"\",\"\",INDEX(allTeams!$E$4:$E$15,MATCH(SMALL(allTeams!$A$4:$A$15,B5),allTeams!$A$4:$A$15,0)))","v":""},{"$f":"IF(allTeams!B5=\"\",\"\",INDEX(allTeams!$F$4:$F$15,MATCH(SMALL(allTeams!$A$4:$A$15,B5),allTeams!$A$4:$A$15,0)))","v":""},{"$f":"IF(allTeams!B5=\"\",\"\",INDEX(allTeams!$G$4:$G$15,MATCH(SMALL(allTeams!$A$4:$A$15,B5),allTeams!$A$4:$A$15,0)))","v":""},{"$f":"IF(allGymnasts!E5=\"\",\"\",INDEX(allGymnasts!$T$4:$T$33,MATCH(SMALL(allGymnasts!$X$4:$X$33,A5),allGymnasts!$X$4:$X$33,0)))","v":""},{"$f":"IF(allGymnasts!F5=\"\",\"\",INDEX(allGymnasts!$U$4:$U$33,MATCH(SMALL(allGymnasts!$X$4:$X$33,A5),allGymnasts!$X$4:$X$33,0)))","v":""},{"$f":"IF(allGymnasts!G5=\"\",\"\",INDEX(allGymnasts!$V$4:$V$33,MATCH(SMALL(allGymnasts!$X$4:$X$33,A5),allGymnasts!$X$4:$X$33,0)))","v":""},{"$f":"IF(allTeams!B5=\"\",\"\",INDEX(allTeams!$K$4:$K$15,MATCH(SMALL(allTeams!$A$4:$A$15,B5),allTeams!$A$4:$A$15,0)))","v":""}]
[3,{"$f":"IFERROR(_xlfn.FLOOR.MATH(IF(_xlfn.FLOOR.MATH(allTeams!A6)>allGymnasts!$AC$4,\"\",INDEX(allTeams!$A$4:$A$15,MATCH(SMALL(allTeams!$A$4:$A$15,A6),allTeams!$A$4:$A$15,0)))),\"\")","v":""},{"$f":"IF(allTeams!B6=\"\",\"\",INDEX(allTeams!$C$4:$C$15,MATCH(SMALL(allTeams!$A$4:$A$15,A6),allTeams!$A$4:$A$15,0)))","v":""},{"$f":"IF(allTeams!B6=\"\",\"\",INDEX(allTeams!$D$4:$D$15,MATCH(SMALL(allTeams!$A$4:$A$15,B6),allTeams!$A$4:$A$15,0)))","v":""},{"$f":"IF(allTeams!B6=\"\",\"\",INDEX(allTeams!$E$4:$E$15,MATCH(SMALL(allTeams!$A$4:$A$15,B6),allTeams!$A$4:$A$15,0)))","v":""},{"$f":"IF(allTeams!B6=\"\",\"\",INDEX(allTeams!$F$4:$F$15,MATCH(SMALL(allTeams!$A$4:$A$15,B6),allTeams!$A$4:$A$15,0)))","v":""},{"$f":"IF(allTeams!B6=\"\",\"\",INDEX(allTeams!$G$4:$G$15,MATCH(SMALL(allTeams!$A$4:$A$15,B6),allTeams!$A$4:$A$15,0)))","v":""},{"$f":"IF(allGymnasts!E6=\"\",\"\",INDEX(allGymnasts!$T$4:$T$33,MATCH(SMALL(allGymnasts!$X$4:$X$33,A6),allGymnasts!$X$4:$X$33,0)))","v":""},{"$f":"IF(allGymnasts!F6=\"\",\"\",INDEX(allGymnasts!$U$4:$U$33,MATCH(SMALL(allGymnasts!$X$4:$X$33,A6),allGymnasts!$X$4:$X$33,0)))","v":""},{"$f":"IF(allGymnasts!G6=\"\",\"\",INDEX(allGymnasts!$V$4:$V$33,MATCH(SMALL(allGymnasts!$X$4:$X$33,A6),allGymnasts!$X$4:$X$33,0)))","v":""},{"$f":"IF(allTeams!B6=\"\",\"\",INDEX(allTeams!$K$4:$K$15,MATCH(SMALL(allTeams!$A$4:$A$15,B6),allTeams!$A$4:$A$15,0)))","v":""}]
[4,{"$f":"IFERROR(_xlfn.FLOOR.MATH(IF(_xlfn.FLOOR.MATH(allTeams!A7)>allGymnasts!$AC$4,\"\",INDEX(allTeams!$A$4:$A$15,MATCH(SMALL(allTeams!$A$4:$A$15,A7),allTeams!$A$4:$A$15,0)))),\"\")","v":""},{"$f":"IF(allTeams!B7=\"\",\"\",INDEX(allTeams!$C$4:$C$15,MATCH(SMALL(allTeams!$A$4:$A$15,A7),allTeams!$A$4:$A$15,0)))","v":""},{"$f":"IF(allTeams!B7=\"\",\"\",INDEX(allTeams!$D$4:$D$15,MATCH(SMALL(allTeams!$A$4:$A$15,B7),allTeams!$A$4:$A$15,0)))","v":""},{"$f":"IF(allTeams!B7=\"\",\"\",INDEX(allTeams!$E$4:$E$15,MATCH(SMALL(allTeams!$A$4:$A$15,B7),allTeams!$A$4:$A$15,0)))","v":""},{"$f":"IF(allTeams!B7=\"\",\"\",INDEX(allTeams!$F$4:$F$15,MATCH(SMALL(allTeams!$A$4:$A$15,B7),allTeams!$A$4:$A$15,0)))","v":""},{"$f":"IF(allTeams!B7=\"\",\"\",INDEX(allTeams!$G$4:$G$15,MATCH(SMALL(allTeams!$A$4:$A$15,B7),allTeams!$A$4:$A$15,0)))","v":""},{"$f":"IF(allGymnasts!E7=\"\",\"\",INDEX(allGymnasts!$T$4:$T$33,MATCH(SMALL(allGymnasts!$X$4:$X$33,A7),allGymnasts!$X$4:$X$33,0)))","v":""},{"$f":"IF(allGymnasts!F7=\"\",\"\",INDEX(allGymnasts!$U$4:$U$33,MATCH(SMALL(allGymnasts!$X$4:$X$33,A7),allGymnasts!$X$4:$X$33,0)))","v":""},{"$f":"IF(allGymnasts!G7=\"\",\"\",INDEX(allGymnasts!$V$4:$V$33,MATCH(SMALL(allGymnasts!$X$4:$X$33,A7),allGymnasts!$X$4:$X$33,0)))","v":""},{"$f":"IF(allTeams!B7=\"\",\"\",INDEX(allTeams!$K$4:$K$15,MATCH(SMALL(allTeams!$A$4:$A$15,B7),allTeams!$A$4:$A$15,0)))","v":""}]
[5,{"$f":"IFERROR(_xlfn.FLOOR.MATH(IF(_xlfn.FLOOR.MATH(allTeams!A8)>allGymnasts!$AC$4,\"\",INDEX(allTeams!$A$4:$A$15,MATCH(SMALL(allTeams!$A$4:$A$15,A8),allTeams!$A$4:$A$15,0)))),\"\")","v":""},{"$f":"IF(allTeams!B8=\"\",\"\",INDEX(allTeams!$C$4:$C$15,MATCH(SMALL(allTeams!$A$4:$A$15,A8),allTeams!$A$4:$A$15,0)))","v":""},{"$f":"IF(allTeams!B8=\"\",\"\",INDEX(allTeams!$D$4:$D$15,MATCH(SMALL(allTeams!$A$4:$A$15,B8),allTeams!$A$4:$A$15,0)))","v":""},{"$f":"IF(allTeams!B8=\"\",\"\",INDEX(allTeams!$E$4:$E$15,MATCH(SMALL(allTeams!$A$4:$A$15,B8),allTeams!$A$4:$A$15,0)))","v":""},{"$f":"IF(allTeams!B8=\"\",\"\",INDEX(allTeams!$F$4:$F$15,MATCH(SMALL(allTeams!$A$4:$A$15,B8),allTeams!$A$4:$A$15,0)))","v":""},{"$f":"IF(allTeams!B8=\"\",\"\",INDEX(allTeams!$G$4:$G$15,MATCH(SMALL(allTeams!$A$4:$A$15,B8),allTeams!$A$4:$A$15,0)))","v":""},{"$f":"IF(allGymnasts!E8=\"\",\"\",INDEX(allGymnasts!$T$4:$T$33,MATCH(SMALL(allGymnasts!$X$4:$X$33,A8),allGymnasts!$X$4:$X$33,0)))","v":""},{"$f":"IF(allGymnasts!F8=\"\",\"\",INDEX(allGymnasts!$U$4:$U$33,MATCH(SMALL(allGymnasts!$X$4:$X$33,A8),allGymnasts!$X$4:$X$33,0)))","v":""},{"$f":"IF(allGymnasts!G8=\"\",\"\",INDEX(allGymnasts!$V$4:$V$33,MATCH(SMALL(allGymnasts!$X$4:$X$33,A8),allGymnasts!$X$4:$X$33,0)))","v":""},{"$f":"IF(allTeams!B8=\"\",\"\",INDEX(allTeams!$K$4:$K$15,MATCH(SMALL(allTeams!$A$4:$A$15,B8),allTeams!$A$4:$A$15,0)))","v":""}]
[6,{"$f":"IFERROR(_xlfn.FLOOR.MATH(IF(_xlfn.FLOOR.MATH(allTeams!A9)>allGymnasts!$AC$4,\"\",INDEX(allTeams!$A$4:$A$15,MATCH(SMALL(allTeams!$A$4:$A$15,A9),allTeams!$A$4:$A$15,0)))),\"\")","v":""},{"$f":"IF(allTeams!B9=\"\",\"\",INDEX(allTeams!$C$4:$C$15,MATCH(SMALL(allTeams!$A$4:$A$15,A9),allTeams!$A$4:$A$15,0)))","v":""},{"$f":"IF(allTeams!B9=\"\",\"\",INDEX(allTeams!$D$4:$D$15,MATCH(SMALL(allTeams!$A$4:$A$15,B9),allTeams!$A$4:$A$15,0)))","v":""},{"$f":"IF(allTeams!B9=\"\",\"\",INDEX(allTeams!$E$4:$E$15,MATCH(SMALL(allTeams!$A$4:$A$15,B9),allTeams!$A$4:$A$15,0)))","v":""},{"$f":"IF(allTeams!B9=\"\",\"\",INDEX(allTeams!$F$4:$F$15,MATCH(SMALL(allTeams!$A$4:$A$15,B9),allTeams!$A$4:$A$15,0)))","v":""},{"$f":"IF(allTeams!B9=\"\",\"\",INDEX(allTeams!$G$4:$G$15,MATCH(SMALL(allTeams!$A$4:$A$15,B9),allTeams!$A$4:$A$15,0)))","v":""},{"$f":"IF(allGymnasts!#REF!=\"\",\"\",INDEX(allGymnasts!$T$4:$T$33,MATCH(SMALL(allGymnasts!$X$4:$X$33,A9),allGymnasts!$X$4:$X$33,0)))","v":{"$error":"#REF!"}},{"$f":"IF(allGymnasts!#REF!=\"\",\"\",INDEX(allGymnasts!$U$4:$U$33,MATCH(SMALL(allGymnasts!$X$4:$X$33,A9),allGymnasts!$X$4:$X$33,0)))","v":{"$error":"#REF!"}},{"$f":"IF(allGymnasts!#REF!=\"\",\"\",INDEX(allGymnasts!$V$4:$V$33,MATCH(SMALL(allGymnasts!$X$4:$X$33,A9),allGymnasts!$X$4:$X$33,0)))","v":{"$error":"#REF!"}},{"$f":"IF(allTeams!B9=\"\",\"\",INDEX(allTeams!$K$4:$K$15,MATCH(SMALL(allTeams!$A$4:$A$15,B9),allTeams!$A$4:$A$15,0)))","v":""}]
[7,{"$f":"IFERROR(_xlfn.FLOOR.MATH(IF(_xlfn.FLOOR.MATH(allTeams!A10)>allGymnasts!$AC$4,\"\",INDEX(allTeams!$A$4:$A$15,MATCH(SMALL(allTeams!$A$4:$A$15,A10),allTeams!$A$4:$A$15,0)))),\"\")","v":""},{"$f":"IF(allTeams!B10=\"\",\"\",INDEX(allTeams!$C$4:$C$15,MATCH(SMALL(allTeams!$A$4:$A$15,A10),allTeams!$A$4:$A$15,0)))","v":""},{"$f":"IF(allTeams!B10=\"\",\"\",INDEX(allTeams!$D$4:$D$15,MATCH(SMALL(allTeams!$A$4:$A$15,B10),allTeams!$A$4:$A$15,0)))","v":""},{"$f":"IF(allTeams!B10=\"\",\"\",INDEX(allTeams!$E$4:$E$15,MATCH(SMALL(allTeams!$A$4:$A$15,B10),allTeams!$A$4:$A$15,0)))","v":""},{"$f":"IF(allTeams!B10=\"\",\"\",INDEX(allTeams!$F$4:$F$15,MATCH(SMALL(allTeams!$A$4:$A$15,B10),allTeams!$A$4:$A$15,0)))","v":""},{"$f":"IF(allTeams!B10=\"\",\"\",INDEX(allTeams!$G$4:$G$15,MATCH(SMALL(allTeams!$A$4:$A$15,B10),allTeams!$A$4:$A$15,0)))","v":""},{"$f":"IF(allGymnasts!E9=\"\",\"\",INDEX(allGymnasts!$T$4:$T$33,MATCH(SMALL(allGymnasts!$X$4:$X$33,A10),allGymnasts!$X$4:$X$33,0)))","v":""},{"$f":"IF(allGymnasts!F9=\"\",\"\",INDEX(allGymnasts!$U$4:$U$33,MATCH(SMALL(allGymnasts!$X$4:$X$33,A10),allGymnasts!$X$4:$X$33,0)))","v":""},{"$f":"IF(allGymnasts!G9=\"\",\"\",INDEX(allGymnasts!$V$4:$V$33,MATCH(SMALL(allGymnasts!$X$4:$X$33,A10),allGymnasts!$X$4:$X$33,0)))","v":""},{"$f":"IF(allTeams!B10=\"\",\"\",INDEX(allTeams!$K$4:$K$15,MATCH(SMALL(allTeams!$A$4:$A$15,B10),allTeams!$A$4:$A$15,0)))","v":""}]
[8,{"$f":"IFERROR(_xlfn.FLOOR.MATH(IF(_xlfn.FLOOR.MATH(allTeams!A11)>allGymnasts!$AC$4,\"\",INDEX(allTeams!$A$4:$A$15,MATCH(SMALL(allTeams!$A$4:$A$15,A11),allTeams!$A$4:$A$15,0)))),\"\")","v":""},{"$f":"IF(allTeams!B11=\"\",\"\",INDEX(allTeams!$C$4:$C$15,MATCH(SMALL(allTeams!$A$4:$A$15,A11),allTeams!$A$4:$A$15,0)))","v":""},{"$f":"IF(allTeams!B11=\"\",\"\",INDEX(allTeams!$D$4:$D$15,MATCH(SMALL(allTeams!$A$4:$A$15,B11),allTeams!$A$4:$A$15,0)))","v":""},{"$f":"IF(allTeams!B11=\"\",\"\",INDEX(allTeams!$E$4:$E$15,MATCH(SMALL(allTeams!$A$4:$A$15,B11),allTeams!$A$4:$A$15,0)))","v":""},{"$f":"IF(allTeams!B11=\"\",\"\",INDEX(allTeams!$F$4:$F$15,MATCH(SMALL(allTeams!$A$4:$A$15,B11),allTeams!$A$4:$A$15,0)))","v":""},{"$f":"IF(allTeams!B11=\"\",\"\",INDEX(allTeams!$G$4:$G$15,MATCH(SMALL(allTeams!$A$4:$A$15,B11),allTeams!$A$4:$A$15,0)))","v":""},{"$f":"IF(allGymnasts!E10=\"\",\"\",INDEX(allGymnasts!$T$4:$T$33,MATCH(SMALL(allGymnasts!$X$4:$X$33,A11),allGymnasts!$X$4:$X$33,0)))","v":""},{"$f":"IF(allGymnasts!F10=\"\",\"\",INDEX(allGymnasts!$U$4:$U$33,MATCH(SMALL(allGymnasts!$X$4:$X$33,A11),allGymnasts!$X$4:$X$33,0)))","v":""},{"$f":"IF(allGymnasts!G10=\"\",\"\",INDEX(allGymnasts!$V$4:$V$33,MATCH(SMALL(allGymnasts!$X$4:$X$33,A11),allGymnasts!$X$4:$X$33,0)))","v":""},{"$f":"IF(allTeams!B11=\"\",\"\",INDEX(allTeams!$K$4:$K$15,MATCH(SMALL(allTeams!$A$4:$A$15,B11),allTeams!$A$4:$A$15,0)))","v":""}]
[9,{"$f":"IFERROR(_xlfn.FLOOR.MATH(IF(_xlfn.FLOOR.MATH(allTeams!A12)>allGymnasts!$AC$4,\"\",INDEX(allTeams!$A$4:$A$15,MATCH(SMALL(allTeams!$A$4:$A$15,A12),allTeams!$A$4:$A$15,0)))),\"\")","v":""},{"$f":"IF(allTeams!B12=\"\",\"\",INDEX(allTeams!$C$4:$C$15,MATCH(SMALL(allTeams!$A$4:$A$15,A12),allTeams!$A$4:$A$15,0)))","v":""},{"$f":"IF(allTeams!B12=\"\",\"\",INDEX(allTeams!$D$4:$D$15,MATCH(SMALL(allTeams!$A$4:$A$15,B12),allTeams!$A$4:$A$15,0)))","v":""},{"$f":"IF(allTeams!B12=\"\",\"\",INDEX(allTeams!$E$4:$E$15,MATCH(SMALL(allTeams!$A$4:$A$15,B12),allTeams!$A$4:$A$15,0)))","v":""},{"$f":"IF(allTeams!B12=\"\",\"\",INDEX(allTeams!$F$4:$F$15,MATCH(SMALL(allTeams!$A$4:$A$15,B12),allTeams!$A$4:$A$15,0)))","v":""},{"$f":"IF(allTeams!B12=\"\",\"\",INDEX(allTeams!$G$4:$G$15,MATCH(SMALL(allTeams!$A$4:$A$15,B12),allTeams!$A$4:$A$15,0)))","v":""},{"$f":"IF(allGymnasts!E11=\"\",\"\",INDEX(allGymnasts!$T$4:$T$33,MATCH(SMALL(allGymnasts!$X$4:$X$33,A12),allGymnasts!$X$4:$X$33,0)))","v":""},{"$f":"IF(allGymnasts!F11=\"\",\"\",INDEX(allGymnasts!$U$4:$U$33,MATCH(SMALL(allGymnasts!$X$4:$X$33,A12),allGymnasts!$X$4:$X$33,0)))","v":""},{"$f":"IF(allGymnasts!G11=\"\",\"\",INDEX(allGymnasts!$V$4:$V$33,MATCH(SMALL(allGymnasts!$X$4:$X$33,A12),allGymnasts!$X$4:$X$33,0)))","v":""},{"$f":"IF(allTeams!B12=\"\",\"\",INDEX(allTeams!$K$4:$K$15,MATCH(SMALL(allTeams!$A$4:$A$15,B12),allTeams!$A$4:$A$15,0)))","v":""}]
[10,{"$f":"IFERROR(_xlfn.FLOOR.MATH(IF(_xlfn.FLOOR.MATH(allTeams!A13)>allGymnasts!$AC$4,\"\",INDEX(allTeams!$A$4:$A$15,MATCH(SMALL(allTeams!$A$4:$A$15,A13),allTeams!$A$4:$A$15,0)))),\"\")","v":""},{"$f":"IF(allTeams!B13=\"\",\"\",INDEX(allTeams!$C$4:$C$15,MATCH(SMALL(allTeams!$A$4:$A$15,A13),allTeams!$A$4:$A$15,0)))","v":""},{"$f":"IF(allTeams!B13=\"\",\"\",INDEX(allTeams!$D$4:$D$15,MATCH(SMALL(allTeams!$A$4:$A$15,B13),allTeams!$A$4:$A$15,0)))","v":""},{"$f":"IF(allTeams!B13=\"\",\"\",INDEX(allTeams!$E$4:$E$15,MATCH(SMALL(allTeams!$A$4:$A$15,B13),allTeams!$A$4:$A$15,0)))","v":""},{"$f":"IF(allTeams!B13=\"\",\"\",INDEX(allTeams!$F$4:$F$15,MATCH(SMALL(allTeams!$A$4:$A$15,B13),allTeams!$A$4:$A$15,0)))","v":""},{"$f":"IF(allTeams!B13=\"\",\"\",INDEX(allTeams!$G$4:$G$15,MATCH(SMALL(allTeams!$A$4:$A$15,B13),allTeams!$A$4:$A$15,0)))","v":""},{"$f":"IF(allGymnasts!E12=\"\",\"\",INDEX(allGymnasts!$T$4:$T$33,MATCH(SMALL(allGymnasts!$X$4:$X$33,A13),allGymnasts!$X$4:$X$33,0)))","v":""},{"$f":"IF(allGymnasts!F12=\"\",\"\",INDEX(allGymnasts!$U$4:$U$33,MATCH(SMALL(allGymnasts!$X$4:$X$33,A13),allGymnasts!$X$4:$X$33,0)))","v":""},{"$f":"IF(allGymnasts!G12=\"\",\"\",INDEX(allGymnasts!$V$4:$V$33,MATCH(SMALL(allGymnasts!$X$4:$X$33,A13),allGymnasts!$X$4:$X$33,0)))","v":""},{"$f":"IF(allTeams!B13=\"\",\"\",INDEX(allTeams!$K$4:$K$15,MATCH(SMALL(allTeams!$A$4:$A$15,B13),allTeams!$A$4:$A$15,0)))","v":""}]
[11,{"$f":"IFERROR(_xlfn.FLOOR.MATH(IF(_xlfn.FLOOR.MATH(allTeams!A14)>allGymnasts!$AC$4,\"\",INDEX(allTeams!$A$4:$A$15,MATCH(SMALL(allTeams!$A$4:$A$15,A14),allTeams!$A$4:$A$15,0)))),\"\")","v":""},{"$f":"IF(allTeams!B14=\"\",\"\",INDEX(allTeams!$C$4:$C$15,MATCH(SMALL(allTeams!$A$4:$A$15,A14),allTeams!$A$4:$A$15,0)))","v":""},{"$f":"IF(allTeams!B14=\"\",\"\",INDEX(allTeams!$D$4:$D$15,MATCH(SMALL(allTeams!$A$4:$A$15,B14),allTeams!$A$4:$A$15,0)))","v":""},{"$f":"IF(allTeams!B14=\"\",\"\",INDEX(allTeams!$E$4:$E$15,MATCH(SMALL(allTeams!$A$4:$A$15,B14),allTeams!$A$4:$A$15,0)))","v":""},{"$f":"IF(allTeams!B14=\"\",\"\",INDEX(allTeams!$F$4:$F$15,MATCH(SMALL(allTeams!$A$4:$A$15,B14),allTeams!$A$4:$A$15,0)))","v":""},{"$f":"IF(allTeams!B14=\"\",\"\",INDEX(allTeams!$G$4:$G$15,MATCH(SMALL(allTeams!$A$4:$A$15,B14),allTeams!$A$4:$A$15,0)))","v":""},{"$f":"IF(allGymnasts!E13=\"\",\"\",INDEX(allGymnasts!$T$4:$T$33,MATCH(SMALL(allGymnasts!$X$4:$X$33,A14),allGymnasts!$X$4:$X$33,0)))","v":""},{"$f":"IF(allGymnasts!F13=\"\",\"\",INDEX(allGymnasts!$U$4:$U$33,MATCH(SMALL(allGymnasts!$X$4:$X$33,A14),allGymnasts!$X$4:$X$33,0)))","v":""},{"$f":"IF(allGymnasts!G13=\"\",\"\",INDEX(allGymnasts!$V$4:$V$33,MATCH(SMALL(allGymnasts!$X$4:$X$33,A14),allGymnasts!$X$4:$X$33,0)))","v":""},{"$f":"IF(allTeams!B14=\"\",\"\",INDEX(allTeams!$K$4:$K$15,MATCH(SMALL(allTeams!$A$4:$A$15,B14),allTeams!$A$4:$A$15,0)))","v":""}]
[12,{"$f":"IFERROR(_xlfn.FLOOR.MATH(IF(_xlfn.FLOOR.MATH(allTeams!A15)>allGymnasts!$AC$4,\"\",INDEX(allTeams!$A$4:$A$15,MATCH(SMALL(allTeams!$A$4:$A$15,A15),allTeams!$A$4:$A$15,0)))),\"\")","v":""},{"$f":"IF(allTeams!B15=\"\",\"\",INDEX(allTeams!$C$4:$C$15,MATCH(SMALL(allTeams!$A$4:$A$15,A15),allTeams!$A$4:$A$15,0)))","v":""},{"$f":"IF(allTeams!B15=\"\",\"\",INDEX(allTeams!$D$4:$D$15,MATCH(SMALL(allTeams!$A$4:$A$15,B15),allTeams!$A$4:$A$15,0)))","v":""},{"$f":"IF(allTeams!B15=\"\",\"\",INDEX(allTeams!$E$4:$E$15,MATCH(SMALL(allTeams!$A$4:$A$15,B15),allTeams!$A$4:$A$15,0)))","v":""},{"$f":"IF(allTeams!B15=\"\",\"\",INDEX(allTeams!$F$4:$F$15,MATCH(SMALL(allTeams!$A$4:$A$15,B15),allTeams!$A$4:$A$15,0)))","v":""},{"$f":"IF(allTeams!B15=\"\",\"\",INDEX(allTeams!$G$4:$G$15,MATCH(SMALL(allTeams!$A$4:$A$15,B15),allTeams!$A$4:$A$15,0)))","v":""},{"$f":"IF(allGymnasts!E14=\"\",\"\",INDEX(allGymnasts!$T$4:$T$33,MATCH(SMALL(allGymnasts!$X$4:$X$33,A15),allGymnasts!$X$4:$X$33,0)))","v":""},{"$f":"IF(allGymnasts!F14=\"\",\"\",INDEX(allGymnasts!$U$4:$U$33,MATCH(SMALL(allGymnasts!$X$4:$X$33,A15),allGymnasts!$X$4:$X$33,0)))","v":""},{"$f":"IF(allGymnasts!G14=\"\",\"\",INDEX(allGymnasts!$V$4:$V$33,MATCH(SMALL(allGymnasts!$X$4:$X$33,A15),allGymnasts!$X$4:$X$33,0)))","v":""},{"$f":"IF(allTeams!B15=\"\",\"\",INDEX(allTeams!$K$4:$K$15,MATCH(SMALL(allTeams!$A$4:$A$15,B15),allTeams!$A$4:$A$15,0)))","v":""}]
[]
[]
[]
[]
[]
[]
[]
[]
[]
[]
[]
[]
[]
[]
[]
[]
[]
[]
[]
[]
[]
[]
[]
[]
[]
[]
[]
[]
[]
[]
[]
[]
[]
[]
[]
[]
[]
[]
[]
[]
[]
[]
[]
[null,{"$f":"IFERROR(_xlfn.FLOOR.MATH(IF(allGymnasts!A52=\"\",\"\",INDEX(allGymnasts!$Z$4:$Z$33,MATCH(SMALL(allGymnasts!$Z$4:$Z$33,A59),allGymnasts!$Z$4:$Z$33,0)))),\"\")","v":""},null,{"$f":"IF(allGymnasts!A52=\"\",\"\",INDEX(allGymnasts!$A$4:$A$30,MATCH(SMALL(allGymnasts!$Z$4:$Z$33,A59),allGymnasts!$Z$4:$Z$33,0)))","v":""},{"$f":"IF(allGymnasts!B52=\"\",\"\",INDEX(allGymnasts!$B$4:$B$30,MATCH(SMALL(allGymnasts!$Z$4:$Z$33,A59),allGymnasts!$Z$4:$Z$33,0)))","v":""},{"$f":"IF(allGymnasts!C52=\"\",\"\",INDEX(allGymnasts!$C$4:$C$30,MATCH(SMALL(allGymnasts!$Z$4:$Z$33,A59),allGymnasts!$Z$4:$Z$33,0)))","v":""},{"$f":"IF(allGymnasts!D52=\"\",\"\",INDEX(allGymnasts!$D$4:$D$30,MATCH(SMALL(allGymnasts!$Z$4:$Z$33,A59),allGymnasts!$Z$4:$Z$33,0)))","v":""},{"$f":"IF(allGymnasts!E52=\"\",\"\",INDEX(allGymnasts!$J$4:$J$33,MATCH(SMALL(allGymnasts!$N$4:$N$33,A59),allGymnasts!$N$4:$N$33,0)))","v":""},{"$f":"IF(allGymnasts!F52=\"\",\"\",INDEX(allGymnasts!$K$4:$K$33,MATCH(SMALL(allGymnasts!$N$4:$N$33,A59),allGymnasts!$N$4:$N$33,0)))","v":""},{"$f":"IF(allGymnasts!G52=\"\",\"\",INDEX(allGymnasts!$L$4:$L$33,MATCH(SMALL(allGymnasts!$N$4:$N$33,A59),allGymnasts!$N$4:$N$33,0)))","v":""},{"$f":"IF(allGymnasts!H59=\"\",\"\",INDEX(allGymnasts!$Y$4:$Y$33,MATCH(SMALL(allGymnasts!$Z$4:$Z$33,A59),allGymnasts!$Z$4:$Z$33,0)))","v":""}]
[null,{"$f":"IFERROR(_xlfn.FLOOR.MATH(IF(allGymnasts!A53=\"\",\"\",INDEX(allGymnasts!$Z$4:$Z$33,MATCH(SMALL(allGymnasts!$Z$4:$Z$33,A60),allGymnasts!$Z$4:$Z$33,0)))),\"\")","v":""},null,{"$f":"IF(allGymnasts!A53=\"\",\"\",INDEX(allGymnasts!$A$4:$A$30,MATCH(SMALL(allGymnasts!$Z$4:$Z$33,A60),allGymnasts!$Z$4:$Z$33,0)))","v":""},{"$f":"IF(allGymnasts!B53=\"\",\"\",INDEX(allGymnasts!$B$4:$B$30,MATCH(SMALL(allGymnasts!$Z$4:$Z$33,A60),allGymnasts!$Z$4:$Z$33,0)))","v":""},{"$f":"IF(allGymnasts!C53=\"\",\"\",INDEX(allGymnasts!$C$4:$C$30,MATCH(SMALL(allGymnasts!$Z$4:$Z$33,A60),allGymnasts!$Z$4:$Z$33,0)))","v":""},{"$f":"IF(allGymnasts!D53=\"\",\"\",INDEX(allGymnasts!$D$4:$D$30,MATCH(SMALL(allGymnasts!$Z$4:$Z$33,A60),allGymnasts!$Z$4:$Z$33,0)))","v":""},{"$f":"IF(allGymnasts!E53=\"\",\"\",INDEX(allGymnasts!$J$4:$J$33,MATCH(SMALL(allGymnasts!$N$4:$N$33,A60),allGymnasts!$N$4:$N$33,0)))","v":""},{"$f":"IF(allGymnasts!F53=\"\",\"\",INDEX(allGymnasts!$K$4:$K$33,MATCH(SMALL(allGymnasts!$N$4:$N$33,A60),allGymnasts!$N$4:$N$33,0)))","v":""},{"$f":"IF(allGymnasts!G53=\"\",\"\",INDEX(allGymnasts!$L$4:$L$33,MATCH(SMALL(allGymnasts!$N$4:$N$33,A60),allGymnasts!$N$4:$N$33,0)))","v":""},{"$f":"IF(allGymnasts!H60=\"\",\"\",INDEX(allGymnasts!$Y$4:$Y$33,MATCH(SMALL(allGymnasts!$Z$4:$Z$33,A60),allGymnasts!$Z$4:$Z$33,0)))","v":""}]
[null,{"$f":"IFERROR(_xlfn.FLOOR.MATH(IF(allGymnasts!A54=\"\",\"\",INDEX(allGymnasts!$Z$4:$Z$33,MATCH(SMALL(allGymnasts!$Z$4:$Z$33,A61),allGymnasts!$Z$4:$Z$33,0)))),\"\")","v":""},null,{"$f":"IF(allGymnasts!A54=\"\",\"\",INDEX(allGymnasts!$A$4:$A$30,MATCH(SMALL(allGymnasts!$Z$4:$Z$33,A61),allGymnasts!$Z$4:$Z$33,0)))","v":""},{"$f":"IF(allGymnasts!B54=\"\",\"\",INDEX(allGymnasts!$B$4:$B$30,MATCH(SMALL(allGymnasts!$Z$4:$Z$33,A61),allGymnasts!$Z$4:$Z$33,0)))","v":""},{"$f":"IF(allGymnasts!C54=\"\",\"\",INDEX(allGymnasts!$C$4:$C$30,MATCH(SMALL(allGymnasts!$Z$4:$Z$33,A61),allGymnasts!$Z$4:$Z$33,0)))","v":""},{"$f":"IF(allGymnasts!D54=\"\",\"\",INDEX(allGymnasts!$D$4:$D$30,MATCH(SMALL(allGymnasts!$Z$4:$Z$33,A61),allGymnasts!$Z$4:$Z$33,0)))","v":""},{"$f":"IF(allGymnasts!E54=\"\",\"\",INDEX(allGymnasts!$J$4:$J$33,MATCH(SMALL(allGymnasts!$N$4:$N$33,A61),allGymnasts!$N$4:$N$33,0)))","v":""},{"$f":"IF(allGymnasts!F54=\"\",\"\",INDEX(allGymnasts!$K$4:$K$33,MATCH(SMALL(allGymnasts!$N$4:$N$33,A61),allGymnasts!$N$4:$N$33,0)))","v":""},{"$f":"IF(allGymnasts!G54=\"\",\"\",INDEX(allGymnasts!$L$4:$L$33,MATCH(SMALL(allGymnasts!$N$4:$N$33,A61),allGymnasts!$N$4:$N$33,0)))","v":""},{"$f":"IF(allGymnasts!H61=\"\",\"\",INDEX(allGymnasts!$Y$4:$Y$33,MATCH(SMALL(allGymnasts!$Z$4:$Z$33,A61),allGymnasts!$Z$4:$Z$33,0)))","v":""}]
[null,{"$f":"IFERROR(_xlfn.FLOOR.MATH(IF(allGymnasts!A55=\"\",\"\",INDEX(allGymnasts!$Z$4:$Z$33,MATCH(SMALL(allGymnasts!$Z$4:$Z$33,A62),allGymnasts!$Z$4:$Z$33,0)))),\"\")","v":""},null,{"$f":"IF(allGymnasts!A55=\"\",\"\",INDEX(allGymnasts!$A$4:$A$30,MATCH(SMALL(allGymnasts!$Z$4:$Z$33,A62),allGymnasts!$Z$4:$Z$33,0)))","v":""},{"$f":"IF(allGymnasts!B55=\"\",\"\",INDEX(allGymnasts!$B$4:$B$30,MATCH(SMALL(allGymnasts!$Z$4:$Z$33,A62),allGymnasts!$Z$4:$Z$33,0)))","v":""},{"$f":"IF(allGymnasts!C55=\"\",\"\",INDEX(allGymnasts!$C$4:$C$30,MATCH(SMALL(allGymnasts!$Z$4:$Z$33,A62),allGymnasts!$Z$4:$Z$33,0)))","v":""},{"$f":"IF(allGymnasts!D55=\"\",\"\",INDEX(allGymnasts!$D$4:$D$30,MATCH(SMALL(allGymnasts!$Z$4:$Z$33,A62),allGymnasts!$Z$4:$Z$33,0)))","v":""},{"$f":"IF(allGymnasts!E55=\"\",\"\",INDEX(allGymnasts!$J$4:$J$33,MATCH(SMALL(allGymnasts!$N$4:$N$33,A62),allGymnasts!$N$4:$N$33,0)))","v":""},{"$f":"IF(allGymnasts!F55=\"\",\"\",INDEX(allGymnasts!$K$4:$K$33,MATCH(SMALL(allGymnasts!$N$4:$N$33,A62),allGymnasts!$N$4:$N$33,0)))","v":""},{"$f":"IF(allGymnasts!G55=\"\",\"\",INDEX(allGymnasts!$L$4:$L$33,MATCH(SMALL(allGymnasts!$N$4:$N$33,A62),allGymnasts!$N$4:$N$33,0)))","v":""},{"$f":"IF(allGymnasts!H62=\"\",\"\",INDEX(allGymnasts!$Y$4:$Y$33,MATCH(SMALL(allGymnasts!$Z$4:$Z$33,A62),allGymnasts!$Z$4:$Z$33,0)))","v":""}]
[null,{"$f":"IFERROR(_xlfn.FLOOR.MATH(IF(allGymnasts!A56=\"\",\"\",INDEX(allGymnasts!$Z$4:$Z$33,MATCH(SMALL(allGymnasts!$Z$4:$Z$33,A63),allGymnasts!$Z$4:$Z$33,0)))),\"\")","v":""},null,{"$f":"IF(allGymnasts!A56=\"\",\"\",INDEX(allGymnasts!$A$4:$A$30,MATCH(SMALL(allGymnasts!$Z$4:$Z$33,A63),allGymnasts!$Z$4:$Z$33,0)))","v":""},{"$f":"IF(allGymnasts!B56=\"\",\"\",INDEX(allGymnasts!$B$4:$B$30,MATCH(SMALL(allGymnasts!$Z$4:$Z$33,A63),allGymnasts!$Z$4:$Z$33,0)))","v":""},{"$f":"IF(allGymnasts!C56=\"\",\"\",INDEX(allGymnasts!$C$4:$C$30,MATCH(SMALL(allGymnasts!$Z$4:$Z$33,A63),allGymnasts!$Z$4:$Z$33,0)))","v":""},{"$f":"IF(allGymnasts!D56=\"\",\"\",INDEX(allGymnasts!$D$4:$D$30,MATCH(SMALL(allGymnasts!$Z$4:$Z$33,A63),allGymnasts!$Z$4:$Z$33,0)))","v":""},{"$f":"IF(allGymnasts!E56=\"\",\"\",INDEX(allGymnasts!$J$4:$J$33,MATCH(SMALL(allGymnasts!$N$4:$N$33,A63),allGymnasts!$N$4:$N$33,0)))","v":""},{"$f":"IF(allGymnasts!F56=\"\",\"\",INDEX(allGymnasts!$K$4:$K$33,MATCH(SMALL(allGymnasts!$N$4:$N$33,A63),allGymnasts!$N$4:$N$33,0)))","v":""},{"$f":"IF(allGymnasts!G56=\"\",\"\",INDEX(allGymnasts!$L$4:$L$33,MATCH(SMALL(allGymnasts!$N$4:$N$33,A63),allGymnasts!$N$4:$N$33,0)))","v":""},{"$f":"IF(allGymnasts!H63=\"\",\"\",INDEX(allGymnasts!$Y$4:$Y$33,MATCH(SMALL(allGymnasts!$Z$4:$Z$33,A63),allGymnasts!$Z$4:$Z$33,0)))","v":""}]
[null,{"$f":"IFERROR(_xlfn.FLOOR.MATH(IF(allGymnasts!A57=\"\",\"\",INDEX(allGymnasts!$Z$4:$Z$33,MATCH(SMALL(allGymnasts!$Z$4:$Z$33,A64),allGymnasts!$Z$4:$Z$33,0)))),\"\")","v":""},null,{"$f":"IF(allGymnasts!A57=\"\",\"\",INDEX(allGymnasts!$A$4:$A$30,MATCH(SMALL(allGymnasts!$Z$4:$Z$33,A64),allGymnasts!$Z$4:$Z$33,0)))","v":""},{"$f":"IF(allGymnasts!B57=\"\",\"\",INDEX(allGymnasts!$B$4:$B$30,MATCH(SMALL(allGymnasts!$Z$4:$Z$33,A64),allGymnasts!$Z$4:$Z$33,0)))","v":""},{"$f":"IF(allGymnasts!C57=\"\",\"\",INDEX(allGymnasts!$C$4:$C$30,MATCH(SMALL(allGymnasts!$Z$4:$Z$33,A64),allGymnasts!$Z$4:$Z$33,0)))","v":""},{"$f":"IF(allGymnasts!D57=\"\",\"\",INDEX(allGymnasts!$D$4:$D$30,MATCH(SMALL(allGymnasts!$Z$4:$Z$33,A64),allGymnasts!$Z$4:$Z$33,0)))","v":""},{"$f":"IF(allGymnasts!E57=\"\",\"\",INDEX(allGymnasts!$J$4:$J$33,MATCH(SMALL(allGymnasts!$N$4:$N$33,A64),allGymnasts!$N$4:$N$33,0)))","v":""},{"$f":"IF(allGymnasts!F57=\"\",\"\",INDEX(allGymnasts!$K$4:$K$33,MATCH(SMALL(allGymnasts!$N$4:$N$33,A64),allGymnasts!$N$4:$N$33,0)))","v":""},{"$f":"IF(allGymnasts!G57=\"\",\"\",INDEX(allGymnasts!$L$4:$L$33,MATCH(SMALL(allGymnasts!$N$4:$N$33,A64),allGymnasts!$N$4:$N$33,0)))","v":""},{"$f":"IF(allGymnasts!H64=\"\",\"\",INDEX(allGymnasts!$Y$4:$Y$33,MATCH(SMALL(allGymnasts!$Z$4:$Z$33,A64),allGymnasts!$Z$4:$Z$33,0)))","v":""}]
[null,{"$f":"IFERROR(_xlfn.FLOOR.MATH(IF(allGymnasts!A65=\"\",\"\",INDEX(allGymnasts!$Z$4:$Z$33,MATCH(SMALL(allGymnasts!$Z$4:$Z$33,A65),allGymnasts!$Z$4:$Z$33,0)))),\"\")","v":""},null,{"$f":"IF(allGymnasts!A65=\"\",\"\",INDEX(allGymnasts!$A$4:$A$30,MATCH(SMALL(allGymnasts!$Z$4:$Z$33,A65),allGymnasts!$Z$4:$Z$33,0)))","v":""},{"$f":"IF(allGymnasts!B65=\"\",\"\",INDEX(allGymnasts!$B$4:$B$30,MATCH(SMALL(allGymnasts!$Z$4:$Z$33,A65),allGymnasts!$Z$4:$Z$33,0)))","v":""},{"$f":"IF(allGymnasts!C65=\"\",\"\",INDEX(allGymnasts!$C$4:$C$30,MATCH(SMALL(allGymnasts!$Z$4:$Z$33,A65),allGymnasts!$Z$4:$Z$33,0)))","v":""},{"$f":"IF(allGymnasts!D65=\"\",\"\",INDEX(allGymnasts!$D$4:$D$30,MATCH(SMALL(allGymnasts!$Z$4:$Z$33,A65),allGymnasts!$Z$4:$Z$33,0)))","v":""},{"$f":"IF(allGymnasts!E65=\"\",\"\",INDEX(allGymnasts!$J$4:$J$33,MATCH(SMALL(allGymnasts!$N$4:$N$33,A65),allGymnasts!$N$4:$N$33,0)))","v":""},{"$f":"IF(allGymnasts!F65=\"\",\"\",INDEX(allGymnasts!$K$4:$K$33,MATCH(SMALL(allGymnasts!$N$4:$N$33,A65),allGymnasts!$N$4:$N$33,0)))","v":""},{"$f":"IF(allGymnasts!G65=\"\",\"\",INDEX(allGymnasts!$L$4:$L$33,MATCH(SMALL(allGymnasts!$N$4:$N$33,A65),allGymnasts!$N$4:$N$33,0)))","v":""},{"$f":"IF(allGymnasts!H65=\"\",\"\",INDEX(allGymnasts!$Y$4:$Y$33,MATCH(SMALL(allGymnasts!$Z$4:$Z$33,A65),allGymnasts!$Z$4:$Z$33,0)))","v":""}]
[null,{"$f":"IFERROR(_xlfn.FLOOR.MATH(IF(allGymnasts!A66=\"\",\"\",INDEX(allGymnasts!$Z$4:$Z$33,MATCH(SMALL(allGymnasts!$Z$4:$Z$33,A66),allGymnasts!$Z$4:$Z$33,0)))),\"\")","v":""},null,{"$f":"IF(allGymnasts!A66=\"\",\"\",INDEX(allGymnasts!$A$4:$A$30,MATCH(SMALL(allGymnasts!$Z$4:$Z$33,A66),allGymnasts!$Z$4:$Z$33,0)))","v":""},{"$f":"IF(allGymnasts!B66=\"\",\"\",INDEX(allGymnasts!$B$4:$B$30,MATCH(SMALL(allGymnasts!$Z$4:$Z$33,A66),allGymnasts!$Z$4:$Z$33,0)))","v":""},{"$f":"IF(allGymnasts!C66=\"\",\"\",INDEX(allGymnasts!$C$4:$C$30,MATCH(SMALL(allGymnasts!$Z$4:$Z$33,A66),allGymnasts!$Z$4:$Z$33,0)))","v":""},{"$f":"IF(allGymnasts!D66=\"\",\"\",INDEX(allGymnasts!$D$4:$D$30,MATCH(SMALL(allGymnasts!$Z$4:$Z$33,A66),allGymnasts!$Z$4:$Z$33,0)))","v":""},{"$f":"IF(allGymnasts!E66=\"\",\"\",INDEX(allGymnasts!$J$4:$J$33,MATCH(SMALL(allGymnasts!$N$4:$N$33,A66),allGymnasts!$N$4:$N$33,0)))","v":""},{"$f":"IF(allGymnasts!F66=\"\",\"\",INDEX(allGymnasts!$K$4:$K$33,MATCH(SMALL(allGymnasts!$N$4:$N$33,A66),allGymnasts!$N$4:$N$33,0)))","v":""},{"$f":"IF(allGymnasts!G66=\"\",\"\",INDEX(allGymnasts!$L$4:$L$33,MATCH(SMALL(allGymnasts!$N$4:$N$33,A66),allGymnasts!$N$4:$N$33,0)))","v":""},{"$f":"IF(allGymnasts!H66=\"\",\"\",INDEX(allGymnasts!$Y$4:$Y$33,MATCH(SMALL(allGymnasts!$Z$4:$Z$33,A66),allGymnasts!$Z$4:$Z$33,0)))","v":""}]
[null,{"$f":"IFERROR(_xlfn.FLOOR.MATH(IF(allGymnasts!A67=\"\",\"\",INDEX(allGymnasts!$Z$4:$Z$33,MATCH(SMALL(allGymnasts!$Z$4:$Z$33,A67),allGymnasts!$Z$4:$Z$33,0)))),\"\")","v":""},null,{"$f":"IF(allGymnasts!A67=\"\",\"\",INDEX(allGymnasts!$A$4:$A$30,MATCH(SMALL(allGymnasts!$Z$4:$Z$33,A67),allGymnasts!$Z$4:$Z$33,0)))","v":""},{"$f":"IF(allGymnasts!B67=\"\",\"\",INDEX(allGymnasts!$B$4:$B$30,MATCH(SMALL(allGymnasts!$Z$4:$Z$33,A67),allGymnasts!$Z$4:$Z$33,0)))","v":""},{"$f":"IF(allGymnasts!C67=\"\",\"\",INDEX(allGymnasts!$C$4:$C$30,MATCH(SMALL(allGymnasts!$Z$4:$Z$33,A67),allGymnasts!$Z$4:$Z$33,0)))","v":""},{"$f":"IF(allGymnasts!D67=\"\",\"\",INDEX(allGymnasts!$D$4:$D$30,MATCH(SMALL(allGymnasts!$Z$4:$Z$33,A67),allGymnasts!$Z$4:$Z$33,0)))","v":""},{"$f":"IF(allGymnasts!E67=\"\",\"\",INDEX(allGymnasts!$J$4:$J$33,MATCH(SMALL(allGymnasts!$N$4:$N$33,A67),allGymnasts!$N$4:$N$33,0)))","v":""},{"$f":"IF(allGymnasts!F67=\"\",\"\",INDEX(allGymnasts!$K$4:$K$33,MATCH(SMALL(allGymnasts!$N$4:$N$33,A67),allGymnasts!$N$4:$N$33,0)))","v":""},{"$f":"IF(allGymnasts!G67=\"\",\"\",INDEX(allGymnasts!$L$4:$L$33,MATCH(SMALL(allGymnasts!$N$4:$N$33,A67),allGymnasts!$N$4:$N$33,0)))","v":""},{"$f":"IF(allGymnasts!H67=\"\",\"\",INDEX(allGymnasts!$Y$4:$Y$33,MATCH(SMALL(allGymnasts!$Z$4:$Z$33,A67),allGymnasts!$Z$4:$Z$33,0)))","v":""}]
[null,{"$f":"IFERROR(_xlfn.FLOOR.MATH(IF(allGymnasts!A68=\"\",\"\",INDEX(allGymnasts!$Z$4:$Z$33,MATCH(SMALL(allGymnasts!$Z$4:$Z$33,A68),allGymnasts!$Z$4:$Z$33,0)))),\"\")","v":""},null,{"$f":"IF(allGymnasts!A68=\"\",\"\",INDEX(allGymnasts!$A$4:$A$30,MATCH(SMALL(allGymnasts!$Z$4:$Z$33,A68),allGymnasts!$Z$4:$Z$33,0)))","v":""},{"$f":"IF(allGymnasts!B68=\"\",\"\",INDEX(allGymnasts!$B$4:$B$30,MATCH(SMALL(allGymnasts!$Z$4:$Z$33,A68),allGymnasts!$Z$4:$Z$33,0)))","v":""},{"$f":"IF(allGymnasts!C68=\"\",\"\",INDEX(allGymnasts!$C$4:$C$30,MATCH(SMALL(allGymnasts!$Z$4:$Z$33,A68),allGymnasts!$Z$4:$Z$33,0)))","v":""},{"$f":"IF(allGymnasts!D68=\"\",\"\",INDEX(allGymnasts!$D$4:$D$30,MATCH(SMALL(allGymnasts!$Z$4:$Z$33,A68),allGymnasts!$Z$4:$Z$33,0)))","v":""},{"$f":"IF(allGymnasts!E68=\"\",\"\",INDEX(allGymnasts!$J$4:$J$33,MATCH(SMALL(allGymnasts!$N$4:$N$33,A68),allGymnasts!$N$4:$N$33,0)))","v":""},{"$f":"IF(allGymnasts!F68=\"\",\"\",INDEX(allGymnasts!$K$4:$K$33,MATCH(SMALL(allGymnasts!$N$4:$N$33,A68),allGymnasts!$N$4:$N$33,0)))","v":""},{"$f":"IF(allGymnasts!G68=\"\",\"\",INDEX(allGymnasts!$L$4:$L$33,MATCH(SMALL(allGymnasts!$N$4:$N$33,A68),allGymnasts!$N$4:$N$33,0)))","v":""},{"$f":"IF(allGymnasts!H68=\"\",\"\",INDEX(allGymnasts!$Y$4:$Y$33,MATCH(SMALL(allGymnasts!$Z$4:$Z$33,A68),allGymnasts!$Z$4:$Z$33,0)))","v":""}]
[null,{"$f":"IFERROR(_xlfn.FLOOR.MATH(IF(allGymnasts!A69=\"\",\"\",INDEX(allGymnasts!$Z$4:$Z$33,MATCH(SMALL(allGymnasts!$Z$4:$Z$33,A69),allGymnasts!$Z$4:$Z$33,0)))),\"\")","v":""},null,{"$f":"IF(allGymnasts!A69=\"\",\"\",INDEX(allGymnasts!$A$4:$A$30,MATCH(SMALL(allGymnasts!$Z$4:$Z$33,A69),allGymnasts!$Z$4:$Z$33,0)))","v":""},{"$f":"IF(allGymnasts!B69=\"\",\"\",INDEX(allGymnasts!$B$4:$B$30,MATCH(SMALL(allGymnasts!$Z$4:$Z$33,A69),allGymnasts!$Z$4:$Z$33,0)))","v":""},{"$f":"IF(allGymnasts!C69=\"\",\"\",INDEX(allGymnasts!$C$4:$C$30,MATCH(SMALL(allGymnasts!$Z$4:$Z$33,A69),allGymnasts!$Z$4:$Z$33,0)))","v":""},{"$f":"IF(allGymnasts!D69=\"\",\"\",INDEX(allGymnasts!$D$4:$D$30,MATCH(SMALL(allGymnasts!$Z$4:$Z$33,A69),allGymnasts!$Z$4:$Z$33,0)))","v":""},{"$f":"IF(allGymnasts!E69=\"\",\"\",INDEX(allGymnasts!$J$4:$J$33,MATCH(SMALL(allGymnasts!$N$4:$N$33,A69),allGymnasts!$N$4:$N$33,0)))","v":""},{"$f":"IF(allGymnasts!F69=\"\",\"\",INDEX(allGymnasts!$K$4:$K$33,MATCH(SMALL(allGymnasts!$N$4:$N$33,A69),allGymnasts!$N$4:$N$33,0)))","v":""},{"$f":"IF(allGymnasts!G69=\"\",\"\",INDEX(allGymnasts!$L$4:$L$33,MATCH(SMALL(allGymnasts!$N$4:$N$33,A69),allGymnasts!$N$4:$N$33,0)))","v":""},{"$f":"IF(allGymnasts!H69=\"\",\"\",INDEX(allGymnasts!$Y$4:$Y$33,MATCH(SMALL(allGymnasts!$Z$4:$Z$33,A69),allGymnasts!$Z$4:$Z$33,0)))","v":""}]
[null,{"$f":"IFERROR(_xlfn.FLOOR.MATH(IF(allGymnasts!A70=\"\",\"\",INDEX(allGymnasts!$Z$4:$Z$33,MATCH(SMALL(allGymnasts!$Z$4:$Z$33,A70),allGymnasts!$Z$4:$Z$33,0)))),\"\")","v":""},null,{"$f":"IF(allGymnasts!A70=\"\",\"\",INDEX(allGymnasts!$A$4:$A$30,MATCH(SMALL(allGymnasts!$Z$4:$Z$33,A70),allGymnasts!$Z$4:$Z$33,0)))","v":""},{"$f":"IF(allGymnasts!B70=\"\",\"\",INDEX(allGymnasts!$B$4:$B$30,MATCH(SMALL(allGymnasts!$Z$4:$Z$33,A70),allGymnasts!$Z$4:$Z$33,0)))","v":""},{"$f":"IF(allGymnasts!C70=\"\",\"\",INDEX(allGymnasts!$C$4:$C$30,MATCH(SMALL(allGymnasts!$Z$4:$Z$33,A70),allGymnasts!$Z$4:$Z$33,0)))","v":""},{"$f":"IF(allGymnasts!D70=\"\",\"\",INDEX(allGymnasts!$D$4:$D$30,MATCH(SMALL(allGymnasts!$Z$4:$Z$33,A70),allGymnasts!$Z$4:$Z$33,0)))","v":""},{"$f":"IF(allGymnasts!E70=\"\",\"\",INDEX(allGymnasts!$J$4:$J$33,MATCH(SMALL(allGymnasts!$N$4:$N$33,A70),allGymnasts!$N$4:$N$33,0)))","v":""},{"$f":"IF(allGymnasts!F70=\"\",\"\",INDEX(allGymnasts!$K$4:$K$33,MATCH(SMALL(allGymnasts!$N$4:$N$33,A70),allGymnasts!$N$4:$N$33,0)))","v":""},{"$f":"IF(allGymnasts!G70=\"\",\"\",INDEX(allGymnasts!$L$4:$L$33,MATCH(SMALL(allGymnasts!$N$4:$N$33,A70),allGymnasts!$N$4:$N$33,0)))","v":""},{"$f":"IF(allGymnasts!H70=\"\",\"\",INDEX(allGymnasts!$Y$4:$Y$33,MATCH(SMALL(allGymnasts!$Z$4:$Z$33,A70),allGymnasts!$Z$4:$Z$33,0)))","v":""}]
[null,{"$f":"IFERROR(_xlfn.FLOOR.MATH(IF(allGymnasts!A71=\"\",\"\",INDEX(allGymnasts!$Z$4:$Z$33,MATCH(SMALL(allGymnasts!$Z$4:$Z$33,A71),allGymnasts!$Z$4:$Z$33,0)))),\"\")","v":""},null,{"$f":"IF(allGymnasts!A71=\"\",\"\",INDEX(allGymnasts!$A$4:$A$30,MATCH(SMALL(allGymnasts!$Z$4:$Z$33,A71),allGymnasts!$Z$4:$Z$33,0)))","v":""},{"$f":"IF(allGymnasts!B71=\"\",\"\",INDEX(allGymnasts!$B$4:$B$30,MATCH(SMALL(allGymnasts!$Z$4:$Z$33,A71),allGymnasts!$Z$4:$Z$33,0)))","v":""},{"$f":"IF(allGymnasts!C71=\"\",\"\",INDEX(allGymnasts!$C$4:$C$30,MATCH(SMALL(allGymnasts!$Z$4:$Z$33,A71),allGymnasts!$Z$4:$Z$33,0)))","v":""},{"$f":"IF(allGymnasts!D71=\"\",\"\",INDEX(allGymnasts!$D$4:$D$30,MATCH(SMALL(allGymnasts!$Z$4:$Z$33,A71),allGymnasts!$Z$4:$Z$33,0)))","v":""},{"$f":"IF(allGymnasts!E71=\"\",\"\",INDEX(allGymnasts!$J$4:$J$33,MATCH(SMALL(allGymnasts!$N$4:$N$33,A71),allGymnasts!$N$4:$N$33,0)))","v":""},{"$f":"IF(allGymnasts!F71=\"\",\"\",INDEX(allGymnasts!$K$4:$K$33,MATCH(SMALL(allGymnasts!$N$4:$N$33,A71),allGymnasts!$N$4:$N$33,0)))","v":""},{"$f":"IF(allGymnasts!G71=\"\",\"\",INDEX(allGymnasts!$L$4:$L$33,MATCH(SMALL(allGymnasts!$N$4:$N$33,A71),allGymnasts!$N$4:$N$33,0)))","v":""},{"$f":"IF(allGymnasts!H71=\"\",\"\",INDEX(allGymnasts!$Y$4:$Y$33,MATCH(SMALL(allGymnasts!$Z$4:$Z$33,A71),allGymnasts!$Z$4:$Z$33,0)))","v":""}]
[null,{"$f":"IFERROR(_xlfn.FLOOR.MATH(IF(allGymnasts!A72=\"\",\"\",INDEX(allGymnasts!$Z$4:$Z$33,MATCH(SMALL(allGymnasts!$Z$4:$Z$33,A72),allGymnasts!$Z$4:$Z$33,0)))),\"\")","v":""},null,{"$f":"IF(allGymnasts!A72=\"\",\"\",INDEX(allGymnasts!$A$4:$A$30,MATCH(SMALL(allGymnasts!$Z$4:$Z$33,A72),allGymnasts!$Z$4:$Z$33,0)))","v":""},{"$f":"IF(allGymnasts!B72=\"\",\"\",INDEX(allGymnasts!$B$4:$B$30,MATCH(SMALL(allGymnasts!$Z$4:$Z$33,A72),allGymnasts!$Z$4:$Z$33,0)))","v":""},{"$f":"IF(allGymnasts!C72=\"\",\"\",INDEX(allGymnasts!$C$4:$C$30,MATCH(SMALL(allGymnasts!$Z$4:$Z$33,A72),allGymnasts!$Z$4:$Z$33,0)))","v":""},{"$f":"IF(allGymnasts!D72=\"\",\"\",INDEX(allGymnasts!$D$4:$D$30,MATCH(SMALL(allGymnasts!$Z$4:$Z$33,A72),allGymnasts!$Z$4:$Z$33,0)))","v":""},{"$f":"IF(allGymnasts!E72=\"\",\"\",INDEX(allGymnasts!$J$4:$J$33,MATCH(SMALL(allGymnasts!$N$4:$N$33,A72),allGymnasts!$N$4:$N$33,0)))","v":""},{"$f":"IF(allGymnasts!F72=\"\",\"\",INDEX(allGymnasts!$K$4:$K$33,MATCH(SMALL(allGymnasts!$N$4:$N$33,A72),allGymnasts!$N$4:$N$33,0)))","v":""},{"$f":"IF(allGymnasts!G72=\"\",\"\",INDEX(allGymnasts!$L$4:$L$33,MATCH(SMALL(allGymnasts!$N$4:$N$33,A72),allGymnasts!$N$4:$N$33,0)))","v":""},{"$f":"IF(allGymnasts!H72=\"\",\"\",INDEX(allGymnasts!$Y$4:$Y$33,MATCH(SMALL(allGymnasts!$Z$4:$Z$33,A72),allGymnasts!$Z$4:$Z$33,0)))","v":""}]
[null,{"$f":"IFERROR(_xlfn.FLOOR.MATH(IF(allGymnasts!A73=\"\",\"\",INDEX(allGymnasts!$Z$4:$Z$33,MATCH(SMALL(allGymnasts!$Z$4:$Z$33,A73),allGymnasts!$Z$4:$Z$33,0)))),\"\")","v":""},null,{"$f":"IF(allGymnasts!A73=\"\",\"\",INDEX(allGymnasts!$A$4:$A$30,MATCH(SMALL(allGymnasts!$Z$4:$Z$33,A73),allGymnasts!$Z$4:$Z$33,0)))","v":""},{"$f":"IF(allGymnasts!B73=\"\",\"\",INDEX(allGymnasts!$B$4:$B$30,MATCH(SMALL(allGymnasts!$Z$4:$Z$33,A73),allGymnasts!$Z$4:$Z$33,0)))","v":""},{"$f":"IF(allGymnasts!C73=\"\",\"\",INDEX(allGymnasts!$C$4:$C$30,MATCH(SMALL(allGymnasts!$Z$4:$Z$33,A73),allGymnasts!$Z$4:$Z$33,0)))","v":""},{"$f":"IF(allGymnasts!D73=\"\",\"\",INDEX(allGymnasts!$D$4:$D$30,MATCH(SMALL(allGymnasts!$Z$4:$Z$33,A73),allGymnasts!$Z$4:$Z$33,0)))","v":""},{"$f":"IF(allGymnasts!E73=\"\",\"\",INDEX(allGymnasts!$J$4:$J$33,MATCH(SMALL(allGymnasts!$N$4:$N$33,A73),allGymnasts!$N$4:$N$33,0)))","v":""},{"$f":"IF(allGymnasts!F73=\"\",\"\",INDEX(allGymnasts!$K$4:$K$33,MATCH(SMALL(allGymnasts!$N$4:$N$33,A73),allGymnasts!$N$4:$N$33,0)))","v":""},{"$f":"IF(allGymnasts!G73=\"\",\"\",INDEX(allGymnasts!$L$4:$L$33,MATCH(SMALL(allGymnasts!$N$4:$N$33,A73),allGymnasts!$N$4:$N$33,0)))","v":""},{"$f":"IF(allGymnasts!H73=\"\",\"\",INDEX(allGymnasts!$Y$4:$Y$33,MATCH(SMALL(allGymnasts!$Z$4:$Z$33,A73),allGymnasts!$Z$4:$Z$33,0)))","v":""}]
[null,{"$f":"IFERROR(_xlfn.FLOOR.MATH(IF(allGymnasts!A74=\"\",\"\",INDEX(allGymnasts!$Z$4:$Z$33,MATCH(SMALL(allGymnasts!$Z$4:$Z$33,A74),allGymnasts!$Z$4:$Z$33,0)))),\"\")","v":""},null,{"$f":"IF(allGymnasts!A74=\"\",\"\",INDEX(allGymnasts!$A$4:$A$30,MATCH(SMALL(allGymnasts!$Z$4:$Z$33,A74),allGymnasts!$Z$4:$Z$33,0)))","v":""},{"$f":"IF(allGymnasts!B74=\"\",\"\",INDEX(allGymnasts!$B$4:$B$30,MATCH(SMALL(allGymnasts!$Z$4:$Z$33,A74),allGymnasts!$Z$4:$Z$33,0)))","v":""},{"$f":"IF(allGymnasts!C74=\"\",\"\",INDEX(allGymnasts!$C$4:$C$30,MATCH(SMALL(allGymnasts!$Z$4:$Z$33,A74),allGymnasts!$Z$4:$Z$33,0)))","v":""},{"$f":"IF(allGymnasts!D74=\"\",\"\",INDEX(allGymnasts!$D$4:$D$30,MATCH(SMALL(allGymnasts!$Z$4:$Z$33,A74),allGymnasts!$Z$4:$Z$33,0)))","v":""},{"$f":"IF(allGymnasts!E74=\"\",\"\",INDEX(allGymnasts!$J$4:$J$33,MATCH(SMALL(allGymnasts!$N$4:$N$33,A74),allGymnasts!$N$4:$N$33,0)))","v":""},{"$f":"IF(allGymnasts!F74=\"\",\"\",INDEX(allGymnasts!$K$4:$K$33,MATCH(SMALL(allGymnasts!$N$4:$N$33,A74),allGymnasts!$N$4:$N$33,0)))","v":""},{"$f":"IF(allGymnasts!G74=\"\",\"\",INDEX(allGymnasts!$L$4:$L$33,MATCH(SMALL(allGymnasts!$N$4:$N$33,A74),allGymnasts!$N$4:$N$33,0)))","v":""},{"$f":"IF(allGymnasts!H74=\"\",\"\",INDEX(allGymnasts!$Y$4:$Y$33,MATCH(SMALL(allGymnasts!$Z$4:$Z$33,A74),allGymnasts!$Z$4:$Z$33,0)))","v":""}]
[null,{"$f":"IFERROR(_xlfn.FLOOR.MATH(IF(allGymnasts!A75=\"\",\"\",INDEX(allGymnasts!$Z$4:$Z$33,MATCH(SMALL(allGymnasts!$Z$4:$Z$33,A75),allGymnasts!$Z$4:$Z$33,0)))),\"\")","v":""},null,{"$f":"IF(allGymnasts!A75=\"\",\"\",INDEX(allGymnasts!$A$4:$A$30,MATCH(SMALL(allGymnasts!$Z$4:$Z$33,A75),allGymnasts!$Z$4:$Z$33,0)))","v":""},{"$f":"IF(allGymnasts!B75=\"\",\"\",INDEX(allGymnasts!$B$4:$B$30,MATCH(SMALL(allGymnasts!$Z$4:$Z$33,A75),allGymnasts!$Z$4:$Z$33,0)))","v":""},{"$f":"IF(allGymnasts!C75=\"\",\"\",INDEX(allGymnasts!$C$4:$C$30,MATCH(SMALL(allGymnasts!$Z$4:$Z$33,A75),allGymnasts!$Z$4:$Z$33,0)))","v":""},{"$f":"IF(allGymnasts!D75=\"\",\"\",INDEX(allGymnasts!$D$4:$D$30,MATCH(SMALL(allGymnasts!$Z$4:$Z$33,A75),allGymnasts!$Z$4:$Z$33,0)))","v":""},{"$f":"IF(allGymnasts!E75=\"\",\"\",INDEX(allGymnasts!$J$4:$J$33,MATCH(SMALL(allGymnasts!$N$4:$N$33,A75),allGymnasts!$N$4:$N$33,0)))","v":""},{"$f":"IF(allGymnasts!F75=\"\",\"\",INDEX(allGymnasts!$K$4:$K$33,MATCH(SMALL(allGymnasts!$N$4:$N$33,A75),allGymnasts!$N$4:$N$33,0)))","v":""},{"$f":"IF(allGymnasts!G75=\"\",\"\",INDEX(allGymnasts!$L$4:$L$33,MATCH(SMALL(allGymnasts!$N$4:$N$33,A75),allGymnasts!$N$4:$N$33,0)))","v":""},{"$f":"IF(allGymnasts!H75=\"\",\"\",INDEX(allGymnasts!$Y$4:$Y$33,MATCH(SMALL(allGymnasts!$Z$4:$Z$33,A75),allGymnasts!$Z$4:$Z$33,0)))","v":""}]
[null,{"$f":"IFERROR(_xlfn.FLOOR.MATH(IF(allGymnasts!A76=\"\",\"\",INDEX(allGymnasts!$Z$4:$Z$33,MATCH(SMALL(allGymnasts!$Z$4:$Z$33,A76),allGymnasts!$Z$4:$Z$33,0)))),\"\")","v":""},null,{"$f":"IF(allGymnasts!A76=\"\",\"\",INDEX(allGymnasts!$A$4:$A$30,MATCH(SMALL(allGymnasts!$Z$4:$Z$33,A76),allGymnasts!$Z$4:$Z$33,0)))","v":""},{"$f":"IF(allGymnasts!B76=\"\",\"\",INDEX(allGymnasts!$B$4:$B$30,MATCH(SMALL(allGymnasts!$Z$4:$Z$33,A76),allGymnasts!$Z$4:$Z$33,0)))","v":""},{"$f":"IF(allGymnasts!C76=\"\",\"\",INDEX(allGymnasts!$C$4:$C$30,MATCH(SMALL(allGymnasts!$Z$4:$Z$33,A76),allGymnasts!$Z$4:$Z$33,0)))","v":""},{"$f":"IF(allGymnasts!D76=\"\",\"\",INDEX(allGymnasts!$D$4:$D$30,MATCH(SMALL(allGymnasts!$Z$4:$Z$33,A76),allGymnasts!$Z$4:$Z$33,0)))","v":""},{"$f":"IF(allGymnasts!E76=\"\",\"\",INDEX(allGymnasts!$J$4:$J$33,MATCH(SMALL(allGymnasts!$N$4:$N$33,A76),allGymnasts!$N$4:$N$33,0)))","v":""},{"$f":"IF(allGymnasts!F76=\"\",\"\",INDEX(allGymnasts!$K$4:$K$33,MATCH(SMALL(allGymnasts!$N$4:$N$33,A76),allGymnasts!$N$4:$N$33,0)))","v":""},{"$f":"IF(allGymnasts!G76=\"\",\"\",INDEX(allGymnasts!$L$4:$L$33,MATCH(SMALL(allGymnasts!$N$4:$N$33,A76),allGymnasts!$N$4:$N$33,0)))","v":""},{"$f":"IF(allGymnasts!H76=\"\",\"\",INDEX(allGymnasts!$Y$4:$Y$33,MATCH(SMALL(allGymnasts!$Z$4:$Z$33,A76),allGymnasts!$Z$4:$Z$33,0)))","v":""}]
[null,{"$f":"IFERROR(_xlfn.FLOOR.MATH(IF(allGymnasts!A77=\"\",\"\",INDEX(allGymnasts!$Z$4:$Z$33,MATCH(SMALL(allGymnasts!$Z$4:$Z$33,A77),allGymnasts!$Z$4:$Z$33,0)))),\"\")","v":""},null,{"$f":"IF(allGymnasts!A77=\"\",\"\",INDEX(allGymnasts!$A$4:$A$30,MATCH(SMALL(allGymnasts!$Z$4:$Z$33,A77),allGymnasts!$Z$4:$Z$33,0)))","v":""},{"$f":"IF(allGymnasts!B77=\"\",\"\",INDEX(allGymnasts!$B$4:$B$30,MATCH(SMALL(allGymnasts!$Z$4:$Z$33,A77),allGymnasts!$Z$4:$Z$33,0)))","v":""},{"$f":"IF(allGymnasts!C77=\"\",\"\",INDEX(allGymnasts!$C$4:$C$30,MATCH(SMALL(allGymnasts!$Z$4:$Z$33,A77),allGymnasts!$Z$4:$Z$33,0)))","v":""},{"$f":"IF(allGymnasts!D77=\"\",\"\",INDEX(allGymnasts!$D$4:$D$30,MATCH(SMALL(allGymnasts!$Z$4:$Z$33,A77),allGymnasts!$Z$4:$Z$33,0)))","v":""},{"$f":"IF(allGymnasts!E77=\"\",\"\",INDEX(allGymnasts!$J$4:$J$33,MATCH(SMALL(allGymnasts!$N$4:$N$33,A77),allGymnasts!$N$4:$N$33,0)))","v":""},{"$f":"IF(allGymnasts!F77=\"\",\"\",INDEX(allGymnasts!$K$4:$K$33,MATCH(SMALL(allGymnasts!$N$4:$N$33,A77),allGymnasts!$N$4:$N$33,0)))","v":""},{"$f":"IF(allGymnasts!G77=\"\",\"\",INDEX(allGymnasts!$L$4:$L$33,MATCH(SMALL(allGymnasts!$N$4:$N$33,A77),allGymnasts!$N$4:$N$33,0)))","v":""},{"$f":"IF(allGymnasts!H77=\"\",\"\",INDEX(allGymnasts!$Y$4:$Y$33,MATCH(SMALL(allGymnasts!$Z$4:$Z$33,A77),allGymnasts!$Z$4:$Z$33,0)))","v":""}]
[null,{"$f":"IFERROR(_xlfn.FLOOR.MATH(IF(allGymnasts!A78=\"\",\"\",INDEX(allGymnasts!$Z$4:$Z$33,MATCH(SMALL(allGymnasts!$Z$4:$Z$33,A78),allGymnasts!$Z$4:$Z$33,0)))),\"\")","v":""},null,{"$f":"IF(allGymnasts!A78=\"\",\"\",INDEX(allGymnasts!$A$4:$A$30,MATCH(SMALL(allGymnasts!$Z$4:$Z$33,A78),allGymnasts!$Z$4:$Z$33,0)))","v":""},{"$f":"IF(allGymnasts!B78=\"\",\"\",INDEX(allGymnasts!$B$4:$B$30,MATCH(SMALL(allGymnasts!$Z$4:$Z$33,A78),allGymnasts!$Z$4:$Z$33,0)))","v":""},{"$f":"IF(allGymnasts!C78=\"\",\"\",INDEX(allGymnasts!$C$4:$C$30,MATCH(SMALL(allGymnasts!$Z$4:$Z$33,A78),allGymnasts!$Z$4:$Z$33,0)))","v":""},{"$f":"IF(allGymnasts!D78=\"\",\"\",INDEX(allGymnasts!$D$4:$D$30,MATCH(SMALL(allGymnasts!$Z$4:$Z$33,A78),allGymnasts!$Z$4:$Z$33,0)))","v":""},{"$f":"IF(allGymnasts!E78=\"\",\"\",INDEX(allGymnasts!$J$4:$J$33,MATCH(SMALL(allGymnasts!$N$4:$N$33,A78),allGymnasts!$N$4:$N$33,0)))","v":""},{"$f":"IF(allGymnasts!F78=\"\",\"\",INDEX(allGymnasts!$K$4:$K$33,MATCH(SMALL(allGymnasts!$N$4:$N$33,A78),allGymnasts!$N$4:$N$33,0)))","v":""},{"$f":"IF(allGymnasts!G78=\"\",\"\",INDEX(allGymnasts!$L$4:$L$33,MATCH(SMALL(allGymnasts!$N$4:$N$33,A78),allGymnasts!$N$4:$N$33,0)))","v":""},{"$f":"IF(allGymnasts!H78=\"\",\"\",INDEX(allGymnasts!$Y$4:$Y$33,MATCH(SMALL(allGymnasts!$Z$4:$Z$33,A78),allGymnasts!$Z$4:$Z$33,0)))","v":""}]
[null,{"$f":"IFERROR(_xlfn.FLOOR.MATH(IF(allGymnasts!A79=\"\",\"\",INDEX(allGymnasts!$Z$4:$Z$33,MATCH(SMALL(allGymnasts!$Z$4:$Z$33,A79),allGymnasts!$Z$4:$Z$33,0)))),\"\")","v":""},null,{"$f":"IF(allGymnasts!A79=\"\",\"\",INDEX(allGymnasts!$A$4:$A$30,MATCH(SMALL(allGymnasts!$Z$4:$Z$33,A79),allGymnasts!$Z$4:$Z$33,0)))","v":""},{"$f":"IF(allGymnasts!B79=\"\",\"\",INDEX(allGymnasts!$B$4:$B$30,MATCH(SMALL(allGymnasts!$Z$4:$Z$33,A79),allGymnasts!$Z$4:$Z$33,0)))","v":""},{"$f":"IF(allGymnasts!C79=\"\",\"\",INDEX(allGymnasts!$C$4:$C$30,MATCH(SMALL(allGymnasts!$Z$4:$Z$33,A79),allGymnasts!$Z$4:$Z$33,0)))","v":""},{"$f":"IF(allGymnasts!D79=\"\",\"\",INDEX(allGymnasts!$D$4:$D$30,MATCH(SMALL(allGymnasts!$Z$4:$Z$33,A79),allGymnasts!$Z$4:$Z$33,0)))","v":""},{"$f":"IF(allGymnasts!E79=\"\",\"\",INDEX(allGymnasts!$J$4:$J$33,MATCH(SMALL(allGymnasts!$N$4:$N$33,A79),allGymnasts!$N$4:$N$33,0)))","v":""},{"$f":"IF(allGymnasts!F79=\"\",\"\",INDEX(allGymnasts!$K$4:$K$33,MATCH(SMALL(allGymnasts!$N$4:$N$33,A79),allGymnasts!$N$4:$N$33,0)))","v":""},{"$f":"IF(allGymnasts!G79=\"\",\"\",INDEX(allGymnasts!$L$4:$L$33,MATCH(SMALL(allGymnasts!$N$4:$N$33,A79),allGymnasts!$N$4:$N$33,0)))","v":""},{"$f":"IF(allGymnasts!H79=\"\",\"\",INDEX(allGymnasts!$Y$4:$Y$33,MATCH(SMALL(allGymnasts!$Z$4:$Z$33,A79),allGymnasts!$Z$4:$Z$33,0)))","v":""}]
[null,{"$f":"IFERROR(_xlfn.FLOOR.MATH(IF(allGymnasts!A80=\"\",\"\",INDEX(allGymnasts!$Z$4:$Z$33,MATCH(SMALL(allGymnasts!$Z$4:$Z$33,A80),allGymnasts!$Z$4:$Z$33,0)))),\"\")","v":""},null,{"$f":"IF(allGymnasts!A80=\"\",\"\",INDEX(allGymnasts!$A$4:$A$30,MATCH(SMALL(allGymnasts!$Z$4:$Z$33,A80),allGymnasts!$Z$4:$Z$33,0)))","v":""},{"$f":"IF(allGymnasts!B80=\"\",\"\",INDEX(allGymnasts!$B$4:$B$30,MATCH(SMALL(allGymnasts!$Z$4:$Z$33,A80),allGymnasts!$Z$4:$Z$33,0)))","v":""},{"$f":"IF(allGymnasts!C80=\"\",\"\",INDEX(allGymnasts!$C$4:$C$30,MATCH(SMALL(allGymnasts!$Z$4:$Z$33,A80),allGymnasts!$Z$4:$Z$33,0)))","v":""},{"$f":"IF(allGymnasts!D80=\"\",\"\",INDEX(allGymnasts!$D$4:$D$30,MATCH(SMALL(allGymnasts!$Z$4:$Z$33,A80),allGymnasts!$Z$4:$Z$33,0)))","v":""},{"$f":"IF(allGymnasts!E80=\"\",\"\",INDEX(allGymnasts!$J$4:$J$33,MATCH(SMALL(allGymnasts!$N$4:$N$33,A80),allGymnasts!$N$4:$N$33,0)))","v":""},{"$f":"IF(allGymnasts!F80=\"\",\"\",INDEX(allGymnasts!$K$4:$K$33,MATCH(SMALL(allGymnasts!$N$4:$N$33,A80),allGymnasts!$N$4:$N$33,0)))","v":""},{"$f":"IF(allGymnasts!G80=\"\",\"\",INDEX(allGymnasts!$L$4:$L$33,MATCH(SMALL(allGymnasts!$N$4:$N$33,A80),allGymnasts!$N$4:$N$33,0)))","v":""},{"$f":"IF(allGymnasts!H80=\"\",\"\",INDEX(allGymnasts!$Y$4:$Y$33,MATCH(SMALL(allGymnasts!$Z$4:$Z$33,A80),allGymnasts!$Z$4:$Z$33,0)))","v":""}]
[null,{"$f":"IFERROR(_xlfn.FLOOR.MATH(IF(allGymnasts!A81=\"\",\"\",INDEX(allGymnasts!$Z$4:$Z$33,MATCH(SMALL(allGymnasts!$Z$4:$Z$33,A81),allGymnasts!$Z$4:$Z$33,0)))),\"\")","v":""},null,{"$f":"IF(allGymnasts!A81=\"\",\"\",INDEX(allGymnasts!$A$4:$A$30,MATCH(SMALL(allGymnasts!$Z$4:$Z$33,A81),allGymnasts!$Z$4:$Z$33,0)))","v":""},{"$f":"IF(allGymnasts!B81=\"\",\"\",INDEX(allGymnasts!$B$4:$B$30,MATCH(SMALL(allGymnasts!$Z$4:$Z$33,A81),allGymnasts!$Z$4:$Z$33,0)))","v":""},{"$f":"IF(allGymnasts!C81=\"\",\"\",INDEX(allGymnasts!$C$4:$C$30,MATCH(SMALL(allGymnasts!$Z$4:$Z$33,A81),allGymnasts!$Z$4:$Z$33,0)))","v":""},{"$f":"IF(allGymnasts!D81=\"\",\"\",INDEX(allGymnasts!$D$4:$D$30,MATCH(SMALL(allGymnasts!$Z$4:$Z$33,A81),allGymnasts!$Z$4:$Z$33,0)))","v":""},{"$f":"IF(allGymnasts!E81=\"\",\"\",INDEX(allGymnasts!$J$4:$J$33,MATCH(SMALL(allGymnasts!$N$4:$N$33,A81),allGymnasts!$N$4:$N$33,0)))","v":""},{"$f":"IF(allGymnasts!F81=\"\",\"\",INDEX(allGymnasts!$K$4:$K$33,MATCH(SMALL(allGymnasts!$N$4:$N$33,A81),allGymnasts!$N$4:$N$33,0)))","v":""},{"$f":"IF(allGymnasts!G81=\"\",\"\",INDEX(allGymnasts!$L$4:$L$33,MATCH(SMALL(allGymnasts!$N$4:$N$33,A81),allGymnasts!$N$4:$N$33,0)))","v":""},{"$f":"IF(allGymnasts!H81=\"\",\"\",INDEX(allGymnasts!$Y$4:$Y$33,MATCH(SMALL(allGymnasts!$Z$4:$Z$33,A81),allGymnasts!$Z$4:$Z$33,0)))","v":""}]
[null,{"$f":"IFERROR(_xlfn.FLOOR.MATH(IF(allGymnasts!A82=\"\",\"\",INDEX(allGymnasts!$Z$4:$Z$33,MATCH(SMALL(allGymnasts!$Z$4:$Z$33,A82),allGymnasts!$Z$4:$Z$33,0)))),\"\")","v":""},null,{"$f":"IF(allGymnasts!A82=\"\",\"\",INDEX(allGymnasts!$A$4:$A$30,MATCH(SMALL(allGymnasts!$Z$4:$Z$33,A82),allGymnasts!$Z$4:$Z$33,0)))","v":""},{"$f":"IF(allGymnasts!B82=\"\",\"\",INDEX(allGymnasts!$B$4:$B$30,MATCH(SMALL(allGymnasts!$Z$4:$Z$33,A82),allGymnasts!$Z$4:$Z$33,0)))","v":""},{"$f":"IF(allGymnasts!C82=\"\",\"\",INDEX(allGymnasts!$C$4:$C$30,MATCH(SMALL(allGymnasts!$Z$4:$Z$33,A82),allGymnasts!$Z$4:$Z$33,0)))","v":""},{"$f":"IF(allGymnasts!D82=\"\",\"\",INDEX(allGymnasts!$D$4:$D$30,MATCH(SMALL(allGymnasts!$Z$4:$Z$33,A82),allGymnasts!$Z$4:$Z$33,0)))","v":""},{"$f":"IF(allGymnasts!E82=\"\",\"\",INDEX(allGymnasts!$J$4:$J$33,MATCH(SMALL(allGymnasts!$N$4:$N$33,A82),allGymnasts!$N$4:$N$33,0)))","v":""},{"$f":"IF(allGymnasts!F82=\"\",\"\",INDEX(allGymnasts!$K$4:$K$33,MATCH(SMALL(allGymnasts!$N$4:$N$33,A82),allGymnasts!$N$4:$N$33,0)))","v":""},{"$f":"IF(allGymnasts!G82=\"\",\"\",INDEX(allGymnasts!$L$4:$L$33,MATCH(SMALL(allGymnasts!$N$4:$N$33,A82),allGymnasts!$N$4:$N$33,0)))","v":""},{"$f":"IF(allGymnasts!H82=\"\",\"\",INDEX(allGymnasts!$Y$4:$Y$33,MATCH(SMALL(allGymnasts!$Z$4:$Z$33,A82),allGymnasts!$Z$4:$Z$33,0)))","v":""}]
[null,{"$f":"IFERROR(_xlfn.FLOOR.MATH(IF(allGymnasts!A83=\"\",\"\",INDEX(allGymnasts!$Z$4:$Z$33,MATCH(SMALL(allGymnasts!$Z$4:$Z$33,A83),allGymnasts!$Z$4:$Z$33,0)))),\"\")","v":""},null,{"$f":"IF(allGymnasts!A83=\"\",\"\",INDEX(allGymnasts!$A$4:$A$30,MATCH(SMALL(allGymnasts!$Z$4:$Z$33,A83),allGymnasts!$Z$4:$Z$33,0)))","v":""},{"$f":"IF(allGymnasts!B83=\"\",\"\",INDEX(allGymnasts!$B$4:$B$30,MATCH(SMALL(allGymnasts!$Z$4:$Z$33,A83),allGymnasts!$Z$4:$Z$33,0)))","v":""},{"$f":"IF(allGymnasts!C83=\"\",\"\",INDEX(allGymnasts!$C$4:$C$30,MATCH(SMALL(allGymnasts!$Z$4:$Z$33,A83),allGymnasts!$Z$4:$Z$33,0)))","v":""},{"$f":"IF(allGymnasts!D83=\"\",\"\",INDEX(allGymnasts!$D$4:$D$30,MATCH(SMALL(allGymnasts!$Z$4:$Z$33,A83),allGymnasts!$Z$4:$Z$33,0)))","v":""},{"$f":"IF(allGymnasts!E83=\"\",\"\",INDEX(allGymnasts!$J$4:$J$33,MATCH(SMALL(allGymnasts!$N$4:$N$33,A83),allGymnasts!$N$4:$N$33,0)))","v":""},{"$f":"IF(allGymnasts!F83=\"\",\"\",INDEX(allGymnasts!$K$4:$K$33,MATCH(SMALL(allGymnasts!$N$4:$N$33,A83),allGymnasts!$N$4:$N$33,0)))","v":""},{"$f":"IF(allGymnasts!G83=\"\",\"\",INDEX(allGymnasts!$L$4:$L$33,MATCH(SMALL(allGymnasts!$N$4:$N$33,A83),allGymnasts!$N$4:$N$33,0)))","v":""},{"$f":"IF(allGymnasts!H83=\"\",\"\",INDEX(allGymnasts!$Y$4:$Y$33,MATCH(SMALL(allGymnasts!$Z$4:$Z$33,A83),allGymnasts!$Z$4:$Z$33,0)))","v":""}]
[null,{"$f":"IFERROR(_xlfn.FLOOR.MATH(IF(allGymnasts!A84=\"\",\"\",INDEX(allGymnasts!$Z$4:$Z$33,MATCH(SMALL(allGymnasts!$Z$4:$Z$33,A84),allGymnasts!$Z$4:$Z$33,0)))),\"\")","v":""},null,{"$f":"IF(allGymnasts!A84=\"\",\"\",INDEX(allGymnasts!$A$4:$A$30,MATCH(SMALL(allGymnasts!$Z$4:$Z$33,A84),allGymnasts!$Z$4:$Z$33,0)))","v":""},{"$f":"IF(allGymnasts!B84=\"\",\"\",INDEX(allGymnasts!$B$4:$B$30,MATCH(SMALL(allGymnasts!$Z$4:$Z$33,A84),allGymnasts!$Z$4:$Z$33,0)))","v":""},{"$f":"IF(allGymnasts!C84=\"\",\"\",INDEX(allGymnasts!$C$4:$C$30,MATCH(SMALL(allGymnasts!$Z$4:$Z$33,A84),allGymnasts!$Z$4:$Z$33,0)))","v":""},{"$f":"IF(allGymnasts!D84=\"\",\"\",INDEX(allGymnasts!$D$4:$D$30,MATCH(SMALL(allGymnasts!$Z$4:$Z$33,A84),allGymnasts!$Z$4:$Z$33,0)))","v":""},{"$f":"IF(allGymnasts!E84=\"\",\"\",INDEX(allGymnasts!$J$4:$J$33,MATCH(SMALL(allGymnasts!$N$4:$N$33,A84),allGymnasts!$N$4:$N$33,0)))","v":""},{"$f":"IF(allGymnasts!F84=\"\",\"\",INDEX(allGymnasts!$K$4:$K$33,MATCH(SMALL(allGymnasts!$N$4:$N$33,A84),allGymnasts!$N$4:$N$33,0)))","v":""},{"$f":"IF(allGymnasts!G84=\"\",\"\",INDEX(allGymnasts!$L$4:$L$33,MATCH(SMALL(allGymnasts!$N$4:$N$33,A84),allGymnasts!$N$4:$N$33,0)))","v":""},{"$f":"IF(allGymnasts!H84=\"\",\"\",INDEX(allGymnasts!$Y$4:$Y$33,MATCH(SMALL(allGymnasts!$Z$4:$Z$33,A84),allGymnasts!$Z$4:$Z$33,0)))","v":""}]
[null,{"$f":"IFERROR(_xlfn.FLOOR.MATH(IF(allGymnasts!A85=\"\",\"\",INDEX(allGymnasts!$Z$4:$Z$33,MATCH(SMALL(allGymnasts!$Z$4:$Z$33,A85),allGymnasts!$Z$4:$Z$33,0)))),\"\")","v":""},null,{"$f":"IF(allGymnasts!A85=\"\",\"\",INDEX(allGymnasts!$A$4:$A$30,MATCH(SMALL(allGymnasts!$Z$4:$Z$33,A85),allGymnasts!$Z$4:$Z$33,0)))","v":""},{"$f":"IF(allGymnasts!B85=\"\",\"\",INDEX(allGymnasts!$B$4:$B$30,MATCH(SMALL(allGymnasts!$Z$4:$Z$33,A85),allGymnasts!$Z$4:$Z$33,0)))","v":""},{"$f":"IF(allGymnasts!C85=\"\",\"\",INDEX(allGymnasts!$C$4:$C$30,MATCH(SMALL(allGymnasts!$Z$4:$Z$33,A85),allGymnasts!$Z$4:$Z$33,0)))","v":""},{"$f":"IF(allGymnasts!D85=\"\",\"\",INDEX(allGymnasts!$D$4:$D$30,MATCH(SMALL(allGymnasts!$Z$4:$Z$33,A85),allGymnasts!$Z$4:$Z$33,0)))","v":""},{"$f":"IF(allGymnasts!E85=\"\",\"\",INDEX(allGymnasts!$J$4:$J$33,MATCH(SMALL(allGymnasts!$N$4:$N$33,A85),allGymnasts!$N$4:$N$33,0)))","v":""},{"$f":"IF(allGymnasts!F85=\"\",\"\",INDEX(allGymnasts!$K$4:$K$33,MATCH(SMALL(allGymnasts!$N$4:$N$33,A85),allGymnasts!$N$4:$N$33,0)))","v":""},{"$f":"IF(allGymnasts!G85=\"\",\"\",INDEX(allGymnasts!$L$4:$L$33,MATCH(SMALL(allGymnasts!$N$4:$N$33,A85),allGymnasts!$N$4:$N$33,0)))","v":""},{"$f":"IF(allGymnasts!H85=\"\",\"\",INDEX(allGymnasts!$Y$4:$Y$33,MATCH(SMALL(allGymnasts!$Z$4:$Z$33,A85),allGymnasts!$Z$4:$Z$33,0)))","v":""}]
[null,{"$f":"IFERROR(_xlfn.FLOOR.MATH(IF(allGymnasts!A86=\"\",\"\",INDEX(allGymnasts!$Z$4:$Z$33,MATCH(SMALL(allGymnasts!$Z$4:$Z$33,A86),allGymnasts!$Z$4:$Z$33,0)))),\"\")","v":""},null,{"$f":"IF(allGymnasts!A86=\"\",\"\",INDEX(allGymnasts!$A$4:$A$30,MATCH(SMALL(allGymnasts!$Z$4:$Z$33,A86),allGymnasts!$Z$4:$Z$33,0)))","v":""},{"$f":"IF(allGymnasts!B86=\"\",\"\",INDEX(allGymnasts!$B$4:$B$30,MATCH(SMALL(allGymnasts!$Z$4:$Z$33,A86),allGymnasts!$Z$4:$Z$33,0)))","v":""},{"$f":"IF(allGymnasts!C86=\"\",\"\",INDEX(allGymnasts!$C$4:$C$30,MATCH(SMALL(allGymnasts!$Z$4:$Z$33,A86),allGymnasts!$Z$4:$Z$33,0)))","v":""},{"$f":"IF(allGymnasts!D86=\"\",\"\",INDEX(allGymnasts!$D$4:$D$30,MATCH(SMALL(allGymnasts!$Z$4:$Z$33,A86),allGymnasts!$Z$4:$Z$33,0)))","v":""},{"$f":"IF(allGymnasts!E86=\"\",\"\",INDEX(allGymnasts!$J$4:$J$33,MATCH(SMALL(allGymnasts!$N$4:$N$33,A86),allGymnasts!$N$4:$N$33,0)))","v":""},{"$f":"IF(allGymnasts!F86=\"\",\"\",INDEX(allGymnasts!$K$4:$K$33,MATCH(SMALL(allGymnasts!$N$4:$N$33,A86),allGymnasts!$N$4:$N$33,0)))","v":""},{"$f":"IF(allGymnasts!G86=\"\",\"\",INDEX(allGymnasts!$L$4:$L$33,MATCH(SMALL(allGymnasts!$N$4:$N$33,A86),allGymnasts!$N$4:$N$33,0)))","v":""},{"$f":"IF(allGymnasts!H86=\"\",\"\",INDEX(allGymnasts!$Y$4:$Y$33,MATCH(SMALL(allGymnasts!$Z$4:$Z$33,A86),allGymnasts!$Z$4:$Z$33,0)))","v":""}]
[null,{"$f":"IFERROR(_xlfn.FLOOR.MATH(IF(allGymnasts!A87=\"\",\"\",INDEX(allGymnasts!$Z$4:$Z$33,MATCH(SMALL(allGymnasts!$Z$4:$Z$33,A87),allGymnasts!$Z$4:$Z$33,0)))),\"\")","v":""},null,{"$f":"IF(allGymnasts!A87=\"\",\"\",INDEX(allGymnasts!$A$4:$A$30,MATCH(SMALL(allGymnasts!$Z$4:$Z$33,A87),allGymnasts!$Z$4:$Z$33,0)))","v":""},{"$f":"IF(allGymnasts!B87=\"\",\"\",INDEX(allGymnasts!$B$4:$B$30,MATCH(SMALL(allGymnasts!$Z$4:$Z$33,A87),allGymnasts!$Z$4:$Z$33,0)))","v":""},{"$f":"IF(allGymnasts!C87=\"\",\"\",INDEX(allGymnasts!$C$4:$C$30,MATCH(SMALL(allGymnasts!$Z$4:$Z$33,A87),allGymnasts!$Z$4:$Z$33,0)))","v":""},{"$f":"IF(allGymnasts!D87=\"\",\"\",INDEX(allGymnasts!$D$4:$D$30,MATCH(SMALL(allGymnasts!$Z$4:$Z$33,A87),allGymnasts!$Z$4:$Z$33,0)))","v":""},{"$f":"IF(allGymnasts!E87=\"\",\"\",INDEX(allGymnasts!$J$4:$J$33,MATCH(SMALL(allGymnasts!$N$4:$N$33,A87),allGymnasts!$N$4:$N$33,0)))","v":""},{"$f":"IF(allGymnasts!F87=\"\",\"\",INDEX(allGymnasts!$K$4:$K$33,MATCH(SMALL(allGymnasts!$N$4:$N$33,A87),allGymnasts!$N$4:$N$33,0)))","v":""},{"$f":"IF(allGymnasts!G87=\"\",\"\",INDEX(allGymnasts!$L$4:$L$33,MATCH(SMALL(allGymnasts!$N$4:$N$33,A87),allGymnasts!$N$4:$N$33,0)))","v":""},{"$f":"IF(allGymnasts!H87=\"\",\"\",INDEX(allGymnasts!$Y$4:$Y$33,MATCH(SMALL(allGymnasts!$Z$4:$Z$33,A87),allGymnasts!$Z$4:$Z$33,0)))","v":""}]
[null,{"$f":"IFERROR(_xlfn.FLOOR.MATH(IF(allGymnasts!A88=\"\",\"\",INDEX(allGymnasts!$Z$4:$Z$33,MATCH(SMALL(allGymnasts!$Z$4:$Z$33,A88),allGymnasts!$Z$4:$Z$33,0)))),\"\")","v":""},null,{"$f":"IF(allGymnasts!A88=\"\",\"\",INDEX(allGymnasts!$A$4:$A$30,MATCH(SMALL(allGymnasts!$Z$4:$Z$33,A88),allGymnasts!$Z$4:$Z$33,0)))","v":""},{"$f":"IF(allGymnasts!B88=\"\",\"\",INDEX(allGymnasts!$B$4:$B$30,MATCH(SMALL(allGymnasts!$Z$4:$Z$33,A88),allGymnasts!$Z$4:$Z$33,0)))","v":""},{"$f":"IF(allGymnasts!C88=\"\",\"\",INDEX(allGymnasts!$C$4:$C$30,MATCH(SMALL(allGymnasts!$Z$4:$Z$33,A88),allGymnasts!$Z$4:$Z$33,0)))","v":""},{"$f":"IF(allGymnasts!D88=\"\",\"\",INDEX(allGymnasts!$D$4:$D$30,MATCH(SMALL(allGymnasts!$Z$4:$Z$33,A88),allGymnasts!$Z$4:$Z$33,0)))","v":""},{"$f":"IF(allGymnasts!E88=\"\",\"\",INDEX(allGymnasts!$J$4:$J$33,MATCH(SMALL(allGymnasts!$N$4:$N$33,A88),allGymnasts!$N$4:$N$33,0)))","v":""},{"$f":"IF(allGymnasts!F88=\"\",\"\",INDEX(allGymnasts!$K$4:$K$33,MATCH(SMALL(allGymnasts!$N$4:$N$33,A88),allGymnasts!$N$4:$N$33,0)))","v":""},{"$f":"IF(allGymnasts!G88=\"\",\"\",INDEX(allGymnasts!$L$4:$L$33,MATCH(SMALL(allGymnasts!$N$4:$N$33,A88),allGymnasts!$N$4:$N$33,0)))","v":""},{"$f":"IF(allGymnasts!H88=\"\",\"\",INDEX(allGymnasts!$Y$4:$Y$33,MATCH(SMALL(allGymnasts!$Z$4:$Z$33,A88),allGymnasts!$Z$4:$Z$33,0)))","v":""}]
[null,{"$f":"IFERROR(_xlfn.FLOOR.MATH(IF(allGymnasts!A89=\"\",\"\",INDEX(allGymnasts!$Z$4:$Z$33,MATCH(SMALL(allGymnasts!$Z$4:$Z$33,A89),allGymnasts!$Z$4:$Z$33,0)))),\"\")","v":""},null,{"$f":"IF(allGymnasts!A89=\"\",\"\",INDEX(allGymnasts!$A$4:$A$30,MATCH(SMALL(allGymnasts!$Z$4:$Z$33,A89),allGymnasts!$Z$4:$Z$33,0)))","v":""},{"$f":"IF(allGymnasts!B89=\"\",\"\",INDEX(allGymnasts!$B$4:$B$30,MATCH(SMALL(allGymnasts!$Z$4:$Z$33,A89),allGymnasts!$Z$4:$Z$33,0)))","v":""},{"$f":"IF(allGymnasts!C89=\"\",\"\",INDEX(allGymnasts!$C$4:$C$30,MATCH(SMALL(allGymnasts!$Z$4:$Z$33,A89),allGymnasts!$Z$4:$Z$33,0)))","v":""},{"$f":"IF(allGymnasts!D89=\"\",\"\",INDEX(allGymnasts!$D$4:$D$30,MATCH(SMALL(allGymnasts!$Z$4:$Z$33,A89),allGymnasts!$Z$4:$Z$33,0)))","v":""},{"$f":"IF(allGymnasts!E89=\"\",\"\",INDEX(allGymnasts!$J$4:$J$33,MATCH(SMALL(allGymnasts!$N$4:$N$33,A89),allGymnasts!$N$4:$N$33,0)))","v":""},{"$f":"IF(allGymnasts!F89=\"\",\"\",INDEX(allGymnasts!$K$4:$K$33,MATCH(SMALL(allGymnasts!$N$4:$N$33,A89),allGymnasts!$N$4:$N$33,0)))","v":""},{"$f":"IF(allGymnasts!G89=\"\",\"\",INDEX(allGymnasts!$L$4:$L$33,MATCH(SMALL(allGymnasts!$N$4:$N$33,A89),allGymnasts!$N$4:$N$33,0)))","v":""},{"$f":"IF(allGymnasts!H89=\"\",\"\",INDEX(allGymnasts!$Y$4:$Y$33,MATCH(SMALL(allGymnasts!$Z$4:$Z$33,A89),allGymnasts!$Z$4:$Z$33,0)))","v":""}]
[null,{"$f":"IFERROR(_xlfn.FLOOR.MATH(IF(allGymnasts!A90=\"\",\"\",INDEX(allGymnasts!$Z$4:$Z$33,MATCH(SMALL(allGymnasts!$Z$4:$Z$33,A90),allGymnasts!$Z$4:$Z$33,0)))),\"\")","v":""},null,{"$f":"IF(allGymnasts!A90=\"\",\"\",INDEX(allGymnasts!$A$4:$A$30,MATCH(SMALL(allGymnasts!$Z$4:$Z$33,A90),allGymnasts!$Z$4:$Z$33,0)))","v":""},{"$f":"IF(allGymnasts!B90=\"\",\"\",INDEX(allGymnasts!$B$4:$B$30,MATCH(SMALL(allGymnasts!$Z$4:$Z$33,A90),allGymnasts!$Z$4:$Z$33,0)))","v":""},{"$f":"IF(allGymnasts!C90=\"\",\"\",INDEX(allGymnasts!$C$4:$C$30,MATCH(SMALL(allGymnasts!$Z$4:$Z$33,A90),allGymnasts!$Z$4:$Z$33,0)))","v":""},{"$f":"IF(allGymnasts!D90=\"\",\"\",INDEX(allGymnasts!$D$4:$D$30,MATCH(SMALL(allGymnasts!$Z$4:$Z$33,A90),allGymnasts!$Z$4:$Z$33,0)))","v":""},{"$f":"IF(allGymnasts!E90=\"\",\"\",INDEX(allGymnasts!$J$4:$J$33,MATCH(SMALL(allGymnasts!$N$4:$N$33,A90),allGymnasts!$N$4:$N$33,0)))","v":""},{"$f":"IF(allGymnasts!F90=\"\",\"\",INDEX(allGymnasts!$K$4:$K$33,MATCH(SMALL(allGymnasts!$N$4:$N$33,A90),allGymnasts!$N$4:$N$33,0)))","v":""},{"$f":"IF(allGymnasts!G90=\"\",\"\",INDEX(allGymnasts!$L$4:$L$33,MATCH(SMALL(allGymnasts!$N$4:$N$33,A90),allGymnasts!$N$4:$N$33,0)))","v":""},{"$f":"IF(allGymnasts!H90=\"\",\"\",INDEX(allGymnasts!$Y$4:$Y$33,MATCH(SMALL(allGymnasts!$Z$4:$Z$33,A90),allGymnasts!$Z$4:$Z$33,0)))","v":""}]
[null,{"$f":"IFERROR(_xlfn.FLOOR.MATH(IF(allGymnasts!A91=\"\",\"\",INDEX(allGymnasts!$Z$4:$Z$33,MATCH(SMALL(allGymnasts!$Z$4:$Z$33,A91),allGymnasts!$Z$4:$Z$33,0)))),\"\")","v":""},null,{"$f":"IF(allGymnasts!A91=\"\",\"\",INDEX(allGymnasts!$A$4:$A$30,MATCH(SMALL(allGymnasts!$Z$4:$Z$33,A91),allGymnasts!$Z$4:$Z$33,0)))","v":""},{"$f":"IF(allGymnasts!B91=\"\",\"\",INDEX(allGymnasts!$B$4:$B$30,MATCH(SMALL(allGymnasts!$Z$4:$Z$33,A91),allGymnasts!$Z$4:$Z$33,0)))","v":""},{"$f":"IF(allGymnasts!C91=\"\",\"\",INDEX(allGymnasts!$C$4:$C$30,MATCH(SMALL(allGymnasts!$Z$4:$Z$33,A91),allGymnasts!$Z$4:$Z$33,0)))","v":""},{"$f":"IF(allGymnasts!D91=\"\",\"\",INDEX(allGymnasts!$D$4:$D$30,MATCH(SMALL(allGymnasts!$Z$4:$Z$33,A91),allGymnasts!$Z$4:$Z$33,0)))","v":""},{"$f":"IF(allGymnasts!E91=\"\",\"\",INDEX(allGymnasts!$J$4:$J$33,MATCH(SMALL(allGymnasts!$N$4:$N$33,A91),allGymnasts!$N$4:$N$33,0)))","v":""},{"$f":"IF(allGymnasts!F91=\"\",\"\",INDEX(allGymnasts!$K$4:$K$33,MATCH(SMALL(allGymnasts!$N$4:$N$33,A91),allGymnasts!$N$4:$N$33,0)))","v":""},{"$f":"IF(allGymnasts!G91=\"\",\"\",INDEX(allGymnasts!$L$4:$L$33,MATCH(SMALL(allGymnasts!$N$4:$N$33,A91),allGymnasts!$N$4:$N$33,0)))","v":""},{"$f":"IF(allGymnasts!H91=\"\",\"\",INDEX(allGymnasts!$Y$4:$Y$33,MATCH(SMALL(allGymnasts!$Z$4:$Z$33,A91),allGymnasts!$Z$4:$Z$33,0)))","v":""}]
[null,{"$f":"IFERROR(_xlfn.FLOOR.MATH(IF(allGymnasts!A92=\"\",\"\",INDEX(allGymnasts!$Z$4:$Z$33,MATCH(SMALL(allGymnasts!$Z$4:$Z$33,A92),allGymnasts!$Z$4:$Z$33,0)))),\"\")","v":""},null,{"$f":"IF(allGymnasts!A92=\"\",\"\",INDEX(allGymnasts!$A$4:$A$30,MATCH(SMALL(allGymnasts!$Z$4:$Z$33,A92),allGymnasts!$Z$4:$Z$33,0)))","v":""},{"$f":"IF(allGymnasts!B92=\"\",\"\",INDEX(allGymnasts!$B$4:$B$30,MATCH(SMALL(allGymnasts!$Z$4:$Z$33,A92),allGymnasts!$Z$4:$Z$33,0)))","v":""},{"$f":"IF(allGymnasts!C92=\"\",\"\",INDEX(allGymnasts!$C$4:$C$30,MATCH(SMALL(allGymnasts!$Z$4:$Z$33,A92),allGymnasts!$Z$4:$Z$33,0)))","v":""},{"$f":"IF(allGymnasts!D92=\"\",\"\",INDEX(allGymnasts!$D$4:$D$30,MATCH(SMALL(allGymnasts!$Z$4:$Z$33,A92),allGymnasts!$Z$4:$Z$33,0)))","v":""},{"$f":"IF(allGymnasts!E92=\"\",\"\",INDEX(allGymnasts!$J$4:$J$33,MATCH(SMALL(allGymnasts!$N$4:$N$33,A92),allGymnasts!$N$4:$N$33,0)))","v":""},{"$f":"IF(allGymnasts!F92=\"\",\"\",INDEX(allGymnasts!$K$4:$K$33,MATCH(SMALL(allGymnasts!$N$4:$N$33,A92),allGymnasts!$N$4:$N$33,0)))","v":""},{"$f":"IF(allGymnasts!G92=\"\",\"\",INDEX(allGymnasts!$L$4:$L$33,MATCH(SMALL(allGymnasts!$N$4:$N$33,A92),allGymnasts!$N$4:$N$33,0)))","v":""},{"$f":"IF(allGymnasts!H92=\"\",\"\",INDEX(allGymnasts!$Y$4:$Y$33,MATCH(SMALL(allGymnasts!$Z$4:$Z$33,A92),allGymnasts!$Z$4:$Z$33,0)))","v":""}]
[null,{"$f":"IFERROR(_xlfn.FLOOR.MATH(IF(allGymnasts!A93=\"\",\"\",INDEX(allGymnasts!$Z$4:$Z$33,MATCH(SMALL(allGymnasts!$Z$4:$Z$33,A93),allGymnasts!$Z$4:$Z$33,0)))),\"\")","v":""},null,{"$f":"IF(allGymnasts!A93=\"\",\"\",INDEX(allGymnasts!$A$4:$A$30,MATCH(SMALL(allGymnasts!$Z$4:$Z$33,A93),allGymnasts!$Z$4:$Z$33,0)))","v":""},{"$f":"IF(allGymnasts!B93=\"\",\"\",INDEX(allGymnasts!$B$4:$B$30,MATCH(SMALL(allGymnasts!$Z$4:$Z$33,A93),allGymnasts!$Z$4:$Z$33,0)))","v":""},{"$f":"IF(allGymnasts!C93=\"\",\"\",INDEX(allGymnasts!$C$4:$C$30,MATCH(SMALL(allGymnasts!$Z$4:$Z$33,A93),allGymnasts!$Z$4:$Z$33,0)))","v":""},{"$f":"IF(allGymnasts!D93=\"\",\"\",INDEX(allGymnasts!$D$4:$D$30,MATCH(SMALL(allGymnasts!$Z$4:$Z$33,A93),allGymnasts!$Z$4:$Z$33,0)))","v":""},{"$f":"IF(allGymnasts!E93=\"\",\"\",INDEX(allGymnasts!$J$4:$J$33,MATCH(SMALL(allGymnasts!$N$4:$N$33,A93),allGymnasts!$N$4:$N$33,0)))","v":""},{"$f":"IF(allGymnasts!F93=\"\",\"\",INDEX(allGymnasts!$K$4:$K$33,MATCH(SMALL(allGymnasts!$N$4:$N$33,A93),allGymnasts!$N$4:$N$33,0)))","v":""},{"$f":"IF(allGymnasts!G93=\"\",\"\",INDEX(allGymnasts!$L$4:$L$33,MATCH(SMALL(allGymnasts!$N$4:$N$33,A93),allGymnasts!$N$4:$N$33,0)))","v":""},{"$f":"IF(allGymnasts!H93=\"\",\"\",INDEX(allGymnasts!$Y$4:$Y$33,MATCH(SMALL(allGymnasts!$Z$4:$Z$33,A93),allGymnasts!$Z$4:$Z$33,0)))","v":""}]
[null,{"$f":"IFERROR(_xlfn.FLOOR.MATH(IF(allGymnasts!A94=\"\",\"\",INDEX(allGymnasts!$Z$4:$Z$33,MATCH(SMALL(allGymnasts!$Z$4:$Z$33,A94),allGymnasts!$Z$4:$Z$33,0)))),\"\")","v":""},null,{"$f":"IF(allGymnasts!A94=\"\",\"\",INDEX(allGymnasts!$A$4:$A$30,MATCH(SMALL(allGymnasts!$Z$4:$Z$33,A94),allGymnasts!$Z$4:$Z$33,0)))","v":""},{"$f":"IF(allGymnasts!B94=\"\",\"\",INDEX(allGymnasts!$B$4:$B$30,MATCH(SMALL(allGymnasts!$Z$4:$Z$33,A94),allGymnasts!$Z$4:$Z$33,0)))","v":""},{"$f":"IF(allGymnasts!C94=\"\",\"\",INDEX(allGymnasts!$C$4:$C$30,MATCH(SMALL(allGymnasts!$Z$4:$Z$33,A94),allGymnasts!$Z$4:$Z$33,0)))","v":""},{"$f":"IF(allGymnasts!D94=\"\",\"\",INDEX(allGymnasts!$D$4:$D$30,MATCH(SMALL(allGymnasts!$Z$4:$Z$33,A94),allGymnasts!$Z$4:$Z$33,0)))","v":""},{"$f":"IF(allGymnasts!E94=\"\",\"\",INDEX(allGymnasts!$J$4:$J$33,MATCH(SMALL(allGymnasts!$N$4:$N$33,A94),allGymnasts!$N$4:$N$33,0)))","v":""},{"$f":"IF(allGymnasts!F94=\"\",\"\",INDEX(allGymnasts!$K$4:$K$33,MATCH(SMALL(allGymnasts!$N$4:$N$33,A94),allGymnasts!$N$4:$N$33,0)))","v":""},{"$f":"IF(allGymnasts!G94=\"\",\"\",INDEX(allGymnasts!$L$4:$L$33,MATCH(SMALL(allGymnasts!$N$4:$N$33,A94),allGymnasts!$N$4:$N$33,0)))","v":""},{"$f":"IF(allGymnasts!H94=\"\",\"\",INDEX(allGymnasts!$Y$4:$Y$33,MATCH(SMALL(allGymnasts!$Z$4:$Z$33,A94),allGymnasts!$Z$4:$Z$33,0)))","v":""}]
[null,{"$f":"IFERROR(_xlfn.FLOOR.MATH(IF(allGymnasts!A95=\"\",\"\",INDEX(allGymnasts!$Z$4:$Z$33,MATCH(SMALL(allGymnasts!$Z$4:$Z$33,A95),allGymnasts!$Z$4:$Z$33,0)))),\"\")","v":""},null,{"$f":"IF(allGymnasts!A95=\"\",\"\",INDEX(allGymnasts!$A$4:$A$30,MATCH(SMALL(allGymnasts!$Z$4:$Z$33,A95),allGymnasts!$Z$4:$Z$33,0)))","v":""},{"$f":"IF(allGymnasts!B95=\"\",\"\",INDEX(allGymnasts!$B$4:$B$30,MATCH(SMALL(allGymnasts!$Z$4:$Z$33,A95),allGymnasts!$Z$4:$Z$33,0)))","v":""},{"$f":"IF(allGymnasts!C95=\"\",\"\",INDEX(allGymnasts!$C$4:$C$30,MATCH(SMALL(allGymnasts!$Z$4:$Z$33,A95),allGymnasts!$Z$4:$Z$33,0)))","v":""},{"$f":"IF(allGymnasts!D95=\"\",\"\",INDEX(allGymnasts!$D$4:$D$30,MATCH(SMALL(allGymnasts!$Z$4:$Z$33,A95),allGymnasts!$Z$4:$Z$33,0)))","v":""},{"$f":"IF(allGymnasts!E95=\"\",\"\",INDEX(allGymnasts!$J$4:$J$33,MATCH(SMALL(allGymnasts!$N$4:$N$33,A95),allGymnasts!$N$4:$N$33,0)))","v":""},{"$f":"IF(allGymnasts!F95=\"\",\"\",INDEX(allGymnasts!$K$4:$K$33,MATCH(SMALL(allGymnasts!$N$4:$N$33,A95),allGymnasts!$N$4:$N$33,0)))","v":""},{"$f":"IF(allGymnasts!G95=\"\",\"\",INDEX(allGymnasts!$L$4:$L$33,MATCH(SMALL(allGymnasts!$N$4:$N$33,A95),allGymnasts!$N$4:$N$33,0)))","v":""},{"$f":"IF(allGymnasts!H95=\"\",\"\",INDEX(allGymnasts!$Y$4:$Y$33,MATCH(SMALL(allGymnasts!$Z$4:$Z$33,A95),allGymnasts!$Z$4:$Z$33,0)))","v":""}]
[null,{"$f":"IFERROR(_xlfn.FLOOR.MATH(IF(allGymnasts!A96=\"\",\"\",INDEX(allGymnasts!$Z$4:$Z$33,MATCH(SMALL(allGymnasts!$Z$4:$Z$33,A96),allGymnasts!$Z$4:$Z$33,0)))),\"\")","v":""},null,{"$f":"IF(allGymnasts!A96=\"\",\"\",INDEX(allGymnasts!$A$4:$A$30,MATCH(SMALL(allGymnasts!$Z$4:$Z$33,A96),allGymnasts!$Z$4:$Z$33,0)))","v":""},{"$f":"IF(allGymnasts!B96=\"\",\"\",INDEX(allGymnasts!$B$4:$B$30,MATCH(SMALL(allGymnasts!$Z$4:$Z$33,A96),allGymnasts!$Z$4:$Z$33,0)))","v":""},{"$f":"IF(allGymnasts!C96=\"\",\"\",INDEX(allGymnasts!$C$4:$C$30,MATCH(SMALL(allGymnasts!$Z$4:$Z$33,A96),allGymnasts!$Z$4:$Z$33,0)))","v":""},{"$f":"IF(allGymnasts!D96=\"\",\"\",INDEX(allGymnasts!$D$4:$D$30,MATCH(SMALL(allGymnasts!$Z$4:$Z$33,A96),allGymnasts!$Z$4:$Z$33,0)))","v":""},{"$f":"IF(allGymnasts!E96=\"\",\"\",INDEX(allGymnasts!$J$4:$J$33,MATCH(SMALL(allGymnasts!$N$4:$N$33,A96),allGymnasts!$N$4:$N$33,0)))","v":""},{"$f":"IF(allGymnasts!F96=\"\",\"\",INDEX(allGymnasts!$K$4:$K$33,MATCH(SMALL(allGymnasts!$N$4:$N$33,A96),allGymnasts!$N$4:$N$33,0)))","v":""},{"$f":"IF(allGymnasts!G96=\"\",\"\",INDEX(allGymnasts!$L$4:$L$33,MATCH(SMALL(allGymnasts!$N$4:$N$33,A96),allGymnasts!$N$4:$N$33,0)))","v":""},{"$f":"IF(allGymnasts!H96=\"\",\"\",INDEX(allGymnasts!$Y$4:$Y$33,MATCH(SMALL(allGymnasts!$Z$4:$Z$33,A96),allGymnasts!$Z$4:$Z$33,0)))","v":""}]
[null,{"$f":"IFERROR(_xlfn.FLOOR.MATH(IF(allGymnasts!A97=\"\",\"\",INDEX(allGymnasts!$Z$4:$Z$33,MATCH(SMALL(allGymnasts!$Z$4:$Z$33,A97),allGymnasts!$Z$4:$Z$33,0)))),\"\")","v":""},null,{"$f":"IF(allGymnasts!A97=\"\",\"\",INDEX(allGymnasts!$A$4:$A$30,MATCH(SMALL(allGymnasts!$Z$4:$Z$33,A97),allGymnasts!$Z$4:$Z$33,0)))","v":""},{"$f":"IF(allGymnasts!B97=\"\",\"\",INDEX(allGymnasts!$B$4:$B$30,MATCH(SMALL(allGymnasts!$Z$4:$Z$33,A97),allGymnasts!$Z$4:$Z$33,0)))","v":""},{"$f":"IF(allGymnasts!C97=\"\",\"\",INDEX(allGymnasts!$C$4:$C$30,MATCH(SMALL(allGymnasts!$Z$4:$Z$33,A97),allGymnasts!$Z$4:$Z$33,0)))","v":""},{"$f":"IF(allGymnasts!D97=\"\",\"\",INDEX(allGymnasts!$D$4:$D$30,MATCH(SMALL(allGymnasts!$Z$4:$Z$33,A97),allGymnasts!$Z$4:$Z$33,0)))","v":""},{"$f":"IF(allGymnasts!E97=\"\",\"\",INDEX(allGymnasts!$J$4:$J$33,MATCH(SMALL(allGymnasts!$N$4:$N$33,A97),allGymnasts!$N$4:$N$33,0)))","v":""},{"$f":"IF(allGymnasts!F97=\"\",\"\",INDEX(allGymnasts!$K$4:$K$33,MATCH(SMALL(allGymnasts!$N$4:$N$33,A97),allGymnasts!$N$4:$N$33,0)))","v":""},{"$f":"IF(allGymnasts!G97=\"\",\"\",INDEX(allGymnasts!$L$4:$L$33,MATCH(SMALL(allGymnasts!$N$4:$N$33,A97),allGymnasts!$N$4:$N$33,0)))","v":""},{"$f":"IF(allGymnasts!H97=\"\",\"\",INDEX(allGymnasts!$Y$4:$Y$33,MATCH(SMALL(allGymnasts!$Z$4:$Z$33,A97),allGymnasts!$Z$4:$Z$33,0)))","v":""}]
[null,{"$f":"IFERROR(_xlfn.FLOOR.MATH(IF(allGymnasts!A98=\"\",\"\",INDEX(allGymnasts!$Z$4:$Z$33,MATCH(SMALL(allGymnasts!$Z$4:$Z$33,A98),allGymnasts!$Z$4:$Z$33,0)))),\"\")","v":""},null,{"$f":"IF(allGymnasts!A98=\"\",\"\",INDEX(allGymnasts!$A$4:$A$30,MATCH(SMALL(allGymnasts!$Z$4:$Z$33,A98),allGymnasts!$Z$4:$Z$33,0)))","v":""},{"$f":"IF(allGymnasts!B98=\"\",\"\",INDEX(allGymnasts!$B$4:$B$30,MATCH(SMALL(allGymnasts!$Z$4:$Z$33,A98),allGymnasts!$Z$4:$Z$33,0)))","v":""},{"$f":"IF(allGymnasts!C98=\"\",\"\",INDEX(allGymnasts!$C$4:$C$30,MATCH(SMALL(allGymnasts!$Z$4:$Z$33,A98),allGymnasts!$Z$4:$Z$33,0)))","v":""},{"$f":"IF(allGymnasts!D98=\"\",\"\",INDEX(allGymnasts!$D$4:$D$30,MATCH(SMALL(allGymnasts!$Z$4:$Z$33,A98),allGymnasts!$Z$4:$Z$33,0)))","v":""},{"$f":"IF(allGymnasts!E98=\"\",\"\",INDEX(allGymnasts!$J$4:$J$33,MATCH(SMALL(allGymnasts!$N$4:$N$33,A98),allGymnasts!$N$4:$N$33,0)))","v":""},{"$f":"IF(allGymnasts!F98=\"\",\"\",INDEX(allGymnasts!$K$4:$K$33,MATCH(SMALL(allGymnasts!$N$4:$N$33,A98),allGymnasts!$N$4:$N$33,0)))","v":""},{"$f":"IF(allGymnasts!G98=\"\",\"\",INDEX(allGymnasts!$L$4:$L$33,MATCH(SMALL(allGymnasts!$N$4:$N$33,A98),allGymnasts!$N$4:$N$33,0)))","v":""},{"$f":"IF(allGymnasts!H98=\"\",\"\",INDEX(allGymnasts!$Y$4:$Y$33,MATCH(SMALL(allGymnasts!$Z$4:$Z$33,A98),allGymnasts!$Z$4:$Z$33,0)))","v":""}]
[null,{"$f":"IFERROR(_xlfn.FLOOR.MATH(IF(allGymnasts!A99=\"\",\"\",INDEX(allGymnasts!$Z$4:$Z$33,MATCH(SMALL(allGymnasts!$Z$4:$Z$33,A99),allGymnasts!$Z$4:$Z$33,0)))),\"\")","v":""},null,{"$f":"IF(allGymnasts!A99=\"\",\"\",INDEX(allGymnasts!$A$4:$A$30,MATCH(SMALL(allGymnasts!$Z$4:$Z$33,A99),allGymnasts!$Z$4:$Z$33,0)))","v":""},{"$f":"IF(allGymnasts!B99=\"\",\"\",INDEX(allGymnasts!$B$4:$B$30,MATCH(SMALL(allGymnasts!$Z$4:$Z$33,A99),allGymnasts!$Z$4:$Z$33,0)))","v":""},{"$f":"IF(allGymnasts!C99=\"\",\"\",INDEX(allGymnasts!$C$4:$C$30,MATCH(SMALL(allGymnasts!$Z$4:$Z$33,A99),allGymnasts!$Z$4:$Z$33,0)))","v":""},{"$f":"IF(allGymnasts!D99=\"\",\"\",INDEX(allGymnasts!$D$4:$D$30,MATCH(SMALL(allGymnasts!$Z$4:$Z$33,A99),allGymnasts!$Z$4:$Z$33,0)))","v":""},{"$f":"IF(allGymnasts!E99=\"\",\"\",INDEX(allGymnasts!$J$4:$J$33,MATCH(SMALL(allGymnasts!$N$4:$N$33,A99),allGymnasts!$N$4:$N$33,0)))","v":""},{"$f":"IF(allGymnasts!F99=\"\",\"\",INDEX(allGymnasts!$K$4:$K$33,MATCH(SMALL(allGymnasts!$N$4:$N$33,A99),allGymnasts!$N$4:$N$33,0)))","v":""},{"$f":"IF(allGymnasts!G99=\"\",\"\",INDEX(allGymnasts!$L$4:$L$33,MATCH(SMALL(allGymnasts!$N$4:$N$33,A99),allGymnasts!$N$4:$N$33,0)))","v":""},{"$f":"IF(allGymnasts!H99=\"\",\"\",INDEX(allGymnasts!$Y$4:$Y$33,MATCH(SMALL(allGymnasts!$Z$4:$Z$33,A99),allGymnasts!$Z$4:$Z$33,0)))","v":""}]
[null,{"$f":"IFERROR(_xlfn.FLOOR.MATH(IF(allGymnasts!A100=\"\",\"\",INDEX(allGymnasts!$Z$4:$Z$33,MATCH(SMALL(allGymnasts!$Z$4:$Z$33,A100),allGymnasts!$Z$4:$Z$33,0)))),\"\")","v":""},null,{"$f":"IF(allGymnasts!A100=\"\",\"\",INDEX(allGymnasts!$A$4:$A$30,MATCH(SMALL(allGymnasts!$Z$4:$Z$33,A100),allGymnasts!$Z$4:$Z$33,0)))","v":""},{"$f":"IF(allGymnasts!B100=\"\",\"\",INDEX(allGymnasts!$B$4:$B$30,MATCH(SMALL(allGymnasts!$Z$4:$Z$33,A100),allGymnasts!$Z$4:$Z$33,0)))","v":""},{"$f":"IF(allGymnasts!C100=\"\",\"\",INDEX(allGymnasts!$C$4:$C$30,MATCH(SMALL(allGymnasts!$Z$4:$Z$33,A100),allGymnasts!$Z$4:$Z$33,0)))","v":""},{"$f":"IF(allGymnasts!D100=\"\",\"\",INDEX(allGymnasts!$D$4:$D$30,MATCH(SMALL(allGymnasts!$Z$4:$Z$33,A100),allGymnasts!$Z$4:$Z$33,0)))","v":""},{"$f":"IF(allGymnasts!E100=\"\",\"\",INDEX(allGymnasts!$J$4:$J$33,MATCH(SMALL(allGymnasts!$N$4:$N$33,A100),allGymnasts!$N$4:$N$33,0)))","v":""},{"$f":"IF(allGymnasts!F100=\"\",\"\",INDEX(allGymnasts!$K$4:$K$33,MATCH(SMALL(allGymnasts!$N$4:$N$33,A100),allGymnasts!$N$4:$N$33,0)))","v":""},{"$f":"IF(allGymnasts!G100=\"\",\"\",INDEX(allGymnasts!$L$4:$L$33,MATCH(SMALL(allGymnasts!$N$4:$N$33,A100),allGymnasts!$N$4:$N$33,0)))","v":""},{"$f":"IF(allGymnasts!H100=\"\",\"\",INDEX(allGymnasts!$Y$4:$Y$33,MATCH(SMALL(allGymnasts!$Z$4:$Z$33,A100),allGymnasts!$Z$4:$Z$33,0)))","v":""}]
[null,{"$f":"IFERROR(_xlfn.FLOOR.MATH(IF(allGymnasts!A101=\"\",\"\",INDEX(allGymnasts!$Z$4:$Z$33,MATCH(SMALL(allGymnasts!$Z$4:$Z$33,A101),allGymnasts!$Z$4:$Z$33,0)))),\"\")","v":""},null,{"$f":"IF(allGymnasts!A101=\"\",\"\",INDEX(allGymnasts!$A$4:$A$30,MATCH(SMALL(allGymnasts!$Z$4:$Z$33,A101),allGymnasts!$Z$4:$Z$33,0)))","v":""},{"$f":"IF(allGymnasts!B101=\"\",\"\",INDEX(allGymnasts!$B$4:$B$30,MATCH(SMALL(allGymnasts!$Z$4:$Z$33,A101),allGymnasts!$Z$4:$Z$33,0)))","v":""},{"$f":"IF(allGymnasts!C101=\"\",\"\",INDEX(allGymnasts!$C$4:$C$30,MATCH(SMALL(allGymnasts!$Z$4:$Z$33,A101),allGymnasts!$Z$4:$Z$33,0)))","v":""},{"$f":"IF(allGymnasts!D101=\"\",\"\",INDEX(allGymnasts!$D$4:$D$30,MATCH(SMALL(allGymnasts!$Z$4:$Z$33,A101),allGymnasts!$Z$4:$Z$33,0)))","v":""},{"$f":"IF(allGymnasts!E101=\"\",\"\",INDEX(allGymnasts!$J$4:$J$33,MATCH(SMALL(allGymnasts!$N$4:$N$33,A101),allGymnasts!$N$4:$N$33,0)))","v":""},{"$f":"IF(allGymnasts!F101=\"\",\"\",INDEX(allGymnasts!$K$4:$K$33,MATCH(SMALL(allGymnasts!$N$4:$N$33,A101),allGymnasts!$N$4:$N$33,0)))","v":""},{"$f":"IF(allGymnasts!G101=\"\",\"\",INDEX(allGymnasts!$L$4:$L$33,MATCH(SMALL(allGymnasts!$N$4:$N$33,A101),allGymnasts!$N$4:$N$33,0)))","v":""},{"$f":"IF(allGymnasts!H101=\"\",\"\",INDEX(allGymnasts!$Y$4:$Y$33,MATCH(SMALL(allGymnasts!$Z$4:$Z$33,A101),allGymnasts!$Z$4:$Z$33,0)))","v":""}]
[null,{"$f":"IFERROR(_xlfn.FLOOR.MATH(IF(allGymnasts!A102=\"\",\"\",INDEX(allGymnasts!$Z$4:$Z$33,MATCH(SMALL(allGymnasts!$Z$4:$Z$33,A102),allGymnasts!$Z$4:$Z$33,0)))),\"\")","v":""},null,{"$f":"IF(allGymnasts!A102=\"\",\"\",INDEX(allGymnasts!$A$4:$A$30,MATCH(SMALL(allGymnasts!$Z$4:$Z$33,A102),allGymnasts!$Z$4:$Z$33,0)))","v":""},{"$f":"IF(allGymnasts!B102=\"\",\"\",INDEX(allGymnasts!$B$4:$B$30,MATCH(SMALL(allGymnasts!$Z$4:$Z$33,A102),allGymnasts!$Z$4:$Z$33,0)))","v":""},{"$f":"IF(allGymnasts!C102=\"\",\"\",INDEX(allGymnasts!$C$4:$C$30,MATCH(SMALL(allGymnasts!$Z$4:$Z$33,A102),allGymnasts!$Z$4:$Z$33,0)))","v":""},{"$f":"IF(allGymnasts!D102=\"\",\"\",INDEX(allGymnasts!$D$4:$D$30,MATCH(SMALL(allGymnasts!$Z$4:$Z$33,A102),allGymnasts!$Z$4:$Z$33,0)))","v":""},{"$f":"IF(allGymnasts!E102=\"\",\"\",INDEX(allGymnasts!$J$4:$J$33,MATCH(SMALL(allGymnasts!$N$4:$N$33,A102),allGymnasts!$N$4:$N$33,0)))","v":""},{"$f":"IF(allGymnasts!F102=\"\",\"\",INDEX(allGymnasts!$K$4:$K$33,MATCH(SMALL(allGymnasts!$N$4:$N$33,A102),allGymnasts!$N$4:$N$33,0)))","v":""},{"$f":"IF(allGymnasts!G102=\"\",\"\",INDEX(allGymnasts!$L$4:$L$33,MATCH(SMALL(allGymnasts!$N$4:$N$33,A102),allGymnasts!$N$4:$N$33,0)))","v":""},{"$f":"IF(allGymnasts!H102=\"\",\"\",INDEX(allGymnasts!$Y$4:$Y$33,MATCH(SMALL(allGymnasts!$Z$4:$Z$33,A102),allGymnasts!$Z$4:$Z$33,0)))","v":""}]
[null,{"$f":"IFERROR(_xlfn.FLOOR.MATH(IF(allGymnasts!A103=\"\",\"\",INDEX(allGymnasts!$Z$4:$Z$33,MATCH(SMALL(allGymnasts!$Z$4:$Z$33,A103),allGymnasts!$Z$4:$Z$33,0)))),\"\")","v":""},null,{"$f":"IF(allGymnasts!A103=\"\",\"\",INDEX(allGymnasts!$A$4:$A$30,MATCH(SMALL(allGymnasts!$Z$4:$Z$33,A103),allGymnasts!$Z$4:$Z$33,0)))","v":""},{"$f":"IF(allGymnasts!B103=\"\",\"\",INDEX(allGymnasts!$B$4:$B$30,MATCH(SMALL(allGymnasts!$Z$4:$Z$33,A103),allGymnasts!$Z$4:$Z$33,0)))","v":""},{"$f":"IF(allGymnasts!C103=\"\",\"\",INDEX(allGymnasts!$C$4:$C$30,MATCH(SMALL(allGymnasts!$Z$4:$Z$33,A103),allGymnasts!$Z$4:$Z$33,0)))","v":""},{"$f":"IF(allGymnasts!D103=\"\",\"\",INDEX(allGymnasts!$D$4:$D$30,MATCH(SMALL(allGymnasts!$Z$4:$Z$33,A103),allGymnasts!$Z$4:$Z$33,0)))","v":""},{"$f":"IF(allGymnasts!E103=\"\",\"\",INDEX(allGymnasts!$J$4:$J$33,MATCH(SMALL(allGymnasts!$N$4:$N$33,A103),allGymnasts!$N$4:$N$33,0)))","v":""},{"$f":"IF(allGymnasts!F103=\"\",\"\",INDEX(allGymnasts!$K$4:$K$33,MATCH(SMALL(allGymnasts!$N$4:$N$33,A103),allGymnasts!$N$4:$N$33,0)))","v":""},{"$f":"IF(allGymnasts!G103=\"\",\"\",INDEX(allGymnasts!$L$4:$L$33,MATCH(SMALL(allGymnasts!$N$4:$N$33,A103),allGymnasts!$N$4:$N$33,0)))","v":""},{"$f":"IF(allGymnasts!H103=\"\",\"\",INDEX(allGymnasts!$Y$4:$Y$33,MATCH(SMALL(allGymnasts!$Z$4:$Z$33,A103),allGymnasts!$Z$4:$Z$33,0)))","v":""}]